{"text_format":"1","workbook":"xlsx","n_sheets":14,"sheets":["Nastavení příloh","bt","bv","bs","Bonusy bez procent","šablona bt","šablona bv","šablona bs","Modely","Bonusy s procentama","PO+SPO s procentama","Hybrid ekobody kg","Hybrid ekobody obsloužení","Eko body"],"not_rendered":{"charts":0,"images":0,"macros":1,"external_links":0,"defined_names":0,"comments":7,"pivot_tables":0},"unopened":[],"bounds":{"document_bytes":16777216,"sheet_cells":100000,"rows_first":2000,"rows_last":500,"rows_between":2000,"halvings":0,"cell_chars":16384,"cell_head_chars":4096},"cells_cut":0,"cells_raw":0,"read":"whole","date_system":"1900"}

{"sheet":"Nastavení příloh","index":0,"n_rows":117,"n_cols":136,"rows_kept":117,"cut":false,"hidden":true,"merged":[[87,97,116,97],[116,98,116,100],[9,97,9,119],[50,101,50,119],[48,101,48,119],[84,101,84,119],[86,101,86,119],[12,97,12,100],[11,97,11,100],[13,97,14,100],[11,101,11,119],[15,97,44,97],[51,97,80,97],[15,122,22,122],[23,122,30,122],[31,122,38,122],[15,121,38,121],[14,101,14,119],[63,121,86,121],[63,122,70,122],[71,122,78,122],[79,122,86,122],[39,121,62,121],[39,122,46,122],[47,122,54,122],[55,122,62,122],[87,72,116,72],[116,73,116,75],[46,72,46,95],[48,77,48,95],[50,77,50,95],[48,72,50,75],[51,72,80,72],[82,72,82,95],[84,72,86,75],[84,77,84,95],[86,77,86,95],[9,0,9,23],[9,24,9,47],[11,77,11,95],[11,29,11,47],[11,53,11,71],[11,24,14,27],[14,29,14,47],[9,48,9,71],[11,48,14,51],[14,53,14,71],[15,24,44,24],[9,72,9,95],[11,72,14,75],[14,77,14,95],[15,72,44,72],[15,48,44,48],[44,49,44,51],[87,0,116,0],[11,0,14,3],[14,5,14,23],[48,0,50,3],[46,0,46,23],[48,5,48,23],[15,0,44,0],[51,0,80,0],[82,0,82,23],[84,0,86,3],[84,5,84,23],[50,5,50,23],[11,5,11,23],[116,1,116,3],[86,5,86,23],[87,24,116,24],[46,24,46,47],[48,29,48,47],[82,24,82,47],[84,24,86,27],[84,29,84,47],[86,29,86,47],[116,25,116,27],[48,24,50,27],[50,29,50,47],[51,24,80,24]]}
[null,null,"Rozdělení poplatku - příjem od občanů, kterým jsou kryty náklady"]
[null,null,"Výše poplatku:",600,"Kč/osoba",null,null,null,null,null,null,null,null,null,null,null,null,null,null,"Bonus třídění - původní vzorec je na F16"]
[null,null,"Fixní náklady:",0.16,"koef.",{"$f":"$D$2*D3","v":96},"Kč/osoba",null,null,"Náklady na 1l SKO:",-0.34,"Kč/l",null,null,0.3,null,null,null,null,"Bonus využívání - vše je původní krom záporných čísel, ty jsou děleny dvěma, dále je ručně upravena oblast pro úroveň třídění nad 80%",null,null,null,null,null,null,null,null,null,null,null,null,null,null,null,null,null,null,null,null,null,null,null,null,null,null,null,null,null,null,null,null,null,null,null,null,null,null,null,null,null,null,null,null,null,null,null,null,null,null,null,null,null,null,null,null,null,null,null,null,null,null,null,null,null,null,null,null,null,null,null,null,null,null,null,null,null,null,null,null,null,null,null,null,null,null,null,null,null,null,"Náklady na 1l SKO:",-0.34,"Kč/l"]
[null,null,"Náklady na SKO:",0.14000000000000001,"koef.",{"$f":"$D$2*D4","v":84.000000000000014},"Kč/osoba",null,null,"Náklady na 1l PL+PAP:",-0.14000000000000001,"Kč/l",null,null,0.12,null,null,null,null,"Bonus snižování - většina je původní",null,null,null,null,null,null,null,null,null,null,null,null,null,null,null,null,null,null,null,null,null,null,null,null,null,null,null,null,null,null,null,null,null,null,null,null,null,null,null,null,null,null,null,null,null,null,null,null,null,null,null,null,null,null,null,null,null,null,null,null,null,null,null,null,null,null,null,null,null,null,null,null,null,null,null,null,null,null,null,null,null,null,null,null,null,"Výše poplatku:",500,"Kč/osoba",null,null,"Náklady na 1l PL+PAP:",-0.14000000000000001,"Kč/l"]
[null,null,"Náklady na tříďák:",0.25,"koef.",{"$f":"$D$2*D5","v":150},"Kč/osoba",null,null,"Příjmy na 1l PL+PAP:",0.14000000000000001,"Kč/l",null,null,0.18,null,null,null,null,null,null,null,null,null,null,null,null,null,null,null,null,null,null,null,null,null,null,null,null,null,null,null,null,null,null,null,null,null,null,null,null,null,null,null,null,null,null,null,null,null,null,null,null,null,null,null,null,null,null,null,null,null,null,null,null,null,null,null,null,null,null,null,null,null,null,null,null,null,null,null,null,null,null,null,null,null,null,null,null,null,null,null,null,null,null,null,null,null,null,null,"Příjmy na 1l PL+PAP:",0.14000000000000001,"Kč/l"]
[null,null,"Prostředky Bio:",0.25,"koef.",{"$f":"$D$2*D6","v":150},"Kč/osoba",null,null,null,null,null,null,null,0.2]
[null,null,"Prostředky předcház.:",0.2,"koef.",{"$f":"$D$2*D7","v":120},"Kč/osoba",null,null,null,null,null,null,null,0.2]
[null,null,"KONTROLA:",{"$f":"D3+D4+D5+D6+D7","v":1},"koef.",{"$f":"F3+F4+F5+F6+F7","v":600},"Kč/osoba"]
[null,null,null,null,null,null,null,null,null,null,null,null,null,null,null,null,null,null,null,null,null,null,null,"Příloha č. 5 k OZV č. …/2013 Název obec/město",null,null,null,null,null,null,null,null,null,null,null,null,null,null,null,null,null,null,null,null,null,null,null,"Příloha č. 6 k OZV č. …/2013 Název obec/město",null,null,null,null,null,null,null,null,null,null,null,null,null,null,null,null,null,null,null,null,null,null,null,"Příloha č. 7 k OZV č. …/2013 Název obec/město",null,null,null,null,null,null,null,null,null,null,null,null,null,null,null,null,null,null,null,null,null,null,null,"Příloha č. ??? k OZV č. …/2013 Název obec/město"]
["Maximální roční bonusy za třídění odpadů (zkráceně BT) - procentuální úleva na poplatku placeného na následující rok",null,null,null,null,null,null,null,null,null,null,null,null,null,null,null,null,null,null,null,null,null,null,null,"Maximální roční bonusy za efektivní využívání nádob (BV)-procentuální úleva na poplatku placeného na následující rok",null,null,null,null,null,null,null,null,null,null,null,null,null,null,null,null,null,null,null,null,null,null,null,"Maximální roční bonusy za snižování produkce odpadů (BS)-procentuální úleva na poplatku placeného na následující rok",null,null,null,null,null,null,null,null,null,null,null,null,null,null,null,null,null,null,null,null,null,null,null,"Součet maximálních ročních bonusů (BT + BV + BS)",null,null,null,null,null,null,null,null,null,null,null,null,null,null,null,null,null,null,null,null,null,null,null,null,"KONTROLA   =  Poplatek  -  Sleva  -  SKO náklady  -  Tříďák náklad  +  Tříďák příjmy"]
[]
["Bonus za třídění odpadů je udělen do výše 23% za plast, 20% za papír, 30% za bioodpad, 13% za sklo, 8% za textil, 2% za nápojový karton, 2% za jedlý olej a tuk a 2% za drobné elektrozařízení z hodnoty maximálního bonusu uvedeného v  této tabulce. ",null,null,null,null,"Procentuální zastoupení objemu obsloužených nádob na plast a na papír v celkovém objemu obsloužených nádob",null,null,null,null,null,null,null,null,null,null,null,null,null,null,null,null,null,null,"Bonus za efektivní využívání sběrných nádob je udělen do výše 100% z hodnoty maximálního bonusu uvedeného v této tabulce.",null,null,null,null,"Procentuální zastoupení objemu obsloužených nádob na plast a na papír v celkovém objemu obsloužených nádob",null,null,null,null,null,null,null,null,null,null,null,null,null,null,null,null,null,null,"Bonus za snižování produkce odpadů je udělen do výše 20% za každý způsob snižování produkce odpadů uvedený v registračním formuláři z hodnoty maximálního bonusu uvedeného v této tabulce.",null,null,null,null,"Procentuální zastoupení objemu obsloužených nádob na plast a na papír v celkovém objemu obsloužených nádob",null,null,null,null,null,null,null,null,null,null,null,null,null,null,null,null,null,null,"Záporná hodnota součtu bonusů (BT + BV + BS) je nahrazena nulou.",null,null,null,null,"Procentuální zastoupení objemu obsloužených nádob na plast a na papír v celkovém objemu obsloužených nádob",null,null,null,null,null,null,null,null,null,null,null,null,null,null,null,null,null,null,null,"Modrá oblast předpokládá směsný odpad v tříděném odpadu.",null,null,null,"Procentuální zastoupení objemu obsloužených nádob na plast a na papír v celkovém objemu obsloužených nádob",null,null,null,null,null,null,null,null,null,null,null,null,null,null,null,null,null,null,null,null,null,"Modelové případy"]
[null,null,null,null,null,{"$f":"\"0 %\"","v":"0 %"},{"$f":"\"1-5 %\"","v":"1-5 %"},{"$f":"\"6-10 %\"","v":"6-10 %"},{"$f":"\"11-15 %\"","v":"11-15 %"},{"$f":"\"16-20 %\"","v":"16-20 %"},{"$f":"\"21-25 %\"","v":"21-25 %"},{"$f":"\"26-30 %\"","v":"26-30 %"},{"$f":"\"31-35 %\"","v":"31-35 %"},{"$f":"\"36-40 %\"","v":"36-40 %"},{"$f":"\"41-45 %\"","v":"41-45 %"},{"$f":"\"46-50 %\"","v":"46-50 %"},{"$f":"\"51-55 %\"","v":"51-55 %"},{"$f":"\"56-60 %\"","v":"56-60 %"},{"$f":"\"61-65 %\"","v":"61-65 %"},{"$f":"\"66-70 %\"","v":"66-70 %"},{"$f":"\"71-75 %\"","v":"71-75 %"},{"$f":"\"76-80 %\"","v":"76-80 %"},{"$f":"\"81-85 %\"","v":"81-85 %"},{"$f":"\"více jak 85 %\"","v":"více jak 85 %"},null,null,null,null,null,{"$f":"\"0 %\"","v":"0 %"},{"$f":"\"1-5 %\"","v":"1-5 %"},{"$f":"\"6-10 %\"","v":"6-10 %"},{"$f":"\"11-15 %\"","v":"11-15 %"},{"$f":"\"16-20 %\"","v":"16-20 %"},{"$f":"\"21-25 %\"","v":"21-25 %"},{"$f":"\"26-30 %\"","v":"26-30 %"},{"$f":"\"31-35 %\"","v":"31-35 %"},{"$f":"\"36-40 %\"","v":"36-40 %"},{"$f":"\"41-45 %\"","v":"41-45 %"},{"$f":"\"46-50 %\"","v":"46-50 %"},{"$f":"\"51-55 %\"","v":"51-55 %"},{"$f":"\"56-60 %\"","v":"56-60 %"},{"$f":"\"61-65 %\"","v":"61-65 %"},{"$f":"\"66-70 %\"","v":"66-70 %"},{"$f":"\"71-75 %\"","v":"71-75 %"},{"$f":"\"76-80 %\"","v":"76-80 %"},{"$f":"\"81-85 %\"","v":"81-85 %"},{"$f":"\"více jak 85 %\"","v":"více jak 85 %"},null,null,null,null,null,{"$f":"\"0 %\"","v":"0 %"},{"$f":"\"1-5 %\"","v":"1-5 %"},{"$f":"\"6-10 %\"","v":"6-10 %"},{"$f":"\"11-15 %\"","v":"11-15 %"},{"$f":"\"16-20 %\"","v":"16-20 %"},{"$f":"\"21-25 %\"","v":"21-25 %"},{"$f":"\"26-30 %\"","v":"26-30 %"},{"$f":"\"31-35 %\"","v":"31-35 %"},{"$f":"\"36-40 %\"","v":"36-40 %"},{"$f":"\"41-45 %\"","v":"41-45 %"},{"$f":"\"46-50 %\"","v":"46-50 %"},{"$f":"\"51-55 %\"","v":"51-55 %"},{"$f":"\"56-60 %\"","v":"56-60 %"},{"$f":"\"61-65 %\"","v":"61-65 %"},{"$f":"\"66-70 %\"","v":"66-70 %"},{"$f":"\"71-75 %\"","v":"71-75 %"},{"$f":"\"76-80 %\"","v":"76-80 %"},{"$f":"\"81-85 %\"","v":"81-85 %"},{"$f":"\"více jak 85 %\"","v":"více jak 85 %"},null,null,null,null,null,{"$f":"\"0 %\"","v":"0 %"},{"$f":"\"1-5 %\"","v":"1-5 %"},{"$f":"\"6-10 %\"","v":"6-10 %"},{"$f":"\"11-15 %\"","v":"11-15 %"},{"$f":"\"16-20 %\"","v":"16-20 %"},{"$f":"\"21-25 %\"","v":"21-25 %"},{"$f":"\"26-30 %\"","v":"26-30 %"},{"$f":"\"31-35 %\"","v":"31-35 %"},{"$f":"\"36-40 %\"","v":"36-40 %"},{"$f":"\"41-45 %\"","v":"41-45 %"},{"$f":"\"46-50 %\"","v":"46-50 %"},{"$f":"\"51-55 %\"","v":"51-55 %"},{"$f":"\"56-60 %\"","v":"56-60 %"},{"$f":"\"61-65 %\"","v":"61-65 %"},{"$f":"\"66-70 %\"","v":"66-70 %"},{"$f":"\"71-75 %\"","v":"71-75 %"},{"$f":"\"76-80 %\"","v":"76-80 %"},{"$f":"\"81-85 %\"","v":"81-85 %"},{"$f":"\"více jak 85 %\"","v":"více jak 85 %"},null,"V červené oblasti se počítají o třetinu nižší příjmy za tříďák z důvodu nevyužitých nádob",null,null,null,{"$f":"\"0 %\"","v":"0 %"},{"$f":"\"1-5 %\"","v":"1-5 %"},{"$f":"\"6-10 %\"","v":"6-10 %"},{"$f":"\"11-15 %\"","v":"11-15 %"},{"$f":"\"16-20 %\"","v":"16-20 %"},{"$f":"\"21-25 %\"","v":"21-25 %"},{"$f":"\"26-30 %\"","v":"26-30 %"},{"$f":"\"31-35 %\"","v":"31-35 %"},{"$f":"\"36-40 %\"","v":"36-40 %"},{"$f":"\"41-45 %\"","v":"41-45 %"},{"$f":"\"46-50 %\"","v":"46-50 %"},{"$f":"\"51-55 %\"","v":"51-55 %"},{"$f":"\"56-60 %\"","v":"56-60 %"},{"$f":"\"61-65 %\"","v":"61-65 %"},{"$f":"\"66-70 %\"","v":"66-70 %"},{"$f":"\"71-75 %\"","v":"71-75 %"},{"$f":"\"76-80 %\"","v":"76-80 %"},{"$f":"\"81-85 %\"","v":"81-85 %"},{"$f":"\"více jak 85 %\"","v":"více jak 85 %"},null,null,null,"Množství","Hustota","Litry","Litry","Třídění","Třídění",null,null,null,null,null,"Ekonomika"]
[null,null,null,null,null,0,3,8,13,18,23,28,33,38,43,48,53,58,63,68,73,78,83,86,null,null,null,null,null,0,3,8,13,18,23,28,33,38,43,48,53,58,63,68,73,78,83,86,null,null,null,null,null,0,3,8,13,18,23,28,33,38,43,48,53,58,63,68,73,78,83,86,null,null,null,null,null,0,3,8,13,18,23,28,33,38,43,48,53,58,63,68,73,78,83,86,null,"Předpokládá nelegální nakládání s odpady (pálení, černé skládky)",null,null,null,{"$f":"BZ14","v":0},3,8,13,18,23,28,33,38,43,48,53,58,63,68,73,78,83,86]
[null,null,null,null,null,"\"Třídí málo\"                                                                                                                                                          \"Třídí hodně\"",null,null,null,null,null,null,null,null,null,null,null,null,null,null,null,null,null,null,null,null,null,null,null,"\"Třídí málo\"                                                                                                                                                          \"Třídí hodně\"",null,null,null,null,null,null,null,null,null,null,null,null,null,null,null,null,null,null,null,null,null,null,null,"\"Třídí málo\"                                                                                                                                                          \"Třídí hodně\"",null,null,null,null,null,null,null,null,null,null,null,null,null,null,null,null,null,null,null,null,null,null,null,"\"Třídí málo\"                                                                                                                                                          \"Třídí hodně\"",null,null,null,null,null,null,null,null,null,null,null,null,null,null,null,null,null,null,null,null,null,null,null,"   \"Třídí málo\"                                                                                                                                                  \"Třídí hodně\"",null,null,null,null,null,null,null,null,null,null,null,null,null,null,null,null,null,null,null,null,null,"kg","kg/l","celkem","hodnota","%","hodnota","SPO","BT %","BV %","BS %","Celkem %","obec","Komentář"]
["Roční celkový objem obsloužených nádob přepočtený na jednoho účastníka systému užívajícího dané nádoby (litry/účastník systému/rok)",0,"-",599,550,{"$f":"IF((($E16*F$14/100*$K$4)*(-1))>($F$5),($E16*F$14/100*$K$5)-((($E16*F$14/100*$K$4)*(-1))-($F$5)),($E16*F$14/100*$K$5))/($D$2)*100","v":0},{"$f":"ROUND(IF((($E16*G$14/100*$K$4)*(-1))>($F$5-50),($E16*G$14/100*$K$5)-((($E16*G$14/100*$K$4)*(-1))-($F$5-50)),($E16*G$14/100*$K$5))/($D$2-200)*100,0)","v":1},2,3,3,4,5,6,7,8,9,10,11,12,13,14,15,16,17,"Roční celkový objem obsloužených nádob přepočtený na jednoho účastníka systému užívajícího dané nádoby (litry/účastník systému/rok)",0,"-",599,null,0,{"$f":"ROUND(IF(IF(IF((($E16*(100-AE$14)/100*$K$3)*(-1))<$F$4,$F$6,IF((($E16*(100-AE$14)/100*$K$3)*(-1))>=($F$4+$F$6),($E16*(100-AE$14)/100*$K$3)+($F$4+$F$6),($F$6-((($E16*(100-AE$14)/100*$K$3)*(-1))-$F$4))))>=0,IF((($E16*(100-AE$14)/100*$K$3)*(-1))<$F$4,$F$6,IF((($E16*(100-AE$14)/100*$K$3)*(-1))>=($F$4+$F$6),($E16*(100-AE$14)/100*$K$3)+($F$4+$F$6),($F$6-((($E16*(100-AE$14)/100*$K$3)*(-1))-$F$4)))),IF(IF((($E16*(100-AE$14)/100*$K$3)*(-1))<$F$4,$F$6,IF((($E16*(100-AE$14)/100*$K$3)*(-1))>=($F$4+$F$6),($E16*(100-AE$14)/100*$K$3)+($F$4+$F$6),($F$6-((($E16*(100-AE$14)/100*$K$3)*(-1))-$F$4))))*(-1)<=$F$7,0,$F$7+IF((($E16*(100-AE$14)/100*$K$3)*(-1))<$F$4,$F$6,IF((($E16*(100-AE$14)/100*$K$3)*(-1))>=($F$4+$F$6),($E16*(100-AE$14)/100*$K$3)+($F$4+$F$6),($F$6-((($E16*(100-AE$14)/100*$K$3)*(-1))-$F$4))))))*(-1)>$F$5,$F$5*(-1),IF(IF((($E16*(100-AE$14)/100*$K$3)*(-1))<$F$4,$F$6,IF((($E16*(100-AE$14)/100*$K$3)*(-1))>=($F$4+$F$6),($E16*(100-AE$14)/100*$K$3)+($F$4+$F$6),($F$6-((($E16*(100-AE$14)/100*$K$3)*(-1))-$F$4))))>=0,IF((($E16*(100-AE$14)/100*$K$3)*(-1))<$F$4,$F$6,IF((($E16*(100-AE$14)/100*$K$3)*(-1))>=($F$4+$F$6),($E16*(100-AE$14)/100*$K$3)+($F$4+$F$6),($F$6-((($E16*(100-AE$14)/100*$K$3)*(-1))-$F$4)))),IF(IF((($E16*(100-AE$14)/100*$K$3)*(-1))<$F$4,$F$6,IF((($E16*(100-AE$14)/100*$K$3)*(-1))>=($F$4+$F$6),($E16*(100-AE$14)/100*$K$3)+($F$4+$F$6),($F$6-((($E16*(100-AE$14)/100*$K$3)*(-1))-$F$4))))*(-1)<=$F$7,0,$F$7+IF((($E16*(100-AE$14)/100*$K$3)*(-1))<$F$4,$F$6,IF((($E16*(100-AE$14)/100*$K$3)*(-1))>=($F$4+$F$6),($E16*(100-AE$14)/100*$K$3)+($F$4+$F$6),($F$6-((($E16*(100-AE$14)/100*$K$3)*(-1))-$F$4)))))))/$D$2*100,0)","v":9},10,12,13,15,17,18,20,21,23,24,25,25,25,{"$f":"ROUND(IF(IF(IF((($E16*(100-AS$14)/100*$K$3)*(-1))<$F$4,$F$6,IF((($E16*(100-AS$14)/100*$K$3)*(-1))>=($F$4+$F$6),($E16*(100-AS$14)/100*$K$3)+($F$4+$F$6),($F$6-((($E16*(100-AS$14)/100*$K$3)*(-1))-$F$4))))>=0,IF((($E16*(100-AS$14)/100*$K$3)*(-1))<$F$4,$F$6,IF((($E16*(100-AS$14)/100*$K$3)*(-1))>=($F$4+$F$6),($E16*(100-AS$14)/100*$K$3)+($F$4+$F$6),($F$6-((($E16*(100-AS$14)/100*$K$3)*(-1))-$F$4)))),IF(IF((($E16*(100-AS$14)/100*$K$3)*(-1))<$F$4,$F$6,IF((($E16*(100-AS$14)/100*$K$3)*(-1))>=($F$4+$F$6),($E16*(100-AS$14)/100*$K$3)+($F$4+$F$6),($F$6-((($E16*(100-AS$14)/100*$K$3)*(-1))-$F$4))))*(-1)<=$F$7,0,$F$7+IF((($E16*(100-AS$14)/100*$K$3)*(-1))<$F$4,$F$6,IF((($E16*(100-AS$14)/100*$K$3)*(-1))>=($F$4+$F$6),($E16*(100-AS$14)/100*$K$3)+($F$4+$F$6),($F$6-((($E16*(100-AS$14)/100*$K$3)*(-1))-$F$4))))))*(-1)>$F$5,$F$5*(-1),IF(IF((($E16*(100-AS$14)/100*$K$3)*(-1))<$F$4,$F$6,IF((($E16*(100-AS$14)/100*$K$3)*(-1))>=($F$4+$F$6),($E16*(100-AS$14)/100*$K$3)+($F$4+$F$6),($F$6-((($E16*(100-AS$14)/100*$K$3)*(-1))-$F$4))))>=0,IF((($E16*(100-AS$14)/100*$K$3)*(-1))<$F$4,$F$6,IF((($E16*(100-AS$14)/100*$K$3)*(-1))>=($F$4+$F$6),($E16*(100-AS$14)/100*$K$3)+($F$4+$F$6),($F$6-((($E16*(100-AS$14)/100*$K$3)*(-1))-$F$4)))),IF(IF((($E16*(100-AS$14)/100*$K$3)*(-1))<$F$4,$F$6,IF((($E16*(100-AS$14)/100*$K$3)*(-1))>=($F$4+$F$6),($E16*(100-AS$14)/100*$K$3)+($F$4+$F$6),($F$6-((($E16*(100-AS$14)/100*$K$3)*(-1))-$F$4))))*(-1)<=$F$7,0,$F$7+IF((($E16*(100-AS$14)/100*$K$3)*(-1))<$F$4,$F$6,IF((($E16*(100-AS$14)/100*$K$3)*(-1))>=($F$4+$F$6),($E16*(100-AS$14)/100*$K$3)+($F$4+$F$6),($F$6-((($E16*(100-AS$14)/100*$K$3)*(-1))-$F$4)))))))/$D$2*100,0)","v":25},25,25,25,"Roční celkový objem obsloužených nádob přepočtený na jednoho účastníka systému užívajícího dané nádoby (litry/účastník systému/rok)",0,"-",599,null,0,0,0,0,0,0,0,0,{"$f":"ROUND(IF(IF((($E16*(100-BJ$14)/100*$K$3)*(-1))<=($F$4+$F$6),0,(($E16*(100-BJ$14)/100*$K$3)+$F$4+$F$6))+IF((($E16*BJ$14/100*$K$4)*(-1))<=$F$5,0,($E16*BJ$14/100*$K$4)+$F$5)=0,$F$7,IF(IF((($E16*(100-BJ$14)/100*$K$3)*(-1))<=($F$4+$F$6),0,(($E16*(100-BJ$14)/100*$K$3)+$F$4+$F$6))+IF((($E16*BJ$14/100*$K$4)*(-1))<=$F$5,0,($E16*BJ$14/100*$K$4)+$F$5)*(-1)>$F$7,0,IF((($E16*(100-BJ$14)/100*$K$3)*(-1))<=($F$4+$F$6),0,(($E16*(100-BJ$14)/100*$K$3)+$F$4+$F$6))+IF((($E16*BJ$14/100*$K$4)*(-1))<=$F$5,0,($E16*BJ$14/100*$K$4)+$F$5)+$F$7))/$D$2*100,0)","v":20},{"$f":"ROUND(IF(IF((($E16*(100-BK$14)/100*$K$3)*(-1))<=($F$4+$F$6),0,(($E16*(100-BK$14)/100*$K$3)+$F$4+$F$6))+IF((($E16*BK$14/100*$K$4)*(-1))<=$F$5,0,($E16*BK$14/100*$K$4)+$F$5)=0,$F$7,IF(IF((($E16*(100-BK$14)/100*$K$3)*(-1))<=($F$4+$F$6),0,(($E16*(100-BK$14)/100*$K$3)+$F$4+$F$6))+IF((($E16*BK$14/100*$K$4)*(-1))<=$F$5,0,($E16*BK$14/100*$K$4)+$F$5)*(-1)>$F$7,0,IF((($E16*(100-BK$14)/100*$K$3)*(-1))<=($F$4+$F$6),0,(($E16*(100-BK$14)/100*$K$3)+$F$4+$F$6))+IF((($E16*BK$14/100*$K$4)*(-1))<=$F$5,0,($E16*BK$14/100*$K$4)+$F$5)+$F$7))/$D$2*100,0)","v":20},{"$f":"ROUND(IF(IF((($E16*(100-BL$14)/100*$K$3)*(-1))<=($F$4+$F$6),0,(($E16*(100-BL$14)/100*$K$3)+$F$4+$F$6))+IF((($E16*BL$14/100*$K$4)*(-1))<=$F$5,0,($E16*BL$14/100*$K$4)+$F$5)=0,$F$7,IF(IF((($E16*(100-BL$14)/100*$K$3)*(-1))<=($F$4+$F$6),0,(($E16*(100-BL$14)/100*$K$3)+$F$4+$F$6))+IF((($E16*BL$14/100*$K$4)*(-1))<=$F$5,0,($E16*BL$14/100*$K$4)+$F$5)*(-1)>$F$7,0,IF((($E16*(100-BL$14)/100*$K$3)*(-1))<=($F$4+$F$6),0,(($E16*(100-BL$14)/100*$K$3)+$F$4+$F$6))+IF((($E16*BL$14/100*$K$4)*(-1))<=$F$5,0,($E16*BL$14/100*$K$4)+$F$5)+$F$7))/$D$2*100,0)","v":20},20,20,20,20,20,20,20,0,"Roční celkový objem obsloužených nádob přepočtený na jednoho účastníka systému užívajícího dané nádoby (litry/účastník systému/rok)",0,"-",599,null,{"$f":"IF((F16+AD16+BB16)<0,0,(F16+AD16+BB16))","v":0},{"$f":"IF((G16+AE16+BC16)<0,0,(G16+AE16+BC16))","v":10},12,15,16,19,22,24,47,49,52,54,56,57,58,59,60,61,42,{"$f":"E16","v":550},"Roční celkový objem obsloužených nádob přepočtený na jednoho účastníka systému užívajícího dané nádoby (litry/účastník systému/rok)",0,"-",599,{"$f":"$DC$4-(BZ16/100*$DC$4)+($CS16*(100-CX$14)/100*$DH$3)+($CS16*(CX$14)/100*$DH$4)+($CS16*(CX$14)/100*$DH$5)","v":313},268.61,267.95999999999998,262.31,266.65999999999997,261.01,255.35999999999999,254.70999999999998,149.06,148.41,{"$f":"$DC$4-(CJ16/100*$DC$4)+($CS16*(100-DH$14)/100*$DH$3)+($CS16*(DH$14)/100*$DH$4)+($CS16*(DH$14)/100*$DH$5)","v":142.76},142.11000000000001,141.45999999999998,145.81,150.16,154.51,158.86000000000001,163.21,263.82,null,"Málo odpadů","Přeplněné popelnice","Malé","Velká",375,550,75,73,"Ano",{"$f":"ROUND(INDEX(F$16:X$117,MATCH(DW16,$E$16:$E$117,0),MATCH(DY16,F$14:X$14,0)),0)","v":14},{"$f":"ROUND(INDEX(AD$16:AV$117,MATCH(DW16,$E$16:$E$117,0),MATCH(DY16,AD$14:AV$14,0)),0)","v":25},{"$f":"IF(DZ16=\"NE\",0,ROUND(INDEX(BB$16:BT$117,MATCH(DW16,$E$16:$E$117,0),MATCH(DY16,BB$14:BT$14,0)),0))","v":20},{"$f":"EA16+EB16+EC16","v":59},{"$f":"ROUND(INDEX(CX$16:DP$117,MATCH(DW16,$E$16:$E$117,0),MATCH(DY16,CX$14:DP$14,0)),0)","v":155},"Občan přeplňuje nádoby."]
[null,600,"-",699,650,{"$f":"ROUND(IF((($E17*F$14/100*$K$4)*(-1))>($F$5-50),($E17*F$14/100*$K$5)-((($E17*F$14/100*$K$4)*(-1))-($F$5-50)),($E17*F$14/100*$K$5))/($D$2-200)*100,0)","v":0},1,2,3,4,5,6,8,9,10,11,12,13,14,15,17,18,19,20,null,600,"-",699,null,0,3,5,7,9,11,12,14,16,18,20,22,24,25,25,25,25,25,25,null,600,"-",699,null,0,0,0,0,0,0,0,0,{"$f":"ROUND(IF(IF((($E17*(100-BJ$14)/100*$K$3)*(-1))<=($F$4+$F$6),0,(($E17*(100-BJ$14)/100*$K$3)+$F$4+$F$6))+IF((($E17*BJ$14/100*$K$4)*(-1))<=$F$5,0,($E17*BJ$14/100*$K$4)+$F$5)=0,$F$7,IF(IF((($E17*(100-BJ$14)/100*$K$3)*(-1))<=($F$4+$F$6),0,(($E17*(100-BJ$14)/100*$K$3)+$F$4+$F$6))+IF((($E17*BJ$14/100*$K$4)*(-1))<=$F$5,0,($E17*BJ$14/100*$K$4)+$F$5)*(-1)>$F$7,0,IF((($E17*(100-BJ$14)/100*$K$3)*(-1))<=($F$4+$F$6),0,(($E17*(100-BJ$14)/100*$K$3)+$F$4+$F$6))+IF((($E17*BJ$14/100*$K$4)*(-1))<=$F$5,0,($E17*BJ$14/100*$K$4)+$F$5)+$F$7))/$D$2*100,0)","v":20},20,20,20,20,20,20,20,20,20,0,null,600,"-",699,null,{"$f":"IF((F17+AD17+BB17)<0,0,(F17+AD17+BB17))","v":0},{"$f":"IF((G17+AE17+BC17)<0,0,(G17+AE17+BC17))","v":4},{"$f":"IF((H17+AF17+BD17)<0,0,(H17+AF17+BD17))","v":7},{"$f":"IF((I17+AG17+BE17)<0,0,(I17+AG17+BE17))","v":10},{"$f":"IF((J17+AH17+BF17)<0,0,(J17+AH17+BF17))","v":13},{"$f":"IF((K17+AI17+BG17)<0,0,(K17+AI17+BG17))","v":16},{"$f":"IF((L17+AJ17+BH17)<0,0,(L17+AJ17+BH17))","v":18},{"$f":"IF((M17+AK17+BI17)<0,0,(M17+AK17+BI17))","v":22},{"$f":"IF((N17+AL17+BJ17)<0,0,(N17+AL17+BJ17))","v":45},{"$f":"IF((O17+AM17+BK17)<0,0,(O17+AM17+BK17))","v":48},{"$f":"IF((P17+AN17+BL17)<0,0,(P17+AN17+BL17))","v":51},{"$f":"IF((Q17+AO17+BM17)<0,0,(Q17+AO17+BM17))","v":54},{"$f":"IF((R17+AP17+BN17)<0,0,(R17+AP17+BN17))","v":57},{"$f":"IF((S17+AQ17+BO17)<0,0,(S17+AQ17+BO17))","v":59},{"$f":"IF((T17+AR17+BP17)<0,0,(T17+AR17+BP17))","v":60},{"$f":"IF((U17+AS17+BQ17)<0,0,(U17+AS17+BQ17))","v":62},{"$f":"IF((V17+AT17+BR17)<0,0,(V17+AT17+BR17))","v":63},{"$f":"IF((W17+AU17+BS17)<0,0,(W17+AU17+BS17))","v":64},{"$f":"IF((X17+AV17+BT17)<0,0,(X17+AV17+BT17))","v":45},650,null,600,"-",699,279,265.63,261.67999999999995,257.73,253.78,249.82999999999998,250.88,241.92999999999998,137.97999999999999,134.02999999999997,130.07999999999998,126.13,122.17999999999998,123.22999999999999,129.28,130.32999999999998,136.38,142.43,244.06,null,null,null,"Malé","Velká",375,550,75,73,"NE",14,25,0,{"$f":"EA17+EB17+EC17","v":39},{"$f":"IF(DZ17=\"NE\",ROUND(INDEX(CX$16:DP$117,MATCH(DW17,$E$16:$E$117,0),MATCH(DY17,CX$14:DP$14,0)),0)+((ED16-ED17)/100*$DC$4),ROUND(INDEX(CX$16:DP$117,MATCH(DW17,$E$16:$E$117,0),MATCH(DY17,CX$14:DP$14,0)),0))","v":255},"Nemá vyplněný OD (souhlas s podmínkami - může přijít o odměnu)"]
[null,700,"-",799,750,{"$f":"ROUND(IF((($E18*F$14/100*$K$4)*(-1))>($F$5-50),($E18*F$14/100*$K$5)-((($E18*F$14/100*$K$4)*(-1))-($F$5-50)),($E18*F$14/100*$K$5))/($D$2-200)*100,0)","v":0},1,2,3,5,6,7,9,10,11,13,14,15,17,18,19,20,22,23,null,700,"-",799,null,{"$f":"ROUND(IF(IF(IF((($E18*(100-AD$14)/100*$K$3)*(-1))<$F$4,$F$6,IF((($E18*(100-AD$14)/100*$K$3)*(-1))>=($F$4+$F$6),($E18*(100-AD$14)/100*$K$3)+($F$4+$F$6),($F$6-((($E18*(100-AD$14)/100*$K$3)*(-1))-$F$4))))>=0,IF((($E18*(100-AD$14)/100*$K$3)*(-1))<$F$4,$F$6,IF((($E18*(100-AD$14)/100*$K$3)*(-1))>=($F$4+$F$6),($E18*(100-AD$14)/100*$K$3)+($F$4+$F$6),($F$6-((($E18*(100-AD$14)/100*$K$3)*(-1))-$F$4)))),IF(IF((($E18*(100-AD$14)/100*$K$3)*(-1))<$F$4,$F$6,IF((($E18*(100-AD$14)/100*$K$3)*(-1))>=($F$4+$F$6),($E18*(100-AD$14)/100*$K$3)+($F$4+$F$6),($F$6-((($E18*(100-AD$14)/100*$K$3)*(-1))-$F$4))))*(-1)<=$F$7,0,$F$7+IF((($E18*(100-AD$14)/100*$K$3)*(-1))<$F$4,$F$6,IF((($E18*(100-AD$14)/100*$K$3)*(-1))>=($F$4+$F$6),($E18*(100-AD$14)/100*$K$3)+($F$4+$F$6),($F$6-((($E18*(100-AD$14)/100*$K$3)*(-1))-$F$4))))))*(-1)>$F$5,$F$5*(-1),IF(IF((($E18*(100-AD$14)/100*$K$3)*(-1))<$F$4,$F$6,IF((($E18*(100-AD$14)/100*$K$3)*(-1))>=($F$4+$F$6),($E18*(100-AD$14)/100*$K$3)+($F$4+$F$6),($F$6-((($E18*(100-AD$14)/100*$K$3)*(-1))-$F$4))))>=0,IF((($E18*(100-AD$14)/100*$K$3)*(-1))<$F$4,$F$6,IF((($E18*(100-AD$14)/100*$K$3)*(-1))>=($F$4+$F$6),($E18*(100-AD$14)/100*$K$3)+($F$4+$F$6),($F$6-((($E18*(100-AD$14)/100*$K$3)*(-1))-$F$4)))),IF(IF((($E18*(100-AD$14)/100*$K$3)*(-1))<$F$4,$F$6,IF((($E18*(100-AD$14)/100*$K$3)*(-1))>=($F$4+$F$6),($E18*(100-AD$14)/100*$K$3)+($F$4+$F$6),($F$6-((($E18*(100-AD$14)/100*$K$3)*(-1))-$F$4))))*(-1)<=$F$7,0,$F$7+IF((($E18*(100-AD$14)/100*$K$3)*(-1))<$F$4,$F$6,IF((($E18*(100-AD$14)/100*$K$3)*(-1))>=($F$4+$F$6),($E18*(100-AD$14)/100*$K$3)+($F$4+$F$6),($F$6-((($E18*(100-AD$14)/100*$K$3)*(-1))-$F$4)))))))/$D$2*100,0)","v":0},0,0,2,4,6,8,11,13,15,17,19,21,23,25,25,25,25,25,null,700,"-",799,null,0,0,0,0,0,0,0,0,20,20,20,20,20,20,20,20,20,20,0,null,700,"-",799,null,{"$f":"IF((F18+AD18+BB18)<0,0,(F18+AD18+BB18))","v":0},1,2,5,9,12,15,20,43,46,50,53,56,60,63,64,65,67,48,750,null,700,"-",799,244.99999999999997,247.64999999999998,255.39999999999998,253.14999999999998,245.89999999999998,243.64999999999998,241.39999999999998,229.14999999999998,126.89999999999998,124.64999999999998,117.39999999999998,115.14999999999999,112.89999999999999,105.64999999999999,103.39999999999999,111.14999999999999,118.9,121.65,224.3,null,null,null,"Malé","Velká",375,550,">85",86,"Ano",17,25,0,42,264,"SPO není udílena - úroveň třídění je podezřelá."]
[null,800,"-",899,850,0,1,2,4,5,7,8,10,11,13,14,16,17,19,20,22,23,25,25,null,800,"-",899,null,{"$f":"ROUND(IF(IF(IF((($E19*(100-AD$14)/100*$K$3)*(-1))<$F$4,$F$6,IF((($E19*(100-AD$14)/100*$K$3)*(-1))>=($F$4+$F$6),($E19*(100-AD$14)/100*$K$3)+($F$4+$F$6),($F$6-((($E19*(100-AD$14)/100*$K$3)*(-1))-$F$4))))>=0,IF((($E19*(100-AD$14)/100*$K$3)*(-1))<$F$4,$F$6,IF((($E19*(100-AD$14)/100*$K$3)*(-1))>=($F$4+$F$6),($E19*(100-AD$14)/100*$K$3)+($F$4+$F$6),($F$6-((($E19*(100-AD$14)/100*$K$3)*(-1))-$F$4)))),IF(IF((($E19*(100-AD$14)/100*$K$3)*(-1))<$F$4,$F$6,IF((($E19*(100-AD$14)/100*$K$3)*(-1))>=($F$4+$F$6),($E19*(100-AD$14)/100*$K$3)+($F$4+$F$6),($F$6-((($E19*(100-AD$14)/100*$K$3)*(-1))-$F$4))))*(-1)<=$F$7,0,$F$7+IF((($E19*(100-AD$14)/100*$K$3)*(-1))<$F$4,$F$6,IF((($E19*(100-AD$14)/100*$K$3)*(-1))>=($F$4+$F$6),($E19*(100-AD$14)/100*$K$3)+($F$4+$F$6),($F$6-((($E19*(100-AD$14)/100*$K$3)*(-1))-$F$4))))))*(-1)>$F$5,$F$5*(-1),IF(IF((($E19*(100-AD$14)/100*$K$3)*(-1))<$F$4,$F$6,IF((($E19*(100-AD$14)/100*$K$3)*(-1))>=($F$4+$F$6),($E19*(100-AD$14)/100*$K$3)+($F$4+$F$6),($F$6-((($E19*(100-AD$14)/100*$K$3)*(-1))-$F$4))))>=0,IF((($E19*(100-AD$14)/100*$K$3)*(-1))<$F$4,$F$6,IF((($E19*(100-AD$14)/100*$K$3)*(-1))>=($F$4+$F$6),($E19*(100-AD$14)/100*$K$3)+($F$4+$F$6),($F$6-((($E19*(100-AD$14)/100*$K$3)*(-1))-$F$4)))),IF(IF((($E19*(100-AD$14)/100*$K$3)*(-1))<$F$4,$F$6,IF((($E19*(100-AD$14)/100*$K$3)*(-1))>=($F$4+$F$6),($E19*(100-AD$14)/100*$K$3)+($F$4+$F$6),($F$6-((($E19*(100-AD$14)/100*$K$3)*(-1))-$F$4))))*(-1)<=$F$7,0,$F$7+IF((($E19*(100-AD$14)/100*$K$3)*(-1))<$F$4,$F$6,IF((($E19*(100-AD$14)/100*$K$3)*(-1))>=($F$4+$F$6),($E19*(100-AD$14)/100*$K$3)+($F$4+$F$6),($F$6-((($E19*(100-AD$14)/100*$K$3)*(-1))-$F$4)))))))/$D$2*100,0)","v":0},0,0,0,0,2,4,7,9,12,14,16,19,21,24,25,25,25,24,null,800,"-",899,null,0,0,0,0,0,0,0,0,20,20,20,20,20,20,20,20,20,20,0,null,800,"-",899,null,0,1,2,4,5,9,12,17,40,45,48,52,56,60,64,67,68,70,49,850,null,800,"-",899,211,214.66999999999996,224.12,228.57,238.01999999999998,232.46999999999997,231.92,221.36999999999998,120.82,110.26999999999998,109.72,104.16999999999999,98.61999999999999,93.07,87.52,86.97,96.419999999999987,100.87,214.54,null,null,null,"Malé","Velká",375,550,">85",86,"NE",17,25,0,42,264,"Směsný je v tříděném odpadu nebo se zbavuje směsného nelegálně."]
[null,900,"-",999,950,0,1,3,4,6,8,9,11,13,14,16,18,19,21,23,24,25,25,25,null,900,"-",999,null,{"$f":"ROUND(IF(IF(IF((($E20*(100-AD$14)/100*$K$3)*(-1))<$F$4,$F$6,IF((($E20*(100-AD$14)/100*$K$3)*(-1))>=($F$4+$F$6),($E20*(100-AD$14)/100*$K$3)+($F$4+$F$6),($F$6-((($E20*(100-AD$14)/100*$K$3)*(-1))-$F$4))))>=0,IF((($E20*(100-AD$14)/100*$K$3)*(-1))<$F$4,$F$6,IF((($E20*(100-AD$14)/100*$K$3)*(-1))>=($F$4+$F$6),($E20*(100-AD$14)/100*$K$3)+($F$4+$F$6),($F$6-((($E20*(100-AD$14)/100*$K$3)*(-1))-$F$4)))),IF(IF((($E20*(100-AD$14)/100*$K$3)*(-1))<$F$4,$F$6,IF((($E20*(100-AD$14)/100*$K$3)*(-1))>=($F$4+$F$6),($E20*(100-AD$14)/100*$K$3)+($F$4+$F$6),($F$6-((($E20*(100-AD$14)/100*$K$3)*(-1))-$F$4))))*(-1)<=$F$7,0,$F$7+IF((($E20*(100-AD$14)/100*$K$3)*(-1))<$F$4,$F$6,IF((($E20*(100-AD$14)/100*$K$3)*(-1))>=($F$4+$F$6),($E20*(100-AD$14)/100*$K$3)+($F$4+$F$6),($F$6-((($E20*(100-AD$14)/100*$K$3)*(-1))-$F$4))))))*(-1)>$F$5,$F$5*(-1),IF(IF((($E20*(100-AD$14)/100*$K$3)*(-1))<$F$4,$F$6,IF((($E20*(100-AD$14)/100*$K$3)*(-1))>=($F$4+$F$6),($E20*(100-AD$14)/100*$K$3)+($F$4+$F$6),($F$6-((($E20*(100-AD$14)/100*$K$3)*(-1))-$F$4))))>=0,IF((($E20*(100-AD$14)/100*$K$3)*(-1))<$F$4,$F$6,IF((($E20*(100-AD$14)/100*$K$3)*(-1))>=($F$4+$F$6),($E20*(100-AD$14)/100*$K$3)+($F$4+$F$6),($F$6-((($E20*(100-AD$14)/100*$K$3)*(-1))-$F$4)))),IF(IF((($E20*(100-AD$14)/100*$K$3)*(-1))<$F$4,$F$6,IF((($E20*(100-AD$14)/100*$K$3)*(-1))>=($F$4+$F$6),($E20*(100-AD$14)/100*$K$3)+($F$4+$F$6),($F$6-((($E20*(100-AD$14)/100*$K$3)*(-1))-$F$4))))*(-1)<=$F$7,0,$F$7+IF((($E20*(100-AD$14)/100*$K$3)*(-1))<$F$4,$F$6,IF((($E20*(100-AD$14)/100*$K$3)*(-1))>=($F$4+$F$6),($E20*(100-AD$14)/100*$K$3)+($F$4+$F$6),($F$6-((($E20*(100-AD$14)/100*$K$3)*(-1))-$F$4)))))))/$D$2*100,0)","v":0},0,0,0,0,0,0,3,6,8,11,14,16,19,22,25,25,24,22,null,900,"-",999,null,0,0,0,0,0,0,0,0,20,20,20,20,20,20,20,20,20,20,0,null,900,"-",999,null,0,{"$f":"IF((G20+AE20+BC20)<0,0,(G20+AE20+BC20))","v":1},3,4,6,8,9,14,39,42,47,52,55,60,65,69,70,69,47,950,null,900,"-",999,177,181.69,187.83999999999997,198.98999999999995,205.14,211.29,222.43999999999997,213.58999999999997,104.73999999999998,105.88999999999999,97.039999999999992,88.19,89.34,80.489999999999995,71.639999999999986,67.789999999999992,78.94,100.09,219.78,null,null,null,"Malé","Velká",375,550,30,28,"Ano",5,17,0,22,255]
[null,1000,"-",1099,1050,0,1,3,5,7,8,10,12,14,16,18,19,21,23,25,25,25,25,25,null,1000,"-",1099,null,{"$f":"ROUND(IF(IF(IF((($E21*(100-AD$14)/100*$K$3)*(-1))<$F$4,$F$6,IF((($E21*(100-AD$14)/100*$K$3)*(-1))>=($F$4+$F$6),($E21*(100-AD$14)/100*$K$3)+($F$4+$F$6),($F$6-((($E21*(100-AD$14)/100*$K$3)*(-1))-$F$4))))>=0,IF((($E21*(100-AD$14)/100*$K$3)*(-1))<$F$4,$F$6,IF((($E21*(100-AD$14)/100*$K$3)*(-1))>=($F$4+$F$6),($E21*(100-AD$14)/100*$K$3)+($F$4+$F$6),($F$6-((($E21*(100-AD$14)/100*$K$3)*(-1))-$F$4)))),IF(IF((($E21*(100-AD$14)/100*$K$3)*(-1))<$F$4,$F$6,IF((($E21*(100-AD$14)/100*$K$3)*(-1))>=($F$4+$F$6),($E21*(100-AD$14)/100*$K$3)+($F$4+$F$6),($F$6-((($E21*(100-AD$14)/100*$K$3)*(-1))-$F$4))))*(-1)<=$F$7,0,$F$7+IF((($E21*(100-AD$14)/100*$K$3)*(-1))<$F$4,$F$6,IF((($E21*(100-AD$14)/100*$K$3)*(-1))>=($F$4+$F$6),($E21*(100-AD$14)/100*$K$3)+($F$4+$F$6),($F$6-((($E21*(100-AD$14)/100*$K$3)*(-1))-$F$4))))))*(-1)>$F$5,$F$5*(-1),IF(IF((($E21*(100-AD$14)/100*$K$3)*(-1))<$F$4,$F$6,IF((($E21*(100-AD$14)/100*$K$3)*(-1))>=($F$4+$F$6),($E21*(100-AD$14)/100*$K$3)+($F$4+$F$6),($F$6-((($E21*(100-AD$14)/100*$K$3)*(-1))-$F$4))))>=0,IF((($E21*(100-AD$14)/100*$K$3)*(-1))<$F$4,$F$6,IF((($E21*(100-AD$14)/100*$K$3)*(-1))>=($F$4+$F$6),($E21*(100-AD$14)/100*$K$3)+($F$4+$F$6),($F$6-((($E21*(100-AD$14)/100*$K$3)*(-1))-$F$4)))),IF(IF((($E21*(100-AD$14)/100*$K$3)*(-1))<$F$4,$F$6,IF((($E21*(100-AD$14)/100*$K$3)*(-1))>=($F$4+$F$6),($E21*(100-AD$14)/100*$K$3)+($F$4+$F$6),($F$6-((($E21*(100-AD$14)/100*$K$3)*(-1))-$F$4))))*(-1)<=$F$7,0,$F$7+IF((($E21*(100-AD$14)/100*$K$3)*(-1))<$F$4,$F$6,IF((($E21*(100-AD$14)/100*$K$3)*(-1))>=($F$4+$F$6),($E21*(100-AD$14)/100*$K$3)+($F$4+$F$6),($F$6-((($E21*(100-AD$14)/100*$K$3)*(-1))-$F$4)))))))/$D$2*100/2,0)","v":0},{"$f":"ROUND(IF(IF(IF((($E21*(100-AE$14)/100*$K$3)*(-1))<$F$4,$F$6,IF((($E21*(100-AE$14)/100*$K$3)*(-1))>=($F$4+$F$6),($E21*(100-AE$14)/100*$K$3)+($F$4+$F$6),($F$6-((($E21*(100-AE$14)/100*$K$3)*(-1))-$F$4))))>=0,IF((($E21*(100-AE$14)/100*$K$3)*(-1))<$F$4,$F$6,IF((($E21*(100-AE$14)/100*$K$3)*(-1))>=($F$4+$F$6),($E21*(100-AE$14)/100*$K$3)+($F$4+$F$6),($F$6-((($E21*(100-AE$14)/100*$K$3)*(-1))-$F$4)))),IF(IF((($E21*(100-AE$14)/100*$K$3)*(-1))<$F$4,$F$6,IF((($E21*(100-AE$14)/100*$K$3)*(-1))>=($F$4+$F$6),($E21*(100-AE$14)/100*$K$3)+($F$4+$F$6),($F$6-((($E21*(100-AE$14)/100*$K$3)*(-1))-$F$4))))*(-1)<=$F$7,0,$F$7+IF((($E21*(100-AE$14)/100*$K$3)*(-1))<$F$4,$F$6,IF((($E21*(100-AE$14)/100*$K$3)*(-1))>=($F$4+$F$6),($E21*(100-AE$14)/100*$K$3)+($F$4+$F$6),($F$6-((($E21*(100-AE$14)/100*$K$3)*(-1))-$F$4))))))*(-1)>$F$5,$F$5*(-1),IF(IF((($E21*(100-AE$14)/100*$K$3)*(-1))<$F$4,$F$6,IF((($E21*(100-AE$14)/100*$K$3)*(-1))>=($F$4+$F$6),($E21*(100-AE$14)/100*$K$3)+($F$4+$F$6),($F$6-((($E21*(100-AE$14)/100*$K$3)*(-1))-$F$4))))>=0,IF((($E21*(100-AE$14)/100*$K$3)*(-1))<$F$4,$F$6,IF((($E21*(100-AE$14)/100*$K$3)*(-1))>=($F$4+$F$6),($E21*(100-AE$14)/100*$K$3)+($F$4+$F$6),($F$6-((($E21*(100-AE$14)/100*$K$3)*(-1))-$F$4)))),IF(IF((($E21*(100-AE$14)/100*$K$3)*(-1))<$F$4,$F$6,IF((($E21*(100-AE$14)/100*$K$3)*(-1))>=($F$4+$F$6),($E21*(100-AE$14)/100*$K$3)+($F$4+$F$6),($F$6-((($E21*(100-AE$14)/100*$K$3)*(-1))-$F$4))))*(-1)<=$F$7,0,$F$7+IF((($E21*(100-AE$14)/100*$K$3)*(-1))<$F$4,$F$6,IF((($E21*(100-AE$14)/100*$K$3)*(-1))>=($F$4+$F$6),($E21*(100-AE$14)/100*$K$3)+($F$4+$F$6),($F$6-((($E21*(100-AE$14)/100*$K$3)*(-1))-$F$4)))))))/$D$2*100/2,0)","v":0},0,0,0,0,0,0,2,5,8,11,14,17,20,23,25,23,20,null,1000,"-",1099,null,0,0,0,0,0,0,0,0,20,20,20,20,20,20,20,20,20,20,0,null,1000,"-",1099,null,0,1,3,5,7,8,10,12,36,41,46,50,55,60,65,68,70,68,45,1050,null,1000,"-",1099,143,148.70999999999998,156.56,164.40999999999997,172.26,185.10999999999996,192.95999999999998,200.80999999999995,98.66,91.509999999999991,84.359999999999985,82.20999999999998,75.06,67.91,60.759999999999991,63.61,71.459999999999994,99.31,225.01999999999998,null,null,null,"Malé","Velká",375,550,30,28,"NE",5,17,0,22,255]
[null,1100,"-",1199,1150,0,1,3,5,7,9,11,13,15,17,19,21,23,25,25,25,25,25,25,null,1100,"-",1199,null,-3,-2,0,0,0,0,0,0,0,2,5,8,12,15,18,21,25,21,18,null,1100,"-",1199,null,0,0,0,0,0,0,0,0,0,20,20,20,20,20,20,20,20,20,0,null,1100,"-",1199,null,0,0,3,5,7,9,11,13,15,39,44,49,55,60,63,66,70,66,43,1150,null,1100,"-",1199,109,120.72999999999996,125.27999999999997,134.82999999999998,144.38,153.92999999999995,163.47999999999996,173.02999999999997,182.57999999999998,82.13,76.679999999999978,71.22999999999999,60.78,55.329999999999984,59.879999999999995,64.429999999999993,63.97999999999999,103.53,230.26,null,null,null,"Malé","Velká",375,550,0,0,"Ano",0,0,0,0,313]
[null,1200,"-",1299,1250,0,1,4,6,8,10,12,14,17,19,21,23,25,25,25,25,25,25,25,null,1200,"-",1299,null,-6,-5,-3,-1,0,0,0,0,0,0,2,6,9,13,16,20,23,20,16,null,1200,"-",1299,null,0,0,0,0,0,0,0,0,0,19,20,20,20,20,20,20,20,20,0,null,1200,"-",1299,null,0,0,1,5,8,10,12,14,17,38,43,49,54,58,61,65,68,65,41,1250,null,1200,"-",1299,{"$f":"$DC$4-(BZ23/100*$DC$4)+($CS23*(100-CX$14)/100*$DH$3)+($CS23*(CX$14)/100*$DH$4)+($CS23*(CX$14)/100*$DH$5)","v":74.999999999999943},87.749999999999943,104,105.25,111.5,122.75,134,145.25,151.5,67.749999999999972,{"$f":"$DC$4-(CJ23/100*$DC$4)+($CS23*(100-DH$14)/100*$DH$3)+($CS23*(DH$14)/100*$DH$4)+($CS23*(DH$14)/100*$DH$5)","v":63.999999999999972},55.249999999999972,51.5,52.75,59,60.249999999999986,66.5,102.75,{"$f":"$DC$4-(CR23/100*$DC$4)+($CS23*(100-DP$14)/100*$DH$3)+($CS23*(DP$14)/100*$DH$4)+($CS23*(DP$14)/100*$DH$5*0.66)","v":184.32999999999998},null,null,null,"Malé","Velká",375,550,0,0,"NE",0,0,0,0,313]
[null,1300,"-",1399,1350,0,1,4,6,9,11,13,16,18,20,23,25,25,25,25,25,25,25,25,null,1300,"-",1399,null,-9,-8,-6,-4,-2,0,0,0,0,0,0,3,7,11,15,18,22,18,15,null,1300,"-",1399,null,0,0,0,0,0,0,0,0,0,0,19,20,20,20,20,20,20,19,0,null,1300,"-",1399,null,0,0,0,2,7,11,13,16,18,20,42,48,52,56,60,63,67,{"$f":"IF((W24+AU24+BS24)<0,0,(W24+AU24+BS24))","v":62},40,1350,null,1300,"-",1399,40.999999999999943,54.769999999999982,77.71999999999997,90.669999999999959,88.619999999999948,91.57,104.51999999999998,112.46999999999997,125.41999999999996,138.37,51.319999999999993,44.269999999999982,47.22,50.169999999999987,53.119999999999976,61.069999999999993,64.02,111.97,180.47640000000001,null,null,"Plné popelnice","Malé","Optimální",500,550,75,73,"Ano",14,25,20,59,155]
[null,1400,"-",1499,1450,0,2,4,7,9,12,14,17,19,22,24,25,25,25,25,25,25,25,25,null,1400,"-",1499,null,-12,-10,-8,-6,-4,-2,0,0,0,0,0,0,4,9,13,17,21,17,13,null,1400,"-",1499,null,0,0,0,0,0,0,0,0,0,0,16,20,20,20,20,20,19,0,0,null,1400,"-",1499,null,0,0,0,1,5,10,14,17,19,22,40,45,49,54,58,62,65,42,38,1450,null,1400,"-",1499,{"$f":"$DC$4-(BZ25/100*$DC$4)+($CS25*(100-CX$14)/100*$DH$3)+($CS25*(CX$14)/100*$DH$4)+($CS25*(CX$14)/100*$DH$5)","v":6.9999999999999432},21.789999999999964,46.439999999999941,66.089999999999975,70.739999999999952,70.389999999999986,75.039999999999964,84.69,99.339999999999975,108.98999999999995,43.639999999999986,43.289999999999992,47.94,47.589999999999975,52.239999999999981,56.889999999999986,66.539999999999992,{"$f":"$DC$4-(CQ25/100*$DC$4)+($CS25*(100-DO$14)/100*$DH$3)+($CS25*(DO$14)/100*$DH$4)+($CS25*(DO$14)/100*$DH$5*0.66)","v":148.9034},181.62279999999998,null,null,null,"Malé","Optimální",500,550,75,73,"NE",14,25,0,39,255,"Nemá vyplněný OD (souhlas s podmínkami - může přijít o odměnu)"]
[null,1500,"-",1599,1550,0,2,4,7,10,12,15,18,21,23,25,25,25,25,25,25,25,25,25,null,1500,"-",1599,null,-13,-13,-11,-9,-7,-4,-2,0,0,0,0,0,2,7,11,15,20,15,11,null,1500,"-",1599,null,0,0,0,0,0,0,0,0,0,0,0,18,20,20,20,19,17,0,0,null,1500,"-",1599,null,0,0,0,0,3,8,13,18,21,23,25,43,47,52,56,59,62,40,36,1550,null,1500,"-",1599,{"$f":"$DC$4-(BZ26/100*$DC$4)+($CS26*(100-CX$14)/100*$DH$3)+($CS26*(CX$14)/100*$DH$4)+($CS26*(CX$14)/100*$DH$5)","v":-27},{"$f":"$DC$4-(CA26/100*$DC$4)+($CS26*(100-CY$14)/100*$DH$3)+($CS26*(CY$14)/100*$DH$4)+($CS26*(CY$14)/100*$DH$5)","v":-11.190000000000055},{"$f":"$DC$4-(CB26/100*$DC$4)+($CS26*(100-CZ$14)/100*$DH$3)+($CS26*(CZ$14)/100*$DH$4)+($CS26*(CZ$14)/100*$DH$5)","v":15.159999999999968},{"$f":"$DC$4-(CC26/100*$DC$4)+($CS26*(100-DA$14)/100*$DH$3)+($CS26*(DA$14)/100*$DH$4)+($CS26*(DA$14)/100*$DH$5)","v":41.509999999999991},{"$f":"$DC$4-(CD26/100*$DC$4)+($CS26*(100-DB$14)/100*$DH$3)+($CS26*(DB$14)/100*$DH$4)+($CS26*(DB$14)/100*$DH$5)","v":52.859999999999957},{"$f":"$DC$4-(CE26/100*$DC$4)+($CS26*(100-DC$14)/100*$DH$3)+($CS26*(DC$14)/100*$DH$4)+($CS26*(DC$14)/100*$DH$5)","v":54.20999999999998},{"$f":"$DC$4-(CF26/100*$DC$4)+($CS26*(100-DD$14)/100*$DH$3)+($CS26*(DD$14)/100*$DH$4)+($CS26*(DD$14)/100*$DH$5)","v":55.559999999999945},{"$f":"$DC$4-(CG26/100*$DC$4)+($CS26*(100-DE$14)/100*$DH$3)+($CS26*(DE$14)/100*$DH$4)+($CS26*(DE$14)/100*$DH$5)","v":56.909999999999968},{"$f":"$DC$4-(CH26/100*$DC$4)+($CS26*(100-DF$14)/100*$DH$3)+($CS26*(DF$14)/100*$DH$4)+($CS26*(DF$14)/100*$DH$5)","v":68.259999999999991},{"$f":"$DC$4-(CI26/100*$DC$4)+($CS26*(100-DG$14)/100*$DH$3)+($CS26*(DG$14)/100*$DH$4)+($CS26*(DG$14)/100*$DH$5)","v":84.609999999999957},{"$f":"$DC$4-(CJ26/100*$DC$4)+($CS26*(100-DH$14)/100*$DH$3)+($CS26*(DH$14)/100*$DH$4)+($CS26*(DH$14)/100*$DH$5)","v":100.95999999999998},{"$f":"$DC$4-(CK26/100*$DC$4)+($CS26*(100-DI$14)/100*$DH$3)+($CS26*(DI$14)/100*$DH$4)+($CS26*(DI$14)/100*$DH$5)","v":37.309999999999974},{"$f":"$DC$4-(CL26/100*$DC$4)+($CS26*(100-DJ$14)/100*$DH$3)+($CS26*(DJ$14)/100*$DH$4)+($CS26*(DJ$14)/100*$DH$5)","v":43.66},{"$f":"$DC$4-(CM26/100*$DC$4)+($CS26*(100-DK$14)/100*$DH$3)+($CS26*(DK$14)/100*$DH$4)+($CS26*(DK$14)/100*$DH$5)","v":45.009999999999991},{"$f":"$DC$4-(CN26/100*$DC$4)+($CS26*(100-DL$14)/100*$DH$3)+($CS26*(DL$14)/100*$DH$4)+($CS26*(DL$14)/100*$DH$5)","v":51.359999999999985},{"$f":"$DC$4-(CO26/100*$DC$4)+($CS26*(100-DM$14)/100*$DH$3)+($CS26*(DM$14)/100*$DH$4)+($CS26*(DM$14)/100*$DH$5)","v":62.70999999999998},{"$f":"$DC$4-(CP26/100*$DC$4)+($CS26*(100-DN$14)/100*$DH$3)+($CS26*(DN$14)/100*$DH$4)+($CS26*(DN$14)/100*$DH$5)","v":74.059999999999988},{"$f":"$DC$4-(CQ26/100*$DC$4)+($CS26*(100-DO$14)/100*$DH$3)+($CS26*(DO$14)/100*$DH$4)+($CS26*(DO$14)/100*$DH$5*0.66)","v":149.17259999999999},182.76920000000001,null,null,null,"Malé","Optimální",500,550,">85",86,"Ano",17,25,0,42,264,"SPO není udílena - úroveň třídění je podezřelá."]
[null,1600,"-",1699,1650,0,2,5,8,10,13,16,19,22,25,25,25,25,25,25,25,25,25,25,null,1600,"-",1699,null,-13,-13,-13,-11,-9,-6,-4,-2,0,0,0,0,0,4,9,14,18,14,9,null,1600,"-",1699,null,0,0,0,0,0,0,0,0,0,0,0,15,20,20,19,17,0,0,0,null,1600,"-",1699,null,0,0,0,0,1,7,12,17,22,25,25,40,45,49,53,56,43,39,34,1650,null,1600,"-",1699,-61,-44.170000000000073,-16.120000000000008,11.92999999999995,34.979999999999961,33.029999999999973,36.079999999999984,39.129999999999995,42.17999999999995,55.229999999999961,83.279999999999973,36.329999999999984,39.379999999999995,47.429999999999978,{"$f":"$DC$4-(CN27/100*$DC$4)+($CS27*(100-DL$14)/100*$DH$3)+($CS27*(DL$14)/100*$DH$4)+($CS27*(DL$14)/100*$DH$5)","v":55.47999999999999},{"$f":"$DC$4-(CO27/100*$DC$4)+($CS27*(100-DM$14)/100*$DH$3)+($CS27*(DM$14)/100*$DH$4)+($CS27*(DM$14)/100*$DH$5)","v":68.53},{"$f":"$DC$4-(CP27/100*$DC$4)+($CS27*(100-DN$14)/100*$DH$3)+($CS27*(DN$14)/100*$DH$4)+($CS27*(DN$14)/100*$DH$5*0.66)","v":100.31879999999998},{"$f":"$DC$4-(CQ27/100*$DC$4)+($CS27*(100-DO$14)/100*$DH$3)+($CS27*(DO$14)/100*$DH$4)+($CS27*(DO$14)/100*$DH$5*0.66)","v":144.4418},183.91559999999998,null,null,null,"Malé","Optimální",500,550,">85",86,"NE",17,25,0,42,264,"Směsný je v tříděném odpadu nebo se zbavuje směsného nelegálně."]
[null,1700,"-",1799,1750,0,2,5,8,11,14,17,20,23,25,25,25,25,25,25,25,25,25,25,null,1700,"-",1799,null,-13,-13,-13,-13,-11,-9,-6,-4,-1,0,0,0,0,2,7,12,17,12,7,null,1700,"-",1799,null,0,0,0,0,0,0,0,0,0,0,0,0,17,19,17,0,0,0,0,null,1700,"-",1799,null,0,0,0,0,0,5,11,16,22,25,25,25,42,46,49,37,42,37,32,1750,null,1700,"-",1799,-95,-77.150000000000091,-47.400000000000084,-17.650000000000091,12.099999999999966,16.849999999999966,16.599999999999966,21.349999999999966,21.099999999999966,35.849999999999966,65.599999999999966,95.349999999999966,40.099999999999994,49.849999999999994,{"$f":"$DC$4-(CN28/100*$DC$4)+($CS28*(100-DL$14)/100*$DH$3)+($CS28*(DL$14)/100*$DH$4)+($CS28*(DL$14)/100*$DH$5)","v":64.599999999999994},{"$f":"$DC$4-(CO28/100*$DC$4)+($CS28*(100-DM$14)/100*$DH$3)+($CS28*(DM$14)/100*$DH$4)+($CS28*(DM$14)/100*$DH$5)","v":154.35},{"$f":"$DC$4-(CP28/100*$DC$4)+($CS28*(100-DN$14)/100*$DH$3)+($CS28*(DN$14)/100*$DH$4)+($CS28*(DN$14)/100*$DH$5*0.66)","v":94.125999999999991},{"$f":"$DC$4-(CQ28/100*$DC$4)+($CS28*(100-DO$14)/100*$DH$3)+($CS28*(DO$14)/100*$DH$4)+($CS28*(DO$14)/100*$DH$5*0.66)","v":144.71099999999998},185.06199999999998,null,null,null,"Malé","Optimální",500,550,30,28,"Ano",5,17,0,22,255]
[null,1800,"-",1899,1850,0,2,5,8,12,15,18,21,25,25,25,25,25,25,25,25,25,25,25,null,1800,"-",1899,null,-13,-13,-13,-13,-13,-11,-8,-6,-3,0,0,0,0,0,5,11,16,11,5,null,1800,"-",1899,null,0,0,0,0,0,0,0,0,0,0,0,0,0,0,0,0,0,0,0,null,1800,"-",1899,null,0,0,0,0,0,4,10,15,22,25,25,25,25,25,30,36,41,36,30,1850,null,1800,"-",1899,-129,-110.13,-78.680000000000064,-47.230000000000018,-15.780000000000086,-4.3300000000000409,-2.8800000000000523,3.5699999999999932,1.999999999998181E-2,16.46999999999997,47.919999999999959,79.37,110.82,142.26999999999998,{"$f":"$DC$4-(CN29/100*$DC$4)+($CS29*(100-DL$14)/100*$DH$3)+($CS29*(DL$14)/100*$DH$4)+($CS29*(DL$14)/100*$DH$5)","v":148.72},{"$f":"$DC$4-(CO29/100*$DC$4)+($CS29*(100-DM$14)/100*$DH$3)+($CS29*(DM$14)/100*$DH$4)+($CS29*(DM$14)/100*$DH$5*0.66)","v":85.886199999999988},{"$f":"$DC$4-(CP29/100*$DC$4)+($CS29*(100-DN$14)/100*$DH$3)+($CS29*(DN$14)/100*$DH$4)+($CS29*(DN$14)/100*$DH$5*0.66)","v":87.933199999999971},{"$f":"$DC$4-(CQ29/100*$DC$4)+($CS29*(100-DO$14)/100*$DH$3)+($CS29*(DO$14)/100*$DH$4)+($CS29*(DO$14)/100*$DH$5*0.66)","v":139.9802},{"$f":"$DC$4-(CR29/100*$DC$4)+($CS29*(100-DP$14)/100*$DH$3)+($CS29*(DP$14)/100*$DH$4)+($CS29*(DP$14)/100*$DH$5*0.66)","v":186.20840000000001},null,null,null,"Malé","Optimální",500,550,30,28,"NE",5,17,0,22,255]
[null,1900,"-",1999,1950,0,2,5,9,{"$f":"ROUND(IF((($E30*J$14/100*$K$4)*(-1))>($F$5-50),($E30*J$14/100*$K$5)-((($E30*J$14/100*$K$4)*(-1))-($F$5-50)),($E30*J$14/100*$K$5))/($D$2-200)*100,0)","v":12},16,19,23,25,25,25,25,25,25,25,25,25,25,25,null,1900,"-",1999,null,-13,-13,-13,-13,-13,-13,-10,-8,-5,-2,0,0,{"$f":"ROUND(IF(IF(IF((($E30*(100-AP$14)/100*$K$3)*(-1))<$F$4,$F$6,IF((($E30*(100-AP$14)/100*$K$3)*(-1))>=($F$4+$F$6),($E30*(100-AP$14)/100*$K$3)+($F$4+$F$6),($F$6-((($E30*(100-AP$14)/100*$K$3)*(-1))-$F$4))))>=0,IF((($E30*(100-AP$14)/100*$K$3)*(-1))<$F$4,$F$6,IF((($E30*(100-AP$14)/100*$K$3)*(-1))>=($F$4+$F$6),($E30*(100-AP$14)/100*$K$3)+($F$4+$F$6),($F$6-((($E30*(100-AP$14)/100*$K$3)*(-1))-$F$4)))),IF(IF((($E30*(100-AP$14)/100*$K$3)*(-1))<$F$4,$F$6,IF((($E30*(100-AP$14)/100*$K$3)*(-1))>=($F$4+$F$6),($E30*(100-AP$14)/100*$K$3)+($F$4+$F$6),($F$6-((($E30*(100-AP$14)/100*$K$3)*(-1))-$F$4))))*(-1)<=$F$7,0,$F$7+IF((($E30*(100-AP$14)/100*$K$3)*(-1))<$F$4,$F$6,IF((($E30*(100-AP$14)/100*$K$3)*(-1))>=($F$4+$F$6),($E30*(100-AP$14)/100*$K$3)+($F$4+$F$6),($F$6-((($E30*(100-AP$14)/100*$K$3)*(-1))-$F$4))))))*(-1)>$F$5,$F$5*(-1),IF(IF((($E30*(100-AP$14)/100*$K$3)*(-1))<$F$4,$F$6,IF((($E30*(100-AP$14)/100*$K$3)*(-1))>=($F$4+$F$6),($E30*(100-AP$14)/100*$K$3)+($F$4+$F$6),($F$6-((($E30*(100-AP$14)/100*$K$3)*(-1))-$F$4))))>=0,IF((($E30*(100-AP$14)/100*$K$3)*(-1))<$F$4,$F$6,IF((($E30*(100-AP$14)/100*$K$3)*(-1))>=($F$4+$F$6),($E30*(100-AP$14)/100*$K$3)+($F$4+$F$6),($F$6-((($E30*(100-AP$14)/100*$K$3)*(-1))-$F$4)))),IF(IF((($E30*(100-AP$14)/100*$K$3)*(-1))<$F$4,$F$6,IF((($E30*(100-AP$14)/100*$K$3)*(-1))>=($F$4+$F$6),($E30*(100-AP$14)/100*$K$3)+($F$4+$F$6),($F$6-((($E30*(100-AP$14)/100*$K$3)*(-1))-$F$4))))*(-1)<=$F$7,0,$F$7+IF((($E30*(100-AP$14)/100*$K$3)*(-1))<$F$4,$F$6,IF((($E30*(100-AP$14)/100*$K$3)*(-1))>=($F$4+$F$6),($E30*(100-AP$14)/100*$K$3)+($F$4+$F$6),($F$6-((($E30*(100-AP$14)/100*$K$3)*(-1))-$F$4)))))))/$D$2*100,0)","v":0},0,4,9,15,9,4,null,1900,"-",1999,null,0,0,0,0,0,0,0,0,0,0,0,0,0,0,0,0,0,0,0,null,1900,"-",1999,null,0,0,0,0,0,3,9,15,20,23,25,25,25,25,29,34,40,34,29,1950,null,1900,"-",1999,-163,-143.11000000000001,-109.96000000000004,-76.810000000000059,-43.660000000000089,-25.510000000000048,-22.360000000000014,-19.210000000000036,-11.060000000000002,7.089999999999975,30.239999999999952,63.389999999999986,96.539999999999964,129.68999999999997,{"$f":"$DC$4-(CN30/100*$DC$4)+($CS30*(100-DL$14)/100*$DH$3)+($CS30*(DL$14)/100*$DH$4)+($CS30*(DL$14)/100*$DH$5)","v":142.83999999999997},83.231399999999979,81.740399999999994,140.24939999999998,182.35480000000001,null,null,null,"Malé","Optimální",500,550,0,0,"Ano",0,0,0,0,313]
[null,2000,"-",2099,2050,0,2,6,9,13,17,20,24,25,25,25,25,25,25,25,25,{"$f":"ROUND(IF((($E31*V$14/100*$K$4)*(-1))>($F$5-50),($E31*V$14/100*$K$5)-((($E31*V$14/100*$K$4)*(-1))-($F$5-50)),($E31*V$14/100*$K$5))/($D$2-200)*100,0)","v":25},25,25,null,2000,"-",2099,null,-13,-13,-13,-13,-13,-13,-12,-9,-7,-4,-1,0,0,0,2,8,13,8,2,null,2000,"-",2099,null,0,0,0,0,0,0,0,0,0,0,0,0,0,0,0,0,0,0,0,null,2000,"-",2099,null,0,0,0,0,0,4,8,15,18,21,24,25,25,25,27,33,38,33,27,2050,null,2000,"-",2099,-197,-176.09000000000003,-141.24,-106.3900000000001,-71.540000000000077,-56.690000000000055,-41.840000000000032,-41.990000000000009,-22.140000000000029,-2.2900000000000205,17.560000000000002,47.409999999999968,82.259999999999991,117.10999999999996,75.605599999999981,75.576599999999985,80.547599999999989,135.51859999999999,183.50119999999995,null,null,null,"Malé","Optimální",500,550,0,0,"NE",0,0,0,0,313]
[null,2100,"-",2199,2150,0,2,6,10,14,17,21,25,25,25,25,25,25,25,25,25,25,25,25,null,2100,"-",2199,null,-13,-13,-13,-13,-13,-13,-13,-11,-8,-5,-2,0,0,0,0,6,12,6,0,null,2100,"-",2199,null,0,0,0,0,0,0,0,0,0,0,0,0,0,0,0,0,0,0,0,null,2100,"-",2199,null,0,0,0,0,1,4,8,14,17,20,23,25,25,25,25,31,37,31,25,2150,null,2100,"-",2199,-231,-209.07000000000005,-172.5200000000001,-135.97000000000003,-104.42000000000007,-82.870000000000019,-66.32000000000005,-59.770000000000039,-38.220000000000013,-16.670000000000016,4.8799999999999955,31.42999999999995,67.979999999999961,104.52999999999997,71.488799999999998,72.92179999999999,74.354799999999983,135.7878,184.64759999999998,null,null,"Poloprázdné popelnice","Malé","Nízká",1000,1050,75,73,"Ano",25,23,20,68,64]
[null,2200,"-",2299,2250,0,2,6,10,14,18,22,25,25,25,25,25,25,25,25,25,25,25,25,null,2200,"-",2299,null,-13,-13,-13,-13,-13,-13,-13,-13,-10,-7,-4,0,0,0,0,{"$f":"ROUND(IF(IF(IF((($E33*(100-AS$14)/100*$K$3)*(-1))<$F$4,$F$6,IF((($E33*(100-AS$14)/100*$K$3)*(-1))>=($F$4+$F$6),($E33*(100-AS$14)/100*$K$3)+($F$4+$F$6),($F$6-((($E33*(100-AS$14)/100*$K$3)*(-1))-$F$4))))>=0,IF((($E33*(100-AS$14)/100*$K$3)*(-1))<$F$4,$F$6,IF((($E33*(100-AS$14)/100*$K$3)*(-1))>=($F$4+$F$6),($E33*(100-AS$14)/100*$K$3)+($F$4+$F$6),($F$6-((($E33*(100-AS$14)/100*$K$3)*(-1))-$F$4)))),IF(IF((($E33*(100-AS$14)/100*$K$3)*(-1))<$F$4,$F$6,IF((($E33*(100-AS$14)/100*$K$3)*(-1))>=($F$4+$F$6),($E33*(100-AS$14)/100*$K$3)+($F$4+$F$6),($F$6-((($E33*(100-AS$14)/100*$K$3)*(-1))-$F$4))))*(-1)<=$F$7,0,$F$7+IF((($E33*(100-AS$14)/100*$K$3)*(-1))<$F$4,$F$6,IF((($E33*(100-AS$14)/100*$K$3)*(-1))>=($F$4+$F$6),($E33*(100-AS$14)/100*$K$3)+($F$4+$F$6),($F$6-((($E33*(100-AS$14)/100*$K$3)*(-1))-$F$4))))))*(-1)>$F$5,$F$5*(-1),IF(IF((($E33*(100-AS$14)/100*$K$3)*(-1))<$F$4,$F$6,IF((($E33*(100-AS$14)/100*$K$3)*(-1))>=($F$4+$F$6),($E33*(100-AS$14)/100*$K$3)+($F$4+$F$6),($F$6-((($E33*(100-AS$14)/100*$K$3)*(-1))-$F$4))))>=0,IF((($E33*(100-AS$14)/100*$K$3)*(-1))<$F$4,$F$6,IF((($E33*(100-AS$14)/100*$K$3)*(-1))>=($F$4+$F$6),($E33*(100-AS$14)/100*$K$3)+($F$4+$F$6),($F$6-((($E33*(100-AS$14)/100*$K$3)*(-1))-$F$4)))),IF(IF((($E33*(100-AS$14)/100*$K$3)*(-1))<$F$4,$F$6,IF((($E33*(100-AS$14)/100*$K$3)*(-1))>=($F$4+$F$6),($E33*(100-AS$14)/100*$K$3)+($F$4+$F$6),($F$6-((($E33*(100-AS$14)/100*$K$3)*(-1))-$F$4))))*(-1)<=$F$7,0,$F$7+IF((($E33*(100-AS$14)/100*$K$3)*(-1))<$F$4,$F$6,IF((($E33*(100-AS$14)/100*$K$3)*(-1))>=($F$4+$F$6),($E33*(100-AS$14)/100*$K$3)+($F$4+$F$6),($F$6-((($E33*(100-AS$14)/100*$K$3)*(-1))-$F$4)))))))/$D$2*100,0)","v":5},11,5,0,null,2200,"-",2299,null,0,0,0,0,0,0,0,0,0,0,0,0,0,0,0,0,0,0,0,null,2200,"-",2299,null,0,0,0,0,1,5,9,12,15,18,21,25,25,25,25,30,36,30,25,2250,null,2200,"-",2299,-265,-242.05000000000007,-203.80000000000007,-165.55000000000007,-132.30000000000007,-114.05000000000005,-95.800000000000054,-72.550000000000054,-49.300000000000011,-26.050000000000011,-2.8000000000000114,15.449999999999989,53.699999999999989,91.949999999999989,57.371999999999986,65.266999999999996,68.161999999999978,131.05699999999999,175.79399999999998,null,null,null,"Malé","Nízká",1000,1050,75,73,"NE",25,23,0,48,164,"Nemá vyplněný OD (souhlas s podmínkami - může přijít o odměnu)"]
[null,2300,"-",2399,2350,0,2,7,11,15,19,23,25,25,25,25,25,25,25,25,25,25,25,25,null,2300,"-",2399,null,-13,-13,-13,-13,-13,-13,-13,-13,-12,-8,-5,-2,0,0,0,3,10,3,0,null,2300,"-",2399,null,0,0,0,0,0,0,0,0,0,0,0,0,0,{"$f":"ROUND(IF(IF((($E34*(100-BO$14)/100*$K$3)*(-1))<=($F$4+$F$6),0,(($E34*(100-BO$14)/100*$K$3)+$F$4+$F$6))+IF((($E34*BO$14/100*$K$4)*(-1))<=$F$5,0,($E34*BO$14/100*$K$4)+$F$5)=0,$F$7,IF(IF((($E34*(100-BO$14)/100*$K$3)*(-1))<=($F$4+$F$6),0,(($E34*(100-BO$14)/100*$K$3)+$F$4+$F$6))+IF((($E34*BO$14/100*$K$4)*(-1))<=$F$5,0,($E34*BO$14/100*$K$4)+$F$5)*(-1)>$F$7,0,IF((($E34*(100-BO$14)/100*$K$3)*(-1))<=($F$4+$F$6),0,(($E34*(100-BO$14)/100*$K$3)+$F$4+$F$6))+IF((($E34*BO$14/100*$K$4)*(-1))<=$F$5,0,($E34*BO$14/100*$K$4)+$F$5)+$F$7))/$D$2*100,0)","v":0},0,0,0,0,0,null,2300,"-",2399,null,0,0,0,0,2,6,10,12,13,17,20,23,25,25,25,28,35,28,25,2350,null,2300,"-",2399,-299.00000000000011,-275.03000000000009,-235.08000000000004,-195.13,-165.18000000000006,-145.23000000000002,-125.28000000000009,-95.330000000000027,-60.380000000000052,-40.430000000000007,-15.480000000000018,9.4699999999999704,39.419999999999959,79.37,43.255200000000002,62.612199999999973,61.969200000000001,131.32619999999997,166.94039999999998,null,null,null,"Malé","Nízká",1000,1050,">85",86,"Ano",25,20,0,45,225,"Nešlape PET lahve. Nerozlepuje papírové krabičky."]
[null,2400,"-",2499,2450,0,3,7,11,15,20,24,25,25,25,25,25,25,25,25,25,25,25,25,null,2400,"-",2499,null,-13,-13,-13,-13,-13,-13,-13,-13,-13,-10,-7,-3,0,0,0,2,8,2,0,null,2400,"-",2499,null,0,0,0,0,0,0,0,0,0,0,0,0,0,0,0,0,0,0,0,null,2400,"-",2499,null,0,0,0,0,2,7,11,12,12,15,18,22,25,25,25,27,33,27,25,2450,null,2400,"-",2499,-333.00000000000011,-308.0100000000001,-266.36,-224.71000000000006,-193.06000000000006,-176.41000000000008,-154.76,-118.11,-76.460000000000036,-49.810000000000059,-23.160000000000025,-1.5100000000000477,25.139999999999986,66.789999999999964,29.13839999999999,54.957399999999978,60.776399999999995,126.59539999999998,158.08680000000001,null,null,null,"Malé","Nízká",1000,1050,">85",86,"NE",25,20,0,45,225,"Nešlape PET lahve. Nerozlepuje papírové krabičky."]
[null,2500,"-",2599,2550,0,3,7,12,16,21,25,25,25,25,25,25,25,25,25,25,25,25,25,null,2500,"-",2599,null,-13,-13,-13,-13,-13,-13,-13,-13,-13,-12,-8,-4,-1,0,0,0,7,0,0,null,2500,"-",2599,null,0,0,0,0,0,0,0,0,0,0,0,0,0,0,0,0,0,0,0,null,2500,"-",2599,null,0,0,0,0,3,8,12,12,12,13,17,21,24,25,25,25,32,25,25,2550,null,2500,"-",2599,-367.00000000000011,-340.99,-297.6400000000001,-254.29000000000011,-225.94000000000005,-207.59000000000003,-184.24000000000004,-140.88999999999999,-97.540000000000077,-59.190000000000055,-35.840000000000032,-12.490000000000009,15.859999999999957,54.20999999999998,15.021600000000007,52.302600000000012,54.58359999999999,126.8646,149.23320000000001,null,null,null,"Malé","Nízká",1000,1050,30,28,"Ano",10,0,0,10,193]
[null,2600,"-",2699,2650,0,3,7,12,17,21,25,25,25,25,25,25,25,25,25,25,25,25,25,null,2600,"-",2699,null,-13,{"$f":"ROUND(IF(IF(IF((($E37*(100-AE$14)/100*$K$3)*(-1))<$F$4,$F$6,IF((($E37*(100-AE$14)/100*$K$3)*(-1))>=($F$4+$F$6),($E37*(100-AE$14)/100*$K$3)+($F$4+$F$6),($F$6-((($E37*(100-AE$14)/100*$K$3)*(-1))-$F$4))))>=0,IF((($E37*(100-AE$14)/100*$K$3)*(-1))<$F$4,$F$6,IF((($E37*(100-AE$14)/100*$K$3)*(-1))>=($F$4+$F$6),($E37*(100-AE$14)/100*$K$3)+($F$4+$F$6),($F$6-((($E37*(100-AE$14)/100*$K$3)*(-1))-$F$4)))),IF(IF((($E37*(100-AE$14)/100*$K$3)*(-1))<$F$4,$F$6,IF((($E37*(100-AE$14)/100*$K$3)*(-1))>=($F$4+$F$6),($E37*(100-AE$14)/100*$K$3)+($F$4+$F$6),($F$6-((($E37*(100-AE$14)/100*$K$3)*(-1))-$F$4))))*(-1)<=$F$7,0,$F$7+IF((($E37*(100-AE$14)/100*$K$3)*(-1))<$F$4,$F$6,IF((($E37*(100-AE$14)/100*$K$3)*(-1))>=($F$4+$F$6),($E37*(100-AE$14)/100*$K$3)+($F$4+$F$6),($F$6-((($E37*(100-AE$14)/100*$K$3)*(-1))-$F$4))))))*(-1)>$F$5,$F$5*(-1),IF(IF((($E37*(100-AE$14)/100*$K$3)*(-1))<$F$4,$F$6,IF((($E37*(100-AE$14)/100*$K$3)*(-1))>=($F$4+$F$6),($E37*(100-AE$14)/100*$K$3)+($F$4+$F$6),($F$6-((($E37*(100-AE$14)/100*$K$3)*(-1))-$F$4))))>=0,IF((($E37*(100-AE$14)/100*$K$3)*(-1))<$F$4,$F$6,IF((($E37*(100-AE$14)/100*$K$3)*(-1))>=($F$4+$F$6),($E37*(100-AE$14)/100*$K$3)+($F$4+$F$6),($F$6-((($E37*(100-AE$14)/100*$K$3)*(-1))-$F$4)))),IF(IF((($E37*(100-AE$14)/100*$K$3)*(-1))<$F$4,$F$6,IF((($E37*(100-AE$14)/100*$K$3)*(-1))>=($F$4+$F$6),($E37*(100-AE$14)/100*$K$3)+($F$4+$F$6),($F$6-((($E37*(100-AE$14)/100*$K$3)*(-1))-$F$4))))*(-1)<=$F$7,0,$F$7+IF((($E37*(100-AE$14)/100*$K$3)*(-1))<$F$4,$F$6,IF((($E37*(100-AE$14)/100*$K$3)*(-1))>=($F$4+$F$6),($E37*(100-AE$14)/100*$K$3)+($F$4+$F$6),($F$6-((($E37*(100-AE$14)/100*$K$3)*(-1))-$F$4)))))))/$D$2*100/2,0)","v":-13},-13,-13,-13,-13,-13,-13,-13,-13,-10,-6,-2,0,0,0,6,0,0,null,2600,"-",2699,null,0,0,0,0,0,0,0,0,0,0,0,0,0,0,0,0,0,0,0,null,2600,"-",2699,null,0,0,0,0,4,8,12,12,12,12,15,19,23,25,25,25,31,25,25,2650,null,2600,"-",2699,-401.00000000000011,-373.97,-328.92000000000007,-283.87,-258.82000000000005,-233.77000000000012,-208.72000000000003,-163.67000000000007,-118.62,-73.57000000000005,-43.520000000000039,-18.470000000000027,6.5799999999999841,41.629999999999995,0.9047999999999945,39.647799999999989,48.390799999999956,117.13379999999998,140.37959999999998,null,null,null,"Malé","Nízká",1000,1050,30,28,"NE",10,0,0,10,193]
[null,2700,"-",2799,2750,0,3,8,13,17,22,25,25,25,25,25,25,25,25,25,25,25,25,25,null,2700,"-",2799,null,-13,-13,-13,-13,-13,-13,-13,-13,-13,-13,-11,-7,-3,0,0,0,5,0,0,null,2700,"-",2799,null,0,0,0,0,0,0,0,0,0,0,0,0,0,0,0,0,0,0,0,null,2700,"-",2799,null,0,0,0,0,4,9,12,12,12,12,14,18,22,25,25,25,30,25,25,2750,null,2700,"-",2799,-435.00000000000011,-406.95000000000005,-360.20000000000005,-313.45000000000005,-286.70000000000005,-264.95000000000005,-233.20000000000005,-186.45000000000005,-139.70000000000005,-92.950000000000045,-56.200000000000045,-29.450000000000045,-2.7000000000000455,29.049999999999955,-13.212000000000046,26.992999999999995,42.197999999999979,107.40299999999999,131.52600000000001,null,null,null,"Malé","Nízká",1000,1050,0,0,"Ano",0,0,0,0,143]
[null,2800,"-",2899,2850,0,3,8,13,18,23,25,25,25,25,25,25,25,25,25,25,25,25,25,null,2800,"-",2899,null,-13,-13,-13,-13,-13,-13,-13,-13,-13,-13,-12,-8,-4,0,0,{"$f":"ROUND(IF(IF(IF((($E39*(100-AS$14)/100*$K$3)*(-1))<$F$4,$F$6,IF((($E39*(100-AS$14)/100*$K$3)*(-1))>=($F$4+$F$6),($E39*(100-AS$14)/100*$K$3)+($F$4+$F$6),($F$6-((($E39*(100-AS$14)/100*$K$3)*(-1))-$F$4))))>=0,IF((($E39*(100-AS$14)/100*$K$3)*(-1))<$F$4,$F$6,IF((($E39*(100-AS$14)/100*$K$3)*(-1))>=($F$4+$F$6),($E39*(100-AS$14)/100*$K$3)+($F$4+$F$6),($F$6-((($E39*(100-AS$14)/100*$K$3)*(-1))-$F$4)))),IF(IF((($E39*(100-AS$14)/100*$K$3)*(-1))<$F$4,$F$6,IF((($E39*(100-AS$14)/100*$K$3)*(-1))>=($F$4+$F$6),($E39*(100-AS$14)/100*$K$3)+($F$4+$F$6),($F$6-((($E39*(100-AS$14)/100*$K$3)*(-1))-$F$4))))*(-1)<=$F$7,0,$F$7+IF((($E39*(100-AS$14)/100*$K$3)*(-1))<$F$4,$F$6,IF((($E39*(100-AS$14)/100*$K$3)*(-1))>=($F$4+$F$6),($E39*(100-AS$14)/100*$K$3)+($F$4+$F$6),($F$6-((($E39*(100-AS$14)/100*$K$3)*(-1))-$F$4))))))*(-1)>$F$5,$F$5*(-1),IF(IF((($E39*(100-AS$14)/100*$K$3)*(-1))<$F$4,$F$6,IF((($E39*(100-AS$14)/100*$K$3)*(-1))>=($F$4+$F$6),($E39*(100-AS$14)/100*$K$3)+($F$4+$F$6),($F$6-((($E39*(100-AS$14)/100*$K$3)*(-1))-$F$4))))>=0,IF((($E39*(100-AS$14)/100*$K$3)*(-1))<$F$4,$F$6,IF((($E39*(100-AS$14)/100*$K$3)*(-1))>=($F$4+$F$6),($E39*(100-AS$14)/100*$K$3)+($F$4+$F$6),($F$6-((($E39*(100-AS$14)/100*$K$3)*(-1))-$F$4)))),IF(IF((($E39*(100-AS$14)/100*$K$3)*(-1))<$F$4,$F$6,IF((($E39*(100-AS$14)/100*$K$3)*(-1))>=($F$4+$F$6),($E39*(100-AS$14)/100*$K$3)+($F$4+$F$6),($F$6-((($E39*(100-AS$14)/100*$K$3)*(-1))-$F$4))))*(-1)<=$F$7,0,$F$7+IF((($E39*(100-AS$14)/100*$K$3)*(-1))<$F$4,$F$6,IF((($E39*(100-AS$14)/100*$K$3)*(-1))>=($F$4+$F$6),($E39*(100-AS$14)/100*$K$3)+($F$4+$F$6),($F$6-((($E39*(100-AS$14)/100*$K$3)*(-1))-$F$4)))))))/$D$2*100,0)","v":0},0,0,0,null,2800,"-",2899,null,0,0,0,0,0,0,0,0,0,0,0,0,0,0,0,0,0,0,0,null,2800,"-",2899,null,0,0,0,0,5,10,12,12,12,12,13,17,21,25,25,25,25,25,25,2850,null,2800,"-",2899,-469.00000000000011,-439.93000000000006,-391.48,-343.03000000000009,-319.58000000000004,-296.13000000000011,-257.68000000000006,-209.23000000000002,-160.78000000000009,-112.33000000000007,-68.880000000000081,-40.430000000000007,-11.980000000000018,16.46999999999997,-27.328800000000058,14.338200000000001,56.005200000000002,97.672199999999975,122.67240000000001,null,null,null,"Malé","Nízká",1000,1050,0,0,"NE",0,0,0,0,143]
[null,2900,"-",2999,2950,0,3,8,13,19,24,25,25,25,25,25,25,25,25,25,25,25,25,25,null,2900,"-",2999,null,-13,-13,-13,-13,-13,-13,-13,-13,-13,-13,-13,-10,-6,-1,0,0,0,0,0,null,2900,"-",2999,null,0,0,0,0,0,0,0,0,0,0,0,0,0,0,0,0,0,0,0,null,2900,"-",2999,null,0,0,0,0,6,11,12,12,12,12,12,15,19,24,25,25,25,25,25,2950,null,2900,"-",2999,-503.00000000000011,-472.91000000000008,-422.7600000000001,-372.61,-352.46000000000004,-327.31000000000006,-282.16000000000008,-232.0100000000001,-181.86000000000004,-131.71000000000006,-81.560000000000059,-46.410000000000053,-16.260000000000048,8.8899999999999864,-41.445600000000042,1.683400000000006,44.812399999999968,87.941399999999987,113.81879999999998,null,"Optimum odpadů","Přeplněné popelnice","Optimální","Velká",750,750,75,73,"Ano",19,25,20,{"$f":"EA40+EB40+EC40","v":64},111]
[null,3000,"-",3099,3050,0,3,9,14,19,25,25,25,25,25,25,25,25,25,25,25,25,25,25,null,3000,"-",3099,null,-13,-13,-13,-13,-13,-13,-13,-13,-13,-13,-13,-11,-7,-2,0,0,0,0,0,null,3000,"-",3099,null,0,0,0,0,0,0,0,0,0,0,0,0,0,0,0,0,0,0,0,null,3000,"-",3099,null,0,0,0,1,6,12,12,12,12,12,12,14,18,23,25,25,25,25,25,3050,null,3000,"-",3099,-537,-505.89000000000004,-454.04000000000008,-407.19000000000005,-380.34000000000003,-358.49,-306.6400000000001,-254.79000000000008,-202.94000000000003,-151.09000000000003,-99.240000000000038,-57.390000000000015,-25.54000000000002,1.3099999999999454,-55.562400000000025,-10.971400000000017,33.619599999999963,78.210599999999971,104.96519999999998,null,null,null,"Optimální","Velká",750,750,75,73,"NE",19,25,0,44,211]
[null,3100,"-",3199,3150,0,3,9,14,20,25,25,25,25,25,25,25,25,25,25,25,25,25,25,null,3100,"-",3199,null,-13,-13,-13,-13,-13,-13,-13,-13,-13,-13,-13,-12,-8,-4,0,0,{"$f":"ROUND(IF(IF(IF((($E42*(100-AT$14)/100*$K$3)*(-1))<$F$4,$F$6,IF((($E42*(100-AT$14)/100*$K$3)*(-1))>=($F$4+$F$6),($E42*(100-AT$14)/100*$K$3)+($F$4+$F$6),($F$6-((($E42*(100-AT$14)/100*$K$3)*(-1))-$F$4))))>=0,IF((($E42*(100-AT$14)/100*$K$3)*(-1))<$F$4,$F$6,IF((($E42*(100-AT$14)/100*$K$3)*(-1))>=($F$4+$F$6),($E42*(100-AT$14)/100*$K$3)+($F$4+$F$6),($F$6-((($E42*(100-AT$14)/100*$K$3)*(-1))-$F$4)))),IF(IF((($E42*(100-AT$14)/100*$K$3)*(-1))<$F$4,$F$6,IF((($E42*(100-AT$14)/100*$K$3)*(-1))>=($F$4+$F$6),($E42*(100-AT$14)/100*$K$3)+($F$4+$F$6),($F$6-((($E42*(100-AT$14)/100*$K$3)*(-1))-$F$4))))*(-1)<=$F$7,0,$F$7+IF((($E42*(100-AT$14)/100*$K$3)*(-1))<$F$4,$F$6,IF((($E42*(100-AT$14)/100*$K$3)*(-1))>=($F$4+$F$6),($E42*(100-AT$14)/100*$K$3)+($F$4+$F$6),($F$6-((($E42*(100-AT$14)/100*$K$3)*(-1))-$F$4))))))*(-1)>$F$5,$F$5*(-1),IF(IF((($E42*(100-AT$14)/100*$K$3)*(-1))<$F$4,$F$6,IF((($E42*(100-AT$14)/100*$K$3)*(-1))>=($F$4+$F$6),($E42*(100-AT$14)/100*$K$3)+($F$4+$F$6),($F$6-((($E42*(100-AT$14)/100*$K$3)*(-1))-$F$4))))>=0,IF((($E42*(100-AT$14)/100*$K$3)*(-1))<$F$4,$F$6,IF((($E42*(100-AT$14)/100*$K$3)*(-1))>=($F$4+$F$6),($E42*(100-AT$14)/100*$K$3)+($F$4+$F$6),($F$6-((($E42*(100-AT$14)/100*$K$3)*(-1))-$F$4)))),IF(IF((($E42*(100-AT$14)/100*$K$3)*(-1))<$F$4,$F$6,IF((($E42*(100-AT$14)/100*$K$3)*(-1))>=($F$4+$F$6),($E42*(100-AT$14)/100*$K$3)+($F$4+$F$6),($F$6-((($E42*(100-AT$14)/100*$K$3)*(-1))-$F$4))))*(-1)<=$F$7,0,$F$7+IF((($E42*(100-AT$14)/100*$K$3)*(-1))<$F$4,$F$6,IF((($E42*(100-AT$14)/100*$K$3)*(-1))>=($F$4+$F$6),($E42*(100-AT$14)/100*$K$3)+($F$4+$F$6),($F$6-((($E42*(100-AT$14)/100*$K$3)*(-1))-$F$4)))))))/$D$2*100,0)","v":0},0,0,null,3100,"-",3199,null,0,0,0,0,0,0,0,0,0,0,0,0,0,0,0,0,0,0,0,null,3100,"-",3199,null,0,0,0,1,7,12,12,12,12,12,12,13,17,21,25,25,25,25,25,3150,null,3100,"-",3199,-571,-538.87000000000012,-485.32000000000005,-436.7700000000001,-413.22,-384.67000000000007,-331.12,-277.57000000000005,-224.02000000000012,-170.47,-116.92000000000007,-68.370000000000061,-34.82000000000005,-1.2700000000000387,-69.679200000000037,-23.626200000000011,22.426799999999986,68.479799999999983,96.11160000000001,null,null,null,"Optimální","Velká",750,750,">85",86,"Ano",23,25,0,48,224]
[null,3200,"-",3299,3250,0,3,9,15,20,25,25,25,25,25,25,25,25,25,25,25,25,25,25,null,3200,"-",3299,null,-13,-13,-13,-13,-13,-13,-13,-13,-13,-13,-13,-13,-9,-5,0,0,{"$f":"ROUND(IF(IF(IF((($E43*(100-AT$14)/100*$K$3)*(-1))<$F$4,$F$6,IF((($E43*(100-AT$14)/100*$K$3)*(-1))>=($F$4+$F$6),($E43*(100-AT$14)/100*$K$3)+($F$4+$F$6),($F$6-((($E43*(100-AT$14)/100*$K$3)*(-1))-$F$4))))>=0,IF((($E43*(100-AT$14)/100*$K$3)*(-1))<$F$4,$F$6,IF((($E43*(100-AT$14)/100*$K$3)*(-1))>=($F$4+$F$6),($E43*(100-AT$14)/100*$K$3)+($F$4+$F$6),($F$6-((($E43*(100-AT$14)/100*$K$3)*(-1))-$F$4)))),IF(IF((($E43*(100-AT$14)/100*$K$3)*(-1))<$F$4,$F$6,IF((($E43*(100-AT$14)/100*$K$3)*(-1))>=($F$4+$F$6),($E43*(100-AT$14)/100*$K$3)+($F$4+$F$6),($F$6-((($E43*(100-AT$14)/100*$K$3)*(-1))-$F$4))))*(-1)<=$F$7,0,$F$7+IF((($E43*(100-AT$14)/100*$K$3)*(-1))<$F$4,$F$6,IF((($E43*(100-AT$14)/100*$K$3)*(-1))>=($F$4+$F$6),($E43*(100-AT$14)/100*$K$3)+($F$4+$F$6),($F$6-((($E43*(100-AT$14)/100*$K$3)*(-1))-$F$4))))))*(-1)>$F$5,$F$5*(-1),IF(IF((($E43*(100-AT$14)/100*$K$3)*(-1))<$F$4,$F$6,IF((($E43*(100-AT$14)/100*$K$3)*(-1))>=($F$4+$F$6),($E43*(100-AT$14)/100*$K$3)+($F$4+$F$6),($F$6-((($E43*(100-AT$14)/100*$K$3)*(-1))-$F$4))))>=0,IF((($E43*(100-AT$14)/100*$K$3)*(-1))<$F$4,$F$6,IF((($E43*(100-AT$14)/100*$K$3)*(-1))>=($F$4+$F$6),($E43*(100-AT$14)/100*$K$3)+($F$4+$F$6),($F$6-((($E43*(100-AT$14)/100*$K$3)*(-1))-$F$4)))),IF(IF((($E43*(100-AT$14)/100*$K$3)*(-1))<$F$4,$F$6,IF((($E43*(100-AT$14)/100*$K$3)*(-1))>=($F$4+$F$6),($E43*(100-AT$14)/100*$K$3)+($F$4+$F$6),($F$6-((($E43*(100-AT$14)/100*$K$3)*(-1))-$F$4))))*(-1)<=$F$7,0,$F$7+IF((($E43*(100-AT$14)/100*$K$3)*(-1))<$F$4,$F$6,IF((($E43*(100-AT$14)/100*$K$3)*(-1))>=($F$4+$F$6),($E43*(100-AT$14)/100*$K$3)+($F$4+$F$6),($F$6-((($E43*(100-AT$14)/100*$K$3)*(-1))-$F$4)))))))/$D$2*100,0)","v":0},0,0,null,3200,"-",3299,null,0,0,0,0,0,0,0,0,0,0,0,0,0,0,0,0,0,0,0,null,3200,"-",3299,null,0,0,0,2,7,12,12,12,12,12,12,12,16,20,25,25,25,25,25,3250,null,3200,"-",3299,-605,-571.85000000000014,-516.6,-471.35,-441.1,-410.85,-355.6,-300.35000000000002,-245.1,-189.85,-134.60000000000002,-79.350000000000023,-44.100000000000023,-8.8500000000000227,-83.796000000000021,-36.281000000000034,11.23399999999998,58.748999999999967,87.25800000000001,null,null,null,"Optimální","Velká",750,750,">85",86,"NE",23,25,0,48,224]
[null,3300,"-",3399,3350,0,4,9,15,21,25,25,25,25,25,25,25,25,25,25,25,25,25,25,null,3300,"-",3399,null,-13,-13,-13,-13,-13,-13,-13,-13,-13,-13,-13,-13,-10,-6,-1,0,{"$f":"ROUND(IF(IF(IF((($E44*(100-AT$14)/100*$K$3)*(-1))<$F$4,$F$6,IF((($E44*(100-AT$14)/100*$K$3)*(-1))>=($F$4+$F$6),($E44*(100-AT$14)/100*$K$3)+($F$4+$F$6),($F$6-((($E44*(100-AT$14)/100*$K$3)*(-1))-$F$4))))>=0,IF((($E44*(100-AT$14)/100*$K$3)*(-1))<$F$4,$F$6,IF((($E44*(100-AT$14)/100*$K$3)*(-1))>=($F$4+$F$6),($E44*(100-AT$14)/100*$K$3)+($F$4+$F$6),($F$6-((($E44*(100-AT$14)/100*$K$3)*(-1))-$F$4)))),IF(IF((($E44*(100-AT$14)/100*$K$3)*(-1))<$F$4,$F$6,IF((($E44*(100-AT$14)/100*$K$3)*(-1))>=($F$4+$F$6),($E44*(100-AT$14)/100*$K$3)+($F$4+$F$6),($F$6-((($E44*(100-AT$14)/100*$K$3)*(-1))-$F$4))))*(-1)<=$F$7,0,$F$7+IF((($E44*(100-AT$14)/100*$K$3)*(-1))<$F$4,$F$6,IF((($E44*(100-AT$14)/100*$K$3)*(-1))>=($F$4+$F$6),($E44*(100-AT$14)/100*$K$3)+($F$4+$F$6),($F$6-((($E44*(100-AT$14)/100*$K$3)*(-1))-$F$4))))))*(-1)>$F$5,$F$5*(-1),IF(IF((($E44*(100-AT$14)/100*$K$3)*(-1))<$F$4,$F$6,IF((($E44*(100-AT$14)/100*$K$3)*(-1))>=($F$4+$F$6),($E44*(100-AT$14)/100*$K$3)+($F$4+$F$6),($F$6-((($E44*(100-AT$14)/100*$K$3)*(-1))-$F$4))))>=0,IF((($E44*(100-AT$14)/100*$K$3)*(-1))<$F$4,$F$6,IF((($E44*(100-AT$14)/100*$K$3)*(-1))>=($F$4+$F$6),($E44*(100-AT$14)/100*$K$3)+($F$4+$F$6),($F$6-((($E44*(100-AT$14)/100*$K$3)*(-1))-$F$4)))),IF(IF((($E44*(100-AT$14)/100*$K$3)*(-1))<$F$4,$F$6,IF((($E44*(100-AT$14)/100*$K$3)*(-1))>=($F$4+$F$6),($E44*(100-AT$14)/100*$K$3)+($F$4+$F$6),($F$6-((($E44*(100-AT$14)/100*$K$3)*(-1))-$F$4))))*(-1)<=$F$7,0,$F$7+IF((($E44*(100-AT$14)/100*$K$3)*(-1))<$F$4,$F$6,IF((($E44*(100-AT$14)/100*$K$3)*(-1))>=($F$4+$F$6),($E44*(100-AT$14)/100*$K$3)+($F$4+$F$6),($F$6-((($E44*(100-AT$14)/100*$K$3)*(-1))-$F$4)))))))/$D$2*100,0)","v":0},0,0,null,3300,"-",3399,null,0,0,0,0,0,0,0,0,0,0,0,0,0,0,0,0,0,0,0,null,3300,"-",3399,null,0,0,0,2,8,12,12,12,12,12,12,12,15,19,24,25,25,25,25,3350,null,3300,"-",3399,-639,-604.83000000000015,-547.88000000000011,-500.93000000000006,-473.97999999999996,-437.03000000000009,-380.08000000000004,-323.13000000000011,-266.18000000000006,-209.23000000000002,-152.28000000000006,-95.330000000000069,-53.380000000000052,-16.430000000000007,-92.912800000000004,-48.935800000000029,4.1199999999975034E-2,49.01819999999995,78.404399999999981,null,null,null,"Optimální","Velká",750,750,30,28,"Ano",7,8,0,15,241]
[null,3400,"-",3499,3450,0,4,10,16,22,25,25,25,25,25,25,25,25,25,25,25,25,25,25,null,3400,"-",3499,null,-13,-13,-13,-13,-13,-13,-13,-13,-13,-13,-13,-13,-12,-7,-2,0,{"$f":"ROUND(IF(IF(IF((($E45*(100-AT$14)/100*$K$3)*(-1))<$F$4,$F$6,IF((($E45*(100-AT$14)/100*$K$3)*(-1))>=($F$4+$F$6),($E45*(100-AT$14)/100*$K$3)+($F$4+$F$6),($F$6-((($E45*(100-AT$14)/100*$K$3)*(-1))-$F$4))))>=0,IF((($E45*(100-AT$14)/100*$K$3)*(-1))<$F$4,$F$6,IF((($E45*(100-AT$14)/100*$K$3)*(-1))>=($F$4+$F$6),($E45*(100-AT$14)/100*$K$3)+($F$4+$F$6),($F$6-((($E45*(100-AT$14)/100*$K$3)*(-1))-$F$4)))),IF(IF((($E45*(100-AT$14)/100*$K$3)*(-1))<$F$4,$F$6,IF((($E45*(100-AT$14)/100*$K$3)*(-1))>=($F$4+$F$6),($E45*(100-AT$14)/100*$K$3)+($F$4+$F$6),($F$6-((($E45*(100-AT$14)/100*$K$3)*(-1))-$F$4))))*(-1)<=$F$7,0,$F$7+IF((($E45*(100-AT$14)/100*$K$3)*(-1))<$F$4,$F$6,IF((($E45*(100-AT$14)/100*$K$3)*(-1))>=($F$4+$F$6),($E45*(100-AT$14)/100*$K$3)+($F$4+$F$6),($F$6-((($E45*(100-AT$14)/100*$K$3)*(-1))-$F$4))))))*(-1)>$F$5,$F$5*(-1),IF(IF((($E45*(100-AT$14)/100*$K$3)*(-1))<$F$4,$F$6,IF((($E45*(100-AT$14)/100*$K$3)*(-1))>=($F$4+$F$6),($E45*(100-AT$14)/100*$K$3)+($F$4+$F$6),($F$6-((($E45*(100-AT$14)/100*$K$3)*(-1))-$F$4))))>=0,IF((($E45*(100-AT$14)/100*$K$3)*(-1))<$F$4,$F$6,IF((($E45*(100-AT$14)/100*$K$3)*(-1))>=($F$4+$F$6),($E45*(100-AT$14)/100*$K$3)+($F$4+$F$6),($F$6-((($E45*(100-AT$14)/100*$K$3)*(-1))-$F$4)))),IF(IF((($E45*(100-AT$14)/100*$K$3)*(-1))<$F$4,$F$6,IF((($E45*(100-AT$14)/100*$K$3)*(-1))>=($F$4+$F$6),($E45*(100-AT$14)/100*$K$3)+($F$4+$F$6),($F$6-((($E45*(100-AT$14)/100*$K$3)*(-1))-$F$4))))*(-1)<=$F$7,0,$F$7+IF((($E45*(100-AT$14)/100*$K$3)*(-1))<$F$4,$F$6,IF((($E45*(100-AT$14)/100*$K$3)*(-1))>=($F$4+$F$6),($E45*(100-AT$14)/100*$K$3)+($F$4+$F$6),($F$6-((($E45*(100-AT$14)/100*$K$3)*(-1))-$F$4)))))))/$D$2*100,0)","v":0},0,0,null,"více jak 3400",null,null,null,0,0,0,0,0,0,0,0,0,0,0,0,0,0,0,0,0,0,0,null,3400,"-",3499,null,0,0,0,3,9,12,12,12,12,12,12,12,13,18,23,25,25,25,25,3450,null,3400,"-",3499,-673,-637.81000000000017,-579.16000000000008,-535.5100000000001,-506.86000000000007,-463.21000000000004,-404.56000000000006,-345.91000000000008,-287.2600000000001,-228.61000000000004,-169.96000000000004,-111.31000000000003,-57.660000000000025,-24.010000000000048,-102.02960000000002,-61.590600000000023,{"$f":"$DC$4-(CP45/100*$DC$4)+($CS45*(100-DN$14)/100*$DH$3)+($CS45*(DN$14)/100*$DH$4)+($CS45*(DN$14)/100*$DH$5*0.66)","v":-11.151600000000002},{"$f":"$DC$4-(CQ45/100*$DC$4)+($CS45*(100-DO$14)/100*$DH$3)+($CS45*(DO$14)/100*$DH$4)+($CS45*(DO$14)/100*$DH$5*0.66)","v":39.287399999999991},{"$f":"$DC$4-(CR45/100*$DC$4)+($CS45*(100-DP$14)/100*$DH$3)+($CS45*(DP$14)/100*$DH$4)+($CS45*(DP$14)/100*$DH$5*0.66)","v":69.55080000000001},null,null,null,"Optimální","Velká",750,750,30,28,"NE",7,8,0,15,241]
[null,null,null,null,null,null,null,null,null,null,null,null,null,null,null,null,null,null,null,null,null,null,null,"Příloha č. 5 k OZV č. …/2013 Název obec/město",null,null,null,null,null,null,null,null,null,null,null,null,null,null,null,null,null,null,null,null,null,null,null,"Příloha č. 6 k OZV č. …/2013 Název obec/město",null,null,null,null,null,null,null,null,null,null,null,null,null,null,null,null,null,null,null,null,null,null,null,null,null,null,null,null,null,null,null,null,null,null,null,null,null,null,null,null,null,null,null,null,null,null,null,"Příloha č. ??? k OZV č. …/2013 Název obec/město",null,null,null,null,null,null,null,null,null,null,null,null,null,null,null,null,null,null,null,null,null,null,null,null,null,null,null,"Optimální","Velká",750,750,0,0,"Ano",0,0,0,0,245]
["Maximální roční bonusy za třídění odpadů (zkráceně BT) - procentuální úleva na poplatku placeného na následující rok",null,null,null,null,null,null,null,null,null,null,null,null,null,null,null,null,null,null,null,null,null,null,null,"Maximální roční bonusy za efektivní využívání nádob (BV)-procentuální úleva na poplatku placeného na následující rok",null,null,null,null,null,null,null,null,null,null,null,null,null,null,null,null,null,null,null,null,null,null,null,null,null,null,null,null,null,null,null,null,null,null,null,null,null,null,null,null,null,null,null,null,null,null,null,"Součet maximálních ročních bonusů (BT + BV + BS)",null,null,null,null,null,null,null,null,null,null,null,null,null,null,null,null,null,null,null,null,null,null,null,null,null,null,null,null,null,null,null,null,null,null,null,null,null,null,null,null,null,null,null,null,null,null,null,null,null,null,"Optimální","Velká",750,750,0,0,"NE",0,0,0,0,245]
[null,null,null,null,null,null,null,null,null,null,null,null,null,null,null,null,null,null,null,null,null,null,null,null,null,null,null,null,null,null,null,null,null,null,null,null,null,null,null,null,null,null,null,null,null,null,null,null,null,null,null,null,null,null,null,null,null,null,null,null,null,null,null,null,null,null,null,null,null,null,null,null,null,null,null,null,null,null,null,null,null,null,null,null,null,null,null,null,null,null,null,null,null,null,null,null,null,null,null,null,null,null,null,null,null,null,null,null,null,null,null,null,null,null,null,null,null,null,null,null,null,null,"Plné popelnice","Optimální","Optimální",1000,1050,75,73,"Ano",{"$f":"ROUND(INDEX(F$16:X$117,MATCH(DW48,$E$16:$E$117,0),MATCH(DY48,F$14:X$14,0)),0)","v":25},{"$f":"ROUND(INDEX(AD$16:AV$117,MATCH(DW48,$E$16:$E$117,0),MATCH(DY48,AD$14:AV$14,0)),0)","v":23},{"$f":"IF(DZ48=\"NE\",0,ROUND(INDEX(BB$16:BT$117,MATCH(DW48,$E$16:$E$117,0),MATCH(DY48,BB$14:BT$14,0)),0))","v":20},68,64]
["Bonus za třídění odpadů je udělen do výše 23% za plast, 20% za papír, 30% za bioodpad, 13% za sklo, 8% za textil, 2% za nápojový karton, 2% za jedlý olej a tuk a 2% za drobné elektrozařízení z hodnoty maximálního bonusu uvedeného v  této tabulce. ",null,null,null,null,"Procentuální zastoupení objemu obsloužených nádob na plast a na papír v celkovém objemu obsloužených nádob",null,null,null,null,null,null,null,null,null,null,null,null,null,null,null,null,null,null,"Bonus za efektivní využívání sběrných nádob je udělen do výše 100% z hodnoty maximálního bonusu uvedeného v této tabulce.",null,null,null,null,"Procentuální zastoupení objemu obsloužených nádob na plast a na papír v celkovém objemu obsloužených nádob",null,null,null,null,null,null,null,null,null,null,null,null,null,null,null,null,null,null,null,null,null,null,null,null,null,null,null,null,null,null,null,null,null,null,null,null,null,null,null,null,null,null,"Záporná hodnota součtu bonusů (BT + BV + BS) je nahrazena nulou.",null,null,null,null,"Procentuální zastoupení objemu obsloužených nádob na plast a na papír v celkovém objemu obsloužených nádob",null,null,null,null,null,null,null,null,null,null,null,null,null,null,null,null,null,null,null,null,null,null,null,"Procentuální zastoupení objemu obsloužených nádob na plast a na papír v celkovém objemu obsloužených nádob",null,null,null,null,null,null,null,null,null,null,null,null,null,null,null,null,null,null,null,null,null,"Optimální","Optimální",1000,1050,75,73,"NE",25,23,0,48,{"$f":"IF(DZ49=\"NE\",ROUND(INDEX(CX$16:DP$117,MATCH(DW49,$E$16:$E$117,0),MATCH(DY49,CX$14:DP$14,0)),0)+((ED48-ED49)/100*$DC$4),ROUND(INDEX(CX$16:DP$117,MATCH(DW49,$E$16:$E$117,0),MATCH(DY49,CX$14:DP$14,0)),0))","v":164}]
[null,null,null,null,null,{"$f":"\"0 %\"","v":"0 %"},{"$f":"\"1-5 %\"","v":"1-5 %"},{"$f":"\"6-10 %\"","v":"6-10 %"},{"$f":"\"11-15 %\"","v":"11-15 %"},{"$f":"\"16-20 %\"","v":"16-20 %"},{"$f":"\"21-25 %\"","v":"21-25 %"},{"$f":"\"26-30 %\"","v":"26-30 %"},{"$f":"\"31-35 %\"","v":"31-35 %"},{"$f":"\"36-40 %\"","v":"36-40 %"},{"$f":"\"41-45 %\"","v":"41-45 %"},{"$f":"\"46-50 %\"","v":"46-50 %"},{"$f":"\"51-55 %\"","v":"51-55 %"},{"$f":"\"56-60 %\"","v":"56-60 %"},{"$f":"\"61-65 %\"","v":"61-65 %"},{"$f":"\"66-70 %\"","v":"66-70 %"},{"$f":"\"71-75 %\"","v":"71-75 %"},{"$f":"\"76-80 %\"","v":"76-80 %"},{"$f":"\"81-85 %\"","v":"81-85 %"},{"$f":"\"více jak 85 %\"","v":"více jak 85 %"},null,null,null,null,null,{"$f":"\"0 %\"","v":"0 %"},{"$f":"\"1-5 %\"","v":"1-5 %"},{"$f":"\"6-10 %\"","v":"6-10 %"},{"$f":"\"11-15 %\"","v":"11-15 %"},{"$f":"\"16-20 %\"","v":"16-20 %"},{"$f":"\"21-25 %\"","v":"21-25 %"},{"$f":"\"26-30 %\"","v":"26-30 %"},{"$f":"\"31-35 %\"","v":"31-35 %"},{"$f":"\"36-40 %\"","v":"36-40 %"},{"$f":"\"41-45 %\"","v":"41-45 %"},{"$f":"\"46-50 %\"","v":"46-50 %"},{"$f":"\"51-55 %\"","v":"51-55 %"},{"$f":"\"56-60 %\"","v":"56-60 %"},{"$f":"\"61-65 %\"","v":"61-65 %"},{"$f":"\"66-70 %\"","v":"66-70 %"},{"$f":"\"71-75 %\"","v":"71-75 %"},{"$f":"\"76-80 %\"","v":"76-80 %"},{"$f":"\"81-85 %\"","v":"81-85 %"},{"$f":"\"více jak 85 %\"","v":"více jak 85 %"},null,null,null,null,null,null,null,null,null,null,null,null,null,null,null,null,null,null,null,null,null,null,null,null,null,null,null,null,null,{"$f":"\"0 %\"","v":"0 %"},{"$f":"\"1-5 %\"","v":"1-5 %"},{"$f":"\"6-10 %\"","v":"6-10 %"},{"$f":"\"11-15 %\"","v":"11-15 %"},{"$f":"\"16-20 %\"","v":"16-20 %"},{"$f":"\"21-25 %\"","v":"21-25 %"},{"$f":"\"26-30 %\"","v":"26-30 %"},{"$f":"\"31-35 %\"","v":"31-35 %"},{"$f":"\"36-40 %\"","v":"36-40 %"},{"$f":"\"41-45 %\"","v":"41-45 %"},{"$f":"\"46-50 %\"","v":"46-50 %"},{"$f":"\"51-55 %\"","v":"51-55 %"},{"$f":"\"56-60 %\"","v":"56-60 %"},{"$f":"\"61-65 %\"","v":"61-65 %"},{"$f":"\"66-70 %\"","v":"66-70 %"},{"$f":"\"71-75 %\"","v":"71-75 %"},{"$f":"\"76-80 %\"","v":"76-80 %"},{"$f":"\"81-85 %\"","v":"81-85 %"},{"$f":"\"více jak 85 %\"","v":"více jak 85 %"},null,null,null,null,null,{"$f":"\"0 %\"","v":"0 %"},{"$f":"\"1-5 %\"","v":"1-5 %"},{"$f":"\"6-10 %\"","v":"6-10 %"},{"$f":"\"11-15 %\"","v":"11-15 %"},{"$f":"\"16-20 %\"","v":"16-20 %"},{"$f":"\"21-25 %\"","v":"21-25 %"},{"$f":"\"26-30 %\"","v":"26-30 %"},{"$f":"\"31-35 %\"","v":"31-35 %"},{"$f":"\"36-40 %\"","v":"36-40 %"},{"$f":"\"41-45 %\"","v":"41-45 %"},{"$f":"\"46-50 %\"","v":"46-50 %"},{"$f":"\"51-55 %\"","v":"51-55 %"},{"$f":"\"56-60 %\"","v":"56-60 %"},{"$f":"\"61-65 %\"","v":"61-65 %"},{"$f":"\"66-70 %\"","v":"66-70 %"},{"$f":"\"71-75 %\"","v":"71-75 %"},{"$f":"\"76-80 %\"","v":"76-80 %"},{"$f":"\"81-85 %\"","v":"81-85 %"},{"$f":"\"více jak 85 %\"","v":"více jak 85 %"},null,null,null,"Optimální","Optimální",1000,1050,">85",86,"Ano",25,20,0,45,225]
[null,null,null,null,null,"\"Třídí málo\"                                                                                                                                                                      \"Třídí hodně\"",null,null,null,null,null,null,null,null,null,null,null,null,null,null,null,null,null,null,null,null,null,null,null,"\"Třídí málo\"                                                                                                                                                                      \"Třídí hodně\"",null,null,null,null,null,null,null,null,null,null,null,null,null,null,null,null,null,null,null,null,null,null,null,null,null,null,null,null,null,null,null,null,null,null,null,null,null,null,null,null,null,null,null,null,null,null,null,"\"Třídí málo\"                                                                                                                                                                      \"Třídí hodně\"",null,null,null,null,null,null,null,null,null,null,null,null,null,null,null,null,null,null,null,null,null,null,null,"\"Třídí málo\"                                                                                                                                                                      \"Třídí hodně\"",null,null,null,null,null,null,null,null,null,null,null,null,null,null,null,null,null,null,null,null,null,"Optimální","Optimální",1000,1050,">85",86,"NE",25,20,0,{"$f":"IF(EA51+EB51+EC51<0,0,EA51+EB51+EC51)","v":45},225]
["Roční celkový objem obsloužených nádob přepočtený na jednoho účastníka systému užívajícího dané nádoby (litry/účastník systému/rok)",3500,"-",3599,3550,{"$f":"ROUND(IF((($E52*F$14/100*$K$4)*(-1))>($F$5-50),($E52*F$14/100*$K$5)-((($E52*F$14/100*$K$4)*(-1))-($F$5-50)),($E52*F$14/100*$K$5))/($D$2-200)*100,0)","v":0},{"$f":"ROUND(IF((($E52*G$14/100*$K$4)*(-1))>($F$5-50),($E52*G$14/100*$K$5)-((($E52*G$14/100*$K$4)*(-1))-($F$5-50)),($E52*G$14/100*$K$5))/($D$2-200)*100,0)","v":4},10,16,22,25,25,25,25,25,25,25,25,25,25,25,25,25,25,"Roční celkový objem obsloužených nádob přepočtený na jednoho účastníka systému užívajícího dané nádoby (litry/účastník systému/rok)",3500,"-",3599,null,{"$f":"ROUND(IF(IF(IF((($E52*(100-AD$14)/100*$K$3)*(-1))<$F$4,$F$6,IF((($E52*(100-AD$14)/100*$K$3)*(-1))>=($F$4+$F$6),($E52*(100-AD$14)/100*$K$3)+($F$4+$F$6),($F$6-((($E52*(100-AD$14)/100*$K$3)*(-1))-$F$4))))>=0,IF((($E52*(100-AD$14)/100*$K$3)*(-1))<$F$4,$F$6,IF((($E52*(100-AD$14)/100*$K$3)*(-1))>=($F$4+$F$6),($E52*(100-AD$14)/100*$K$3)+($F$4+$F$6),($F$6-((($E52*(100-AD$14)/100*$K$3)*(-1))-$F$4)))),IF(IF((($E52*(100-AD$14)/100*$K$3)*(-1))<$F$4,$F$6,IF((($E52*(100-AD$14)/100*$K$3)*(-1))>=($F$4+$F$6),($E52*(100-AD$14)/100*$K$3)+($F$4+$F$6),($F$6-((($E52*(100-AD$14)/100*$K$3)*(-1))-$F$4))))*(-1)<=$F$7,0,$F$7+IF((($E52*(100-AD$14)/100*$K$3)*(-1))<$F$4,$F$6,IF((($E52*(100-AD$14)/100*$K$3)*(-1))>=($F$4+$F$6),($E52*(100-AD$14)/100*$K$3)+($F$4+$F$6),($F$6-((($E52*(100-AD$14)/100*$K$3)*(-1))-$F$4))))))*(-1)>$F$5,$F$5*(-1),IF(IF((($E52*(100-AD$14)/100*$K$3)*(-1))<$F$4,$F$6,IF((($E52*(100-AD$14)/100*$K$3)*(-1))>=($F$4+$F$6),($E52*(100-AD$14)/100*$K$3)+($F$4+$F$6),($F$6-((($E52*(100-AD$14)/100*$K$3)*(-1))-$F$4))))>=0,IF((($E52*(100-AD$14)/100*$K$3)*(-1))<$F$4,$F$6,IF((($E52*(100-AD$14)/100*$K$3)*(-1))>=($F$4+$F$6),($E52*(100-AD$14)/100*$K$3)+($F$4+$F$6),($F$6-((($E52*(100-AD$14)/100*$K$3)*(-1))-$F$4)))),IF(IF((($E52*(100-AD$14)/100*$K$3)*(-1))<$F$4,$F$6,IF((($E52*(100-AD$14)/100*$K$3)*(-1))>=($F$4+$F$6),($E52*(100-AD$14)/100*$K$3)+($F$4+$F$6),($F$6-((($E52*(100-AD$14)/100*$K$3)*(-1))-$F$4))))*(-1)<=$F$7,0,$F$7+IF((($E52*(100-AD$14)/100*$K$3)*(-1))<$F$4,$F$6,IF((($E52*(100-AD$14)/100*$K$3)*(-1))>=($F$4+$F$6),($E52*(100-AD$14)/100*$K$3)+($F$4+$F$6),($F$6-((($E52*(100-AD$14)/100*$K$3)*(-1))-$F$4)))))))/$D$2*100/2,0)","v":-13},{"$f":"ROUND(IF(IF(IF((($E52*(100-AE$14)/100*$K$3)*(-1))<$F$4,$F$6,IF((($E52*(100-AE$14)/100*$K$3)*(-1))>=($F$4+$F$6),($E52*(100-AE$14)/100*$K$3)+($F$4+$F$6),($F$6-((($E52*(100-AE$14)/100*$K$3)*(-1))-$F$4))))>=0,IF((($E52*(100-AE$14)/100*$K$3)*(-1))<$F$4,$F$6,IF((($E52*(100-AE$14)/100*$K$3)*(-1))>=($F$4+$F$6),($E52*(100-AE$14)/100*$K$3)+($F$4+$F$6),($F$6-((($E52*(100-AE$14)/100*$K$3)*(-1))-$F$4)))),IF(IF((($E52*(100-AE$14)/100*$K$3)*(-1))<$F$4,$F$6,IF((($E52*(100-AE$14)/100*$K$3)*(-1))>=($F$4+$F$6),($E52*(100-AE$14)/100*$K$3)+($F$4+$F$6),($F$6-((($E52*(100-AE$14)/100*$K$3)*(-1))-$F$4))))*(-1)<=$F$7,0,$F$7+IF((($E52*(100-AE$14)/100*$K$3)*(-1))<$F$4,$F$6,IF((($E52*(100-AE$14)/100*$K$3)*(-1))>=($F$4+$F$6),($E52*(100-AE$14)/100*$K$3)+($F$4+$F$6),($F$6-((($E52*(100-AE$14)/100*$K$3)*(-1))-$F$4))))))*(-1)>$F$5,$F$5*(-1),IF(IF((($E52*(100-AE$14)/100*$K$3)*(-1))<$F$4,$F$6,IF((($E52*(100-AE$14)/100*$K$3)*(-1))>=($F$4+$F$6),($E52*(100-AE$14)/100*$K$3)+($F$4+$F$6),($F$6-((($E52*(100-AE$14)/100*$K$3)*(-1))-$F$4))))>=0,IF((($E52*(100-AE$14)/100*$K$3)*(-1))<$F$4,$F$6,IF((($E52*(100-AE$14)/100*$K$3)*(-1))>=($F$4+$F$6),($E52*(100-AE$14)/100*$K$3)+($F$4+$F$6),($F$6-((($E52*(100-AE$14)/100*$K$3)*(-1))-$F$4)))),IF(IF((($E52*(100-AE$14)/100*$K$3)*(-1))<$F$4,$F$6,IF((($E52*(100-AE$14)/100*$K$3)*(-1))>=($F$4+$F$6),($E52*(100-AE$14)/100*$K$3)+($F$4+$F$6),($F$6-((($E52*(100-AE$14)/100*$K$3)*(-1))-$F$4))))*(-1)<=$F$7,0,$F$7+IF((($E52*(100-AE$14)/100*$K$3)*(-1))<$F$4,$F$6,IF((($E52*(100-AE$14)/100*$K$3)*(-1))>=($F$4+$F$6),($E52*(100-AE$14)/100*$K$3)+($F$4+$F$6),($F$6-((($E52*(100-AE$14)/100*$K$3)*(-1))-$F$4)))))))/$D$2*100/2,0)","v":-13},-13,-13,-13,-13,-13,-13,-13,-13,-13,-13,-13,-8,-3,0,0,0,0,null,null,null,null,null,null,null,null,null,null,null,null,null,null,null,null,null,null,null,null,null,null,null,null,"Roční celkový objem obsloužených nádob přepočtený na jednoho účastníka systému užívajícího dané nádoby (litry/účastník systému/rok)",3500,"-",3599,null,{"$f":"IF((F52+AD52+BB52)<0,0,(F52+AD52+BB52))","v":0},{"$f":"IF((G52+AE52+BC52)<0,0,(G52+AE52+BC52))","v":0},0,3,9,12,12,12,12,12,12,12,12,17,22,25,25,25,25,{"$f":"E52","v":3550},"Roční celkový objem obsloužených nádob přepočtený na jednoho účastníka systému užívajícího dané nádoby (litry/účastník systému/rok)",3500,"-",3599,{"$f":"$DC$4-(BZ52/100*$DC$4)+($CS52*(100-CX$14)/100*$DH$3)+($CS52*(CX$14)/100*$DH$4)+($CS52*(CX$14)/100*$DH$5)","v":-707},{"$f":"$DC$4-(CA52/100*$DC$4)+($CS52*(100-CY$14)/100*$DH$3)+($CS52*(CY$14)/100*$DH$4)+($CS52*(CY$14)/100*$DH$5)","v":-670.79000000000019},{"$f":"$DC$4-(CB52/100*$DC$4)+($CS52*(100-CZ$14)/100*$DH$3)+($CS52*(CZ$14)/100*$DH$4)+($CS52*(CZ$14)/100*$DH$5)","v":-610.44000000000005},{"$f":"$DC$4-(CC52/100*$DC$4)+($CS52*(100-DA$14)/100*$DH$3)+($CS52*(DA$14)/100*$DH$4)+($CS52*(DA$14)/100*$DH$5)","v":-565.09000000000015},{"$f":"$DC$4-(CD52/100*$DC$4)+($CS52*(100-DB$14)/100*$DH$3)+($CS52*(DB$14)/100*$DH$4)+($CS52*(DB$14)/100*$DH$5)","v":-534.74000000000012},{"$f":"$DC$4-(CE52/100*$DC$4)+($CS52*(100-DC$14)/100*$DH$3)+($CS52*(DC$14)/100*$DH$4)+($CS52*(DC$14)/100*$DH$5)","v":-489.39000000000016},{"$f":"$DC$4-(CF52/100*$DC$4)+($CS52*(100-DD$14)/100*$DH$3)+($CS52*(DD$14)/100*$DH$4)+($CS52*(DD$14)/100*$DH$5)","v":-429.04},{"$f":"$DC$4-(CG52/100*$DC$4)+($CS52*(100-DE$14)/100*$DH$3)+($CS52*(DE$14)/100*$DH$4)+($CS52*(DE$14)/100*$DH$5)","v":-368.69000000000005},{"$f":"$DC$4-(CH52/100*$DC$4)+($CS52*(100-DF$14)/100*$DH$3)+($CS52*(DF$14)/100*$DH$4)+($CS52*(DF$14)/100*$DH$5)","v":-308.34000000000003},{"$f":"$DC$4-(CI52/100*$DC$4)+($CS52*(100-DG$14)/100*$DH$3)+($CS52*(DG$14)/100*$DH$4)+($CS52*(DG$14)/100*$DH$5)","v":-247.99000000000004},{"$f":"$DC$4-(CJ52/100*$DC$4)+($CS52*(100-DH$14)/100*$DH$3)+($CS52*(DH$14)/100*$DH$4)+($CS52*(DH$14)/100*$DH$5)","v":-187.64000000000013},{"$f":"$DC$4-(CK52/100*$DC$4)+($CS52*(100-DI$14)/100*$DH$3)+($CS52*(DI$14)/100*$DH$4)+($CS52*(DI$14)/100*$DH$5)","v":-127.29000000000008},{"$f":"$DC$4-(CL52/100*$DC$4)+($CS52*(100-DJ$14)/100*$DH$3)+($CS52*(DJ$14)/100*$DH$4)+($CS52*(DJ$14)/100*$DH$5)","v":-66.940000000000055},{"$f":"$DC$4-(CM52/100*$DC$4)+($CS52*(100-DK$14)/100*$DH$3)+($CS52*(DK$14)/100*$DH$4)+($CS52*(DK$14)/100*$DH$5)","v":-31.590000000000032},{"$f":"$DC$4-(CN52/100*$DC$4)+($CS52*(100-DL$14)/100*$DH$3)+($CS52*(DL$14)/100*$DH$4)+($CS52*(DL$14)/100*$DH$5*0.66)","v":-111.1464},{"$f":"$DC$4-(CO52/100*$DC$4)+($CS52*(100-DM$14)/100*$DH$3)+($CS52*(DM$14)/100*$DH$4)+($CS52*(DM$14)/100*$DH$5*0.66)","v":-74.245400000000046},{"$f":"$DC$4-(CP52/100*$DC$4)+($CS52*(100-DN$14)/100*$DH$3)+($CS52*(DN$14)/100*$DH$4)+($CS52*(DN$14)/100*$DH$5*0.66)","v":-22.344400000000007},{"$f":"$DC$4-(CQ52/100*$DC$4)+($CS52*(100-DO$14)/100*$DH$3)+($CS52*(DO$14)/100*$DH$4)+($CS52*(DO$14)/100*$DH$5*0.66)","v":29.556599999999975},{"$f":"$DC$4-(CR52/100*$DC$4)+($CS52*(100-DP$14)/100*$DH$3)+($CS52*(DP$14)/100*$DH$4)+($CS52*(DP$14)/100*$DH$5*0.66)","v":60.697200000000009},null,null,null,"Optimální","Optimální",1000,1050,30,28,"Ano",10,0,0,{"$f":"IF(EA52+EB52+EC52<0,0,EA52+EB52+EC52)","v":10},193]
[null,3600,"-",3699,3650,{"$f":"ROUND(IF((($E53*F$14/100*$K$4)*(-1))>($F$5-50),($E53*F$14/100*$K$5)-((($E53*F$14/100*$K$4)*(-1))-($F$5-50)),($E53*F$14/100*$K$5))/($D$2-200)*100,0)","v":0},4,10,17,23,25,25,25,25,25,25,25,25,25,25,25,25,25,25,null,3600,"-",3699,null,{"$f":"ROUND(IF(IF(IF((($E53*(100-AD$14)/100*$K$3)*(-1))<$F$4,$F$6,IF((($E53*(100-AD$14)/100*$K$3)*(-1))>=($F$4+$F$6),($E53*(100-AD$14)/100*$K$3)+($F$4+$F$6),($F$6-((($E53*(100-AD$14)/100*$K$3)*(-1))-$F$4))))>=0,IF((($E53*(100-AD$14)/100*$K$3)*(-1))<$F$4,$F$6,IF((($E53*(100-AD$14)/100*$K$3)*(-1))>=($F$4+$F$6),($E53*(100-AD$14)/100*$K$3)+($F$4+$F$6),($F$6-((($E53*(100-AD$14)/100*$K$3)*(-1))-$F$4)))),IF(IF((($E53*(100-AD$14)/100*$K$3)*(-1))<$F$4,$F$6,IF((($E53*(100-AD$14)/100*$K$3)*(-1))>=($F$4+$F$6),($E53*(100-AD$14)/100*$K$3)+($F$4+$F$6),($F$6-((($E53*(100-AD$14)/100*$K$3)*(-1))-$F$4))))*(-1)<=$F$7,0,$F$7+IF((($E53*(100-AD$14)/100*$K$3)*(-1))<$F$4,$F$6,IF((($E53*(100-AD$14)/100*$K$3)*(-1))>=($F$4+$F$6),($E53*(100-AD$14)/100*$K$3)+($F$4+$F$6),($F$6-((($E53*(100-AD$14)/100*$K$3)*(-1))-$F$4))))))*(-1)>$F$5,$F$5*(-1),IF(IF((($E53*(100-AD$14)/100*$K$3)*(-1))<$F$4,$F$6,IF((($E53*(100-AD$14)/100*$K$3)*(-1))>=($F$4+$F$6),($E53*(100-AD$14)/100*$K$3)+($F$4+$F$6),($F$6-((($E53*(100-AD$14)/100*$K$3)*(-1))-$F$4))))>=0,IF((($E53*(100-AD$14)/100*$K$3)*(-1))<$F$4,$F$6,IF((($E53*(100-AD$14)/100*$K$3)*(-1))>=($F$4+$F$6),($E53*(100-AD$14)/100*$K$3)+($F$4+$F$6),($F$6-((($E53*(100-AD$14)/100*$K$3)*(-1))-$F$4)))),IF(IF((($E53*(100-AD$14)/100*$K$3)*(-1))<$F$4,$F$6,IF((($E53*(100-AD$14)/100*$K$3)*(-1))>=($F$4+$F$6),($E53*(100-AD$14)/100*$K$3)+($F$4+$F$6),($F$6-((($E53*(100-AD$14)/100*$K$3)*(-1))-$F$4))))*(-1)<=$F$7,0,$F$7+IF((($E53*(100-AD$14)/100*$K$3)*(-1))<$F$4,$F$6,IF((($E53*(100-AD$14)/100*$K$3)*(-1))>=($F$4+$F$6),($E53*(100-AD$14)/100*$K$3)+($F$4+$F$6),($F$6-((($E53*(100-AD$14)/100*$K$3)*(-1))-$F$4)))))))/$D$2*100/2,0)","v":-13},-13,-13,-13,-13,-13,-13,-13,-13,-13,-13,-13,-13,-9,-4,0,0,0,0,null,null,null,null,null,null,null,null,null,null,null,null,null,null,null,null,null,null,null,null,null,null,null,null,null,3600,"-",3699,null,{"$f":"IF((F53+AD53+BB53)<0,0,(F53+AD53+BB53))","v":0},{"$f":"IF((G53+AE53+BC53)<0,0,(G53+AE53+BC53))","v":0},{"$f":"IF((H53+AF53+BD53)<0,0,(H53+AF53+BD53))","v":0},{"$f":"IF((I53+AG53+BE53)<0,0,(I53+AG53+BE53))","v":4},{"$f":"IF((J53+AH53+BF53)<0,0,(J53+AH53+BF53))","v":10},{"$f":"IF((K53+AI53+BG53)<0,0,(K53+AI53+BG53))","v":12},{"$f":"IF((L53+AJ53+BH53)<0,0,(L53+AJ53+BH53))","v":12},{"$f":"IF((M53+AK53+BI53)<0,0,(M53+AK53+BI53))","v":12},{"$f":"IF((N53+AL53+BJ53)<0,0,(N53+AL53+BJ53))","v":12},{"$f":"IF((O53+AM53+BK53)<0,0,(O53+AM53+BK53))","v":12},{"$f":"IF((P53+AN53+BL53)<0,0,(P53+AN53+BL53))","v":12},{"$f":"IF((Q53+AO53+BM53)<0,0,(Q53+AO53+BM53))","v":12},{"$f":"IF((R53+AP53+BN53)<0,0,(R53+AP53+BN53))","v":12},{"$f":"IF((S53+AQ53+BO53)<0,0,(S53+AQ53+BO53))","v":16},{"$f":"IF((T53+AR53+BP53)<0,0,(T53+AR53+BP53))","v":21},{"$f":"IF((U53+AS53+BQ53)<0,0,(U53+AS53+BQ53))","v":25},{"$f":"IF((V53+AT53+BR53)<0,0,(V53+AT53+BR53))","v":25},{"$f":"IF((W53+AU53+BS53)<0,0,(W53+AU53+BS53))","v":25},{"$f":"IF((X53+AV53+BT53)<0,0,(X53+AV53+BT53))","v":25},3650,null,3600,"-",3699,-741,-703.77,-641.72,-599.67000000000007,-567.62000000000012,-515.57000000000005,-453.5200000000001,-391.47,-329.42000000000013,-267.37,-205.32000000000005,-143.2700000000001,-81.220000000000027,-39.170000000000016,{"$f":"$DC$4-(CN53/100*$DC$4)+($CS53*(100-DL$14)/100*$DH$3)+($CS53*(DL$14)/100*$DH$4)+($CS53*(DL$14)/100*$DH$5*0.66)","v":-120.26320000000001},{"$f":"$DC$4-(CO53/100*$DC$4)+($CS53*(100-DM$14)/100*$DH$3)+($CS53*(DM$14)/100*$DH$4)+($CS53*(DM$14)/100*$DH$5*0.66)","v":-86.900200000000041},{"$f":"$DC$4-(CP53/100*$DC$4)+($CS53*(100-DN$14)/100*$DH$3)+($CS53*(DN$14)/100*$DH$4)+($CS53*(DN$14)/100*$DH$5*0.66)","v":-33.537200000000041},{"$f":"$DC$4-(CQ53/100*$DC$4)+($CS53*(100-DO$14)/100*$DH$3)+($CS53*(DO$14)/100*$DH$4)+($CS53*(DO$14)/100*$DH$5*0.66)","v":19.825799999999958},{"$f":"$DC$4-(CR53/100*$DC$4)+($CS53*(100-DP$14)/100*$DH$3)+($CS53*(DP$14)/100*$DH$4)+($CS53*(DP$14)/100*$DH$5*0.66)","v":51.843599999999981},null,null,null,"Optimální","Optimální",1000,1050,30,28,"NE",10,0,0,10,193]
[null,3700,"-",3799,3750,0,4,11,17,24,25,25,25,25,25,25,25,25,25,25,25,25,25,25,null,3700,"-",3799,null,-13,-13,-13,-13,-13,-13,-13,-13,-13,-13,-13,-13,-13,-10,-5,0,0,0,0,null,null,null,null,null,null,null,null,null,null,null,null,null,null,null,null,null,null,null,null,null,null,null,null,null,3700,"-",3799,null,0,0,0,4,11,12,12,12,12,12,12,12,12,15,20,25,25,25,25,3750,null,3700,"-",3799,-775,-736.75,-673,-629.25,-600.5,-541.75000000000011,-478.00000000000011,-414.25000000000011,-350.5,-286.75,-222.99999999999997,-159.25,-95.5,-46.750000000000057,-129.38000000000005,-99.555000000000007,-44.730000000000018,10.094999999999914,42.990000000000009,null,null,null,"Optimální","Optimální",1000,1050,0,0,"Ano",0,0,0,0,143]
[null,3800,"-",3899,3850,0,4,11,18,24,25,25,25,25,25,25,25,25,25,25,25,25,25,25,null,3800,"-",3899,null,-13,-13,-13,-13,-13,-13,-13,-13,-13,-13,-13,-13,-13,-11,-5,0,0,0,0,null,null,null,null,null,null,null,null,null,null,null,null,null,null,null,null,null,null,null,null,null,null,null,null,null,3800,"-",3899,null,0,0,0,5,11,12,12,12,12,12,12,12,12,14,20,25,25,25,25,3850,null,3800,"-",3899,-809,-769.73,-704.2800000000002,-663.83000000000015,-628.38000000000011,-567.93000000000006,-502.48000000000008,-437.03000000000009,-371.58000000000004,-306.13000000000011,-240.68000000000006,-175.23000000000002,-109.78000000000009,-54.330000000000041,-143.49680000000006,-112.20980000000003,-55.922799999999995,0.36419999999998254,34.136399999999981,null,null,null,"Optimální","Optimální",1000,1050,0,0,"NE",0,0,0,0,143]
[null,3900,"-",3999,3950,0,4,11,18,25,25,25,25,25,25,25,25,25,25,25,25,25,25,25,null,3900,"-",3999,null,-13,-13,-13,-13,-13,-13,-13,-13,-13,-13,-13,-13,-13,-12,-6,-1,0,0,0,null,null,null,null,null,null,null,null,null,null,null,null,null,null,null,null,null,null,null,null,null,null,null,null,null,3900,"-",3999,null,0,0,0,5,12,12,12,12,12,12,12,12,12,13,19,24,25,25,25,3950,null,3900,"-",3999,-843,-802.71,-735.56000000000017,-693.41000000000008,-661.26,-594.11000000000013,-526.96,-459.81000000000006,-392.66000000000008,-325.51000000000016,-258.35999999999996,-191.21000000000004,-124.06000000000006,-61.910000000000025,-152.61360000000005,-119.8646,-67.115600000000029,-9.3666000000000054,25.282800000000009,null,null,"Poloprázdné popelnice","Optimální","Nízká",2000,2050,75,73,"Ano",25,8,0,33,76]
[null,4000,"-",4099,4050,0,4,11,18,25,25,25,25,25,25,25,25,25,25,25,25,25,25,25,null,4000,"-",4099,null,-13,-13,-13,-13,-13,-13,-13,-13,-13,-13,-13,-13,-13,-13,-7,-1,0,0,0,null,null,null,null,null,null,null,null,null,null,null,null,null,null,null,null,null,null,null,null,null,null,null,null,null,4000,"-",4099,null,0,0,0,5,12,12,12,12,12,12,12,12,12,12,18,24,25,25,25,4050,null,4000,"-",4099,-877,-835.69,-766.84000000000015,-722.99,-689.1400000000001,-620.29,-551.44000000000005,-482.59000000000003,-413.74,-344.8900000000001,-276.04000000000002,-207.19000000000005,-138.34000000000003,-69.490000000000009,-161.73040000000006,-132.51940000000002,-78.308400000000006,-19.097399999999993,16.42919999999998,null,null,null,"Optimální","Nízká",2000,2050,75,73,"NE",25,8,0,33,76]
[null,4100,"-",4199,4150,0,4,12,19,25,25,25,25,25,25,25,25,25,25,25,25,25,25,25,null,4100,"-",4199,null,-13,-13,-13,-13,-13,-13,-13,-13,-13,-13,-13,-13,-13,-13,-8,-2,0,0,0,null,null,null,null,null,null,null,null,null,null,null,null,null,null,null,null,null,null,null,null,null,null,null,null,null,4100,"-",4199,null,0,0,0,6,12,12,12,12,12,12,12,12,12,12,17,23,25,25,25,4150,null,4100,"-",4199,-911,-868.67000000000007,-798.12000000000012,-757.57000000000016,-717.02,-646.47,-575.92000000000007,-505.37000000000012,-434.82000000000011,-364.2700000000001,-293.72000000000008,-223.17000000000013,-152.62,-82.07000000000005,-170.84720000000004,-140.17420000000004,-89.50120000000004,-28.828199999999981,7.5756000000000085,null,null,null,"Optimální","Nízká",2000,2050,">85",86,"Ano",25,2,0,27,184]
[null,4200,"-",4299,4250,0,4,12,19,25,25,25,25,25,25,25,25,25,25,25,25,25,25,25,null,4200,"-",4299,null,-13,-13,-13,-13,-13,-13,-13,-13,-13,-13,-13,-13,-13,-13,-9,-3,0,0,0,null,null,null,null,null,null,null,null,null,null,null,null,null,null,null,null,null,null,null,null,null,null,null,null,null,4200,"-",4299,null,0,0,0,6,12,12,12,12,12,12,12,12,12,12,16,22,25,25,25,4250,null,4200,"-",4299,-945,-901.65000000000009,-829.40000000000009,-787.15000000000009,-744.90000000000009,-672.65000000000009,-600.40000000000009,-528.15000000000009,-455.90000000000009,-383.65000000000009,-311.40000000000009,-239.15000000000009,-166.90000000000009,-94.650000000000091,-179.96400000000006,-147.82900000000001,-100.69400000000002,-38.558999999999969,-1.27800000000002,null,null,null,"Optimální","Nízká",2000,2050,">85",86,"NE",25,2,0,27,184]
[null,4300,"-",4399,4350,0,5,12,20,25,25,25,25,25,25,25,25,25,25,25,25,25,25,25,null,4300,"-",4399,null,-13,-13,-13,-13,-13,-13,-13,-13,-13,-13,-13,-13,-13,-13,-10,-4,0,0,0,null,null,null,null,null,null,null,null,null,null,null,null,null,null,null,null,null,null,null,null,null,null,null,null,null,4300,"-",4399,null,0,0,0,7,12,12,12,12,12,12,12,12,12,12,15,21,25,25,25,4350,null,4300,"-",4399,-979,-934.63000000000011,-860.68000000000006,-821.73,-772.7800000000002,-698.83000000000015,-624.88000000000011,-550.93000000000006,-476.98000000000008,-403.03000000000009,-329.08000000000004,-255.13000000000005,-181.18000000000006,-107.23000000000002,-189.08080000000001,-155.48380000000003,-111.88679999999999,-48.289800000000014,-10.131599999999992,null,null,null,"Optimální","Nízká",2000,2050,30,28,"Ano",20,-12,0,8,-42]
[null,4400,"-",4499,4450,0,5,12,20,25,25,25,25,25,25,25,25,25,25,25,25,25,25,25,null,4400,"-",4499,null,-13,-13,-13,-13,-13,-13,-13,-13,-13,-13,-13,-13,-13,-13,-11,-5,0,0,0,null,null,null,null,null,null,null,null,null,null,null,null,null,null,null,null,null,null,null,null,null,null,null,null,null,4400,"-",4499,null,0,0,0,7,12,12,12,12,12,12,12,12,12,12,14,20,25,25,25,4450,null,4400,"-",4499,-1013,-967.61000000000013,-891.96,-851.31000000000017,-800.66000000000008,-725.01,-649.36000000000013,-573.71,-498.06000000000006,-422.41000000000014,-346.76000000000016,-271.11,-195.46000000000004,-119.81000000000006,-198.19760000000002,-163.13860000000005,-123.07960000000003,-58.020600000000059,-18.985200000000077,null,null,null,"Optimální","Nízká",2000,2050,30,28,"NE",20,-12,0,8,-42]
[null,4500,"-",4599,4550,0,5,13,21,25,25,25,25,25,25,25,25,25,25,25,25,25,25,25,null,4500,"-",4599,null,-13,-13,-13,-13,-13,-13,-13,-13,-13,-13,-13,-13,-13,-13,-12,-5,0,0,0,null,null,null,null,null,null,null,null,null,null,null,null,null,null,null,null,null,null,null,null,null,null,null,null,null,4500,"-",4599,null,0,0,0,8,12,12,12,12,12,12,12,12,12,12,13,20,25,25,25,4550,null,4500,"-",4599,-1047,-1000.5900000000001,-923.24,-885.8900000000001,-828.54000000000019,-751.19,-673.84000000000015,-596.49,-519.1400000000001,-441.79,-364.44,-287.09000000000003,-209.74,-132.38999999999999,-207.31440000000003,-175.79340000000008,-134.27240000000006,-67.75139999999999,-27.838800000000049,null,null,null,"Optimální","Nízká",2000,2050,0,0,"Ano",0,-13,0,0,-197]
[null,4600,"-",4699,4650,0,5,13,21,25,25,25,25,25,25,25,25,25,25,25,25,25,25,25,null,4600,"-",4699,null,-13,-13,-13,-13,-13,-13,-13,-13,-13,-13,-13,-13,-13,-13,-13,-6,0,0,0,null,null,null,null,null,null,null,null,null,null,null,null,null,null,null,null,null,null,null,null,null,null,null,null,null,4600,"-",4699,null,0,0,0,8,12,12,12,12,12,12,12,12,12,12,12,19,25,25,25,4650,null,4600,"-",4699,-1081,-1033.5700000000002,-954.52000000000021,-915.47,-856.42000000000007,-777.37000000000012,-698.32000000000016,-619.27,-540.22,-461.17000000000013,-382.12,-303.07000000000011,-224.0200000000001,-144.97000000000008,-216.43120000000005,-183.44819999999999,-145.46520000000004,-77.482200000000034,-36.692400000000021,null,null,null,"Optimální","Nízká",2000,2050,0,0,"NE",0,-13,0,0,-197]
[null,4700,"-",4799,4750,0,5,13,22,25,25,25,25,25,25,25,25,25,25,25,25,25,25,25,null,4700,"-",4799,null,-13,-13,-13,-13,-13,-13,-13,-13,-13,-13,-13,-13,-13,-13,-13,-7,0,0,0,null,null,null,null,null,null,null,null,null,null,null,null,null,null,null,null,null,null,null,null,null,null,null,null,null,4700,"-",4799,null,0,0,0,9,12,12,12,12,12,12,12,12,12,12,12,18,25,25,25,4750,null,4700,"-",4799,-1115.0000000000002,-1066.5500000000002,-985.80000000000018,-950.05000000000018,-884.30000000000018,-803.55000000000018,-722.80000000000018,-642.05000000000018,-561.30000000000007,-480.55000000000007,-399.80000000000007,-319.05000000000007,-238.30000000000007,-157.55000000000007,-230.54800000000006,-191.10300000000001,-156.65800000000002,-87.213000000000022,-45.546000000000049,null,"Nadprůměr odpadů","Přeplněné popelnice","Velké","Velká",1125,1150,75,73,"Ano",25,21,20,66,64]
[null,4800,"-",4899,4850,0,5,14,22,25,25,25,25,25,25,25,25,25,25,25,25,25,25,25,null,4800,"-",4899,null,-13,-13,-13,-13,-13,-13,-13,-13,-13,-13,-13,-13,-13,-13,-13,-8,-1,0,0,null,null,null,null,null,null,null,null,null,null,null,null,null,null,null,null,null,null,null,null,null,null,null,null,null,4800,"-",4899,null,0,0,1,9,12,12,12,12,12,12,12,12,12,12,12,17,24,25,25,4850,null,4800,"-",4899,-1149.0000000000002,-1099.5300000000002,-1022.08,-979.63000000000011,-912.18000000000006,-829.73,-747.28,-664.83000000000015,-582.38000000000011,-499.93000000000006,-417.48000000000008,-335.03000000000003,-252.58000000000004,-170.13000000000005,-244.66480000000007,-198.75780000000003,-162.85080000000005,-96.943800000000067,-54.399600000000021,null,null,null,"Velké","Velká",1125,1150,75,73,"NE",25,21,0,46,164]
[null,4900,"-",4999,4950,0,5,14,23,{"$f":"ROUND(IF((($E66*J$14/100*$K$4)*(-1))>($F$5-50),($E66*J$14/100*$K$5)-((($E66*J$14/100*$K$4)*(-1))-($F$5-50)),($E66*J$14/100*$K$5))/($D$2-200)*100,0)","v":25},25,25,25,25,25,25,25,25,25,25,25,25,25,25,null,4900,"-",4999,null,-13,-13,-13,-13,-13,-13,-13,-13,-13,-13,-13,-13,-13,-13,-13,-8,-1,0,0,null,null,null,null,null,null,null,null,null,null,null,null,null,null,null,null,null,null,null,null,null,null,null,null,null,4900,"-",4999,null,0,0,1,10,12,12,12,12,12,12,12,12,12,12,12,17,24,25,25,4950,null,4900,"-",4999,-1183.0000000000002,-1132.5100000000002,-1053.3600000000001,-1014.2099999999999,-940.06000000000017,-855.91000000000008,-771.76,-687.61000000000013,-603.46,-519.31000000000006,-435.16000000000014,-351.01000000000016,-266.86,-182.71000000000004,-258.78160000000014,-211.4126,-174.04360000000014,-106.6746,-63.253199999999993,null,null,null,"Velké","Velká",1125,1150,">85",86,"Ano",25,18,0,43,230]
[null,5000,"-",5099,5050,0,5,14,23,25,25,25,25,25,25,25,25,25,25,25,25,{"$f":"ROUND(IF((($E67*V$14/100*$K$4)*(-1))>($F$5-50),($E67*V$14/100*$K$5)-((($E67*V$14/100*$K$4)*(-1))-($F$5-50)),($E67*V$14/100*$K$5))/($D$2-200)*100,0)","v":25},25,25,null,5000,"-",5099,null,-13,-13,-13,-13,-13,-13,-13,-13,-13,-13,-13,-13,-13,-13,-13,-9,{"$f":"ROUND(IF(IF(IF((($E67*(100-AT$14)/100*$K$3)*(-1))<$F$4,$F$6,IF((($E67*(100-AT$14)/100*$K$3)*(-1))>=($F$4+$F$6),($E67*(100-AT$14)/100*$K$3)+($F$4+$F$6),($F$6-((($E67*(100-AT$14)/100*$K$3)*(-1))-$F$4))))>=0,IF((($E67*(100-AT$14)/100*$K$3)*(-1))<$F$4,$F$6,IF((($E67*(100-AT$14)/100*$K$3)*(-1))>=($F$4+$F$6),($E67*(100-AT$14)/100*$K$3)+($F$4+$F$6),($F$6-((($E67*(100-AT$14)/100*$K$3)*(-1))-$F$4)))),IF(IF((($E67*(100-AT$14)/100*$K$3)*(-1))<$F$4,$F$6,IF((($E67*(100-AT$14)/100*$K$3)*(-1))>=($F$4+$F$6),($E67*(100-AT$14)/100*$K$3)+($F$4+$F$6),($F$6-((($E67*(100-AT$14)/100*$K$3)*(-1))-$F$4))))*(-1)<=$F$7,0,$F$7+IF((($E67*(100-AT$14)/100*$K$3)*(-1))<$F$4,$F$6,IF((($E67*(100-AT$14)/100*$K$3)*(-1))>=($F$4+$F$6),($E67*(100-AT$14)/100*$K$3)+($F$4+$F$6),($F$6-((($E67*(100-AT$14)/100*$K$3)*(-1))-$F$4))))))*(-1)>$F$5,$F$5*(-1),IF(IF((($E67*(100-AT$14)/100*$K$3)*(-1))<$F$4,$F$6,IF((($E67*(100-AT$14)/100*$K$3)*(-1))>=($F$4+$F$6),($E67*(100-AT$14)/100*$K$3)+($F$4+$F$6),($F$6-((($E67*(100-AT$14)/100*$K$3)*(-1))-$F$4))))>=0,IF((($E67*(100-AT$14)/100*$K$3)*(-1))<$F$4,$F$6,IF((($E67*(100-AT$14)/100*$K$3)*(-1))>=($F$4+$F$6),($E67*(100-AT$14)/100*$K$3)+($F$4+$F$6),($F$6-((($E67*(100-AT$14)/100*$K$3)*(-1))-$F$4)))),IF(IF((($E67*(100-AT$14)/100*$K$3)*(-1))<$F$4,$F$6,IF((($E67*(100-AT$14)/100*$K$3)*(-1))>=($F$4+$F$6),($E67*(100-AT$14)/100*$K$3)+($F$4+$F$6),($F$6-((($E67*(100-AT$14)/100*$K$3)*(-1))-$F$4))))*(-1)<=$F$7,0,$F$7+IF((($E67*(100-AT$14)/100*$K$3)*(-1))<$F$4,$F$6,IF((($E67*(100-AT$14)/100*$K$3)*(-1))>=($F$4+$F$6),($E67*(100-AT$14)/100*$K$3)+($F$4+$F$6),($F$6-((($E67*(100-AT$14)/100*$K$3)*(-1))-$F$4)))))))/$D$2*100/2,0)","v":-2},0,0,null,null,null,null,null,null,null,null,null,null,null,null,null,null,null,null,null,null,null,null,null,null,null,null,null,5000,"-",5099,null,0,0,1,10,12,12,12,12,12,12,12,12,12,12,12,16,23,25,25,5050,null,5000,"-",5099,-1217.0000000000002,-1165.49,-1084.6400000000001,-1043.7900000000002,-967.94,-882.09000000000026,-796.24,-710.3900000000001,-624.54,-538.69000000000005,-452.84000000000003,-366.99,-281.1400000000001,-195.29000000000002,-272.89839999999998,-219.06740000000002,-180.2364,-116.40540000000004,-72.106800000000021,null,null,null,"Velké","Velká",1125,1150,">85",86,"NE",25,18,0,43,230]
[null,5100,"-",5199,5150,0,5,14,23,25,25,25,25,25,25,25,25,25,25,25,25,25,25,25,null,5100,"-",5199,null,-13,-13,-13,-13,-13,-13,-13,-13,-13,-13,-13,-13,-13,-13,-13,-10,-3,{"$f":"ROUND(IF(IF(IF((($E68*(100-AU$14)/100*$K$3)*(-1))<$F$4,$F$6,IF((($E68*(100-AU$14)/100*$K$3)*(-1))>=($F$4+$F$6),($E68*(100-AU$14)/100*$K$3)+($F$4+$F$6),($F$6-((($E68*(100-AU$14)/100*$K$3)*(-1))-$F$4))))>=0,IF((($E68*(100-AU$14)/100*$K$3)*(-1))<$F$4,$F$6,IF((($E68*(100-AU$14)/100*$K$3)*(-1))>=($F$4+$F$6),($E68*(100-AU$14)/100*$K$3)+($F$4+$F$6),($F$6-((($E68*(100-AU$14)/100*$K$3)*(-1))-$F$4)))),IF(IF((($E68*(100-AU$14)/100*$K$3)*(-1))<$F$4,$F$6,IF((($E68*(100-AU$14)/100*$K$3)*(-1))>=($F$4+$F$6),($E68*(100-AU$14)/100*$K$3)+($F$4+$F$6),($F$6-((($E68*(100-AU$14)/100*$K$3)*(-1))-$F$4))))*(-1)<=$F$7,0,$F$7+IF((($E68*(100-AU$14)/100*$K$3)*(-1))<$F$4,$F$6,IF((($E68*(100-AU$14)/100*$K$3)*(-1))>=($F$4+$F$6),($E68*(100-AU$14)/100*$K$3)+($F$4+$F$6),($F$6-((($E68*(100-AU$14)/100*$K$3)*(-1))-$F$4))))))*(-1)>$F$5,$F$5*(-1),IF(IF((($E68*(100-AU$14)/100*$K$3)*(-1))<$F$4,$F$6,IF((($E68*(100-AU$14)/100*$K$3)*(-1))>=($F$4+$F$6),($E68*(100-AU$14)/100*$K$3)+($F$4+$F$6),($F$6-((($E68*(100-AU$14)/100*$K$3)*(-1))-$F$4))))>=0,IF((($E68*(100-AU$14)/100*$K$3)*(-1))<$F$4,$F$6,IF((($E68*(100-AU$14)/100*$K$3)*(-1))>=($F$4+$F$6),($E68*(100-AU$14)/100*$K$3)+($F$4+$F$6),($F$6-((($E68*(100-AU$14)/100*$K$3)*(-1))-$F$4)))),IF(IF((($E68*(100-AU$14)/100*$K$3)*(-1))<$F$4,$F$6,IF((($E68*(100-AU$14)/100*$K$3)*(-1))>=($F$4+$F$6),($E68*(100-AU$14)/100*$K$3)+($F$4+$F$6),($F$6-((($E68*(100-AU$14)/100*$K$3)*(-1))-$F$4))))*(-1)<=$F$7,0,$F$7+IF((($E68*(100-AU$14)/100*$K$3)*(-1))<$F$4,$F$6,IF((($E68*(100-AU$14)/100*$K$3)*(-1))>=($F$4+$F$6),($E68*(100-AU$14)/100*$K$3)+($F$4+$F$6),($F$6-((($E68*(100-AU$14)/100*$K$3)*(-1))-$F$4)))))))/$D$2*100,0)","v":0},0,null,null,null,null,null,null,null,null,null,null,null,null,null,null,null,null,null,null,null,null,null,null,null,null,null,5100,"-",5199,null,0,0,1,10,12,12,12,12,12,12,12,12,12,12,12,15,22,25,25,5150,null,5100,"-",5199,-1251.0000000000002,-1198.47,-1115.92,-1073.3700000000001,-995.82000000000016,-908.2700000000001,-820.72,-733.17000000000007,-645.62000000000012,-558.07000000000016,-470.5200000000001,-382.97000000000008,-295.42000000000007,-207.87,-287.01520000000011,-226.7222000000001,-186.42920000000004,-126.13620000000009,-80.960399999999993,null,null,null,"Velké","Velká",1125,1150,30,28,"Ano",11,0,0,11,163]
[null,5200,"-",5299,5250,0,6,15,24,25,25,25,25,25,25,25,25,25,25,25,25,25,25,25,null,5200,"-",5299,null,-13,-13,-13,-13,-13,-13,-13,-13,-13,-13,-13,-13,-13,-13,-13,-11,-3,0,0,null,null,null,null,null,null,null,null,null,null,null,null,null,null,null,null,null,null,null,null,null,null,null,null,null,5200,"-",5299,null,0,0,2,11,12,12,12,12,12,12,12,12,12,12,12,14,22,25,25,5250,null,5200,"-",5299,-1285.0000000000002,-1231.45,-1152.2,-1107.95,-1023.7,-934.45,-845.2,-755.95,-666.7,-577.45000000000005,-488.2,-398.95,-309.70000000000005,-220.45000000000005,-301.13200000000006,-234.37700000000007,-197.62200000000007,-135.86700000000008,-89.813999999999965,null,null,null,"Velké","Velká",1125,1150,30,28,"NE",11,0,0,11,163]
[null,5300,"-",5399,5350,0,6,15,24,25,25,25,25,25,25,25,25,25,25,25,25,25,25,25,null,5300,"-",5399,null,-13,-13,-13,-13,-13,-13,-13,-13,-13,-13,-13,-13,-13,-13,-13,-11,-4,0,0,null,null,null,null,null,null,null,null,null,null,null,null,null,null,null,null,null,null,null,null,null,null,null,null,null,5300,"-",5399,null,0,0,2,11,12,12,12,12,12,12,12,12,12,12,12,14,21,25,25,5350,null,5300,"-",5399,-1319.0000000000002,-1264.43,-1183.48,-1137.5300000000002,-1051.5800000000002,-960.63000000000011,-869.68000000000006,-778.73,-687.78,-596.83000000000015,-505.88000000000005,-414.93000000000006,-323.98000000000008,-233.03000000000003,-315.24880000000002,-247.03180000000003,-203.81480000000005,-145.59780000000001,-98.667600000000107,null,null,null,"Velké","Velká",1125,1150,0,0,"Ano",0,-3,0,0,109]
[null,5400,"-",5499,5450,0,6,15,25,25,25,25,25,25,25,25,25,25,25,25,25,25,25,25,null,5400,"-",5499,null,-13,-13,-13,-13,-13,-13,-13,-13,-13,-13,-13,-13,-13,-13,-13,-12,-4,0,0,null,null,null,null,null,null,null,null,null,null,null,null,null,null,null,null,null,null,null,null,null,null,null,null,null,5400,"-",5499,null,0,0,2,12,12,12,12,12,12,12,12,12,12,12,12,13,21,25,25,5450,null,5400,"-",5499,-1353.0000000000002,-1297.4100000000001,-1214.7600000000002,-1172.1100000000001,-1079.46,-986.81000000000017,-894.1600000000002,-801.51,-708.86000000000013,-616.21,-523.56000000000006,-430.91000000000014,-338.26000000000016,-245.61,-329.36560000000003,-254.68660000000006,-215.00760000000008,-155.32860000000011,-107.52120000000008,null,null,null,"Velké","Velká",1125,1150,0,0,"NE",0,-3,0,0,109]
[null,5500,"-",5599,5550,0,6,16,25,25,25,25,25,25,25,25,25,25,25,25,25,25,25,25,null,5500,"-",5599,null,-13,-13,-13,-13,-13,-13,-13,-13,-13,-13,-13,-13,-13,-13,-13,-13,-5,0,0,null,null,null,null,null,null,null,null,null,null,null,null,null,null,null,null,null,null,null,null,null,null,null,null,null,5500,"-",5599,null,0,0,3,12,12,12,12,12,12,12,12,12,12,12,12,12,20,25,25,5550,null,5500,"-",5599,-1387.0000000000002,-1330.39,-1251.0400000000002,-1201.69,-1107.3400000000001,-1012.99,-918.64,-824.29000000000019,-729.94,-635.59000000000015,-541.24000000000012,-446.8900000000001,-352.54,-258.19,-343.48240000000004,-262.34140000000002,-221.2004,-165.05939999999998,-116.37480000000005,null,null,"Plné popelnice","Velké","Optimální",1500,1550,75,73,"Ano",25,15,19,59,63]
[null,5600,"-",5699,5650,0,6,16,25,25,25,25,25,25,25,25,25,25,25,25,25,25,25,25,null,5600,"-",5699,null,-13,-13,-13,-13,-13,-13,-13,-13,-13,-13,-13,-13,-13,-13,-13,-13,-6,0,0,null,null,null,null,null,null,null,null,null,null,null,null,null,null,null,null,null,null,null,null,null,null,null,null,null,5600,"-",5699,null,0,0,3,12,12,12,12,12,12,12,12,12,12,12,12,12,19,25,25,5650,null,5600,"-",5699,-1421.0000000000002,-1363.3700000000001,-1282.3200000000002,-1231.2700000000002,-1135.22,-1039.17,-943.12000000000012,-847.07000000000016,-751.01999999999987,-654.97,-558.92000000000007,-462.87000000000012,-366.82000000000011,-270.7700000000001,-357.5992,-274.9962000000001,-227.39319999999998,-174.79020000000008,-125.22839999999997,null,null,null,"Velké","Optimální",1500,1550,75,73,"NE",25,15,0,40,158]
[null,5700,"-",5799,5750,0,6,16,25,25,25,25,25,25,25,25,25,25,25,25,25,25,25,25,null,5700,"-",5799,null,-13,-13,-13,-13,-13,-13,-13,-13,-13,-13,-13,-13,-13,-13,-13,-13,-6,0,0,null,null,null,null,null,null,null,null,null,null,null,null,null,null,null,null,null,null,null,null,null,null,null,null,null,5700,"-",5799,null,0,0,3,12,12,12,12,12,12,12,12,12,12,12,12,12,19,25,25,5750,null,5700,"-",5799,-1455.0000000000002,-1396.3500000000001,-1313.6000000000001,-1260.8500000000001,-1163.1000000000001,-1065.3500000000001,-967.60000000000014,-869.85000000000014,-772.10000000000014,-674.35000000000014,-576.59999999999991,-478.84999999999997,-381.09999999999997,-283.34999999999997,-371.71600000000007,-287.65100000000001,-238.58600000000001,-184.52100000000002,-134.08200000000005,null,null,null,"Velké","Optimální",1500,1550,">85",86,"Ano",25,11,0,36,183]
[null,5800,"-",5899,5850,0,6,16,25,25,25,25,25,25,25,25,25,25,25,25,25,25,25,25,null,5800,"-",5899,null,-13,-13,-13,-13,-13,-13,-13,-13,-13,-13,-13,-13,-13,-13,-13,-13,-7,0,0,null,null,null,null,null,null,null,null,null,null,null,null,null,null,null,null,null,null,null,null,null,null,null,null,null,5800,"-",5899,null,0,0,3,12,12,12,12,12,12,12,12,12,12,12,12,12,18,25,25,5850,null,5800,"-",5899,-1489.0000000000002,-1429.3300000000002,-1344.88,-1290.43,-1190.98,-1091.5300000000002,-992.08,-892.63000000000011,-793.18000000000006,-693.73,-594.28,-494.83000000000004,-395.38000000000005,-295.93000000000006,-385.83280000000002,-300.30580000000009,-244.77880000000005,-194.2518,-142.93560000000002,null,null,null,"Velké","Optimální",1500,1550,">85",86,"NE",25,11,0,36,183]
[null,5900,"-",5999,5950,0,6,17,25,25,25,25,25,25,25,25,25,25,25,25,25,25,25,25,null,5900,"-",5999,null,-13,-13,-13,-13,-13,-13,-13,-13,-13,-13,-13,-13,-13,-13,-13,-13,-8,0,0,null,null,null,null,null,null,null,null,null,null,null,null,null,null,null,null,null,null,null,null,null,null,null,null,null,5900,"-",5999,null,0,0,4,12,12,12,12,12,12,12,12,12,12,12,12,12,17,25,25,5950,null,5900,"-",5999,-1523.0000000000002,-1462.3100000000002,-1381.16,-1320.0100000000002,-1218.8600000000001,-1117.71,-1016.5600000000002,-915.41000000000008,-814.26,-713.11000000000013,-611.96,-510.81000000000012,-409.66000000000014,-308.5100000000001,-399.94960000000003,-312.96060000000006,-250.97160000000002,-203.9826000000001,-151.78920000000005,null,null,null,"Velké","Optimální",1500,1550,30,28,"Ano",15,-2,0,13,56]
[null,6000,"-",6099,6050,0,6,17,25,25,25,25,25,25,25,25,25,25,25,25,25,25,25,25,null,6000,"-",6099,null,-13,-13,-13,-13,-13,-13,-13,-13,-13,-13,-13,-13,-13,-13,-13,-13,-8,0,0,null,null,null,null,null,null,null,null,null,null,null,null,null,null,null,null,null,null,null,null,null,null,null,null,null,6000,"-",6099,null,0,0,4,12,12,12,12,12,12,12,12,12,12,12,12,12,17,25,25,6050,null,6000,"-",6099,-1557,-1495.2900000000002,-1412.44,-1349.5900000000001,-1246.74,-1143.8900000000001,-1041.0400000000002,-938.19,-835.34000000000026,-732.49,-629.64000000000021,-526.79,-423.94,-321.09000000000003,-414.06639999999999,-325.61539999999997,-262.16439999999994,-213.71339999999998,-160.64280000000002,null,null,null,"Velké","Optimální",1500,1550,30,28,"NE",15,-2,0,13,56]
[null,6100,"-",6199,6150,0,6,17,25,25,25,25,25,25,25,25,25,25,25,25,25,25,25,25,null,6100,"-",6199,null,-13,-13,-13,-13,-13,-13,-13,-13,-13,-13,-13,-13,-13,-13,-13,-13,-9,0,0,null,null,null,null,null,null,null,null,null,null,null,null,null,null,null,null,null,null,null,null,null,null,null,null,null,6100,"-",6199,null,0,0,4,12,12,12,12,12,12,12,12,12,12,12,12,12,16,25,25,6150,null,6100,"-",6199,-1591,-1528.2700000000002,-1443.72,-1379.17,-1274.6200000000001,-1170.0700000000002,-1065.5200000000002,-960.97,-856.42000000000007,-751.87000000000012,-647.32000000000016,-542.7700000000001,-438.22000000000008,-333.67000000000007,-428.1832,-338.27020000000005,-268.35720000000009,-223.44420000000002,-169.49639999999999,null,null,null,"Velké","Optimální",1500,1550,0,0,"Ano",0,-13,0,0,-27]
[null,6200,"-",6299,6250,0,7,18,25,25,25,25,25,25,25,25,25,25,25,25,25,25,25,25,null,6200,"-",6299,null,-13,-13,-13,-13,-13,-13,-13,-13,-13,-13,-13,-13,-13,-13,-13,-13,-9,-1,0,null,null,null,null,null,null,null,null,null,null,null,null,null,null,null,null,null,null,null,null,null,null,null,null,null,6200,"-",6299,null,0,0,5,12,12,12,12,12,12,12,12,12,12,12,12,12,16,24,25,6250,null,6200,"-",6299,-1625,-1561.25,-1480.0000000000002,-1408.7500000000002,-1302.5000000000002,-1196.2500000000002,-1090,-983.75,-877.5,-771.25,-665,-558.75000000000023,-452.50000000000017,-346.25,-442.29999999999995,-350.92500000000001,-279.55000000000013,-228.17500000000001,-178.35000000000002,null,null,null,"Velké","Optimální",1500,1550,0,0,"NE",0,-13,0,0,-27]
[null,6300,"-",6399,6350,0,7,18,25,25,25,25,25,25,25,25,25,25,25,25,25,25,25,25,null,6300,"-",6399,null,-13,-13,-13,-13,-13,-13,-13,-13,-13,-13,-13,-13,-13,-13,-13,-13,-10,-1,0,null,null,null,null,null,null,null,null,null,null,null,null,null,null,null,null,null,null,null,null,null,null,null,null,null,6300,"-",6399,null,0,0,5,12,12,12,12,12,12,12,12,12,12,12,12,12,15,24,25,6350,null,6300,"-",6399,-1659,-1594.23,-1511.2800000000002,-1438.3300000000002,-1330.38,-1222.43,-1114.48,-1006.5300000000001,-898.58,-790.63000000000011,-682.68000000000006,-574.73,-466.78000000000009,-358.83000000000004,-456.41680000000002,-363.57980000000003,-285.74280000000005,-237.9058,-187.20360000000011,null,null,"Poloprázdné popelnice","Velké","Nízká",3000,3050,75,73,"Ano",{"$f":"ROUND(INDEX(F$16:X$117,MATCH(DW80,$E$16:$E$117,0),MATCH(DY80,F$14:X$14,0)),0)","v":25},{"$f":"ROUND(INDEX(AD$16:AV$117,MATCH(DW80,$E$16:$E$117,0),MATCH(DY80,AD$14:AV$14,0)),0)","v":0},{"$f":"IF(DZ80=\"NE\",0,ROUND(INDEX(BB$16:BT$117,MATCH(DW80,$E$16:$E$117,0),MATCH(DY80,BB$14:BT$14,0)),0))","v":0},25,-11]
[null,6400,"-",6499,6450,0,7,18,25,25,25,25,25,25,25,25,25,25,25,25,25,25,25,25,null,6400,"-",6499,null,-13,-13,-13,-13,-13,-13,-13,-13,-13,-13,-13,-13,-13,-13,-13,-13,-11,-2,0,null,null,null,null,null,null,null,null,null,null,null,null,null,null,null,null,null,null,null,null,null,null,null,null,null,6400,"-",6499,null,0,0,5,12,12,12,12,12,12,12,12,12,12,12,12,12,14,{"$f":"IF((W81+AU81+BS81)<0,0,(W81+AU81+BS81))","v":23},25,6450,null,6400,"-",6499,-1693,-1627.21,-1542.5600000000002,-1467.91,-1358.2600000000002,-1248.6100000000001,-1138.96,-1029.3100000000002,-919.66000000000008,-810.01,-700.36000000000013,-590.71000000000015,-481.06000000000006,-371.41000000000008,-470.53360000000009,-376.2346,-291.93560000000002,-242.6366000000001,-196.05720000000008,null,null,null,"Velké","Nízká",3000,3050,75,73,"NE",25,0,0,25,{"$f":"IF(DZ81=\"NE\",ROUND(INDEX(CX$16:DP$117,MATCH(DW81,$E$16:$E$117,0),MATCH(DY81,CX$14:DP$14,0)),0)+((ED80-ED81)/100*$DC$4),ROUND(INDEX(CX$16:DP$117,MATCH(DW81,$E$16:$E$117,0),MATCH(DY81,CX$14:DP$14,0)),0))","v":-11}]
[null,null,null,null,null,null,null,null,null,null,null,null,null,null,null,null,null,null,null,null,null,null,null,"Příloha č. 5 k OZV č. …/2013 Název obec/město",null,null,null,null,null,null,null,null,null,null,null,null,null,null,null,null,null,null,null,null,null,null,null,"Příloha č. 6 k OZV č. …/2013 Název obec/město",null,null,null,null,null,null,null,null,null,null,null,null,null,null,null,null,null,null,null,null,null,null,null,null,null,null,null,null,null,null,null,null,null,null,null,null,null,null,null,null,null,null,null,null,null,null,null,"Příloha č. ??? k OZV č. …/2013 Název obec/město",null,null,null,null,null,null,null,null,null,null,null,null,null,null,null,null,null,null,null,null,null,null,null,null,null,null,null,"Velké","Nízká",3000,3050,">85",86,"Ano",25,0,0,25,105]
["Maximální roční bonusy za třídění odpadů (zkráceně BT) - procentuální úleva na poplatku placeného na následující rok",null,null,null,null,null,null,null,null,null,null,null,null,null,null,null,null,null,null,null,null,null,null,null,"Maximální roční bonusy za efektivní využívání nádob (BV)-procentuální úleva na poplatku placeného na následující rok",null,null,null,null,null,null,null,null,null,null,null,null,null,null,null,null,null,null,null,null,null,null,null,null,null,null,null,null,null,null,null,null,null,null,null,null,null,null,null,null,null,null,null,null,null,null,null,"Součet maximálních ročních bonusů (BT + BV + BS)",null,null,null,null,null,null,null,null,null,null,null,null,null,null,null,null,null,null,null,null,null,null,null,null,null,null,null,null,null,null,null,null,null,null,null,null,null,null,null,null,null,null,null,null,null,null,null,null,null,null,"Velké","Nízká",3000,3050,">85",86,"NE",25,0,0,25,105]
[null,null,null,null,null,null,null,null,null,null,null,null,null,null,null,null,null,null,null,null,null,null,null,null,null,null,null,null,null,null,null,null,null,null,null,null,null,null,null,null,null,null,null,null,null,null,null,null,null,null,null,null,null,null,null,null,null,null,null,null,null,null,null,null,null,null,null,null,null,null,null,null,null,null,null,null,null,null,null,null,null,null,null,null,null,null,null,null,null,null,null,null,null,null,null,null,null,null,null,null,null,null,null,null,null,null,null,null,null,null,null,null,null,null,null,null,null,null,null,null,null,null,null,"Velké","Nízká",3000,3050,30,28,"Ano",25,-13,0,12,-307]
["Bonus za třídění odpadů je udělen do výše 23% za plast, 20% za papír, 30% za bioodpad, 13% za sklo, 8% za textil, 2% za nápojový karton, 2% za jedlý olej a tuk a 2% za drobné elektrozařízení z hodnoty maximálního bonusu uvedeného v  této tabulce. ",null,null,null,null,"Procentuální zastoupení objemu obsloužených nádob na plast a na papír v celkovém objemu obsloužených nádob",null,null,null,null,null,null,null,null,null,null,null,null,null,null,null,null,null,null,"Bonus za efektivní využívání sběrných nádob je udělen do výše 100% z hodnoty maximálního bonusu uvedeného v této tabulce.",null,null,null,null,"Procentuální zastoupení objemu obsloužených nádob na plast a na papír v celkovém objemu obsloužených nádob",null,null,null,null,null,null,null,null,null,null,null,null,null,null,null,null,null,null,null,null,null,null,null,null,null,null,null,null,null,null,null,null,null,null,null,null,null,null,null,null,null,null,"Záporná hodnota součtu bonusů (BT + BV + BS) je nahrazena nulou.",null,null,null,null,"Procentuální zastoupení objemu obsloužených nádob na plast a na papír v celkovém objemu obsloužených nádob",null,null,null,null,null,null,null,null,null,null,null,null,null,null,null,null,null,null,null,null,null,null,null,"Procentuální zastoupení objemu obsloužených nádob na plast a na papír v celkovém objemu obsloužených nádob",null,null,null,null,null,null,null,null,null,null,null,null,null,null,null,null,null,null,null,null,null,"Velké","Nízká",3000,3050,30,28,"NE",25,-13,0,12,-307]
[null,null,null,null,null,{"$f":"\"0 %\"","v":"0 %"},{"$f":"\"1-5 %\"","v":"1-5 %"},{"$f":"\"6-10 %\"","v":"6-10 %"},{"$f":"\"11-15 %\"","v":"11-15 %"},{"$f":"\"16-20 %\"","v":"16-20 %"},{"$f":"\"21-25 %\"","v":"21-25 %"},{"$f":"\"26-30 %\"","v":"26-30 %"},{"$f":"\"31-35 %\"","v":"31-35 %"},{"$f":"\"36-40 %\"","v":"36-40 %"},{"$f":"\"41-45 %\"","v":"41-45 %"},{"$f":"\"46-50 %\"","v":"46-50 %"},{"$f":"\"51-55 %\"","v":"51-55 %"},{"$f":"\"56-60 %\"","v":"56-60 %"},{"$f":"\"61-65 %\"","v":"61-65 %"},{"$f":"\"66-70 %\"","v":"66-70 %"},{"$f":"\"71-75 %\"","v":"71-75 %"},{"$f":"\"76-80 %\"","v":"76-80 %"},{"$f":"\"81-85 %\"","v":"81-85 %"},{"$f":"\"více jak 85 %\"","v":"více jak 85 %"},null,null,null,null,null,{"$f":"\"0 %\"","v":"0 %"},{"$f":"\"1-5 %\"","v":"1-5 %"},{"$f":"\"6-10 %\"","v":"6-10 %"},{"$f":"\"11-15 %\"","v":"11-15 %"},{"$f":"\"16-20 %\"","v":"16-20 %"},{"$f":"\"21-25 %\"","v":"21-25 %"},{"$f":"\"26-30 %\"","v":"26-30 %"},{"$f":"\"31-35 %\"","v":"31-35 %"},{"$f":"\"36-40 %\"","v":"36-40 %"},{"$f":"\"41-45 %\"","v":"41-45 %"},{"$f":"\"46-50 %\"","v":"46-50 %"},{"$f":"\"51-55 %\"","v":"51-55 %"},{"$f":"\"56-60 %\"","v":"56-60 %"},{"$f":"\"61-65 %\"","v":"61-65 %"},{"$f":"\"66-70 %\"","v":"66-70 %"},{"$f":"\"71-75 %\"","v":"71-75 %"},{"$f":"\"76-80 %\"","v":"76-80 %"},{"$f":"\"81-85 %\"","v":"81-85 %"},{"$f":"\"více jak 85 %\"","v":"více jak 85 %"},null,null,null,null,null,null,null,null,null,null,null,null,null,null,null,null,null,null,null,null,null,null,null,null,null,null,null,null,null,{"$f":"\"0 %\"","v":"0 %"},{"$f":"\"1-5 %\"","v":"1-5 %"},{"$f":"\"6-10 %\"","v":"6-10 %"},{"$f":"\"11-15 %\"","v":"11-15 %"},{"$f":"\"16-20 %\"","v":"16-20 %"},{"$f":"\"21-25 %\"","v":"21-25 %"},{"$f":"\"26-30 %\"","v":"26-30 %"},{"$f":"\"31-35 %\"","v":"31-35 %"},{"$f":"\"36-40 %\"","v":"36-40 %"},{"$f":"\"41-45 %\"","v":"41-45 %"},{"$f":"\"46-50 %\"","v":"46-50 %"},{"$f":"\"51-55 %\"","v":"51-55 %"},{"$f":"\"56-60 %\"","v":"56-60 %"},{"$f":"\"61-65 %\"","v":"61-65 %"},{"$f":"\"66-70 %\"","v":"66-70 %"},{"$f":"\"71-75 %\"","v":"71-75 %"},{"$f":"\"76-80 %\"","v":"76-80 %"},{"$f":"\"81-85 %\"","v":"81-85 %"},{"$f":"\"více jak 85 %\"","v":"více jak 85 %"},null,null,null,null,null,{"$f":"\"0 %\"","v":"0 %"},{"$f":"\"1-5 %\"","v":"1-5 %"},{"$f":"\"6-10 %\"","v":"6-10 %"},{"$f":"\"11-15 %\"","v":"11-15 %"},{"$f":"\"16-20 %\"","v":"16-20 %"},{"$f":"\"21-25 %\"","v":"21-25 %"},{"$f":"\"26-30 %\"","v":"26-30 %"},{"$f":"\"31-35 %\"","v":"31-35 %"},{"$f":"\"36-40 %\"","v":"36-40 %"},{"$f":"\"41-45 %\"","v":"41-45 %"},{"$f":"\"46-50 %\"","v":"46-50 %"},{"$f":"\"51-55 %\"","v":"51-55 %"},{"$f":"\"56-60 %\"","v":"56-60 %"},{"$f":"\"61-65 %\"","v":"61-65 %"},{"$f":"\"66-70 %\"","v":"66-70 %"},{"$f":"\"71-75 %\"","v":"71-75 %"},{"$f":"\"76-80 %\"","v":"76-80 %"},{"$f":"\"81-85 %\"","v":"81-85 %"},{"$f":"\"více jak 85 %\"","v":"více jak 85 %"},null,null,null,"Velké","Nízká",3000,3050,0,0,"Ano",0,-13,0,0,-537]
[null,null,null,null,null,"\"Třídí málo\"                                                                                                                                                                      \"Třídí hodně\"",null,null,null,null,null,null,null,null,null,null,null,null,null,null,null,null,null,null,null,null,null,null,null,"\"Třídí málo\"                                                                                                                                                                      \"Třídí hodně\"",null,null,null,null,null,null,null,null,null,null,null,null,null,null,null,null,null,null,null,null,null,null,null,null,null,null,null,null,null,null,null,null,null,null,null,null,null,null,null,null,null,null,null,null,null,null,null,"\"Třídí málo\"                                                                                                                                                                      \"Třídí hodně\"",null,null,null,null,null,null,null,null,null,null,null,null,null,null,null,null,null,null,null,null,null,null,null,"\"Třídí málo\"                                                                                                                                                                      \"Třídí hodně\"",null,null,null,null,null,null,null,null,null,null,null,null,null,null,null,null,null,null,null,null,null,"Velké","Nízká",3000,3050,0,0,"NE",0,-13,0,0,-537]
["Roční celkový objem obsloužených nádob přepočtený na jednoho účastníka systému užívajícího dané nádoby (litry/účastník systému/rok)",6500,"-",6599,6550,{"$f":"ROUND(IF((($E88*F$14/100*$K$4)*(-1))>($F$5-50),($E88*F$14/100*$K$5)-((($E88*F$14/100*$K$4)*(-1))-($F$5-50)),($E88*F$14/100*$K$5))/($D$2-200)*100,0)","v":0},{"$f":"ROUND(IF((($E88*G$14/100*$K$4)*(-1))>($F$5-50),($E88*G$14/100*$K$5)-((($E88*G$14/100*$K$4)*(-1))-($F$5-50)),($E88*G$14/100*$K$5))/($D$2-200)*100,0)","v":7},18,25,25,25,25,25,25,25,25,25,25,25,25,25,25,25,25,"Roční celkový objem obsloužených nádob přepočtený na jednoho účastníka systému užívajícího dané nádoby (litry/účastník systému/rok)",6500,"-",6599,null,{"$f":"ROUND(IF(IF(IF((($E88*(100-AD$14)/100*$K$3)*(-1))<$F$4,$F$6,IF((($E88*(100-AD$14)/100*$K$3)*(-1))>=($F$4+$F$6),($E88*(100-AD$14)/100*$K$3)+($F$4+$F$6),($F$6-((($E88*(100-AD$14)/100*$K$3)*(-1))-$F$4))))>=0,IF((($E88*(100-AD$14)/100*$K$3)*(-1))<$F$4,$F$6,IF((($E88*(100-AD$14)/100*$K$3)*(-1))>=($F$4+$F$6),($E88*(100-AD$14)/100*$K$3)+($F$4+$F$6),($F$6-((($E88*(100-AD$14)/100*$K$3)*(-1))-$F$4)))),IF(IF((($E88*(100-AD$14)/100*$K$3)*(-1))<$F$4,$F$6,IF((($E88*(100-AD$14)/100*$K$3)*(-1))>=($F$4+$F$6),($E88*(100-AD$14)/100*$K$3)+($F$4+$F$6),($F$6-((($E88*(100-AD$14)/100*$K$3)*(-1))-$F$4))))*(-1)<=$F$7,0,$F$7+IF((($E88*(100-AD$14)/100*$K$3)*(-1))<$F$4,$F$6,IF((($E88*(100-AD$14)/100*$K$3)*(-1))>=($F$4+$F$6),($E88*(100-AD$14)/100*$K$3)+($F$4+$F$6),($F$6-((($E88*(100-AD$14)/100*$K$3)*(-1))-$F$4))))))*(-1)>$F$5,$F$5*(-1),IF(IF((($E88*(100-AD$14)/100*$K$3)*(-1))<$F$4,$F$6,IF((($E88*(100-AD$14)/100*$K$3)*(-1))>=($F$4+$F$6),($E88*(100-AD$14)/100*$K$3)+($F$4+$F$6),($F$6-((($E88*(100-AD$14)/100*$K$3)*(-1))-$F$4))))>=0,IF((($E88*(100-AD$14)/100*$K$3)*(-1))<$F$4,$F$6,IF((($E88*(100-AD$14)/100*$K$3)*(-1))>=($F$4+$F$6),($E88*(100-AD$14)/100*$K$3)+($F$4+$F$6),($F$6-((($E88*(100-AD$14)/100*$K$3)*(-1))-$F$4)))),IF(IF((($E88*(100-AD$14)/100*$K$3)*(-1))<$F$4,$F$6,IF((($E88*(100-AD$14)/100*$K$3)*(-1))>=($F$4+$F$6),($E88*(100-AD$14)/100*$K$3)+($F$4+$F$6),($F$6-((($E88*(100-AD$14)/100*$K$3)*(-1))-$F$4))))*(-1)<=$F$7,0,$F$7+IF((($E88*(100-AD$14)/100*$K$3)*(-1))<$F$4,$F$6,IF((($E88*(100-AD$14)/100*$K$3)*(-1))>=($F$4+$F$6),($E88*(100-AD$14)/100*$K$3)+($F$4+$F$6),($F$6-((($E88*(100-AD$14)/100*$K$3)*(-1))-$F$4)))))))/$D$2*100/2,0)","v":-13},{"$f":"ROUND(IF(IF(IF((($E88*(100-AE$14)/100*$K$3)*(-1))<$F$4,$F$6,IF((($E88*(100-AE$14)/100*$K$3)*(-1))>=($F$4+$F$6),($E88*(100-AE$14)/100*$K$3)+($F$4+$F$6),($F$6-((($E88*(100-AE$14)/100*$K$3)*(-1))-$F$4))))>=0,IF((($E88*(100-AE$14)/100*$K$3)*(-1))<$F$4,$F$6,IF((($E88*(100-AE$14)/100*$K$3)*(-1))>=($F$4+$F$6),($E88*(100-AE$14)/100*$K$3)+($F$4+$F$6),($F$6-((($E88*(100-AE$14)/100*$K$3)*(-1))-$F$4)))),IF(IF((($E88*(100-AE$14)/100*$K$3)*(-1))<$F$4,$F$6,IF((($E88*(100-AE$14)/100*$K$3)*(-1))>=($F$4+$F$6),($E88*(100-AE$14)/100*$K$3)+($F$4+$F$6),($F$6-((($E88*(100-AE$14)/100*$K$3)*(-1))-$F$4))))*(-1)<=$F$7,0,$F$7+IF((($E88*(100-AE$14)/100*$K$3)*(-1))<$F$4,$F$6,IF((($E88*(100-AE$14)/100*$K$3)*(-1))>=($F$4+$F$6),($E88*(100-AE$14)/100*$K$3)+($F$4+$F$6),($F$6-((($E88*(100-AE$14)/100*$K$3)*(-1))-$F$4))))))*(-1)>$F$5,$F$5*(-1),IF(IF((($E88*(100-AE$14)/100*$K$3)*(-1))<$F$4,$F$6,IF((($E88*(100-AE$14)/100*$K$3)*(-1))>=($F$4+$F$6),($E88*(100-AE$14)/100*$K$3)+($F$4+$F$6),($F$6-((($E88*(100-AE$14)/100*$K$3)*(-1))-$F$4))))>=0,IF((($E88*(100-AE$14)/100*$K$3)*(-1))<$F$4,$F$6,IF((($E88*(100-AE$14)/100*$K$3)*(-1))>=($F$4+$F$6),($E88*(100-AE$14)/100*$K$3)+($F$4+$F$6),($F$6-((($E88*(100-AE$14)/100*$K$3)*(-1))-$F$4)))),IF(IF((($E88*(100-AE$14)/100*$K$3)*(-1))<$F$4,$F$6,IF((($E88*(100-AE$14)/100*$K$3)*(-1))>=($F$4+$F$6),($E88*(100-AE$14)/100*$K$3)+($F$4+$F$6),($F$6-((($E88*(100-AE$14)/100*$K$3)*(-1))-$F$4))))*(-1)<=$F$7,0,$F$7+IF((($E88*(100-AE$14)/100*$K$3)*(-1))<$F$4,$F$6,IF((($E88*(100-AE$14)/100*$K$3)*(-1))>=($F$4+$F$6),($E88*(100-AE$14)/100*$K$3)+($F$4+$F$6),($F$6-((($E88*(100-AE$14)/100*$K$3)*(-1))-$F$4)))))))/$D$2*100/2,0)","v":-13},-13,-13,-13,-13,-13,-13,-13,-13,-13,-13,-13,-13,-13,-13,-11,-2,0,null,null,null,null,null,null,null,null,null,null,null,null,null,null,null,null,null,null,null,null,null,null,null,null,"Roční celkový objem obsloužených nádob přepočtený na jednoho účastníka systému užívajícího dané nádoby (litry/účastník systému/rok)",6500,"-",6599,null,{"$f":"IF((F88+AD88+BB88)<0,0,(F88+AD88+BB88))","v":0},0,5,12,12,12,12,12,12,12,12,12,12,12,12,12,14,23,25,{"$f":"E88","v":6550},"Roční celkový objem obsloužených nádob přepočtený na jednoho účastníka systému užívajícího dané nádoby (litry/účastník systému/rok)",6500,"-",6599,{"$f":"$DC$4-(BZ88/100*$DC$4)+($CS88*(100-CX$14)/100*$DH$3)+($CS88*(CX$14)/100*$DH$4)+($CS88*(CX$14)/100*$DH$5)","v":-1727},{"$f":"$DC$4-(CA88/100*$DC$4)+($CS88*(100-CY$14)/100*$DH$3)+($CS88*(CY$14)/100*$DH$4)+($CS88*(CY$14)/100*$DH$5)","v":-1660.19},{"$f":"$DC$4-(CB88/100*$DC$4)+($CS88*(100-CZ$14)/100*$DH$3)+($CS88*(CZ$14)/100*$DH$4)+($CS88*(CZ$14)/100*$DH$5)","v":-1573.8400000000001},{"$f":"$DC$4-(CC88/100*$DC$4)+($CS88*(100-DA$14)/100*$DH$3)+($CS88*(DA$14)/100*$DH$4)+($CS88*(DA$14)/100*$DH$5)","v":-1497.4900000000002},{"$f":"$DC$4-(CD88/100*$DC$4)+($CS88*(100-DB$14)/100*$DH$3)+($CS88*(DB$14)/100*$DH$4)+($CS88*(DB$14)/100*$DH$5)","v":-1386.14},{"$f":"$DC$4-(CE88/100*$DC$4)+($CS88*(100-DC$14)/100*$DH$3)+($CS88*(DC$14)/100*$DH$4)+($CS88*(DC$14)/100*$DH$5)","v":-1274.7900000000002},{"$f":"$DC$4-(CF88/100*$DC$4)+($CS88*(100-DD$14)/100*$DH$3)+($CS88*(DD$14)/100*$DH$4)+($CS88*(DD$14)/100*$DH$5)","v":-1163.44},{"$f":"$DC$4-(CG88/100*$DC$4)+($CS88*(100-DE$14)/100*$DH$3)+($CS88*(DE$14)/100*$DH$4)+($CS88*(DE$14)/100*$DH$5)","v":-1052.0900000000001},{"$f":"$DC$4-(CH88/100*$DC$4)+($CS88*(100-DF$14)/100*$DH$3)+($CS88*(DF$14)/100*$DH$4)+($CS88*(DF$14)/100*$DH$5)","v":-940.74},{"$f":"$DC$4-(CI88/100*$DC$4)+($CS88*(100-DG$14)/100*$DH$3)+($CS88*(DG$14)/100*$DH$4)+($CS88*(DG$14)/100*$DH$5)","v":-829.39000000000021},{"$f":"$DC$4-(CJ88/100*$DC$4)+($CS88*(100-DH$14)/100*$DH$3)+($CS88*(DH$14)/100*$DH$4)+($CS88*(DH$14)/100*$DH$5)","v":-718.04000000000019},{"$f":"$DC$4-(CK88/100*$DC$4)+($CS88*(100-DI$14)/100*$DH$3)+($CS88*(DI$14)/100*$DH$4)+($CS88*(DI$14)/100*$DH$5)","v":-606.69000000000005},{"$f":"$DC$4-(CL88/100*$DC$4)+($CS88*(100-DJ$14)/100*$DH$3)+($CS88*(DJ$14)/100*$DH$4)+($CS88*(DJ$14)/100*$DH$5)","v":-495.34000000000003},{"$f":"$DC$4-(CM88/100*$DC$4)+($CS88*(100-DK$14)/100*$DH$3)+($CS88*(DK$14)/100*$DH$4)+($CS88*(DK$14)/100*$DH$5)","v":-383.99},{"$f":"$DC$4-(CN88/100*$DC$4)+($CS88*(100-DL$14)/100*$DH$3)+($CS88*(DL$14)/100*$DH$4)+($CS88*(DL$14)/100*$DH$5*0.66)","v":-484.6504000000001},{"$f":"$DC$4-(CO88/100*$DC$4)+($CS88*(100-DM$14)/100*$DH$3)+($CS88*(DM$14)/100*$DH$4)+($CS88*(DM$14)/100*$DH$5*0.66)","v":-388.88940000000008},{"$f":"$DC$4-(CP88/100*$DC$4)+($CS88*(100-DN$14)/100*$DH$3)+($CS88*(DN$14)/100*$DH$4)+($CS88*(DN$14)/100*$DH$5*0.66)","v":-303.12840000000006},{"$f":"$DC$4-(CQ88/100*$DC$4)+($CS88*(100-DO$14)/100*$DH$3)+($CS88*(DO$14)/100*$DH$4)+($CS88*(DO$14)/100*$DH$5*0.66)","v":-252.36740000000003},{"$f":"$DC$4-(CR88/100*$DC$4)+($CS88*(100-DP$14)/100*$DH$3)+($CS88*(DP$14)/100*$DH$4)+($CS88*(DP$14)/100*$DH$5*0.66)","v":-204.91079999999999}]
[null,6600,"-",6699,6650,{"$f":"ROUND(IF((($E89*F$14/100*$K$4)*(-1))>($F$5-50),($E89*F$14/100*$K$5)-((($E89*F$14/100*$K$4)*(-1))-($F$5-50)),($E89*F$14/100*$K$5))/($D$2-200)*100,0)","v":0},7,19,25,25,25,25,25,25,25,25,25,25,25,25,25,25,25,25,null,6600,"-",6699,null,{"$f":"ROUND(IF(IF(IF((($E89*(100-AD$14)/100*$K$3)*(-1))<$F$4,$F$6,IF((($E89*(100-AD$14)/100*$K$3)*(-1))>=($F$4+$F$6),($E89*(100-AD$14)/100*$K$3)+($F$4+$F$6),($F$6-((($E89*(100-AD$14)/100*$K$3)*(-1))-$F$4))))>=0,IF((($E89*(100-AD$14)/100*$K$3)*(-1))<$F$4,$F$6,IF((($E89*(100-AD$14)/100*$K$3)*(-1))>=($F$4+$F$6),($E89*(100-AD$14)/100*$K$3)+($F$4+$F$6),($F$6-((($E89*(100-AD$14)/100*$K$3)*(-1))-$F$4)))),IF(IF((($E89*(100-AD$14)/100*$K$3)*(-1))<$F$4,$F$6,IF((($E89*(100-AD$14)/100*$K$3)*(-1))>=($F$4+$F$6),($E89*(100-AD$14)/100*$K$3)+($F$4+$F$6),($F$6-((($E89*(100-AD$14)/100*$K$3)*(-1))-$F$4))))*(-1)<=$F$7,0,$F$7+IF((($E89*(100-AD$14)/100*$K$3)*(-1))<$F$4,$F$6,IF((($E89*(100-AD$14)/100*$K$3)*(-1))>=($F$4+$F$6),($E89*(100-AD$14)/100*$K$3)+($F$4+$F$6),($F$6-((($E89*(100-AD$14)/100*$K$3)*(-1))-$F$4))))))*(-1)>$F$5,$F$5*(-1),IF(IF((($E89*(100-AD$14)/100*$K$3)*(-1))<$F$4,$F$6,IF((($E89*(100-AD$14)/100*$K$3)*(-1))>=($F$4+$F$6),($E89*(100-AD$14)/100*$K$3)+($F$4+$F$6),($F$6-((($E89*(100-AD$14)/100*$K$3)*(-1))-$F$4))))>=0,IF((($E89*(100-AD$14)/100*$K$3)*(-1))<$F$4,$F$6,IF((($E89*(100-AD$14)/100*$K$3)*(-1))>=($F$4+$F$6),($E89*(100-AD$14)/100*$K$3)+($F$4+$F$6),($F$6-((($E89*(100-AD$14)/100*$K$3)*(-1))-$F$4)))),IF(IF((($E89*(100-AD$14)/100*$K$3)*(-1))<$F$4,$F$6,IF((($E89*(100-AD$14)/100*$K$3)*(-1))>=($F$4+$F$6),($E89*(100-AD$14)/100*$K$3)+($F$4+$F$6),($F$6-((($E89*(100-AD$14)/100*$K$3)*(-1))-$F$4))))*(-1)<=$F$7,0,$F$7+IF((($E89*(100-AD$14)/100*$K$3)*(-1))<$F$4,$F$6,IF((($E89*(100-AD$14)/100*$K$3)*(-1))>=($F$4+$F$6),($E89*(100-AD$14)/100*$K$3)+($F$4+$F$6),($F$6-((($E89*(100-AD$14)/100*$K$3)*(-1))-$F$4)))))))/$D$2*100/2,0)","v":-13},-13,-13,-13,-13,-13,-13,-13,-13,-13,-13,-13,-13,-13,-13,-13,-12,-3,0,null,null,null,null,null,null,null,null,null,null,null,null,null,null,null,null,null,null,null,null,null,null,null,null,null,6600,"-",6699,null,{"$f":"IF((F89+AD89+BB89)<0,0,(F89+AD89+BB89))","v":0},{"$f":"IF((G89+AE89+BC89)<0,0,(G89+AE89+BC89))","v":0},{"$f":"IF((H89+AF89+BD89)<0,0,(H89+AF89+BD89))","v":6},{"$f":"IF((I89+AG89+BE89)<0,0,(I89+AG89+BE89))","v":12},{"$f":"IF((J89+AH89+BF89)<0,0,(J89+AH89+BF89))","v":12},{"$f":"IF((K89+AI89+BG89)<0,0,(K89+AI89+BG89))","v":12},{"$f":"IF((L89+AJ89+BH89)<0,0,(L89+AJ89+BH89))","v":12},{"$f":"IF((M89+AK89+BI89)<0,0,(M89+AK89+BI89))","v":12},{"$f":"IF((N89+AL89+BJ89)<0,0,(N89+AL89+BJ89))","v":12},{"$f":"IF((O89+AM89+BK89)<0,0,(O89+AM89+BK89))","v":12},{"$f":"IF((P89+AN89+BL89)<0,0,(P89+AN89+BL89))","v":12},{"$f":"IF((Q89+AO89+BM89)<0,0,(Q89+AO89+BM89))","v":12},{"$f":"IF((R89+AP89+BN89)<0,0,(R89+AP89+BN89))","v":12},{"$f":"IF((S89+AQ89+BO89)<0,0,(S89+AQ89+BO89))","v":12},{"$f":"IF((T89+AR89+BP89)<0,0,(T89+AR89+BP89))","v":12},{"$f":"IF((U89+AS89+BQ89)<0,0,(U89+AS89+BQ89))","v":12},{"$f":"IF((V89+AT89+BR89)<0,0,(V89+AT89+BR89))","v":13},{"$f":"IF((W89+AU89+BS89)<0,0,(W89+AU89+BS89))","v":22},{"$f":"IF((X89+AV89+BT89)<0,0,(X89+AV89+BT89))","v":25},6650,null,6600,"-",6699,-1761,-1693.17,-1610.1200000000003,-1527.0700000000002,-1414.0200000000002,-1300.97,-1187.92,-1074.8700000000001,-961.82000000000016,-848.76999999999987,-735.72,-622.67000000000007,-509.62000000000012,-396.57000000000005,{"$f":"$DC$4-(CN89/100*$DC$4)+($CS89*(100-DL$14)/100*$DH$3)+($CS89*(DL$14)/100*$DH$4)+($CS89*(DL$14)/100*$DH$5*0.66)","v":-498.76720000000012},{"$f":"$DC$4-(CO89/100*$DC$4)+($CS89*(100-DM$14)/100*$DH$3)+($CS89*(DM$14)/100*$DH$4)+($CS89*(DM$14)/100*$DH$5*0.66)","v":-401.54420000000005},{"$f":"$DC$4-(CP89/100*$DC$4)+($CS89*(100-DN$14)/100*$DH$3)+($CS89*(DN$14)/100*$DH$4)+($CS89*(DN$14)/100*$DH$5*0.66)","v":-309.32120000000009},{"$f":"$DC$4-(CQ89/100*$DC$4)+($CS89*(100-DO$14)/100*$DH$3)+($CS89*(DO$14)/100*$DH$4)+($CS89*(DO$14)/100*$DH$5*0.66)","v":-257.09819999999996},{"$f":"$DC$4-(CR89/100*$DC$4)+($CS89*(100-DP$14)/100*$DH$3)+($CS89*(DP$14)/100*$DH$4)+($CS89*(DP$14)/100*$DH$5*0.66)","v":-213.76440000000002}]
[null,6700,"-",6799,6750,0,7,19,25,25,25,25,25,25,25,25,25,25,25,25,25,25,25,25,null,6700,"-",6799,null,-13,-13,-13,-13,-13,-13,-13,-13,-13,-13,-13,-13,-13,-13,-13,-13,-13,-3,0,null,null,null,null,null,null,null,null,null,null,null,null,null,null,null,null,null,null,null,null,null,null,null,null,null,6700,"-",6799,null,0,0,6,12,12,12,12,12,12,12,12,12,12,12,12,12,12,22,25,6750,null,6700,"-",6799,-1795,-1726.15,-1641.4,-1556.65,-1441.9,-1327.15,-1212.4000000000001,-1097.6500000000001,-982.9,-868.15,-753.4,-638.65,-523.9,-409.15000000000009,-512.88400000000001,-414.19900000000007,-315.51399999999995,-266.82899999999995,-222.61799999999994]
[null,6800,"-",6899,6850,0,7,19,25,25,25,25,25,25,25,25,25,25,25,25,25,25,25,25,null,6800,"-",6899,null,-13,-13,-13,-13,-13,-13,-13,-13,-13,-13,-13,-13,-13,-13,-13,-13,-13,-3,0,null,null,null,null,null,null,null,null,null,null,null,null,null,null,null,null,null,null,null,null,null,null,null,null,null,6800,"-",6899,null,0,0,6,12,12,12,12,12,12,12,12,12,12,12,12,12,12,22,25,6850,null,6800,"-",6899,-1829,-1759.13,-1672.6800000000003,-1586.2300000000002,-1469.7800000000002,-1353.3300000000002,-1236.8800000000001,-1120.43,-1003.98,-887.5300000000002,-771.08,-654.63000000000011,-538.18000000000006,-421.73,-527.00080000000003,-426.85380000000004,-326.70679999999999,-276.5598,-231.47160000000008]
[null,6900,"-",6999,6950,0,7,19,25,25,25,25,25,25,25,25,25,25,25,25,25,25,25,25,null,6900,"-",6999,null,-13,-13,-13,-13,-13,-13,-13,-13,-13,-13,-13,-13,-13,-13,-13,-13,-13,-4,0,null,null,null,null,null,null,null,null,null,null,null,null,null,null,null,null,null,null,null,null,null,null,null,null,null,6900,"-",6999,null,0,0,6,12,12,12,12,12,12,12,12,12,12,12,12,12,12,21,25,6950,null,6900,"-",6999,-1863,-1792.1100000000001,-1703.96,-1615.81,-1497.66,-1379.5100000000002,-1261.3600000000001,-1143.21,-1025.0600000000002,-906.91000000000008,-788.76,-670.61000000000013,-552.46000000000015,-434.31000000000017,-541.11760000000004,-439.5086,-337.89960000000002,-281.29060000000004,-240.32520000000011]
[null,7000,"-",7099,7050,0,7,20,25,25,25,25,25,25,25,25,25,25,25,25,25,25,25,25,null,7000,"-",7099,null,-13,-13,-13,-13,-13,-13,-13,-13,-13,-13,-13,-13,-13,-13,-13,-13,-13,-4,0,null,null,null,null,null,null,null,null,null,null,null,null,null,null,null,null,null,null,null,null,null,null,null,null,null,7000,"-",7099,null,0,0,7,12,12,12,12,12,12,12,12,12,12,12,12,12,12,21,25,7050,null,7000,"-",7099,-1897,-1825.0900000000001,-1740.2400000000002,-1645.3900000000003,-1525.5400000000002,-1405.69,-1285.8400000000001,-1165.99,-1046.1400000000003,-926.29000000000019,-806.44,-686.59000000000026,-566.74000000000024,-446.89000000000021,-555.23440000000005,-452.16340000000008,-349.09240000000005,-291.02139999999997,-249.17880000000002]
[null,7100,"-",7199,7150,0,8,20,25,25,25,25,25,25,25,25,25,25,25,25,25,25,25,25,null,7100,"-",7199,null,-13,-13,-13,-13,-13,-13,-13,-13,-13,-13,-13,-13,-13,-13,-13,-13,-13,-5,0,null,null,null,null,null,null,null,null,null,null,null,null,null,null,null,null,null,null,null,null,null,null,null,null,null,7100,"-",7199,null,0,0,7,12,12,12,12,12,12,12,12,12,12,12,12,12,12,20,25,7150,null,7100,"-",7199,-1931,-1858.0700000000002,-1771.52,-1674.9700000000003,-1553.42,-1431.8700000000001,-1310.3200000000002,-1188.7700000000004,-1067.22,-945.67000000000007,-824.12000000000012,-702.57000000000028,-581.0200000000001,-459.47,-569.35120000000006,-464.81819999999999,-360.28520000000003,-295.75220000000013,-258.03240000000005]
[null,7200,"-",7299,7250,0,8,20,25,25,25,25,25,25,25,25,25,25,25,25,25,25,25,25,null,7200,"-",7299,null,-13,-13,-13,-13,-13,-13,-13,-13,-13,-13,-13,-13,-13,-13,-13,-13,-13,-5,0,null,null,null,null,null,null,null,null,null,null,null,null,null,null,null,null,null,null,null,null,null,null,null,null,null,7200,"-",7299,null,0,0,7,12,12,12,12,12,12,12,12,12,12,12,12,12,12,20,25,7250,null,7200,"-",7299,-1965,-1891.0500000000002,-1802.8000000000002,-1704.5500000000002,-1581.3000000000002,-1458.0500000000002,-1334.8000000000002,-1211.5500000000002,-1088.3000000000002,-965.05000000000018,-841.80000000000018,-718.55000000000018,-595.30000000000018,-472.04999999999995,-583.46799999999996,-477.47300000000007,-371.47800000000007,-305.48299999999995,-266.88600000000008]
[null,7300,"-",7399,7350,0,8,21,25,25,25,25,25,25,25,25,25,25,25,25,25,25,25,25,null,7300,"-",7399,null,-13,-13,-13,-13,-13,-13,-13,-13,-13,-13,-13,-13,-13,-13,-13,-13,-13,-6,0,null,null,null,null,null,null,null,null,null,null,null,null,null,null,null,null,null,null,null,null,null,null,null,null,null,7300,"-",7399,null,0,0,8,12,12,12,12,12,12,12,12,12,12,12,12,12,12,19,25,7350,null,7300,"-",7399,-1999,-1924.0300000000002,-1839.0800000000004,-1734.13,-1609.1800000000003,-1484.2300000000002,-1359.2800000000002,-1234.33,-1109.3800000000001,-984.43000000000006,-859.48,-734.53000000000009,-609.58000000000004,-484.63,-597.58480000000009,-490.12780000000004,-382.6708000000001,-310.21379999999999,-275.7396]
[null,7400,"-",7499,7450,0,8,21,25,25,25,25,25,25,25,25,25,25,25,25,25,25,25,25,null,7400,"-",7499,null,-13,-13,-13,-13,-13,-13,-13,-13,-13,-13,-13,-13,-13,-13,-13,-13,-13,-6,0,null,null,null,null,null,null,null,null,null,null,null,null,null,null,null,null,null,null,null,null,null,null,null,null,null,7400,"-",7499,null,0,0,8,12,12,12,12,12,12,12,12,12,12,12,12,12,12,19,25,7450,null,7400,"-",7499,-2033,-1957.0100000000002,-1870.3600000000001,-1763.71,-1637.06,-1510.41,-1383.7600000000002,-1257.1100000000001,-1130.46,-1003.8100000000002,-877.16000000000008,-750.5100000000001,-623.86000000000013,-497.21000000000015,-611.7016000000001,-502.78260000000012,-393.86360000000002,-319.94460000000004,-284.59320000000002]
[null,7500,"-",7599,7550,0,8,21,25,25,25,25,25,25,25,25,25,25,25,25,25,25,25,25,null,7500,"-",7599,null,-13,-13,-13,-13,-13,-13,-13,-13,-13,-13,-13,-13,-13,-13,-13,-13,-13,-7,0,null,null,null,null,null,null,null,null,null,null,null,null,null,null,null,null,null,null,null,null,null,null,null,null,null,7500,"-",7599,null,0,0,8,12,12,12,12,12,12,12,12,12,12,12,12,12,12,18,25,7550,null,7500,"-",7599,-2067,-1989.9900000000002,-1901.6400000000003,-1793.29,-1664.94,-1536.5900000000001,-1408.2400000000002,-1279.8900000000003,-1151.5400000000002,-1023.19,-894.84000000000015,-766.49,-638.14000000000021,-509.79000000000019,-625.81840000000011,-515.43740000000014,-405.05639999999994,-324.67539999999997,-293.44680000000005]
[null,7600,"-",7699,7650,0,8,21,25,25,25,25,25,25,25,25,25,25,25,25,25,25,25,25,null,7600,"-",7699,null,-13,-13,-13,-13,-13,-13,-13,-13,-13,-13,-13,-13,-13,-13,-13,-13,-13,-7,-1,null,null,null,null,null,null,null,null,null,null,null,null,null,null,null,null,null,null,null,null,null,null,null,null,null,7600,"-",7699,null,0,0,8,12,12,12,12,12,12,12,12,12,12,12,12,12,12,18,24,7650,null,7600,"-",7699,-2101,-2022.9700000000003,-1932.92,-1822.8700000000003,-1692.8200000000002,-1562.7700000000002,-1432.72,-1302.67,-1172.6200000000001,-1042.5700000000002,-912.52000000000032,-782.47,-652.42000000000007,-522.37000000000012,-639.93520000000012,-528.09220000000005,-416.24920000000009,-334.40620000000001,-297.30039999999997]
[null,7700,"-",7799,7750,0,8,22,25,25,25,25,25,25,25,25,25,25,25,25,25,25,25,25,null,7700,"-",7799,null,-13,-13,-13,-13,-13,-13,-13,-13,-13,-13,-13,-13,-13,-13,-13,-13,-13,-8,-1,null,null,null,null,null,null,null,null,null,null,null,null,null,null,null,null,null,null,null,null,null,null,null,null,null,7700,"-",7799,null,0,0,9,12,12,12,12,12,12,12,12,12,12,12,12,12,12,17,24,7750,null,7700,"-",7799,-2135,-2055.9500000000003,-1969.2000000000005,-1852.4500000000003,-1720.7000000000003,-1588.95,-1457.2,-1325.45,-1193.7,-1061.9499999999998,-930.19999999999993,-798.44999999999993,-666.69999999999993,-534.94999999999993,-654.05199999999991,-540.74699999999996,-427.44200000000001,-339.13700000000006,-306.15400000000011]
[null,7800,"-",7899,7850,0,8,22,25,25,25,25,25,25,25,25,25,25,25,25,25,25,25,25,null,7800,"-",7899,null,-13,-13,-13,-13,-13,-13,-13,-13,-13,-13,-13,-13,-13,-13,-13,-13,-13,-8,-2,null,null,null,null,null,null,null,null,null,null,null,null,null,null,null,null,null,null,null,null,null,null,null,null,null,7800,"-",7899,null,0,0,9,12,12,12,12,12,12,12,12,12,12,12,12,12,12,17,23,7850,null,7800,"-",7899,-2169,-2088.9300000000003,-2000.48,-1882.0300000000002,-1748.5800000000004,-1615.13,-1481.68,-1348.23,-1214.7800000000002,-1081.33,-947.88,-814.43000000000006,-680.98,-547.53,-668.16880000000003,-553.40179999999998,-438.63480000000004,-348.86779999999999,-310.00760000000014]
[null,7900,"-",7999,7950,0,8,22,25,{"$f":"ROUND(IF((($E102*J$14/100*$K$4)*(-1))>($F$5-50),($E102*J$14/100*$K$5)-((($E102*J$14/100*$K$4)*(-1))-($F$5-50)),($E102*J$14/100*$K$5))/($D$2-200)*100,0)","v":25},25,25,25,25,25,25,25,25,25,25,25,25,25,25,null,7900,"-",7999,null,-13,-13,-13,-13,{"$f":"ROUND(IF(IF(IF((($E102*(100-AH$14)/100*$K$3)*(-1))<$F$4,$F$6,IF((($E102*(100-AH$14)/100*$K$3)*(-1))>=($F$4+$F$6),($E102*(100-AH$14)/100*$K$3)+($F$4+$F$6),($F$6-((($E102*(100-AH$14)/100*$K$3)*(-1))-$F$4))))>=0,IF((($E102*(100-AH$14)/100*$K$3)*(-1))<$F$4,$F$6,IF((($E102*(100-AH$14)/100*$K$3)*(-1))>=($F$4+$F$6),($E102*(100-AH$14)/100*$K$3)+($F$4+$F$6),($F$6-((($E102*(100-AH$14)/100*$K$3)*(-1))-$F$4)))),IF(IF((($E102*(100-AH$14)/100*$K$3)*(-1))<$F$4,$F$6,IF((($E102*(100-AH$14)/100*$K$3)*(-1))>=($F$4+$F$6),($E102*(100-AH$14)/100*$K$3)+($F$4+$F$6),($F$6-((($E102*(100-AH$14)/100*$K$3)*(-1))-$F$4))))*(-1)<=$F$7,0,$F$7+IF((($E102*(100-AH$14)/100*$K$3)*(-1))<$F$4,$F$6,IF((($E102*(100-AH$14)/100*$K$3)*(-1))>=($F$4+$F$6),($E102*(100-AH$14)/100*$K$3)+($F$4+$F$6),($F$6-((($E102*(100-AH$14)/100*$K$3)*(-1))-$F$4))))))*(-1)>$F$5,$F$5*(-1),IF(IF((($E102*(100-AH$14)/100*$K$3)*(-1))<$F$4,$F$6,IF((($E102*(100-AH$14)/100*$K$3)*(-1))>=($F$4+$F$6),($E102*(100-AH$14)/100*$K$3)+($F$4+$F$6),($F$6-((($E102*(100-AH$14)/100*$K$3)*(-1))-$F$4))))>=0,IF((($E102*(100-AH$14)/100*$K$3)*(-1))<$F$4,$F$6,IF((($E102*(100-AH$14)/100*$K$3)*(-1))>=($F$4+$F$6),($E102*(100-AH$14)/100*$K$3)+($F$4+$F$6),($F$6-((($E102*(100-AH$14)/100*$K$3)*(-1))-$F$4)))),IF(IF((($E102*(100-AH$14)/100*$K$3)*(-1))<$F$4,$F$6,IF((($E102*(100-AH$14)/100*$K$3)*(-1))>=($F$4+$F$6),($E102*(100-AH$14)/100*$K$3)+($F$4+$F$6),($F$6-((($E102*(100-AH$14)/100*$K$3)*(-1))-$F$4))))*(-1)<=$F$7,0,$F$7+IF((($E102*(100-AH$14)/100*$K$3)*(-1))<$F$4,$F$6,IF((($E102*(100-AH$14)/100*$K$3)*(-1))>=($F$4+$F$6),($E102*(100-AH$14)/100*$K$3)+($F$4+$F$6),($F$6-((($E102*(100-AH$14)/100*$K$3)*(-1))-$F$4)))))))/$D$2*100/2,0)","v":-13},-13,-13,-13,-13,-13,-13,-13,-13,-13,-13,-13,-13,-9,-2,null,null,null,null,null,null,null,null,null,null,null,null,null,null,null,null,null,null,null,null,null,null,null,null,null,7900,"-",7999,null,0,0,9,12,12,12,12,12,12,12,12,12,12,12,12,12,12,16,23,7950,null,7900,"-",7999,-2203,-2121.9100000000003,-2031.7600000000002,-1911.6100000000001,-1776.46,-1641.31,-1506.16,-1371.0100000000002,-1235.8600000000001,-1100.71,-965.56000000000017,-830.41000000000008,-695.2600000000001,-560.11000000000013,-682.28560000000016,-566.05660000000012,-449.82760000000007,-353.59860000000015,-318.86120000000005]
[null,8000,"-",8099,8050,0,8,23,25,25,25,25,25,25,25,25,25,25,25,25,25,{"$f":"ROUND(IF((($E103*V$14/100*$K$4)*(-1))>($F$5-50),($E103*V$14/100*$K$5)-((($E103*V$14/100*$K$4)*(-1))-($F$5-50)),($E103*V$14/100*$K$5))/($D$2-200)*100,0)","v":25},25,25,null,8000,"-",8099,null,-13,-13,-13,-13,-13,-13,-13,-13,-13,-13,-13,-13,-13,-13,-13,-13,{"$f":"ROUND(IF(IF(IF((($E103*(100-AT$14)/100*$K$3)*(-1))<$F$4,$F$6,IF((($E103*(100-AT$14)/100*$K$3)*(-1))>=($F$4+$F$6),($E103*(100-AT$14)/100*$K$3)+($F$4+$F$6),($F$6-((($E103*(100-AT$14)/100*$K$3)*(-1))-$F$4))))>=0,IF((($E103*(100-AT$14)/100*$K$3)*(-1))<$F$4,$F$6,IF((($E103*(100-AT$14)/100*$K$3)*(-1))>=($F$4+$F$6),($E103*(100-AT$14)/100*$K$3)+($F$4+$F$6),($F$6-((($E103*(100-AT$14)/100*$K$3)*(-1))-$F$4)))),IF(IF((($E103*(100-AT$14)/100*$K$3)*(-1))<$F$4,$F$6,IF((($E103*(100-AT$14)/100*$K$3)*(-1))>=($F$4+$F$6),($E103*(100-AT$14)/100*$K$3)+($F$4+$F$6),($F$6-((($E103*(100-AT$14)/100*$K$3)*(-1))-$F$4))))*(-1)<=$F$7,0,$F$7+IF((($E103*(100-AT$14)/100*$K$3)*(-1))<$F$4,$F$6,IF((($E103*(100-AT$14)/100*$K$3)*(-1))>=($F$4+$F$6),($E103*(100-AT$14)/100*$K$3)+($F$4+$F$6),($F$6-((($E103*(100-AT$14)/100*$K$3)*(-1))-$F$4))))))*(-1)>$F$5,$F$5*(-1),IF(IF((($E103*(100-AT$14)/100*$K$3)*(-1))<$F$4,$F$6,IF((($E103*(100-AT$14)/100*$K$3)*(-1))>=($F$4+$F$6),($E103*(100-AT$14)/100*$K$3)+($F$4+$F$6),($F$6-((($E103*(100-AT$14)/100*$K$3)*(-1))-$F$4))))>=0,IF((($E103*(100-AT$14)/100*$K$3)*(-1))<$F$4,$F$6,IF((($E103*(100-AT$14)/100*$K$3)*(-1))>=($F$4+$F$6),($E103*(100-AT$14)/100*$K$3)+($F$4+$F$6),($F$6-((($E103*(100-AT$14)/100*$K$3)*(-1))-$F$4)))),IF(IF((($E103*(100-AT$14)/100*$K$3)*(-1))<$F$4,$F$6,IF((($E103*(100-AT$14)/100*$K$3)*(-1))>=($F$4+$F$6),($E103*(100-AT$14)/100*$K$3)+($F$4+$F$6),($F$6-((($E103*(100-AT$14)/100*$K$3)*(-1))-$F$4))))*(-1)<=$F$7,0,$F$7+IF((($E103*(100-AT$14)/100*$K$3)*(-1))<$F$4,$F$6,IF((($E103*(100-AT$14)/100*$K$3)*(-1))>=($F$4+$F$6),($E103*(100-AT$14)/100*$K$3)+($F$4+$F$6),($F$6-((($E103*(100-AT$14)/100*$K$3)*(-1))-$F$4)))))))/$D$2*100/2,0)","v":-13},-9,-2,null,null,null,null,null,null,null,null,null,null,null,null,null,null,null,null,null,null,null,null,null,null,null,null,null,8000,"-",8099,null,0,0,10,12,12,12,12,12,12,12,12,12,12,12,12,12,12,16,23,8050,null,8000,"-",8099,-2237,-2154.8900000000003,-2068.04,-1941.1900000000003,-1804.3400000000001,-1667.4900000000002,-1530.64,-1393.7900000000002,-1256.94,-1120.0900000000001,-983.24,-846.39000000000021,-709.54000000000019,-572.69000000000017,-696.40240000000017,-578.71140000000003,-461.02040000000022,-363.32939999999996,-327.71479999999997]
[null,8100,"-",8199,8150,0,9,23,25,25,25,25,25,25,25,25,25,25,25,25,25,25,25,25,null,8100,"-",8199,null,-13,-13,-13,-13,-13,-13,-13,-13,-13,-13,-13,-13,-13,-13,-13,-13,-13,-10,-3,null,null,null,null,null,null,null,null,null,null,null,null,null,null,null,null,null,null,null,null,null,null,null,null,null,8100,"-",8199,null,0,0,10,12,12,12,12,12,12,12,12,12,12,12,12,12,12,15,22,8150,null,8100,"-",8199,-2271,-2187.8700000000003,-2099.3200000000002,-1970.77,-1832.2200000000003,-1693.67,-1555.1200000000001,-1416.5700000000002,-1278.0200000000004,-1139.47,-1000.9200000000001,-862.37000000000012,-723.82000000000028,-585.26999999999987,-710.51920000000007,-591.36620000000005,-472.21320000000003,-368.06020000000001,-331.56840000000011]
[null,8200,"-",8299,8250,0,9,23,25,25,25,25,25,25,25,25,25,25,25,25,25,25,25,25,null,8200,"-",8299,null,-13,-13,-13,-13,-13,-13,-13,-13,-13,-13,-13,-13,-13,-13,-13,-13,-13,-10,-3,null,null,null,null,null,null,null,null,null,null,null,null,null,null,null,null,null,null,null,null,null,null,null,null,null,8200,"-",8299,null,0,0,10,12,12,12,12,12,12,12,12,12,12,12,12,12,12,15,22,8250,null,8200,"-",8299,-2305,-2220.8500000000004,-2130.6000000000004,-2000.3500000000004,-1860.1000000000004,-1719.8500000000004,-1579.6000000000001,-1439.3500000000001,-1299.1000000000001,-1158.8500000000001,-1018.6000000000001,-878.35000000000014,-738.10000000000014,-597.85000000000014,-724.63599999999997,-604.02099999999996,-483.40599999999995,-377.79100000000005,-340.42200000000003]
[null,8300,"-",8399,8350,0,9,23,25,25,25,25,25,25,25,25,25,25,25,25,25,25,25,25,null,8300,"-",8399,null,-13,-13,-13,-13,-13,-13,-13,-13,-13,-13,-13,-13,-13,-13,-13,-13,-13,-11,-4,null,null,null,null,null,null,null,null,null,null,null,null,null,null,null,null,null,null,null,null,null,null,null,null,null,8300,"-",8399,null,0,0,10,12,12,12,12,12,12,12,12,12,12,12,12,12,12,14,21,8350,null,8300,"-",8399,-2339,-2253.8300000000004,-2161.88,-2029.9300000000005,-1887.98,-1746.0300000000002,-1604.08,-1462.13,-1320.18,-1178.23,-1036.2800000000002,-894.33,-752.38,-610.43000000000006,-738.75279999999998,-616.67579999999998,-494.59879999999998,-382.52179999999998,-344.27560000000005]
[null,8400,"-",8499,8450,0,9,24,25,25,25,25,25,25,25,25,25,25,25,25,25,25,25,25,null,8400,"-",8499,null,-13,-13,-13,-13,-13,-13,-13,-13,-13,-13,-13,-13,-13,-13,-13,-13,-13,-11,-4,null,null,null,null,null,null,null,null,null,null,null,null,null,null,null,null,null,null,null,null,null,null,null,null,null,8400,"-",8499,null,0,0,11,12,12,12,12,12,12,12,12,12,12,12,12,12,12,14,21,8450,null,8400,"-",8499,-2373,-2286.8100000000004,-2198.1600000000003,-2059.5100000000002,-1915.8600000000001,-1772.21,-1628.56,-1484.91,-1341.2600000000002,-1197.6100000000001,-1053.96,-910.31000000000017,-766.66000000000008,-623.0100000000001,-752.8696000000001,-629.33060000000012,-505.79160000000002,-392.25260000000003,-353.12920000000008]
[null,8500,"-",8599,8550,0,9,24,25,25,25,25,25,25,25,25,25,25,25,25,25,25,25,25,null,8500,"-",8599,null,-13,-13,-13,-13,-13,-13,-13,-13,-13,-13,-13,-13,-13,-13,-13,-13,-13,-12,-4,null,null,null,null,null,null,null,null,null,null,null,null,null,null,null,null,null,null,null,null,null,null,null,null,null,8500,"-",8599,null,0,0,11,12,12,12,12,12,12,12,12,12,12,12,12,12,12,13,21,8550,null,8500,"-",8599,-2407,-2319.7900000000004,-2229.44,-2089.09,-1943.7400000000002,-1798.3900000000003,-1653.04,-1507.69,-1362.3400000000001,-1216.99,-1071.6400000000003,-926.29000000000019,-780.94000000000017,-635.59000000000015,-766.98640000000023,-641.98540000000025,-516.98440000000016,-396.98340000000019,-361.9828]
[null,8600,"-",8699,8650,0,9,24,25,25,25,25,25,25,25,25,25,25,25,25,25,25,25,25,null,8600,"-",8699,null,-13,-13,-13,-13,-13,-13,-13,-13,-13,-13,-13,-13,-13,-13,-13,-13,-13,-12,-5,null,null,null,null,null,null,null,null,null,null,null,null,null,null,null,null,null,null,null,null,null,null,null,null,null,8600,"-",8699,null,0,0,11,12,12,12,12,12,12,12,12,12,12,12,12,12,12,13,20,8650,null,8600,"-",8699,-2441,-2352.77,-2260.7200000000003,-2118.67,-1971.6200000000003,-1824.5700000000004,-1677.52,-1530.4700000000003,-1383.42,-1236.3700000000001,-1089.3200000000002,-942.27000000000032,-795.22,-648.17000000000007,-781.10320000000024,-654.64020000000005,-528.17720000000008,-406.71420000000001,-365.83640000000003]
[null,8700,"-",8799,8750,0,9,25,25,25,25,25,25,25,25,25,25,25,25,25,25,25,25,25,null,8700,"-",8799,null,-13,-13,-13,-13,-13,-13,-13,-13,-13,-13,-13,-13,-13,-13,-13,-13,-13,-13,-5,null,null,null,null,null,null,null,null,null,null,null,null,null,null,null,null,null,null,null,null,null,null,null,null,null,8700,"-",8799,null,0,0,12,12,12,12,12,12,12,12,12,12,12,12,12,12,12,12,20,8750,null,8700,"-",8799,-2475,-2385.75,-2297,-2148.25,-1999.5,-1850.75,-1702,-1553.2500000000002,-1404.5000000000002,-1255.7500000000002,-1107,-958.24999999999989,-809.49999999999989,-660.74999999999989,-795.22000000000014,-667.29500000000007,-539.36999999999989,-411.44500000000016,-374.68999999999994]
[null,8800,"-",8899,8850,0,9,25,25,25,25,25,25,25,25,25,25,25,25,25,25,25,25,25,null,8800,"-",8899,null,-13,-13,-13,-13,-13,-13,-13,-13,-13,-13,-13,-13,-13,-13,-13,-13,-13,-13,-6,null,null,null,null,null,null,null,null,null,null,null,null,null,null,null,null,null,null,null,null,null,null,null,null,null,8800,"-",8899,null,0,0,12,12,12,12,12,12,12,12,12,12,12,12,12,12,12,12,19,8850,null,8800,"-",8899,-2509,-2418.73,-2328.2800000000002,-2177.8300000000004,-2027.38,-1876.9300000000005,-1726.48,-1576.0300000000002,-1425.58,-1275.1300000000001,-1124.68,-974.23,-823.7800000000002,-673.33,-809.33680000000004,-679.94979999999998,-550.56280000000004,-421.17579999999998,-378.54359999999997]
[null,8900,"-",8999,8950,0,9,25,25,25,25,25,25,25,25,25,25,25,25,25,25,25,25,25,null,8900,"-",8999,null,-13,-13,-13,-13,-13,-13,-13,-13,-13,-13,-13,-13,-13,-13,-13,-13,-13,-13,-6,null,null,null,null,null,null,null,null,null,null,null,null,null,null,null,null,null,null,null,null,null,null,null,null,null,8900,"-",8999,null,0,0,12,12,12,12,12,12,12,12,12,12,12,12,12,12,12,12,19,8950,null,8900,"-",8999,-2543,-2451.71,-2359.5600000000004,-2207.4100000000003,-2055.2600000000002,-1903.1100000000001,-1750.96,-1598.8100000000002,-1446.66,-1294.5100000000002,-1142.3600000000001,-990.21000000000015,-838.06000000000006,-685.91000000000008,-823.45360000000005,-692.60460000000012,-561.75560000000007,-430.90660000000014,-387.3972]
[null,9000,"-",9099,9050,0,10,25,25,25,25,25,25,25,25,25,25,25,25,25,25,25,25,25,null,9000,"-",9099,null,-13,-13,-13,-13,-13,-13,-13,-13,-13,-13,-13,-13,-13,-13,-13,-13,-13,-13,-6,null,null,null,null,null,null,null,null,null,null,null,null,null,null,null,null,null,null,null,null,null,null,null,null,null,9000,"-",9099,null,0,0,12,12,12,12,12,12,12,12,12,12,12,12,12,12,12,12,19,9050,null,9000,"-",9099,-2577,-2484.69,-2390.84,-2236.9900000000002,-2083.1400000000003,-1929.2899999999997,-1775.4400000000003,-1621.5900000000001,-1467.7400000000002,-1313.8900000000003,-1160.0400000000002,-1006.1900000000002,-852.34000000000026,-698.49,-837.57040000000018,-705.25940000000014,-572.94840000000022,-440.63740000000018,-396.25080000000003]
[null,9100,"-",9199,9150,0,10,25,25,25,25,25,25,25,25,25,25,25,25,25,25,25,25,25,null,9100,"-",9199,null,-13,-13,-13,-13,-13,-13,-13,-13,-13,-13,-13,-13,-13,-13,-13,-13,-13,-13,-7,null,null,null,null,null,null,null,null,null,null,null,null,null,null,null,null,null,null,null,null,null,null,null,null,null,9100,"-",9199,null,0,0,12,12,12,12,12,12,12,12,12,12,12,12,12,12,12,12,18,9150,null,9100,"-",9199,-2611,-2517.67,-2422.1200000000003,-2266.5700000000002,-2111.02,-1955.4700000000003,-1799.9199999999998,-1644.3700000000003,-1488.8200000000002,-1333.2700000000004,-1177.72,-1022.1700000000001,-866.62000000000012,-711.07000000000028,-851.68720000000008,-717.91420000000005,-584.14120000000003,-450.36819999999989,-400.10439999999994]
[null,9200,"-",9299,9250,0,10,25,25,25,25,25,25,25,25,25,25,25,25,25,25,25,25,25,null,9200,"-",9299,null,-13,-13,-13,-13,-13,-13,-13,-13,-13,-13,-13,-13,-13,-13,-13,-13,-13,-13,-7,null,null,null,null,null,null,null,null,null,null,null,null,null,null,null,null,null,null,null,null,null,null,null,null,null,9200,"-",9299,null,0,0,12,12,12,12,12,12,12,12,12,12,12,12,12,12,12,12,18,9250,null,9200,"-",9299,-2645,-2550.65,-2453.4,-2296.15,-2138.9,-1981.65,-1824.4,-1667.15,-1509.9,-1352.65,-1195.4000000000001,-1038.1500000000001,-880.9,-723.65,-865.80400000000009,-730.56900000000007,-595.33400000000006,-460.09900000000016,-408.95799999999997]
[null,9300,"-",9399,9350,0,10,25,25,25,25,25,25,25,25,25,25,25,25,25,25,25,25,25,null,9300,"-",9399,null,-13,-13,-13,-13,-13,-13,-13,-13,-13,-13,-13,-13,-13,-13,-13,-13,-13,-13,-8,null,null,null,null,null,null,null,null,null,null,null,null,null,null,null,null,null,null,null,null,null,null,null,null,null,9300,"-",9399,null,0,0,12,12,12,12,12,12,12,12,12,12,12,12,12,12,12,12,17,9350,null,9300,"-",9399,-2679.0000000000005,-2583.63,-2484.6800000000003,-2325.73,-2166.7800000000002,-2007.8300000000004,-1848.88,-1689.9300000000005,-1530.9800000000002,-1372.0300000000002,-1213.08,-1054.1300000000001,-895.18000000000006,-736.23,-879.92079999999999,-743.22379999999998,-606.52679999999998,-469.82980000000009,-412.81160000000011]
[null,"více jak 9400",null,null,9450,0,10,25,25,25,25,25,25,25,25,25,25,25,25,25,25,25,25,25,null,"více jak 9400",null,null,null,-13,-13,-13,-13,-13,-13,-13,-13,-13,-13,-13,-13,-13,-13,-13,-13,-13,-13,-8,null,null,null,null,null,null,null,null,null,null,null,null,null,null,null,null,null,null,null,null,null,null,null,null,null,"více jak 9400",null,null,null,0,0,12,12,12,12,12,12,12,12,12,12,12,12,12,12,12,12,17,9450,null,"více jak 9400",null,null,-2713.0000000000005,-2616.61,-2515.96,-2355.3100000000004,-2194.6600000000003,-2034.0100000000002,-1873.3600000000001,-1712.71,-1552.0600000000002,-1391.41,-1230.7600000000002,-1070.1100000000001,-909.46000000000015,-748.81000000000006,-894.03760000000011,-755.87860000000012,-617.71960000000013,-479.56060000000002,-421.66520000000014]

{"sheet":"bt","index":1,"n_rows":91,"n_cols":22,"rows_kept":91,"cut":false,"hidden":true,"merged":[]}
["objem","objem_min","objem_max",{"$f":"'Nastavení příloh'!F13","v":"0 %"},{"$f":"'Nastavení příloh'!G13","v":"1-5 %"},{"$f":"'Nastavení příloh'!H13","v":"6-10 %"},{"$f":"'Nastavení příloh'!I13","v":"11-15 %"},{"$f":"'Nastavení příloh'!J13","v":"16-20 %"},{"$f":"'Nastavení příloh'!K13","v":"21-25 %"},{"$f":"'Nastavení příloh'!L13","v":"26-30 %"},{"$f":"'Nastavení příloh'!M13","v":"31-35 %"},{"$f":"'Nastavení příloh'!N13","v":"36-40 %"},{"$f":"'Nastavení příloh'!O13","v":"41-45 %"},{"$f":"'Nastavení příloh'!P13","v":"46-50 %"},{"$f":"'Nastavení příloh'!Q13","v":"51-55 %"},{"$f":"'Nastavení příloh'!R13","v":"56-60 %"},{"$f":"'Nastavení příloh'!S13","v":"61-65 %"},{"$f":"'Nastavení příloh'!T13","v":"66-70 %"},{"$f":"'Nastavení příloh'!U13","v":"71-75 %"},{"$f":"'Nastavení příloh'!V13","v":"76-80 %"},{"$f":"'Nastavení příloh'!W13","v":"81-85 %"},{"$f":"'Nastavení příloh'!X13","v":"více jak 85 %"}]
[{"$f":"'Nastavení příloh'!E16","v":550},{"$f":"'Nastavení příloh'!B16","v":0},{"$f":"'Nastavení příloh'!D16","v":599},{"$f":"'Nastavení příloh'!F16","v":0},{"$f":"'Nastavení příloh'!G16","v":1},{"$f":"'Nastavení příloh'!H16","v":2},{"$f":"'Nastavení příloh'!I16","v":3},{"$f":"'Nastavení příloh'!J16","v":3},{"$f":"'Nastavení příloh'!K16","v":4},{"$f":"'Nastavení příloh'!L16","v":5},{"$f":"'Nastavení příloh'!M16","v":6},{"$f":"'Nastavení příloh'!N16","v":7},{"$f":"'Nastavení příloh'!O16","v":8},{"$f":"'Nastavení příloh'!P16","v":9},{"$f":"'Nastavení příloh'!Q16","v":10},{"$f":"'Nastavení příloh'!R16","v":11},{"$f":"'Nastavení příloh'!S16","v":12},{"$f":"'Nastavení příloh'!T16","v":13},{"$f":"'Nastavení příloh'!U16","v":14},{"$f":"'Nastavení příloh'!V16","v":15},{"$f":"'Nastavení příloh'!W16","v":16},{"$f":"'Nastavení příloh'!X16","v":17}]
[{"$f":"'Nastavení příloh'!E17","v":650},{"$f":"'Nastavení příloh'!B17","v":600},{"$f":"'Nastavení příloh'!D17","v":699},{"$f":"'Nastavení příloh'!F17","v":0},{"$f":"'Nastavení příloh'!G17","v":1},{"$f":"'Nastavení příloh'!H17","v":2},{"$f":"'Nastavení příloh'!I17","v":3},{"$f":"'Nastavení příloh'!J17","v":4},{"$f":"'Nastavení příloh'!K17","v":5},{"$f":"'Nastavení příloh'!L17","v":6},{"$f":"'Nastavení příloh'!M17","v":8},{"$f":"'Nastavení příloh'!N17","v":9},{"$f":"'Nastavení příloh'!O17","v":10},{"$f":"'Nastavení příloh'!P17","v":11},{"$f":"'Nastavení příloh'!Q17","v":12},{"$f":"'Nastavení příloh'!R17","v":13},{"$f":"'Nastavení příloh'!S17","v":14},{"$f":"'Nastavení příloh'!T17","v":15},{"$f":"'Nastavení příloh'!U17","v":17},{"$f":"'Nastavení příloh'!V17","v":18},{"$f":"'Nastavení příloh'!W17","v":19},{"$f":"'Nastavení příloh'!X17","v":20}]
[{"$f":"'Nastavení příloh'!E18","v":750},{"$f":"'Nastavení příloh'!B18","v":700},{"$f":"'Nastavení příloh'!D18","v":799},{"$f":"'Nastavení příloh'!F18","v":0},{"$f":"'Nastavení příloh'!G18","v":1},{"$f":"'Nastavení příloh'!H18","v":2},{"$f":"'Nastavení příloh'!I18","v":3},{"$f":"'Nastavení příloh'!J18","v":5},{"$f":"'Nastavení příloh'!K18","v":6},{"$f":"'Nastavení příloh'!L18","v":7},{"$f":"'Nastavení příloh'!M18","v":9},{"$f":"'Nastavení příloh'!N18","v":10},{"$f":"'Nastavení příloh'!O18","v":11},{"$f":"'Nastavení příloh'!P18","v":13},{"$f":"'Nastavení příloh'!Q18","v":14},{"$f":"'Nastavení příloh'!R18","v":15},{"$f":"'Nastavení příloh'!S18","v":17},{"$f":"'Nastavení příloh'!T18","v":18},{"$f":"'Nastavení příloh'!U18","v":19},{"$f":"'Nastavení příloh'!V18","v":20},{"$f":"'Nastavení příloh'!W18","v":22},{"$f":"'Nastavení příloh'!X18","v":23}]
[{"$f":"'Nastavení příloh'!E19","v":850},{"$f":"'Nastavení příloh'!B19","v":800},{"$f":"'Nastavení příloh'!D19","v":899},{"$f":"'Nastavení příloh'!F19","v":0},{"$f":"'Nastavení příloh'!G19","v":1},{"$f":"'Nastavení příloh'!H19","v":2},{"$f":"'Nastavení příloh'!I19","v":4},{"$f":"'Nastavení příloh'!J19","v":5},{"$f":"'Nastavení příloh'!K19","v":7},{"$f":"'Nastavení příloh'!L19","v":8},{"$f":"'Nastavení příloh'!M19","v":10},{"$f":"'Nastavení příloh'!N19","v":11},{"$f":"'Nastavení příloh'!O19","v":13},{"$f":"'Nastavení příloh'!P19","v":14},{"$f":"'Nastavení příloh'!Q19","v":16},{"$f":"'Nastavení příloh'!R19","v":17},{"$f":"'Nastavení příloh'!S19","v":19},{"$f":"'Nastavení příloh'!T19","v":20},{"$f":"'Nastavení příloh'!U19","v":22},{"$f":"'Nastavení příloh'!V19","v":23},{"$f":"'Nastavení příloh'!W19","v":25},{"$f":"'Nastavení příloh'!X19","v":25}]
[{"$f":"'Nastavení příloh'!E20","v":950},{"$f":"'Nastavení příloh'!B20","v":900},{"$f":"'Nastavení příloh'!D20","v":999},{"$f":"'Nastavení příloh'!F20","v":0},{"$f":"'Nastavení příloh'!G20","v":1},{"$f":"'Nastavení příloh'!H20","v":3},{"$f":"'Nastavení příloh'!I20","v":4},{"$f":"'Nastavení příloh'!J20","v":6},{"$f":"'Nastavení příloh'!K20","v":8},{"$f":"'Nastavení příloh'!L20","v":9},{"$f":"'Nastavení příloh'!M20","v":11},{"$f":"'Nastavení příloh'!N20","v":13},{"$f":"'Nastavení příloh'!O20","v":14},{"$f":"'Nastavení příloh'!P20","v":16},{"$f":"'Nastavení příloh'!Q20","v":18},{"$f":"'Nastavení příloh'!R20","v":19},{"$f":"'Nastavení příloh'!S20","v":21},{"$f":"'Nastavení příloh'!T20","v":23},{"$f":"'Nastavení příloh'!U20","v":24},{"$f":"'Nastavení příloh'!V20","v":25},{"$f":"'Nastavení příloh'!W20","v":25},{"$f":"'Nastavení příloh'!X20","v":25}]
[{"$f":"'Nastavení příloh'!E21","v":1050},{"$f":"'Nastavení příloh'!B21","v":1000},{"$f":"'Nastavení příloh'!D21","v":1099},{"$f":"'Nastavení příloh'!F21","v":0},{"$f":"'Nastavení příloh'!G21","v":1},{"$f":"'Nastavení příloh'!H21","v":3},{"$f":"'Nastavení příloh'!I21","v":5},{"$f":"'Nastavení příloh'!J21","v":7},{"$f":"'Nastavení příloh'!K21","v":8},{"$f":"'Nastavení příloh'!L21","v":10},{"$f":"'Nastavení příloh'!M21","v":12},{"$f":"'Nastavení příloh'!N21","v":14},{"$f":"'Nastavení příloh'!O21","v":16},{"$f":"'Nastavení příloh'!P21","v":18},{"$f":"'Nastavení příloh'!Q21","v":19},{"$f":"'Nastavení příloh'!R21","v":21},{"$f":"'Nastavení příloh'!S21","v":23},{"$f":"'Nastavení příloh'!T21","v":25},{"$f":"'Nastavení příloh'!U21","v":25},{"$f":"'Nastavení příloh'!V21","v":25},{"$f":"'Nastavení příloh'!W21","v":25},{"$f":"'Nastavení příloh'!X21","v":25}]
[{"$f":"'Nastavení příloh'!E22","v":1150},{"$f":"'Nastavení příloh'!B22","v":1100},{"$f":"'Nastavení příloh'!D22","v":1199},{"$f":"'Nastavení příloh'!F22","v":0},{"$f":"'Nastavení příloh'!G22","v":1},{"$f":"'Nastavení příloh'!H22","v":3},{"$f":"'Nastavení příloh'!I22","v":5},{"$f":"'Nastavení příloh'!J22","v":7},{"$f":"'Nastavení příloh'!K22","v":9},{"$f":"'Nastavení příloh'!L22","v":11},{"$f":"'Nastavení příloh'!M22","v":13},{"$f":"'Nastavení příloh'!N22","v":15},{"$f":"'Nastavení příloh'!O22","v":17},{"$f":"'Nastavení příloh'!P22","v":19},{"$f":"'Nastavení příloh'!Q22","v":21},{"$f":"'Nastavení příloh'!R22","v":23},{"$f":"'Nastavení příloh'!S22","v":25},{"$f":"'Nastavení příloh'!T22","v":25},{"$f":"'Nastavení příloh'!U22","v":25},{"$f":"'Nastavení příloh'!V22","v":25},{"$f":"'Nastavení příloh'!W22","v":25},{"$f":"'Nastavení příloh'!X22","v":25}]
[{"$f":"'Nastavení příloh'!E23","v":1250},{"$f":"'Nastavení příloh'!B23","v":1200},{"$f":"'Nastavení příloh'!D23","v":1299},{"$f":"'Nastavení příloh'!F23","v":0},{"$f":"'Nastavení příloh'!G23","v":1},{"$f":"'Nastavení příloh'!H23","v":4},{"$f":"'Nastavení příloh'!I23","v":6},{"$f":"'Nastavení příloh'!J23","v":8},{"$f":"'Nastavení příloh'!K23","v":10},{"$f":"'Nastavení příloh'!L23","v":12},{"$f":"'Nastavení příloh'!M23","v":14},{"$f":"'Nastavení příloh'!N23","v":17},{"$f":"'Nastavení příloh'!O23","v":19},{"$f":"'Nastavení příloh'!P23","v":21},{"$f":"'Nastavení příloh'!Q23","v":23},{"$f":"'Nastavení příloh'!R23","v":25},{"$f":"'Nastavení příloh'!S23","v":25},{"$f":"'Nastavení příloh'!T23","v":25},{"$f":"'Nastavení příloh'!U23","v":25},{"$f":"'Nastavení příloh'!V23","v":25},{"$f":"'Nastavení příloh'!W23","v":25},{"$f":"'Nastavení příloh'!X23","v":25}]
[{"$f":"'Nastavení příloh'!E24","v":1350},{"$f":"'Nastavení příloh'!B24","v":1300},{"$f":"'Nastavení příloh'!D24","v":1399},{"$f":"'Nastavení příloh'!F24","v":0},{"$f":"'Nastavení příloh'!G24","v":1},{"$f":"'Nastavení příloh'!H24","v":4},{"$f":"'Nastavení příloh'!I24","v":6},{"$f":"'Nastavení příloh'!J24","v":9},{"$f":"'Nastavení příloh'!K24","v":11},{"$f":"'Nastavení příloh'!L24","v":13},{"$f":"'Nastavení příloh'!M24","v":16},{"$f":"'Nastavení příloh'!N24","v":18},{"$f":"'Nastavení příloh'!O24","v":20},{"$f":"'Nastavení příloh'!P24","v":23},{"$f":"'Nastavení příloh'!Q24","v":25},{"$f":"'Nastavení příloh'!R24","v":25},{"$f":"'Nastavení příloh'!S24","v":25},{"$f":"'Nastavení příloh'!T24","v":25},{"$f":"'Nastavení příloh'!U24","v":25},{"$f":"'Nastavení příloh'!V24","v":25},{"$f":"'Nastavení příloh'!W24","v":25},{"$f":"'Nastavení příloh'!X24","v":25}]
[{"$f":"'Nastavení příloh'!E25","v":1450},{"$f":"'Nastavení příloh'!B25","v":1400},{"$f":"'Nastavení příloh'!D25","v":1499},{"$f":"'Nastavení příloh'!F25","v":0},{"$f":"'Nastavení příloh'!G25","v":2},{"$f":"'Nastavení příloh'!H25","v":4},{"$f":"'Nastavení příloh'!I25","v":7},{"$f":"'Nastavení příloh'!J25","v":9},{"$f":"'Nastavení příloh'!K25","v":12},{"$f":"'Nastavení příloh'!L25","v":14},{"$f":"'Nastavení příloh'!M25","v":17},{"$f":"'Nastavení příloh'!N25","v":19},{"$f":"'Nastavení příloh'!O25","v":22},{"$f":"'Nastavení příloh'!P25","v":24},{"$f":"'Nastavení příloh'!Q25","v":25},{"$f":"'Nastavení příloh'!R25","v":25},{"$f":"'Nastavení příloh'!S25","v":25},{"$f":"'Nastavení příloh'!T25","v":25},{"$f":"'Nastavení příloh'!U25","v":25},{"$f":"'Nastavení příloh'!V25","v":25},{"$f":"'Nastavení příloh'!W25","v":25},{"$f":"'Nastavení příloh'!X25","v":25}]
[{"$f":"'Nastavení příloh'!E26","v":1550},{"$f":"'Nastavení příloh'!B26","v":1500},{"$f":"'Nastavení příloh'!D26","v":1599},{"$f":"'Nastavení příloh'!F26","v":0},{"$f":"'Nastavení příloh'!G26","v":2},{"$f":"'Nastavení příloh'!H26","v":4},{"$f":"'Nastavení příloh'!I26","v":7},{"$f":"'Nastavení příloh'!J26","v":10},{"$f":"'Nastavení příloh'!K26","v":12},{"$f":"'Nastavení příloh'!L26","v":15},{"$f":"'Nastavení příloh'!M26","v":18},{"$f":"'Nastavení příloh'!N26","v":21},{"$f":"'Nastavení příloh'!O26","v":23},{"$f":"'Nastavení příloh'!P26","v":25},{"$f":"'Nastavení příloh'!Q26","v":25},{"$f":"'Nastavení příloh'!R26","v":25},{"$f":"'Nastavení příloh'!S26","v":25},{"$f":"'Nastavení příloh'!T26","v":25},{"$f":"'Nastavení příloh'!U26","v":25},{"$f":"'Nastavení příloh'!V26","v":25},{"$f":"'Nastavení příloh'!W26","v":25},{"$f":"'Nastavení příloh'!X26","v":25}]
[{"$f":"'Nastavení příloh'!E27","v":1650},{"$f":"'Nastavení příloh'!B27","v":1600},{"$f":"'Nastavení příloh'!D27","v":1699},{"$f":"'Nastavení příloh'!F27","v":0},{"$f":"'Nastavení příloh'!G27","v":2},{"$f":"'Nastavení příloh'!H27","v":5},{"$f":"'Nastavení příloh'!I27","v":8},{"$f":"'Nastavení příloh'!J27","v":10},{"$f":"'Nastavení příloh'!K27","v":13},{"$f":"'Nastavení příloh'!L27","v":16},{"$f":"'Nastavení příloh'!M27","v":19},{"$f":"'Nastavení příloh'!N27","v":22},{"$f":"'Nastavení příloh'!O27","v":25},{"$f":"'Nastavení příloh'!P27","v":25},{"$f":"'Nastavení příloh'!Q27","v":25},{"$f":"'Nastavení příloh'!R27","v":25},{"$f":"'Nastavení příloh'!S27","v":25},{"$f":"'Nastavení příloh'!T27","v":25},{"$f":"'Nastavení příloh'!U27","v":25},{"$f":"'Nastavení příloh'!V27","v":25},{"$f":"'Nastavení příloh'!W27","v":25},{"$f":"'Nastavení příloh'!X27","v":25}]
[{"$f":"'Nastavení příloh'!E28","v":1750},{"$f":"'Nastavení příloh'!B28","v":1700},{"$f":"'Nastavení příloh'!D28","v":1799},{"$f":"'Nastavení příloh'!F28","v":0},{"$f":"'Nastavení příloh'!G28","v":2},{"$f":"'Nastavení příloh'!H28","v":5},{"$f":"'Nastavení příloh'!I28","v":8},{"$f":"'Nastavení příloh'!J28","v":11},{"$f":"'Nastavení příloh'!K28","v":14},{"$f":"'Nastavení příloh'!L28","v":17},{"$f":"'Nastavení příloh'!M28","v":20},{"$f":"'Nastavení příloh'!N28","v":23},{"$f":"'Nastavení příloh'!O28","v":25},{"$f":"'Nastavení příloh'!P28","v":25},{"$f":"'Nastavení příloh'!Q28","v":25},{"$f":"'Nastavení příloh'!R28","v":25},{"$f":"'Nastavení příloh'!S28","v":25},{"$f":"'Nastavení příloh'!T28","v":25},{"$f":"'Nastavení příloh'!U28","v":25},{"$f":"'Nastavení příloh'!V28","v":25},{"$f":"'Nastavení příloh'!W28","v":25},{"$f":"'Nastavení příloh'!X28","v":25}]
[{"$f":"'Nastavení příloh'!E29","v":1850},{"$f":"'Nastavení příloh'!B29","v":1800},{"$f":"'Nastavení příloh'!D29","v":1899},{"$f":"'Nastavení příloh'!F29","v":0},{"$f":"'Nastavení příloh'!G29","v":2},{"$f":"'Nastavení příloh'!H29","v":5},{"$f":"'Nastavení příloh'!I29","v":8},{"$f":"'Nastavení příloh'!J29","v":12},{"$f":"'Nastavení příloh'!K29","v":15},{"$f":"'Nastavení příloh'!L29","v":18},{"$f":"'Nastavení příloh'!M29","v":21},{"$f":"'Nastavení příloh'!N29","v":25},{"$f":"'Nastavení příloh'!O29","v":25},{"$f":"'Nastavení příloh'!P29","v":25},{"$f":"'Nastavení příloh'!Q29","v":25},{"$f":"'Nastavení příloh'!R29","v":25},{"$f":"'Nastavení příloh'!S29","v":25},{"$f":"'Nastavení příloh'!T29","v":25},{"$f":"'Nastavení příloh'!U29","v":25},{"$f":"'Nastavení příloh'!V29","v":25},{"$f":"'Nastavení příloh'!W29","v":25},{"$f":"'Nastavení příloh'!X29","v":25}]
[{"$f":"'Nastavení příloh'!E30","v":1950},{"$f":"'Nastavení příloh'!B30","v":1900},{"$f":"'Nastavení příloh'!D30","v":1999},{"$f":"'Nastavení příloh'!F30","v":0},{"$f":"'Nastavení příloh'!G30","v":2},{"$f":"'Nastavení příloh'!H30","v":5},{"$f":"'Nastavení příloh'!I30","v":9},{"$f":"'Nastavení příloh'!J30","v":12},{"$f":"'Nastavení příloh'!K30","v":16},{"$f":"'Nastavení příloh'!L30","v":19},{"$f":"'Nastavení příloh'!M30","v":23},{"$f":"'Nastavení příloh'!N30","v":25},{"$f":"'Nastavení příloh'!O30","v":25},{"$f":"'Nastavení příloh'!P30","v":25},{"$f":"'Nastavení příloh'!Q30","v":25},{"$f":"'Nastavení příloh'!R30","v":25},{"$f":"'Nastavení příloh'!S30","v":25},{"$f":"'Nastavení příloh'!T30","v":25},{"$f":"'Nastavení příloh'!U30","v":25},{"$f":"'Nastavení příloh'!V30","v":25},{"$f":"'Nastavení příloh'!W30","v":25},{"$f":"'Nastavení příloh'!X30","v":25}]
[{"$f":"'Nastavení příloh'!E31","v":2050},{"$f":"'Nastavení příloh'!B31","v":2000},{"$f":"'Nastavení příloh'!D31","v":2099},{"$f":"'Nastavení příloh'!F31","v":0},{"$f":"'Nastavení příloh'!G31","v":2},{"$f":"'Nastavení příloh'!H31","v":6},{"$f":"'Nastavení příloh'!I31","v":9},{"$f":"'Nastavení příloh'!J31","v":13},{"$f":"'Nastavení příloh'!K31","v":17},{"$f":"'Nastavení příloh'!L31","v":20},{"$f":"'Nastavení příloh'!M31","v":24},{"$f":"'Nastavení příloh'!N31","v":25},{"$f":"'Nastavení příloh'!O31","v":25},{"$f":"'Nastavení příloh'!P31","v":25},{"$f":"'Nastavení příloh'!Q31","v":25},{"$f":"'Nastavení příloh'!R31","v":25},{"$f":"'Nastavení příloh'!S31","v":25},{"$f":"'Nastavení příloh'!T31","v":25},{"$f":"'Nastavení příloh'!U31","v":25},{"$f":"'Nastavení příloh'!V31","v":25},{"$f":"'Nastavení příloh'!W31","v":25},{"$f":"'Nastavení příloh'!X31","v":25}]
[{"$f":"'Nastavení příloh'!E32","v":2150},{"$f":"'Nastavení příloh'!B32","v":2100},{"$f":"'Nastavení příloh'!D32","v":2199},{"$f":"'Nastavení příloh'!F32","v":0},{"$f":"'Nastavení příloh'!G32","v":2},{"$f":"'Nastavení příloh'!H32","v":6},{"$f":"'Nastavení příloh'!I32","v":10},{"$f":"'Nastavení příloh'!J32","v":14},{"$f":"'Nastavení příloh'!K32","v":17},{"$f":"'Nastavení příloh'!L32","v":21},{"$f":"'Nastavení příloh'!M32","v":25},{"$f":"'Nastavení příloh'!N32","v":25},{"$f":"'Nastavení příloh'!O32","v":25},{"$f":"'Nastavení příloh'!P32","v":25},{"$f":"'Nastavení příloh'!Q32","v":25},{"$f":"'Nastavení příloh'!R32","v":25},{"$f":"'Nastavení příloh'!S32","v":25},{"$f":"'Nastavení příloh'!T32","v":25},{"$f":"'Nastavení příloh'!U32","v":25},{"$f":"'Nastavení příloh'!V32","v":25},{"$f":"'Nastavení příloh'!W32","v":25},{"$f":"'Nastavení příloh'!X32","v":25}]
[{"$f":"'Nastavení příloh'!E33","v":2250},{"$f":"'Nastavení příloh'!B33","v":2200},{"$f":"'Nastavení příloh'!D33","v":2299},{"$f":"'Nastavení příloh'!F33","v":0},{"$f":"'Nastavení příloh'!G33","v":2},{"$f":"'Nastavení příloh'!H33","v":6},{"$f":"'Nastavení příloh'!I33","v":10},{"$f":"'Nastavení příloh'!J33","v":14},{"$f":"'Nastavení příloh'!K33","v":18},{"$f":"'Nastavení příloh'!L33","v":22},{"$f":"'Nastavení příloh'!M33","v":25},{"$f":"'Nastavení příloh'!N33","v":25},{"$f":"'Nastavení příloh'!O33","v":25},{"$f":"'Nastavení příloh'!P33","v":25},{"$f":"'Nastavení příloh'!Q33","v":25},{"$f":"'Nastavení příloh'!R33","v":25},{"$f":"'Nastavení příloh'!S33","v":25},{"$f":"'Nastavení příloh'!T33","v":25},{"$f":"'Nastavení příloh'!U33","v":25},{"$f":"'Nastavení příloh'!V33","v":25},{"$f":"'Nastavení příloh'!W33","v":25},{"$f":"'Nastavení příloh'!X33","v":25}]
[{"$f":"'Nastavení příloh'!E34","v":2350},{"$f":"'Nastavení příloh'!B34","v":2300},{"$f":"'Nastavení příloh'!D34","v":2399},{"$f":"'Nastavení příloh'!F34","v":0},{"$f":"'Nastavení příloh'!G34","v":2},{"$f":"'Nastavení příloh'!H34","v":7},{"$f":"'Nastavení příloh'!I34","v":11},{"$f":"'Nastavení příloh'!J34","v":15},{"$f":"'Nastavení příloh'!K34","v":19},{"$f":"'Nastavení příloh'!L34","v":23},{"$f":"'Nastavení příloh'!M34","v":25},{"$f":"'Nastavení příloh'!N34","v":25},{"$f":"'Nastavení příloh'!O34","v":25},{"$f":"'Nastavení příloh'!P34","v":25},{"$f":"'Nastavení příloh'!Q34","v":25},{"$f":"'Nastavení příloh'!R34","v":25},{"$f":"'Nastavení příloh'!S34","v":25},{"$f":"'Nastavení příloh'!T34","v":25},{"$f":"'Nastavení příloh'!U34","v":25},{"$f":"'Nastavení příloh'!V34","v":25},{"$f":"'Nastavení příloh'!W34","v":25},{"$f":"'Nastavení příloh'!X34","v":25}]
[{"$f":"'Nastavení příloh'!E35","v":2450},{"$f":"'Nastavení příloh'!B35","v":2400},{"$f":"'Nastavení příloh'!D35","v":2499},{"$f":"'Nastavení příloh'!F35","v":0},{"$f":"'Nastavení příloh'!G35","v":3},{"$f":"'Nastavení příloh'!H35","v":7},{"$f":"'Nastavení příloh'!I35","v":11},{"$f":"'Nastavení příloh'!J35","v":15},{"$f":"'Nastavení příloh'!K35","v":20},{"$f":"'Nastavení příloh'!L35","v":24},{"$f":"'Nastavení příloh'!M35","v":25},{"$f":"'Nastavení příloh'!N35","v":25},{"$f":"'Nastavení příloh'!O35","v":25},{"$f":"'Nastavení příloh'!P35","v":25},{"$f":"'Nastavení příloh'!Q35","v":25},{"$f":"'Nastavení příloh'!R35","v":25},{"$f":"'Nastavení příloh'!S35","v":25},{"$f":"'Nastavení příloh'!T35","v":25},{"$f":"'Nastavení příloh'!U35","v":25},{"$f":"'Nastavení příloh'!V35","v":25},{"$f":"'Nastavení příloh'!W35","v":25},{"$f":"'Nastavení příloh'!X35","v":25}]
[{"$f":"'Nastavení příloh'!E36","v":2550},{"$f":"'Nastavení příloh'!B36","v":2500},{"$f":"'Nastavení příloh'!D36","v":2599},{"$f":"'Nastavení příloh'!F36","v":0},{"$f":"'Nastavení příloh'!G36","v":3},{"$f":"'Nastavení příloh'!H36","v":7},{"$f":"'Nastavení příloh'!I36","v":12},{"$f":"'Nastavení příloh'!J36","v":16},{"$f":"'Nastavení příloh'!K36","v":21},{"$f":"'Nastavení příloh'!L36","v":25},{"$f":"'Nastavení příloh'!M36","v":25},{"$f":"'Nastavení příloh'!N36","v":25},{"$f":"'Nastavení příloh'!O36","v":25},{"$f":"'Nastavení příloh'!P36","v":25},{"$f":"'Nastavení příloh'!Q36","v":25},{"$f":"'Nastavení příloh'!R36","v":25},{"$f":"'Nastavení příloh'!S36","v":25},{"$f":"'Nastavení příloh'!T36","v":25},{"$f":"'Nastavení příloh'!U36","v":25},{"$f":"'Nastavení příloh'!V36","v":25},{"$f":"'Nastavení příloh'!W36","v":25},{"$f":"'Nastavení příloh'!X36","v":25}]
[{"$f":"'Nastavení příloh'!E37","v":2650},{"$f":"'Nastavení příloh'!B37","v":2600},{"$f":"'Nastavení příloh'!D37","v":2699},{"$f":"'Nastavení příloh'!F37","v":0},{"$f":"'Nastavení příloh'!G37","v":3},{"$f":"'Nastavení příloh'!H37","v":7},{"$f":"'Nastavení příloh'!I37","v":12},{"$f":"'Nastavení příloh'!J37","v":17},{"$f":"'Nastavení příloh'!K37","v":21},{"$f":"'Nastavení příloh'!L37","v":25},{"$f":"'Nastavení příloh'!M37","v":25},{"$f":"'Nastavení příloh'!N37","v":25},{"$f":"'Nastavení příloh'!O37","v":25},{"$f":"'Nastavení příloh'!P37","v":25},{"$f":"'Nastavení příloh'!Q37","v":25},{"$f":"'Nastavení příloh'!R37","v":25},{"$f":"'Nastavení příloh'!S37","v":25},{"$f":"'Nastavení příloh'!T37","v":25},{"$f":"'Nastavení příloh'!U37","v":25},{"$f":"'Nastavení příloh'!V37","v":25},{"$f":"'Nastavení příloh'!W37","v":25},{"$f":"'Nastavení příloh'!X37","v":25}]
[{"$f":"'Nastavení příloh'!E38","v":2750},{"$f":"'Nastavení příloh'!B38","v":2700},{"$f":"'Nastavení příloh'!D38","v":2799},{"$f":"'Nastavení příloh'!F38","v":0},{"$f":"'Nastavení příloh'!G38","v":3},{"$f":"'Nastavení příloh'!H38","v":8},{"$f":"'Nastavení příloh'!I38","v":13},{"$f":"'Nastavení příloh'!J38","v":17},{"$f":"'Nastavení příloh'!K38","v":22},{"$f":"'Nastavení příloh'!L38","v":25},{"$f":"'Nastavení příloh'!M38","v":25},{"$f":"'Nastavení příloh'!N38","v":25},{"$f":"'Nastavení příloh'!O38","v":25},{"$f":"'Nastavení příloh'!P38","v":25},{"$f":"'Nastavení příloh'!Q38","v":25},{"$f":"'Nastavení příloh'!R38","v":25},{"$f":"'Nastavení příloh'!S38","v":25},{"$f":"'Nastavení příloh'!T38","v":25},{"$f":"'Nastavení příloh'!U38","v":25},{"$f":"'Nastavení příloh'!V38","v":25},{"$f":"'Nastavení příloh'!W38","v":25},{"$f":"'Nastavení příloh'!X38","v":25}]
[{"$f":"'Nastavení příloh'!E39","v":2850},{"$f":"'Nastavení příloh'!B39","v":2800},{"$f":"'Nastavení příloh'!D39","v":2899},{"$f":"'Nastavení příloh'!F39","v":0},{"$f":"'Nastavení příloh'!G39","v":3},{"$f":"'Nastavení příloh'!H39","v":8},{"$f":"'Nastavení příloh'!I39","v":13},{"$f":"'Nastavení příloh'!J39","v":18},{"$f":"'Nastavení příloh'!K39","v":23},{"$f":"'Nastavení příloh'!L39","v":25},{"$f":"'Nastavení příloh'!M39","v":25},{"$f":"'Nastavení příloh'!N39","v":25},{"$f":"'Nastavení příloh'!O39","v":25},{"$f":"'Nastavení příloh'!P39","v":25},{"$f":"'Nastavení příloh'!Q39","v":25},{"$f":"'Nastavení příloh'!R39","v":25},{"$f":"'Nastavení příloh'!S39","v":25},{"$f":"'Nastavení příloh'!T39","v":25},{"$f":"'Nastavení příloh'!U39","v":25},{"$f":"'Nastavení příloh'!V39","v":25},{"$f":"'Nastavení příloh'!W39","v":25},{"$f":"'Nastavení příloh'!X39","v":25}]
[{"$f":"'Nastavení příloh'!E40","v":2950},{"$f":"'Nastavení příloh'!B40","v":2900},{"$f":"'Nastavení příloh'!D40","v":2999},{"$f":"'Nastavení příloh'!F40","v":0},{"$f":"'Nastavení příloh'!G40","v":3},{"$f":"'Nastavení příloh'!H40","v":8},{"$f":"'Nastavení příloh'!I40","v":13},{"$f":"'Nastavení příloh'!J40","v":19},{"$f":"'Nastavení příloh'!K40","v":24},{"$f":"'Nastavení příloh'!L40","v":25},{"$f":"'Nastavení příloh'!M40","v":25},{"$f":"'Nastavení příloh'!N40","v":25},{"$f":"'Nastavení příloh'!O40","v":25},{"$f":"'Nastavení příloh'!P40","v":25},{"$f":"'Nastavení příloh'!Q40","v":25},{"$f":"'Nastavení příloh'!R40","v":25},{"$f":"'Nastavení příloh'!S40","v":25},{"$f":"'Nastavení příloh'!T40","v":25},{"$f":"'Nastavení příloh'!U40","v":25},{"$f":"'Nastavení příloh'!V40","v":25},{"$f":"'Nastavení příloh'!W40","v":25},{"$f":"'Nastavení příloh'!X40","v":25}]
[{"$f":"'Nastavení příloh'!E41","v":3050},{"$f":"'Nastavení příloh'!B41","v":3000},{"$f":"'Nastavení příloh'!D41","v":3099},{"$f":"'Nastavení příloh'!F41","v":0},{"$f":"'Nastavení příloh'!G41","v":3},{"$f":"'Nastavení příloh'!H41","v":9},{"$f":"'Nastavení příloh'!I41","v":14},{"$f":"'Nastavení příloh'!J41","v":19},{"$f":"'Nastavení příloh'!K41","v":25},{"$f":"'Nastavení příloh'!L41","v":25},{"$f":"'Nastavení příloh'!M41","v":25},{"$f":"'Nastavení příloh'!N41","v":25},{"$f":"'Nastavení příloh'!O41","v":25},{"$f":"'Nastavení příloh'!P41","v":25},{"$f":"'Nastavení příloh'!Q41","v":25},{"$f":"'Nastavení příloh'!R41","v":25},{"$f":"'Nastavení příloh'!S41","v":25},{"$f":"'Nastavení příloh'!T41","v":25},{"$f":"'Nastavení příloh'!U41","v":25},{"$f":"'Nastavení příloh'!V41","v":25},{"$f":"'Nastavení příloh'!W41","v":25},{"$f":"'Nastavení příloh'!X41","v":25}]
[{"$f":"'Nastavení příloh'!E42","v":3150},{"$f":"'Nastavení příloh'!B42","v":3100},{"$f":"'Nastavení příloh'!D42","v":3199},{"$f":"'Nastavení příloh'!F42","v":0},{"$f":"'Nastavení příloh'!G42","v":3},{"$f":"'Nastavení příloh'!H42","v":9},{"$f":"'Nastavení příloh'!I42","v":14},{"$f":"'Nastavení příloh'!J42","v":20},{"$f":"'Nastavení příloh'!K42","v":25},{"$f":"'Nastavení příloh'!L42","v":25},{"$f":"'Nastavení příloh'!M42","v":25},{"$f":"'Nastavení příloh'!N42","v":25},{"$f":"'Nastavení příloh'!O42","v":25},{"$f":"'Nastavení příloh'!P42","v":25},{"$f":"'Nastavení příloh'!Q42","v":25},{"$f":"'Nastavení příloh'!R42","v":25},{"$f":"'Nastavení příloh'!S42","v":25},{"$f":"'Nastavení příloh'!T42","v":25},{"$f":"'Nastavení příloh'!U42","v":25},{"$f":"'Nastavení příloh'!V42","v":25},{"$f":"'Nastavení příloh'!W42","v":25},{"$f":"'Nastavení příloh'!X42","v":25}]
[{"$f":"'Nastavení příloh'!E43","v":3250},{"$f":"'Nastavení příloh'!B43","v":3200},{"$f":"'Nastavení příloh'!D43","v":3299},{"$f":"'Nastavení příloh'!F43","v":0},{"$f":"'Nastavení příloh'!G43","v":3},{"$f":"'Nastavení příloh'!H43","v":9},{"$f":"'Nastavení příloh'!I43","v":15},{"$f":"'Nastavení příloh'!J43","v":20},{"$f":"'Nastavení příloh'!K43","v":25},{"$f":"'Nastavení příloh'!L43","v":25},{"$f":"'Nastavení příloh'!M43","v":25},{"$f":"'Nastavení příloh'!N43","v":25},{"$f":"'Nastavení příloh'!O43","v":25},{"$f":"'Nastavení příloh'!P43","v":25},{"$f":"'Nastavení příloh'!Q43","v":25},{"$f":"'Nastavení příloh'!R43","v":25},{"$f":"'Nastavení příloh'!S43","v":25},{"$f":"'Nastavení příloh'!T43","v":25},{"$f":"'Nastavení příloh'!U43","v":25},{"$f":"'Nastavení příloh'!V43","v":25},{"$f":"'Nastavení příloh'!W43","v":25},{"$f":"'Nastavení příloh'!X43","v":25}]
[{"$f":"'Nastavení příloh'!E44","v":3350},{"$f":"'Nastavení příloh'!B44","v":3300},{"$f":"'Nastavení příloh'!D44","v":3399},{"$f":"'Nastavení příloh'!F44","v":0},{"$f":"'Nastavení příloh'!G44","v":4},{"$f":"'Nastavení příloh'!H44","v":9},{"$f":"'Nastavení příloh'!I44","v":15},{"$f":"'Nastavení příloh'!J44","v":21},{"$f":"'Nastavení příloh'!K44","v":25},{"$f":"'Nastavení příloh'!L44","v":25},{"$f":"'Nastavení příloh'!M44","v":25},{"$f":"'Nastavení příloh'!N44","v":25},{"$f":"'Nastavení příloh'!O44","v":25},{"$f":"'Nastavení příloh'!P44","v":25},{"$f":"'Nastavení příloh'!Q44","v":25},{"$f":"'Nastavení příloh'!R44","v":25},{"$f":"'Nastavení příloh'!S44","v":25},{"$f":"'Nastavení příloh'!T44","v":25},{"$f":"'Nastavení příloh'!U44","v":25},{"$f":"'Nastavení příloh'!V44","v":25},{"$f":"'Nastavení příloh'!W44","v":25},{"$f":"'Nastavení příloh'!X44","v":25}]
[{"$f":"'Nastavení příloh'!E45","v":3450},{"$f":"'Nastavení příloh'!B45","v":3400},{"$f":"'Nastavení příloh'!D45","v":3499},{"$f":"'Nastavení příloh'!F45","v":0},{"$f":"'Nastavení příloh'!G45","v":4},{"$f":"'Nastavení příloh'!H45","v":10},{"$f":"'Nastavení příloh'!I45","v":16},{"$f":"'Nastavení příloh'!J45","v":22},{"$f":"'Nastavení příloh'!K45","v":25},{"$f":"'Nastavení příloh'!L45","v":25},{"$f":"'Nastavení příloh'!M45","v":25},{"$f":"'Nastavení příloh'!N45","v":25},{"$f":"'Nastavení příloh'!O45","v":25},{"$f":"'Nastavení příloh'!P45","v":25},{"$f":"'Nastavení příloh'!Q45","v":25},{"$f":"'Nastavení příloh'!R45","v":25},{"$f":"'Nastavení příloh'!S45","v":25},{"$f":"'Nastavení příloh'!T45","v":25},{"$f":"'Nastavení příloh'!U45","v":25},{"$f":"'Nastavení příloh'!V45","v":25},{"$f":"'Nastavení příloh'!W45","v":25},{"$f":"'Nastavení příloh'!X45","v":25}]
[{"$f":"'Nastavení příloh'!E52","v":3550},{"$f":"'Nastavení příloh'!B52","v":3500},{"$f":"'Nastavení příloh'!D52","v":3599},{"$f":"'Nastavení příloh'!F52","v":0},{"$f":"'Nastavení příloh'!G52","v":4},{"$f":"'Nastavení příloh'!H52","v":10},{"$f":"'Nastavení příloh'!I52","v":16},{"$f":"'Nastavení příloh'!J52","v":22},{"$f":"'Nastavení příloh'!K52","v":25},{"$f":"'Nastavení příloh'!L52","v":25},{"$f":"'Nastavení příloh'!M52","v":25},{"$f":"'Nastavení příloh'!N52","v":25},{"$f":"'Nastavení příloh'!O52","v":25},{"$f":"'Nastavení příloh'!P52","v":25},{"$f":"'Nastavení příloh'!Q52","v":25},{"$f":"'Nastavení příloh'!R52","v":25},{"$f":"'Nastavení příloh'!S52","v":25},{"$f":"'Nastavení příloh'!T52","v":25},{"$f":"'Nastavení příloh'!U52","v":25},{"$f":"'Nastavení příloh'!V52","v":25},{"$f":"'Nastavení příloh'!W52","v":25},{"$f":"'Nastavení příloh'!X52","v":25}]
[{"$f":"'Nastavení příloh'!E53","v":3650},{"$f":"'Nastavení příloh'!B53","v":3600},{"$f":"'Nastavení příloh'!D53","v":3699},{"$f":"'Nastavení příloh'!F53","v":0},{"$f":"'Nastavení příloh'!G53","v":4},{"$f":"'Nastavení příloh'!H53","v":10},{"$f":"'Nastavení příloh'!I53","v":17},{"$f":"'Nastavení příloh'!J53","v":23},{"$f":"'Nastavení příloh'!K53","v":25},{"$f":"'Nastavení příloh'!L53","v":25},{"$f":"'Nastavení příloh'!M53","v":25},{"$f":"'Nastavení příloh'!N53","v":25},{"$f":"'Nastavení příloh'!O53","v":25},{"$f":"'Nastavení příloh'!P53","v":25},{"$f":"'Nastavení příloh'!Q53","v":25},{"$f":"'Nastavení příloh'!R53","v":25},{"$f":"'Nastavení příloh'!S53","v":25},{"$f":"'Nastavení příloh'!T53","v":25},{"$f":"'Nastavení příloh'!U53","v":25},{"$f":"'Nastavení příloh'!V53","v":25},{"$f":"'Nastavení příloh'!W53","v":25},{"$f":"'Nastavení příloh'!X53","v":25}]
[{"$f":"'Nastavení příloh'!E54","v":3750},{"$f":"'Nastavení příloh'!B54","v":3700},{"$f":"'Nastavení příloh'!D54","v":3799},{"$f":"'Nastavení příloh'!F54","v":0},{"$f":"'Nastavení příloh'!G54","v":4},{"$f":"'Nastavení příloh'!H54","v":11},{"$f":"'Nastavení příloh'!I54","v":17},{"$f":"'Nastavení příloh'!J54","v":24},{"$f":"'Nastavení příloh'!K54","v":25},{"$f":"'Nastavení příloh'!L54","v":25},{"$f":"'Nastavení příloh'!M54","v":25},{"$f":"'Nastavení příloh'!N54","v":25},{"$f":"'Nastavení příloh'!O54","v":25},{"$f":"'Nastavení příloh'!P54","v":25},{"$f":"'Nastavení příloh'!Q54","v":25},{"$f":"'Nastavení příloh'!R54","v":25},{"$f":"'Nastavení příloh'!S54","v":25},{"$f":"'Nastavení příloh'!T54","v":25},{"$f":"'Nastavení příloh'!U54","v":25},{"$f":"'Nastavení příloh'!V54","v":25},{"$f":"'Nastavení příloh'!W54","v":25},{"$f":"'Nastavení příloh'!X54","v":25}]
[{"$f":"'Nastavení příloh'!E55","v":3850},{"$f":"'Nastavení příloh'!B55","v":3800},{"$f":"'Nastavení příloh'!D55","v":3899},{"$f":"'Nastavení příloh'!F55","v":0},{"$f":"'Nastavení příloh'!G55","v":4},{"$f":"'Nastavení příloh'!H55","v":11},{"$f":"'Nastavení příloh'!I55","v":18},{"$f":"'Nastavení příloh'!J55","v":24},{"$f":"'Nastavení příloh'!K55","v":25},{"$f":"'Nastavení příloh'!L55","v":25},{"$f":"'Nastavení příloh'!M55","v":25},{"$f":"'Nastavení příloh'!N55","v":25},{"$f":"'Nastavení příloh'!O55","v":25},{"$f":"'Nastavení příloh'!P55","v":25},{"$f":"'Nastavení příloh'!Q55","v":25},{"$f":"'Nastavení příloh'!R55","v":25},{"$f":"'Nastavení příloh'!S55","v":25},{"$f":"'Nastavení příloh'!T55","v":25},{"$f":"'Nastavení příloh'!U55","v":25},{"$f":"'Nastavení příloh'!V55","v":25},{"$f":"'Nastavení příloh'!W55","v":25},{"$f":"'Nastavení příloh'!X55","v":25}]
[{"$f":"'Nastavení příloh'!E56","v":3950},{"$f":"'Nastavení příloh'!B56","v":3900},{"$f":"'Nastavení příloh'!D56","v":3999},{"$f":"'Nastavení příloh'!F56","v":0},{"$f":"'Nastavení příloh'!G56","v":4},{"$f":"'Nastavení příloh'!H56","v":11},{"$f":"'Nastavení příloh'!I56","v":18},{"$f":"'Nastavení příloh'!J56","v":25},{"$f":"'Nastavení příloh'!K56","v":25},{"$f":"'Nastavení příloh'!L56","v":25},{"$f":"'Nastavení příloh'!M56","v":25},{"$f":"'Nastavení příloh'!N56","v":25},{"$f":"'Nastavení příloh'!O56","v":25},{"$f":"'Nastavení příloh'!P56","v":25},{"$f":"'Nastavení příloh'!Q56","v":25},{"$f":"'Nastavení příloh'!R56","v":25},{"$f":"'Nastavení příloh'!S56","v":25},{"$f":"'Nastavení příloh'!T56","v":25},{"$f":"'Nastavení příloh'!U56","v":25},{"$f":"'Nastavení příloh'!V56","v":25},{"$f":"'Nastavení příloh'!W56","v":25},{"$f":"'Nastavení příloh'!X56","v":25}]
[{"$f":"'Nastavení příloh'!E57","v":4050},{"$f":"'Nastavení příloh'!B57","v":4000},{"$f":"'Nastavení příloh'!D57","v":4099},{"$f":"'Nastavení příloh'!F57","v":0},{"$f":"'Nastavení příloh'!G57","v":4},{"$f":"'Nastavení příloh'!H57","v":11},{"$f":"'Nastavení příloh'!I57","v":18},{"$f":"'Nastavení příloh'!J57","v":25},{"$f":"'Nastavení příloh'!K57","v":25},{"$f":"'Nastavení příloh'!L57","v":25},{"$f":"'Nastavení příloh'!M57","v":25},{"$f":"'Nastavení příloh'!N57","v":25},{"$f":"'Nastavení příloh'!O57","v":25},{"$f":"'Nastavení příloh'!P57","v":25},{"$f":"'Nastavení příloh'!Q57","v":25},{"$f":"'Nastavení příloh'!R57","v":25},{"$f":"'Nastavení příloh'!S57","v":25},{"$f":"'Nastavení příloh'!T57","v":25},{"$f":"'Nastavení příloh'!U57","v":25},{"$f":"'Nastavení příloh'!V57","v":25},{"$f":"'Nastavení příloh'!W57","v":25},{"$f":"'Nastavení příloh'!X57","v":25}]
[{"$f":"'Nastavení příloh'!E58","v":4150},{"$f":"'Nastavení příloh'!B58","v":4100},{"$f":"'Nastavení příloh'!D58","v":4199},{"$f":"'Nastavení příloh'!F58","v":0},{"$f":"'Nastavení příloh'!G58","v":4},{"$f":"'Nastavení příloh'!H58","v":12},{"$f":"'Nastavení příloh'!I58","v":19},{"$f":"'Nastavení příloh'!J58","v":25},{"$f":"'Nastavení příloh'!K58","v":25},{"$f":"'Nastavení příloh'!L58","v":25},{"$f":"'Nastavení příloh'!M58","v":25},{"$f":"'Nastavení příloh'!N58","v":25},{"$f":"'Nastavení příloh'!O58","v":25},{"$f":"'Nastavení příloh'!P58","v":25},{"$f":"'Nastavení příloh'!Q58","v":25},{"$f":"'Nastavení příloh'!R58","v":25},{"$f":"'Nastavení příloh'!S58","v":25},{"$f":"'Nastavení příloh'!T58","v":25},{"$f":"'Nastavení příloh'!U58","v":25},{"$f":"'Nastavení příloh'!V58","v":25},{"$f":"'Nastavení příloh'!W58","v":25},{"$f":"'Nastavení příloh'!X58","v":25}]
[{"$f":"'Nastavení příloh'!E59","v":4250},{"$f":"'Nastavení příloh'!B59","v":4200},{"$f":"'Nastavení příloh'!D59","v":4299},{"$f":"'Nastavení příloh'!F59","v":0},{"$f":"'Nastavení příloh'!G59","v":4},{"$f":"'Nastavení příloh'!H59","v":12},{"$f":"'Nastavení příloh'!I59","v":19},{"$f":"'Nastavení příloh'!J59","v":25},{"$f":"'Nastavení příloh'!K59","v":25},{"$f":"'Nastavení příloh'!L59","v":25},{"$f":"'Nastavení příloh'!M59","v":25},{"$f":"'Nastavení příloh'!N59","v":25},{"$f":"'Nastavení příloh'!O59","v":25},{"$f":"'Nastavení příloh'!P59","v":25},{"$f":"'Nastavení příloh'!Q59","v":25},{"$f":"'Nastavení příloh'!R59","v":25},{"$f":"'Nastavení příloh'!S59","v":25},{"$f":"'Nastavení příloh'!T59","v":25},{"$f":"'Nastavení příloh'!U59","v":25},{"$f":"'Nastavení příloh'!V59","v":25},{"$f":"'Nastavení příloh'!W59","v":25},{"$f":"'Nastavení příloh'!X59","v":25}]
[{"$f":"'Nastavení příloh'!E60","v":4350},{"$f":"'Nastavení příloh'!B60","v":4300},{"$f":"'Nastavení příloh'!D60","v":4399},{"$f":"'Nastavení příloh'!F60","v":0},{"$f":"'Nastavení příloh'!G60","v":5},{"$f":"'Nastavení příloh'!H60","v":12},{"$f":"'Nastavení příloh'!I60","v":20},{"$f":"'Nastavení příloh'!J60","v":25},{"$f":"'Nastavení příloh'!K60","v":25},{"$f":"'Nastavení příloh'!L60","v":25},{"$f":"'Nastavení příloh'!M60","v":25},{"$f":"'Nastavení příloh'!N60","v":25},{"$f":"'Nastavení příloh'!O60","v":25},{"$f":"'Nastavení příloh'!P60","v":25},{"$f":"'Nastavení příloh'!Q60","v":25},{"$f":"'Nastavení příloh'!R60","v":25},{"$f":"'Nastavení příloh'!S60","v":25},{"$f":"'Nastavení příloh'!T60","v":25},{"$f":"'Nastavení příloh'!U60","v":25},{"$f":"'Nastavení příloh'!V60","v":25},{"$f":"'Nastavení příloh'!W60","v":25},{"$f":"'Nastavení příloh'!X60","v":25}]
[{"$f":"'Nastavení příloh'!E61","v":4450},{"$f":"'Nastavení příloh'!B61","v":4400},{"$f":"'Nastavení příloh'!D61","v":4499},{"$f":"'Nastavení příloh'!F61","v":0},{"$f":"'Nastavení příloh'!G61","v":5},{"$f":"'Nastavení příloh'!H61","v":12},{"$f":"'Nastavení příloh'!I61","v":20},{"$f":"'Nastavení příloh'!J61","v":25},{"$f":"'Nastavení příloh'!K61","v":25},{"$f":"'Nastavení příloh'!L61","v":25},{"$f":"'Nastavení příloh'!M61","v":25},{"$f":"'Nastavení příloh'!N61","v":25},{"$f":"'Nastavení příloh'!O61","v":25},{"$f":"'Nastavení příloh'!P61","v":25},{"$f":"'Nastavení příloh'!Q61","v":25},{"$f":"'Nastavení příloh'!R61","v":25},{"$f":"'Nastavení příloh'!S61","v":25},{"$f":"'Nastavení příloh'!T61","v":25},{"$f":"'Nastavení příloh'!U61","v":25},{"$f":"'Nastavení příloh'!V61","v":25},{"$f":"'Nastavení příloh'!W61","v":25},{"$f":"'Nastavení příloh'!X61","v":25}]
[{"$f":"'Nastavení příloh'!E62","v":4550},{"$f":"'Nastavení příloh'!B62","v":4500},{"$f":"'Nastavení příloh'!D62","v":4599},{"$f":"'Nastavení příloh'!F62","v":0},{"$f":"'Nastavení příloh'!G62","v":5},{"$f":"'Nastavení příloh'!H62","v":13},{"$f":"'Nastavení příloh'!I62","v":21},{"$f":"'Nastavení příloh'!J62","v":25},{"$f":"'Nastavení příloh'!K62","v":25},{"$f":"'Nastavení příloh'!L62","v":25},{"$f":"'Nastavení příloh'!M62","v":25},{"$f":"'Nastavení příloh'!N62","v":25},{"$f":"'Nastavení příloh'!O62","v":25},{"$f":"'Nastavení příloh'!P62","v":25},{"$f":"'Nastavení příloh'!Q62","v":25},{"$f":"'Nastavení příloh'!R62","v":25},{"$f":"'Nastavení příloh'!S62","v":25},{"$f":"'Nastavení příloh'!T62","v":25},{"$f":"'Nastavení příloh'!U62","v":25},{"$f":"'Nastavení příloh'!V62","v":25},{"$f":"'Nastavení příloh'!W62","v":25},{"$f":"'Nastavení příloh'!X62","v":25}]
[{"$f":"'Nastavení příloh'!E63","v":4650},{"$f":"'Nastavení příloh'!B63","v":4600},{"$f":"'Nastavení příloh'!D63","v":4699},{"$f":"'Nastavení příloh'!F63","v":0},{"$f":"'Nastavení příloh'!G63","v":5},{"$f":"'Nastavení příloh'!H63","v":13},{"$f":"'Nastavení příloh'!I63","v":21},{"$f":"'Nastavení příloh'!J63","v":25},{"$f":"'Nastavení příloh'!K63","v":25},{"$f":"'Nastavení příloh'!L63","v":25},{"$f":"'Nastavení příloh'!M63","v":25},{"$f":"'Nastavení příloh'!N63","v":25},{"$f":"'Nastavení příloh'!O63","v":25},{"$f":"'Nastavení příloh'!P63","v":25},{"$f":"'Nastavení příloh'!Q63","v":25},{"$f":"'Nastavení příloh'!R63","v":25},{"$f":"'Nastavení příloh'!S63","v":25},{"$f":"'Nastavení příloh'!T63","v":25},{"$f":"'Nastavení příloh'!U63","v":25},{"$f":"'Nastavení příloh'!V63","v":25},{"$f":"'Nastavení příloh'!W63","v":25},{"$f":"'Nastavení příloh'!X63","v":25}]
[{"$f":"'Nastavení příloh'!E64","v":4750},{"$f":"'Nastavení příloh'!B64","v":4700},{"$f":"'Nastavení příloh'!D64","v":4799},{"$f":"'Nastavení příloh'!F64","v":0},{"$f":"'Nastavení příloh'!G64","v":5},{"$f":"'Nastavení příloh'!H64","v":13},{"$f":"'Nastavení příloh'!I64","v":22},{"$f":"'Nastavení příloh'!J64","v":25},{"$f":"'Nastavení příloh'!K64","v":25},{"$f":"'Nastavení příloh'!L64","v":25},{"$f":"'Nastavení příloh'!M64","v":25},{"$f":"'Nastavení příloh'!N64","v":25},{"$f":"'Nastavení příloh'!O64","v":25},{"$f":"'Nastavení příloh'!P64","v":25},{"$f":"'Nastavení příloh'!Q64","v":25},{"$f":"'Nastavení příloh'!R64","v":25},{"$f":"'Nastavení příloh'!S64","v":25},{"$f":"'Nastavení příloh'!T64","v":25},{"$f":"'Nastavení příloh'!U64","v":25},{"$f":"'Nastavení příloh'!V64","v":25},{"$f":"'Nastavení příloh'!W64","v":25},{"$f":"'Nastavení příloh'!X64","v":25}]
[{"$f":"'Nastavení příloh'!E65","v":4850},{"$f":"'Nastavení příloh'!B65","v":4800},{"$f":"'Nastavení příloh'!D65","v":4899},{"$f":"'Nastavení příloh'!F65","v":0},{"$f":"'Nastavení příloh'!G65","v":5},{"$f":"'Nastavení příloh'!H65","v":14},{"$f":"'Nastavení příloh'!I65","v":22},{"$f":"'Nastavení příloh'!J65","v":25},{"$f":"'Nastavení příloh'!K65","v":25},{"$f":"'Nastavení příloh'!L65","v":25},{"$f":"'Nastavení příloh'!M65","v":25},{"$f":"'Nastavení příloh'!N65","v":25},{"$f":"'Nastavení příloh'!O65","v":25},{"$f":"'Nastavení příloh'!P65","v":25},{"$f":"'Nastavení příloh'!Q65","v":25},{"$f":"'Nastavení příloh'!R65","v":25},{"$f":"'Nastavení příloh'!S65","v":25},{"$f":"'Nastavení příloh'!T65","v":25},{"$f":"'Nastavení příloh'!U65","v":25},{"$f":"'Nastavení příloh'!V65","v":25},{"$f":"'Nastavení příloh'!W65","v":25},{"$f":"'Nastavení příloh'!X65","v":25}]
[{"$f":"'Nastavení příloh'!E66","v":4950},{"$f":"'Nastavení příloh'!B66","v":4900},{"$f":"'Nastavení příloh'!D66","v":4999},{"$f":"'Nastavení příloh'!F66","v":0},{"$f":"'Nastavení příloh'!G66","v":5},{"$f":"'Nastavení příloh'!H66","v":14},{"$f":"'Nastavení příloh'!I66","v":23},{"$f":"'Nastavení příloh'!J66","v":25},{"$f":"'Nastavení příloh'!K66","v":25},{"$f":"'Nastavení příloh'!L66","v":25},{"$f":"'Nastavení příloh'!M66","v":25},{"$f":"'Nastavení příloh'!N66","v":25},{"$f":"'Nastavení příloh'!O66","v":25},{"$f":"'Nastavení příloh'!P66","v":25},{"$f":"'Nastavení příloh'!Q66","v":25},{"$f":"'Nastavení příloh'!R66","v":25},{"$f":"'Nastavení příloh'!S66","v":25},{"$f":"'Nastavení příloh'!T66","v":25},{"$f":"'Nastavení příloh'!U66","v":25},{"$f":"'Nastavení příloh'!V66","v":25},{"$f":"'Nastavení příloh'!W66","v":25},{"$f":"'Nastavení příloh'!X66","v":25}]
[{"$f":"'Nastavení příloh'!E67","v":5050},{"$f":"'Nastavení příloh'!B67","v":5000},{"$f":"'Nastavení příloh'!D67","v":5099},{"$f":"'Nastavení příloh'!F67","v":0},{"$f":"'Nastavení příloh'!G67","v":5},{"$f":"'Nastavení příloh'!H67","v":14},{"$f":"'Nastavení příloh'!I67","v":23},{"$f":"'Nastavení příloh'!J67","v":25},{"$f":"'Nastavení příloh'!K67","v":25},{"$f":"'Nastavení příloh'!L67","v":25},{"$f":"'Nastavení příloh'!M67","v":25},{"$f":"'Nastavení příloh'!N67","v":25},{"$f":"'Nastavení příloh'!O67","v":25},{"$f":"'Nastavení příloh'!P67","v":25},{"$f":"'Nastavení příloh'!Q67","v":25},{"$f":"'Nastavení příloh'!R67","v":25},{"$f":"'Nastavení příloh'!S67","v":25},{"$f":"'Nastavení příloh'!T67","v":25},{"$f":"'Nastavení příloh'!U67","v":25},{"$f":"'Nastavení příloh'!V67","v":25},{"$f":"'Nastavení příloh'!W67","v":25},{"$f":"'Nastavení příloh'!X67","v":25}]
[{"$f":"'Nastavení příloh'!E68","v":5150},{"$f":"'Nastavení příloh'!B68","v":5100},{"$f":"'Nastavení příloh'!D68","v":5199},{"$f":"'Nastavení příloh'!F68","v":0},{"$f":"'Nastavení příloh'!G68","v":5},{"$f":"'Nastavení příloh'!H68","v":14},{"$f":"'Nastavení příloh'!I68","v":23},{"$f":"'Nastavení příloh'!J68","v":25},{"$f":"'Nastavení příloh'!K68","v":25},{"$f":"'Nastavení příloh'!L68","v":25},{"$f":"'Nastavení příloh'!M68","v":25},{"$f":"'Nastavení příloh'!N68","v":25},{"$f":"'Nastavení příloh'!O68","v":25},{"$f":"'Nastavení příloh'!P68","v":25},{"$f":"'Nastavení příloh'!Q68","v":25},{"$f":"'Nastavení příloh'!R68","v":25},{"$f":"'Nastavení příloh'!S68","v":25},{"$f":"'Nastavení příloh'!T68","v":25},{"$f":"'Nastavení příloh'!U68","v":25},{"$f":"'Nastavení příloh'!V68","v":25},{"$f":"'Nastavení příloh'!W68","v":25},{"$f":"'Nastavení příloh'!X68","v":25}]
[{"$f":"'Nastavení příloh'!E69","v":5250},{"$f":"'Nastavení příloh'!B69","v":5200},{"$f":"'Nastavení příloh'!D69","v":5299},{"$f":"'Nastavení příloh'!F69","v":0},{"$f":"'Nastavení příloh'!G69","v":6},{"$f":"'Nastavení příloh'!H69","v":15},{"$f":"'Nastavení příloh'!I69","v":24},{"$f":"'Nastavení příloh'!J69","v":25},{"$f":"'Nastavení příloh'!K69","v":25},{"$f":"'Nastavení příloh'!L69","v":25},{"$f":"'Nastavení příloh'!M69","v":25},{"$f":"'Nastavení příloh'!N69","v":25},{"$f":"'Nastavení příloh'!O69","v":25},{"$f":"'Nastavení příloh'!P69","v":25},{"$f":"'Nastavení příloh'!Q69","v":25},{"$f":"'Nastavení příloh'!R69","v":25},{"$f":"'Nastavení příloh'!S69","v":25},{"$f":"'Nastavení příloh'!T69","v":25},{"$f":"'Nastavení příloh'!U69","v":25},{"$f":"'Nastavení příloh'!V69","v":25},{"$f":"'Nastavení příloh'!W69","v":25},{"$f":"'Nastavení příloh'!X69","v":25}]
[{"$f":"'Nastavení příloh'!E70","v":5350},{"$f":"'Nastavení příloh'!B70","v":5300},{"$f":"'Nastavení příloh'!D70","v":5399},{"$f":"'Nastavení příloh'!F70","v":0},{"$f":"'Nastavení příloh'!G70","v":6},{"$f":"'Nastavení příloh'!H70","v":15},{"$f":"'Nastavení příloh'!I70","v":24},{"$f":"'Nastavení příloh'!J70","v":25},{"$f":"'Nastavení příloh'!K70","v":25},{"$f":"'Nastavení příloh'!L70","v":25},{"$f":"'Nastavení příloh'!M70","v":25},{"$f":"'Nastavení příloh'!N70","v":25},{"$f":"'Nastavení příloh'!O70","v":25},{"$f":"'Nastavení příloh'!P70","v":25},{"$f":"'Nastavení příloh'!Q70","v":25},{"$f":"'Nastavení příloh'!R70","v":25},{"$f":"'Nastavení příloh'!S70","v":25},{"$f":"'Nastavení příloh'!T70","v":25},{"$f":"'Nastavení příloh'!U70","v":25},{"$f":"'Nastavení příloh'!V70","v":25},{"$f":"'Nastavení příloh'!W70","v":25},{"$f":"'Nastavení příloh'!X70","v":25}]
[{"$f":"'Nastavení příloh'!E71","v":5450},{"$f":"'Nastavení příloh'!B71","v":5400},{"$f":"'Nastavení příloh'!D71","v":5499},{"$f":"'Nastavení příloh'!F71","v":0},{"$f":"'Nastavení příloh'!G71","v":6},{"$f":"'Nastavení příloh'!H71","v":15},{"$f":"'Nastavení příloh'!I71","v":25},{"$f":"'Nastavení příloh'!J71","v":25},{"$f":"'Nastavení příloh'!K71","v":25},{"$f":"'Nastavení příloh'!L71","v":25},{"$f":"'Nastavení příloh'!M71","v":25},{"$f":"'Nastavení příloh'!N71","v":25},{"$f":"'Nastavení příloh'!O71","v":25},{"$f":"'Nastavení příloh'!P71","v":25},{"$f":"'Nastavení příloh'!Q71","v":25},{"$f":"'Nastavení příloh'!R71","v":25},{"$f":"'Nastavení příloh'!S71","v":25},{"$f":"'Nastavení příloh'!T71","v":25},{"$f":"'Nastavení příloh'!U71","v":25},{"$f":"'Nastavení příloh'!V71","v":25},{"$f":"'Nastavení příloh'!W71","v":25},{"$f":"'Nastavení příloh'!X71","v":25}]
[{"$f":"'Nastavení příloh'!E72","v":5550},{"$f":"'Nastavení příloh'!B72","v":5500},{"$f":"'Nastavení příloh'!D72","v":5599},{"$f":"'Nastavení příloh'!F72","v":0},{"$f":"'Nastavení příloh'!G72","v":6},{"$f":"'Nastavení příloh'!H72","v":16},{"$f":"'Nastavení příloh'!I72","v":25},{"$f":"'Nastavení příloh'!J72","v":25},{"$f":"'Nastavení příloh'!K72","v":25},{"$f":"'Nastavení příloh'!L72","v":25},{"$f":"'Nastavení příloh'!M72","v":25},{"$f":"'Nastavení příloh'!N72","v":25},{"$f":"'Nastavení příloh'!O72","v":25},{"$f":"'Nastavení příloh'!P72","v":25},{"$f":"'Nastavení příloh'!Q72","v":25},{"$f":"'Nastavení příloh'!R72","v":25},{"$f":"'Nastavení příloh'!S72","v":25},{"$f":"'Nastavení příloh'!T72","v":25},{"$f":"'Nastavení příloh'!U72","v":25},{"$f":"'Nastavení příloh'!V72","v":25},{"$f":"'Nastavení příloh'!W72","v":25},{"$f":"'Nastavení příloh'!X72","v":25}]
[{"$f":"'Nastavení příloh'!E73","v":5650},{"$f":"'Nastavení příloh'!B73","v":5600},{"$f":"'Nastavení příloh'!D73","v":5699},{"$f":"'Nastavení příloh'!F73","v":0},{"$f":"'Nastavení příloh'!G73","v":6},{"$f":"'Nastavení příloh'!H73","v":16},{"$f":"'Nastavení příloh'!I73","v":25},{"$f":"'Nastavení příloh'!J73","v":25},{"$f":"'Nastavení příloh'!K73","v":25},{"$f":"'Nastavení příloh'!L73","v":25},{"$f":"'Nastavení příloh'!M73","v":25},{"$f":"'Nastavení příloh'!N73","v":25},{"$f":"'Nastavení příloh'!O73","v":25},{"$f":"'Nastavení příloh'!P73","v":25},{"$f":"'Nastavení příloh'!Q73","v":25},{"$f":"'Nastavení příloh'!R73","v":25},{"$f":"'Nastavení příloh'!S73","v":25},{"$f":"'Nastavení příloh'!T73","v":25},{"$f":"'Nastavení příloh'!U73","v":25},{"$f":"'Nastavení příloh'!V73","v":25},{"$f":"'Nastavení příloh'!W73","v":25},{"$f":"'Nastavení příloh'!X73","v":25}]
[{"$f":"'Nastavení příloh'!E74","v":5750},{"$f":"'Nastavení příloh'!B74","v":5700},{"$f":"'Nastavení příloh'!D74","v":5799},{"$f":"'Nastavení příloh'!F74","v":0},{"$f":"'Nastavení příloh'!G74","v":6},{"$f":"'Nastavení příloh'!H74","v":16},{"$f":"'Nastavení příloh'!I74","v":25},{"$f":"'Nastavení příloh'!J74","v":25},{"$f":"'Nastavení příloh'!K74","v":25},{"$f":"'Nastavení příloh'!L74","v":25},{"$f":"'Nastavení příloh'!M74","v":25},{"$f":"'Nastavení příloh'!N74","v":25},{"$f":"'Nastavení příloh'!O74","v":25},{"$f":"'Nastavení příloh'!P74","v":25},{"$f":"'Nastavení příloh'!Q74","v":25},{"$f":"'Nastavení příloh'!R74","v":25},{"$f":"'Nastavení příloh'!S74","v":25},{"$f":"'Nastavení příloh'!T74","v":25},{"$f":"'Nastavení příloh'!U74","v":25},{"$f":"'Nastavení příloh'!V74","v":25},{"$f":"'Nastavení příloh'!W74","v":25},{"$f":"'Nastavení příloh'!X74","v":25}]
[{"$f":"'Nastavení příloh'!E75","v":5850},{"$f":"'Nastavení příloh'!B75","v":5800},{"$f":"'Nastavení příloh'!D75","v":5899},{"$f":"'Nastavení příloh'!F75","v":0},{"$f":"'Nastavení příloh'!G75","v":6},{"$f":"'Nastavení příloh'!H75","v":16},{"$f":"'Nastavení příloh'!I75","v":25},{"$f":"'Nastavení příloh'!J75","v":25},{"$f":"'Nastavení příloh'!K75","v":25},{"$f":"'Nastavení příloh'!L75","v":25},{"$f":"'Nastavení příloh'!M75","v":25},{"$f":"'Nastavení příloh'!N75","v":25},{"$f":"'Nastavení příloh'!O75","v":25},{"$f":"'Nastavení příloh'!P75","v":25},{"$f":"'Nastavení příloh'!Q75","v":25},{"$f":"'Nastavení příloh'!R75","v":25},{"$f":"'Nastavení příloh'!S75","v":25},{"$f":"'Nastavení příloh'!T75","v":25},{"$f":"'Nastavení příloh'!U75","v":25},{"$f":"'Nastavení příloh'!V75","v":25},{"$f":"'Nastavení příloh'!W75","v":25},{"$f":"'Nastavení příloh'!X75","v":25}]
[{"$f":"'Nastavení příloh'!E76","v":5950},{"$f":"'Nastavení příloh'!B76","v":5900},{"$f":"'Nastavení příloh'!D76","v":5999},{"$f":"'Nastavení příloh'!F76","v":0},{"$f":"'Nastavení příloh'!G76","v":6},{"$f":"'Nastavení příloh'!H76","v":17},{"$f":"'Nastavení příloh'!I76","v":25},{"$f":"'Nastavení příloh'!J76","v":25},{"$f":"'Nastavení příloh'!K76","v":25},{"$f":"'Nastavení příloh'!L76","v":25},{"$f":"'Nastavení příloh'!M76","v":25},{"$f":"'Nastavení příloh'!N76","v":25},{"$f":"'Nastavení příloh'!O76","v":25},{"$f":"'Nastavení příloh'!P76","v":25},{"$f":"'Nastavení příloh'!Q76","v":25},{"$f":"'Nastavení příloh'!R76","v":25},{"$f":"'Nastavení příloh'!S76","v":25},{"$f":"'Nastavení příloh'!T76","v":25},{"$f":"'Nastavení příloh'!U76","v":25},{"$f":"'Nastavení příloh'!V76","v":25},{"$f":"'Nastavení příloh'!W76","v":25},{"$f":"'Nastavení příloh'!X76","v":25}]
[{"$f":"'Nastavení příloh'!E77","v":6050},{"$f":"'Nastavení příloh'!B77","v":6000},{"$f":"'Nastavení příloh'!D77","v":6099},{"$f":"'Nastavení příloh'!F77","v":0},{"$f":"'Nastavení příloh'!G77","v":6},{"$f":"'Nastavení příloh'!H77","v":17},{"$f":"'Nastavení příloh'!I77","v":25},{"$f":"'Nastavení příloh'!J77","v":25},{"$f":"'Nastavení příloh'!K77","v":25},{"$f":"'Nastavení příloh'!L77","v":25},{"$f":"'Nastavení příloh'!M77","v":25},{"$f":"'Nastavení příloh'!N77","v":25},{"$f":"'Nastavení příloh'!O77","v":25},{"$f":"'Nastavení příloh'!P77","v":25},{"$f":"'Nastavení příloh'!Q77","v":25},{"$f":"'Nastavení příloh'!R77","v":25},{"$f":"'Nastavení příloh'!S77","v":25},{"$f":"'Nastavení příloh'!T77","v":25},{"$f":"'Nastavení příloh'!U77","v":25},{"$f":"'Nastavení příloh'!V77","v":25},{"$f":"'Nastavení příloh'!W77","v":25},{"$f":"'Nastavení příloh'!X77","v":25}]
[{"$f":"'Nastavení příloh'!E78","v":6150},{"$f":"'Nastavení příloh'!B78","v":6100},{"$f":"'Nastavení příloh'!D78","v":6199},{"$f":"'Nastavení příloh'!F78","v":0},{"$f":"'Nastavení příloh'!G78","v":6},{"$f":"'Nastavení příloh'!H78","v":17},{"$f":"'Nastavení příloh'!I78","v":25},{"$f":"'Nastavení příloh'!J78","v":25},{"$f":"'Nastavení příloh'!K78","v":25},{"$f":"'Nastavení příloh'!L78","v":25},{"$f":"'Nastavení příloh'!M78","v":25},{"$f":"'Nastavení příloh'!N78","v":25},{"$f":"'Nastavení příloh'!O78","v":25},{"$f":"'Nastavení příloh'!P78","v":25},{"$f":"'Nastavení příloh'!Q78","v":25},{"$f":"'Nastavení příloh'!R78","v":25},{"$f":"'Nastavení příloh'!S78","v":25},{"$f":"'Nastavení příloh'!T78","v":25},{"$f":"'Nastavení příloh'!U78","v":25},{"$f":"'Nastavení příloh'!V78","v":25},{"$f":"'Nastavení příloh'!W78","v":25},{"$f":"'Nastavení příloh'!X78","v":25}]
[{"$f":"'Nastavení příloh'!E79","v":6250},{"$f":"'Nastavení příloh'!B79","v":6200},{"$f":"'Nastavení příloh'!D79","v":6299},{"$f":"'Nastavení příloh'!F79","v":0},{"$f":"'Nastavení příloh'!G79","v":7},{"$f":"'Nastavení příloh'!H79","v":18},{"$f":"'Nastavení příloh'!I79","v":25},{"$f":"'Nastavení příloh'!J79","v":25},{"$f":"'Nastavení příloh'!K79","v":25},{"$f":"'Nastavení příloh'!L79","v":25},{"$f":"'Nastavení příloh'!M79","v":25},{"$f":"'Nastavení příloh'!N79","v":25},{"$f":"'Nastavení příloh'!O79","v":25},{"$f":"'Nastavení příloh'!P79","v":25},{"$f":"'Nastavení příloh'!Q79","v":25},{"$f":"'Nastavení příloh'!R79","v":25},{"$f":"'Nastavení příloh'!S79","v":25},{"$f":"'Nastavení příloh'!T79","v":25},{"$f":"'Nastavení příloh'!U79","v":25},{"$f":"'Nastavení příloh'!V79","v":25},{"$f":"'Nastavení příloh'!W79","v":25},{"$f":"'Nastavení příloh'!X79","v":25}]
[{"$f":"'Nastavení příloh'!E80","v":6350},{"$f":"'Nastavení příloh'!B80","v":6300},{"$f":"'Nastavení příloh'!D80","v":6399},{"$f":"'Nastavení příloh'!F80","v":0},{"$f":"'Nastavení příloh'!G80","v":7},{"$f":"'Nastavení příloh'!H80","v":18},{"$f":"'Nastavení příloh'!I80","v":25},{"$f":"'Nastavení příloh'!J80","v":25},{"$f":"'Nastavení příloh'!K80","v":25},{"$f":"'Nastavení příloh'!L80","v":25},{"$f":"'Nastavení příloh'!M80","v":25},{"$f":"'Nastavení příloh'!N80","v":25},{"$f":"'Nastavení příloh'!O80","v":25},{"$f":"'Nastavení příloh'!P80","v":25},{"$f":"'Nastavení příloh'!Q80","v":25},{"$f":"'Nastavení příloh'!R80","v":25},{"$f":"'Nastavení příloh'!S80","v":25},{"$f":"'Nastavení příloh'!T80","v":25},{"$f":"'Nastavení příloh'!U80","v":25},{"$f":"'Nastavení příloh'!V80","v":25},{"$f":"'Nastavení příloh'!W80","v":25},{"$f":"'Nastavení příloh'!X80","v":25}]
[{"$f":"'Nastavení příloh'!E81","v":6450},{"$f":"'Nastavení příloh'!B81","v":6400},{"$f":"'Nastavení příloh'!D81","v":6499},{"$f":"'Nastavení příloh'!F81","v":0},{"$f":"'Nastavení příloh'!G81","v":7},{"$f":"'Nastavení příloh'!H81","v":18},{"$f":"'Nastavení příloh'!I81","v":25},{"$f":"'Nastavení příloh'!J81","v":25},{"$f":"'Nastavení příloh'!K81","v":25},{"$f":"'Nastavení příloh'!L81","v":25},{"$f":"'Nastavení příloh'!M81","v":25},{"$f":"'Nastavení příloh'!N81","v":25},{"$f":"'Nastavení příloh'!O81","v":25},{"$f":"'Nastavení příloh'!P81","v":25},{"$f":"'Nastavení příloh'!Q81","v":25},{"$f":"'Nastavení příloh'!R81","v":25},{"$f":"'Nastavení příloh'!S81","v":25},{"$f":"'Nastavení příloh'!T81","v":25},{"$f":"'Nastavení příloh'!U81","v":25},{"$f":"'Nastavení příloh'!V81","v":25},{"$f":"'Nastavení příloh'!W81","v":25},{"$f":"'Nastavení příloh'!X81","v":25}]
[{"$f":"'Nastavení příloh'!E88","v":6550},{"$f":"'Nastavení příloh'!B88","v":6500},{"$f":"'Nastavení příloh'!D88","v":6599},{"$f":"'Nastavení příloh'!F88","v":0},{"$f":"'Nastavení příloh'!G88","v":7},{"$f":"'Nastavení příloh'!H88","v":18},{"$f":"'Nastavení příloh'!I88","v":25},{"$f":"'Nastavení příloh'!J88","v":25},{"$f":"'Nastavení příloh'!K88","v":25},{"$f":"'Nastavení příloh'!L88","v":25},{"$f":"'Nastavení příloh'!M88","v":25},{"$f":"'Nastavení příloh'!N88","v":25},{"$f":"'Nastavení příloh'!O88","v":25},{"$f":"'Nastavení příloh'!P88","v":25},{"$f":"'Nastavení příloh'!Q88","v":25},{"$f":"'Nastavení příloh'!R88","v":25},{"$f":"'Nastavení příloh'!S88","v":25},{"$f":"'Nastavení příloh'!T88","v":25},{"$f":"'Nastavení příloh'!U88","v":25},{"$f":"'Nastavení příloh'!V88","v":25},{"$f":"'Nastavení příloh'!W88","v":25},{"$f":"'Nastavení příloh'!X88","v":25}]
[{"$f":"'Nastavení příloh'!E89","v":6650},{"$f":"'Nastavení příloh'!B89","v":6600},{"$f":"'Nastavení příloh'!D89","v":6699},{"$f":"'Nastavení příloh'!F89","v":0},{"$f":"'Nastavení příloh'!G89","v":7},{"$f":"'Nastavení příloh'!H89","v":19},{"$f":"'Nastavení příloh'!I89","v":25},{"$f":"'Nastavení příloh'!J89","v":25},{"$f":"'Nastavení příloh'!K89","v":25},{"$f":"'Nastavení příloh'!L89","v":25},{"$f":"'Nastavení příloh'!M89","v":25},{"$f":"'Nastavení příloh'!N89","v":25},{"$f":"'Nastavení příloh'!O89","v":25},{"$f":"'Nastavení příloh'!P89","v":25},{"$f":"'Nastavení příloh'!Q89","v":25},{"$f":"'Nastavení příloh'!R89","v":25},{"$f":"'Nastavení příloh'!S89","v":25},{"$f":"'Nastavení příloh'!T89","v":25},{"$f":"'Nastavení příloh'!U89","v":25},{"$f":"'Nastavení příloh'!V89","v":25},{"$f":"'Nastavení příloh'!W89","v":25},{"$f":"'Nastavení příloh'!X89","v":25}]
[{"$f":"'Nastavení příloh'!E90","v":6750},{"$f":"'Nastavení příloh'!B90","v":6700},{"$f":"'Nastavení příloh'!D90","v":6799},{"$f":"'Nastavení příloh'!F90","v":0},{"$f":"'Nastavení příloh'!G90","v":7},{"$f":"'Nastavení příloh'!H90","v":19},{"$f":"'Nastavení příloh'!I90","v":25},{"$f":"'Nastavení příloh'!J90","v":25},{"$f":"'Nastavení příloh'!K90","v":25},{"$f":"'Nastavení příloh'!L90","v":25},{"$f":"'Nastavení příloh'!M90","v":25},{"$f":"'Nastavení příloh'!N90","v":25},{"$f":"'Nastavení příloh'!O90","v":25},{"$f":"'Nastavení příloh'!P90","v":25},{"$f":"'Nastavení příloh'!Q90","v":25},{"$f":"'Nastavení příloh'!R90","v":25},{"$f":"'Nastavení příloh'!S90","v":25},{"$f":"'Nastavení příloh'!T90","v":25},{"$f":"'Nastavení příloh'!U90","v":25},{"$f":"'Nastavení příloh'!V90","v":25},{"$f":"'Nastavení příloh'!W90","v":25},{"$f":"'Nastavení příloh'!X90","v":25}]
[{"$f":"'Nastavení příloh'!E91","v":6850},{"$f":"'Nastavení příloh'!B91","v":6800},{"$f":"'Nastavení příloh'!D91","v":6899},{"$f":"'Nastavení příloh'!F91","v":0},{"$f":"'Nastavení příloh'!G91","v":7},{"$f":"'Nastavení příloh'!H91","v":19},{"$f":"'Nastavení příloh'!I91","v":25},{"$f":"'Nastavení příloh'!J91","v":25},{"$f":"'Nastavení příloh'!K91","v":25},{"$f":"'Nastavení příloh'!L91","v":25},{"$f":"'Nastavení příloh'!M91","v":25},{"$f":"'Nastavení příloh'!N91","v":25},{"$f":"'Nastavení příloh'!O91","v":25},{"$f":"'Nastavení příloh'!P91","v":25},{"$f":"'Nastavení příloh'!Q91","v":25},{"$f":"'Nastavení příloh'!R91","v":25},{"$f":"'Nastavení příloh'!S91","v":25},{"$f":"'Nastavení příloh'!T91","v":25},{"$f":"'Nastavení příloh'!U91","v":25},{"$f":"'Nastavení příloh'!V91","v":25},{"$f":"'Nastavení příloh'!W91","v":25},{"$f":"'Nastavení příloh'!X91","v":25}]
[{"$f":"'Nastavení příloh'!E92","v":6950},{"$f":"'Nastavení příloh'!B92","v":6900},{"$f":"'Nastavení příloh'!D92","v":6999},{"$f":"'Nastavení příloh'!F92","v":0},{"$f":"'Nastavení příloh'!G92","v":7},{"$f":"'Nastavení příloh'!H92","v":19},{"$f":"'Nastavení příloh'!I92","v":25},{"$f":"'Nastavení příloh'!J92","v":25},{"$f":"'Nastavení příloh'!K92","v":25},{"$f":"'Nastavení příloh'!L92","v":25},{"$f":"'Nastavení příloh'!M92","v":25},{"$f":"'Nastavení příloh'!N92","v":25},{"$f":"'Nastavení příloh'!O92","v":25},{"$f":"'Nastavení příloh'!P92","v":25},{"$f":"'Nastavení příloh'!Q92","v":25},{"$f":"'Nastavení příloh'!R92","v":25},{"$f":"'Nastavení příloh'!S92","v":25},{"$f":"'Nastavení příloh'!T92","v":25},{"$f":"'Nastavení příloh'!U92","v":25},{"$f":"'Nastavení příloh'!V92","v":25},{"$f":"'Nastavení příloh'!W92","v":25},{"$f":"'Nastavení příloh'!X92","v":25}]
[{"$f":"'Nastavení příloh'!E93","v":7050},{"$f":"'Nastavení příloh'!B93","v":7000},{"$f":"'Nastavení příloh'!D93","v":7099},{"$f":"'Nastavení příloh'!F93","v":0},{"$f":"'Nastavení příloh'!G93","v":7},{"$f":"'Nastavení příloh'!H93","v":20},{"$f":"'Nastavení příloh'!I93","v":25},{"$f":"'Nastavení příloh'!J93","v":25},{"$f":"'Nastavení příloh'!K93","v":25},{"$f":"'Nastavení příloh'!L93","v":25},{"$f":"'Nastavení příloh'!M93","v":25},{"$f":"'Nastavení příloh'!N93","v":25},{"$f":"'Nastavení příloh'!O93","v":25},{"$f":"'Nastavení příloh'!P93","v":25},{"$f":"'Nastavení příloh'!Q93","v":25},{"$f":"'Nastavení příloh'!R93","v":25},{"$f":"'Nastavení příloh'!S93","v":25},{"$f":"'Nastavení příloh'!T93","v":25},{"$f":"'Nastavení příloh'!U93","v":25},{"$f":"'Nastavení příloh'!V93","v":25},{"$f":"'Nastavení příloh'!W93","v":25},{"$f":"'Nastavení příloh'!X93","v":25}]
[{"$f":"'Nastavení příloh'!E94","v":7150},{"$f":"'Nastavení příloh'!B94","v":7100},{"$f":"'Nastavení příloh'!D94","v":7199},{"$f":"'Nastavení příloh'!F94","v":0},{"$f":"'Nastavení příloh'!G94","v":8},{"$f":"'Nastavení příloh'!H94","v":20},{"$f":"'Nastavení příloh'!I94","v":25},{"$f":"'Nastavení příloh'!J94","v":25},{"$f":"'Nastavení příloh'!K94","v":25},{"$f":"'Nastavení příloh'!L94","v":25},{"$f":"'Nastavení příloh'!M94","v":25},{"$f":"'Nastavení příloh'!N94","v":25},{"$f":"'Nastavení příloh'!O94","v":25},{"$f":"'Nastavení příloh'!P94","v":25},{"$f":"'Nastavení příloh'!Q94","v":25},{"$f":"'Nastavení příloh'!R94","v":25},{"$f":"'Nastavení příloh'!S94","v":25},{"$f":"'Nastavení příloh'!T94","v":25},{"$f":"'Nastavení příloh'!U94","v":25},{"$f":"'Nastavení příloh'!V94","v":25},{"$f":"'Nastavení příloh'!W94","v":25},{"$f":"'Nastavení příloh'!X94","v":25}]
[{"$f":"'Nastavení příloh'!E95","v":7250},{"$f":"'Nastavení příloh'!B95","v":7200},{"$f":"'Nastavení příloh'!D95","v":7299},{"$f":"'Nastavení příloh'!F95","v":0},{"$f":"'Nastavení příloh'!G95","v":8},{"$f":"'Nastavení příloh'!H95","v":20},{"$f":"'Nastavení příloh'!I95","v":25},{"$f":"'Nastavení příloh'!J95","v":25},{"$f":"'Nastavení příloh'!K95","v":25},{"$f":"'Nastavení příloh'!L95","v":25},{"$f":"'Nastavení příloh'!M95","v":25},{"$f":"'Nastavení příloh'!N95","v":25},{"$f":"'Nastavení příloh'!O95","v":25},{"$f":"'Nastavení příloh'!P95","v":25},{"$f":"'Nastavení příloh'!Q95","v":25},{"$f":"'Nastavení příloh'!R95","v":25},{"$f":"'Nastavení příloh'!S95","v":25},{"$f":"'Nastavení příloh'!T95","v":25},{"$f":"'Nastavení příloh'!U95","v":25},{"$f":"'Nastavení příloh'!V95","v":25},{"$f":"'Nastavení příloh'!W95","v":25},{"$f":"'Nastavení příloh'!X95","v":25}]
[{"$f":"'Nastavení příloh'!E96","v":7350},{"$f":"'Nastavení příloh'!B96","v":7300},{"$f":"'Nastavení příloh'!D96","v":7399},{"$f":"'Nastavení příloh'!F96","v":0},{"$f":"'Nastavení příloh'!G96","v":8},{"$f":"'Nastavení příloh'!H96","v":21},{"$f":"'Nastavení příloh'!I96","v":25},{"$f":"'Nastavení příloh'!J96","v":25},{"$f":"'Nastavení příloh'!K96","v":25},{"$f":"'Nastavení příloh'!L96","v":25},{"$f":"'Nastavení příloh'!M96","v":25},{"$f":"'Nastavení příloh'!N96","v":25},{"$f":"'Nastavení příloh'!O96","v":25},{"$f":"'Nastavení příloh'!P96","v":25},{"$f":"'Nastavení příloh'!Q96","v":25},{"$f":"'Nastavení příloh'!R96","v":25},{"$f":"'Nastavení příloh'!S96","v":25},{"$f":"'Nastavení příloh'!T96","v":25},{"$f":"'Nastavení příloh'!U96","v":25},{"$f":"'Nastavení příloh'!V96","v":25},{"$f":"'Nastavení příloh'!W96","v":25},{"$f":"'Nastavení příloh'!X96","v":25}]
[{"$f":"'Nastavení příloh'!E97","v":7450},{"$f":"'Nastavení příloh'!B97","v":7400},{"$f":"'Nastavení příloh'!D97","v":7499},{"$f":"'Nastavení příloh'!F97","v":0},{"$f":"'Nastavení příloh'!G97","v":8},{"$f":"'Nastavení příloh'!H97","v":21},{"$f":"'Nastavení příloh'!I97","v":25},{"$f":"'Nastavení příloh'!J97","v":25},{"$f":"'Nastavení příloh'!K97","v":25},{"$f":"'Nastavení příloh'!L97","v":25},{"$f":"'Nastavení příloh'!M97","v":25},{"$f":"'Nastavení příloh'!N97","v":25},{"$f":"'Nastavení příloh'!O97","v":25},{"$f":"'Nastavení příloh'!P97","v":25},{"$f":"'Nastavení příloh'!Q97","v":25},{"$f":"'Nastavení příloh'!R97","v":25},{"$f":"'Nastavení příloh'!S97","v":25},{"$f":"'Nastavení příloh'!T97","v":25},{"$f":"'Nastavení příloh'!U97","v":25},{"$f":"'Nastavení příloh'!V97","v":25},{"$f":"'Nastavení příloh'!W97","v":25},{"$f":"'Nastavení příloh'!X97","v":25}]
[{"$f":"'Nastavení příloh'!E98","v":7550},{"$f":"'Nastavení příloh'!B98","v":7500},{"$f":"'Nastavení příloh'!D98","v":7599},{"$f":"'Nastavení příloh'!F98","v":0},{"$f":"'Nastavení příloh'!G98","v":8},{"$f":"'Nastavení příloh'!H98","v":21},{"$f":"'Nastavení příloh'!I98","v":25},{"$f":"'Nastavení příloh'!J98","v":25},{"$f":"'Nastavení příloh'!K98","v":25},{"$f":"'Nastavení příloh'!L98","v":25},{"$f":"'Nastavení příloh'!M98","v":25},{"$f":"'Nastavení příloh'!N98","v":25},{"$f":"'Nastavení příloh'!O98","v":25},{"$f":"'Nastavení příloh'!P98","v":25},{"$f":"'Nastavení příloh'!Q98","v":25},{"$f":"'Nastavení příloh'!R98","v":25},{"$f":"'Nastavení příloh'!S98","v":25},{"$f":"'Nastavení příloh'!T98","v":25},{"$f":"'Nastavení příloh'!U98","v":25},{"$f":"'Nastavení příloh'!V98","v":25},{"$f":"'Nastavení příloh'!W98","v":25},{"$f":"'Nastavení příloh'!X98","v":25}]
[{"$f":"'Nastavení příloh'!E99","v":7650},{"$f":"'Nastavení příloh'!B99","v":7600},{"$f":"'Nastavení příloh'!D99","v":7699},{"$f":"'Nastavení příloh'!F99","v":0},{"$f":"'Nastavení příloh'!G99","v":8},{"$f":"'Nastavení příloh'!H99","v":21},{"$f":"'Nastavení příloh'!I99","v":25},{"$f":"'Nastavení příloh'!J99","v":25},{"$f":"'Nastavení příloh'!K99","v":25},{"$f":"'Nastavení příloh'!L99","v":25},{"$f":"'Nastavení příloh'!M99","v":25},{"$f":"'Nastavení příloh'!N99","v":25},{"$f":"'Nastavení příloh'!O99","v":25},{"$f":"'Nastavení příloh'!P99","v":25},{"$f":"'Nastavení příloh'!Q99","v":25},{"$f":"'Nastavení příloh'!R99","v":25},{"$f":"'Nastavení příloh'!S99","v":25},{"$f":"'Nastavení příloh'!T99","v":25},{"$f":"'Nastavení příloh'!U99","v":25},{"$f":"'Nastavení příloh'!V99","v":25},{"$f":"'Nastavení příloh'!W99","v":25},{"$f":"'Nastavení příloh'!X99","v":25}]
[{"$f":"'Nastavení příloh'!E100","v":7750},{"$f":"'Nastavení příloh'!B100","v":7700},{"$f":"'Nastavení příloh'!D100","v":7799},{"$f":"'Nastavení příloh'!F100","v":0},{"$f":"'Nastavení příloh'!G100","v":8},{"$f":"'Nastavení příloh'!H100","v":22},{"$f":"'Nastavení příloh'!I100","v":25},{"$f":"'Nastavení příloh'!J100","v":25},{"$f":"'Nastavení příloh'!K100","v":25},{"$f":"'Nastavení příloh'!L100","v":25},{"$f":"'Nastavení příloh'!M100","v":25},{"$f":"'Nastavení příloh'!N100","v":25},{"$f":"'Nastavení příloh'!O100","v":25},{"$f":"'Nastavení příloh'!P100","v":25},{"$f":"'Nastavení příloh'!Q100","v":25},{"$f":"'Nastavení příloh'!R100","v":25},{"$f":"'Nastavení příloh'!S100","v":25},{"$f":"'Nastavení příloh'!T100","v":25},{"$f":"'Nastavení příloh'!U100","v":25},{"$f":"'Nastavení příloh'!V100","v":25},{"$f":"'Nastavení příloh'!W100","v":25},{"$f":"'Nastavení příloh'!X100","v":25}]
[{"$f":"'Nastavení příloh'!E101","v":7850},{"$f":"'Nastavení příloh'!B101","v":7800},{"$f":"'Nastavení příloh'!D101","v":7899},{"$f":"'Nastavení příloh'!F101","v":0},{"$f":"'Nastavení příloh'!G101","v":8},{"$f":"'Nastavení příloh'!H101","v":22},{"$f":"'Nastavení příloh'!I101","v":25},{"$f":"'Nastavení příloh'!J101","v":25},{"$f":"'Nastavení příloh'!K101","v":25},{"$f":"'Nastavení příloh'!L101","v":25},{"$f":"'Nastavení příloh'!M101","v":25},{"$f":"'Nastavení příloh'!N101","v":25},{"$f":"'Nastavení příloh'!O101","v":25},{"$f":"'Nastavení příloh'!P101","v":25},{"$f":"'Nastavení příloh'!Q101","v":25},{"$f":"'Nastavení příloh'!R101","v":25},{"$f":"'Nastavení příloh'!S101","v":25},{"$f":"'Nastavení příloh'!T101","v":25},{"$f":"'Nastavení příloh'!U101","v":25},{"$f":"'Nastavení příloh'!V101","v":25},{"$f":"'Nastavení příloh'!W101","v":25},{"$f":"'Nastavení příloh'!X101","v":25}]
[{"$f":"'Nastavení příloh'!E102","v":7950},{"$f":"'Nastavení příloh'!B102","v":7900},{"$f":"'Nastavení příloh'!D102","v":7999},{"$f":"'Nastavení příloh'!F102","v":0},{"$f":"'Nastavení příloh'!G102","v":8},{"$f":"'Nastavení příloh'!H102","v":22},{"$f":"'Nastavení příloh'!I102","v":25},{"$f":"'Nastavení příloh'!J102","v":25},{"$f":"'Nastavení příloh'!K102","v":25},{"$f":"'Nastavení příloh'!L102","v":25},{"$f":"'Nastavení příloh'!M102","v":25},{"$f":"'Nastavení příloh'!N102","v":25},{"$f":"'Nastavení příloh'!O102","v":25},{"$f":"'Nastavení příloh'!P102","v":25},{"$f":"'Nastavení příloh'!Q102","v":25},{"$f":"'Nastavení příloh'!R102","v":25},{"$f":"'Nastavení příloh'!S102","v":25},{"$f":"'Nastavení příloh'!T102","v":25},{"$f":"'Nastavení příloh'!U102","v":25},{"$f":"'Nastavení příloh'!V102","v":25},{"$f":"'Nastavení příloh'!W102","v":25},{"$f":"'Nastavení příloh'!X102","v":25}]
[{"$f":"'Nastavení příloh'!E103","v":8050},{"$f":"'Nastavení příloh'!B103","v":8000},{"$f":"'Nastavení příloh'!D103","v":8099},{"$f":"'Nastavení příloh'!F103","v":0},{"$f":"'Nastavení příloh'!G103","v":8},{"$f":"'Nastavení příloh'!H103","v":23},{"$f":"'Nastavení příloh'!I103","v":25},{"$f":"'Nastavení příloh'!J103","v":25},{"$f":"'Nastavení příloh'!K103","v":25},{"$f":"'Nastavení příloh'!L103","v":25},{"$f":"'Nastavení příloh'!M103","v":25},{"$f":"'Nastavení příloh'!N103","v":25},{"$f":"'Nastavení příloh'!O103","v":25},{"$f":"'Nastavení příloh'!P103","v":25},{"$f":"'Nastavení příloh'!Q103","v":25},{"$f":"'Nastavení příloh'!R103","v":25},{"$f":"'Nastavení příloh'!S103","v":25},{"$f":"'Nastavení příloh'!T103","v":25},{"$f":"'Nastavení příloh'!U103","v":25},{"$f":"'Nastavení příloh'!V103","v":25},{"$f":"'Nastavení příloh'!W103","v":25},{"$f":"'Nastavení příloh'!X103","v":25}]
[{"$f":"'Nastavení příloh'!E104","v":8150},{"$f":"'Nastavení příloh'!B104","v":8100},{"$f":"'Nastavení příloh'!D104","v":8199},{"$f":"'Nastavení příloh'!F104","v":0},{"$f":"'Nastavení příloh'!G104","v":9},{"$f":"'Nastavení příloh'!H104","v":23},{"$f":"'Nastavení příloh'!I104","v":25},{"$f":"'Nastavení příloh'!J104","v":25},{"$f":"'Nastavení příloh'!K104","v":25},{"$f":"'Nastavení příloh'!L104","v":25},{"$f":"'Nastavení příloh'!M104","v":25},{"$f":"'Nastavení příloh'!N104","v":25},{"$f":"'Nastavení příloh'!O104","v":25},{"$f":"'Nastavení příloh'!P104","v":25},{"$f":"'Nastavení příloh'!Q104","v":25},{"$f":"'Nastavení příloh'!R104","v":25},{"$f":"'Nastavení příloh'!S104","v":25},{"$f":"'Nastavení příloh'!T104","v":25},{"$f":"'Nastavení příloh'!U104","v":25},{"$f":"'Nastavení příloh'!V104","v":25},{"$f":"'Nastavení příloh'!W104","v":25},{"$f":"'Nastavení příloh'!X104","v":25}]
[{"$f":"'Nastavení příloh'!E105","v":8250},{"$f":"'Nastavení příloh'!B105","v":8200},{"$f":"'Nastavení příloh'!D105","v":8299},{"$f":"'Nastavení příloh'!F105","v":0},{"$f":"'Nastavení příloh'!G105","v":9},{"$f":"'Nastavení příloh'!H105","v":23},{"$f":"'Nastavení příloh'!I105","v":25},{"$f":"'Nastavení příloh'!J105","v":25},{"$f":"'Nastavení příloh'!K105","v":25},{"$f":"'Nastavení příloh'!L105","v":25},{"$f":"'Nastavení příloh'!M105","v":25},{"$f":"'Nastavení příloh'!N105","v":25},{"$f":"'Nastavení příloh'!O105","v":25},{"$f":"'Nastavení příloh'!P105","v":25},{"$f":"'Nastavení příloh'!Q105","v":25},{"$f":"'Nastavení příloh'!R105","v":25},{"$f":"'Nastavení příloh'!S105","v":25},{"$f":"'Nastavení příloh'!T105","v":25},{"$f":"'Nastavení příloh'!U105","v":25},{"$f":"'Nastavení příloh'!V105","v":25},{"$f":"'Nastavení příloh'!W105","v":25},{"$f":"'Nastavení příloh'!X105","v":25}]
[{"$f":"'Nastavení příloh'!E106","v":8350},{"$f":"'Nastavení příloh'!B106","v":8300},{"$f":"'Nastavení příloh'!D106","v":8399},{"$f":"'Nastavení příloh'!F106","v":0},{"$f":"'Nastavení příloh'!G106","v":9},{"$f":"'Nastavení příloh'!H106","v":23},{"$f":"'Nastavení příloh'!I106","v":25},{"$f":"'Nastavení příloh'!J106","v":25},{"$f":"'Nastavení příloh'!K106","v":25},{"$f":"'Nastavení příloh'!L106","v":25},{"$f":"'Nastavení příloh'!M106","v":25},{"$f":"'Nastavení příloh'!N106","v":25},{"$f":"'Nastavení příloh'!O106","v":25},{"$f":"'Nastavení příloh'!P106","v":25},{"$f":"'Nastavení příloh'!Q106","v":25},{"$f":"'Nastavení příloh'!R106","v":25},{"$f":"'Nastavení příloh'!S106","v":25},{"$f":"'Nastavení příloh'!T106","v":25},{"$f":"'Nastavení příloh'!U106","v":25},{"$f":"'Nastavení příloh'!V106","v":25},{"$f":"'Nastavení příloh'!W106","v":25},{"$f":"'Nastavení příloh'!X106","v":25}]
[{"$f":"'Nastavení příloh'!E107","v":8450},{"$f":"'Nastavení příloh'!B107","v":8400},{"$f":"'Nastavení příloh'!D107","v":8499},{"$f":"'Nastavení příloh'!F107","v":0},{"$f":"'Nastavení příloh'!G107","v":9},{"$f":"'Nastavení příloh'!H107","v":24},{"$f":"'Nastavení příloh'!I107","v":25},{"$f":"'Nastavení příloh'!J107","v":25},{"$f":"'Nastavení příloh'!K107","v":25},{"$f":"'Nastavení příloh'!L107","v":25},{"$f":"'Nastavení příloh'!M107","v":25},{"$f":"'Nastavení příloh'!N107","v":25},{"$f":"'Nastavení příloh'!O107","v":25},{"$f":"'Nastavení příloh'!P107","v":25},{"$f":"'Nastavení příloh'!Q107","v":25},{"$f":"'Nastavení příloh'!R107","v":25},{"$f":"'Nastavení příloh'!S107","v":25},{"$f":"'Nastavení příloh'!T107","v":25},{"$f":"'Nastavení příloh'!U107","v":25},{"$f":"'Nastavení příloh'!V107","v":25},{"$f":"'Nastavení příloh'!W107","v":25},{"$f":"'Nastavení příloh'!X107","v":25}]
[{"$f":"'Nastavení příloh'!E108","v":8550},{"$f":"'Nastavení příloh'!B108","v":8500},{"$f":"'Nastavení příloh'!D108","v":8599},{"$f":"'Nastavení příloh'!F108","v":0},{"$f":"'Nastavení příloh'!G108","v":9},{"$f":"'Nastavení příloh'!H108","v":24},{"$f":"'Nastavení příloh'!I108","v":25},{"$f":"'Nastavení příloh'!J108","v":25},{"$f":"'Nastavení příloh'!K108","v":25},{"$f":"'Nastavení příloh'!L108","v":25},{"$f":"'Nastavení příloh'!M108","v":25},{"$f":"'Nastavení příloh'!N108","v":25},{"$f":"'Nastavení příloh'!O108","v":25},{"$f":"'Nastavení příloh'!P108","v":25},{"$f":"'Nastavení příloh'!Q108","v":25},{"$f":"'Nastavení příloh'!R108","v":25},{"$f":"'Nastavení příloh'!S108","v":25},{"$f":"'Nastavení příloh'!T108","v":25},{"$f":"'Nastavení příloh'!U108","v":25},{"$f":"'Nastavení příloh'!V108","v":25},{"$f":"'Nastavení příloh'!W108","v":25},{"$f":"'Nastavení příloh'!X108","v":25}]
[{"$f":"'Nastavení příloh'!E109","v":8650},{"$f":"'Nastavení příloh'!B109","v":8600},{"$f":"'Nastavení příloh'!D109","v":8699},{"$f":"'Nastavení příloh'!F109","v":0},{"$f":"'Nastavení příloh'!G109","v":9},{"$f":"'Nastavení příloh'!H109","v":24},{"$f":"'Nastavení příloh'!I109","v":25},{"$f":"'Nastavení příloh'!J109","v":25},{"$f":"'Nastavení příloh'!K109","v":25},{"$f":"'Nastavení příloh'!L109","v":25},{"$f":"'Nastavení příloh'!M109","v":25},{"$f":"'Nastavení příloh'!N109","v":25},{"$f":"'Nastavení příloh'!O109","v":25},{"$f":"'Nastavení příloh'!P109","v":25},{"$f":"'Nastavení příloh'!Q109","v":25},{"$f":"'Nastavení příloh'!R109","v":25},{"$f":"'Nastavení příloh'!S109","v":25},{"$f":"'Nastavení příloh'!T109","v":25},{"$f":"'Nastavení příloh'!U109","v":25},{"$f":"'Nastavení příloh'!V109","v":25},{"$f":"'Nastavení příloh'!W109","v":25},{"$f":"'Nastavení příloh'!X109","v":25}]
[{"$f":"'Nastavení příloh'!E110","v":8750},{"$f":"'Nastavení příloh'!B110","v":8700},{"$f":"'Nastavení příloh'!D110","v":8799},{"$f":"'Nastavení příloh'!F110","v":0},{"$f":"'Nastavení příloh'!G110","v":9},{"$f":"'Nastavení příloh'!H110","v":25},{"$f":"'Nastavení příloh'!I110","v":25},{"$f":"'Nastavení příloh'!J110","v":25},{"$f":"'Nastavení příloh'!K110","v":25},{"$f":"'Nastavení příloh'!L110","v":25},{"$f":"'Nastavení příloh'!M110","v":25},{"$f":"'Nastavení příloh'!N110","v":25},{"$f":"'Nastavení příloh'!O110","v":25},{"$f":"'Nastavení příloh'!P110","v":25},{"$f":"'Nastavení příloh'!Q110","v":25},{"$f":"'Nastavení příloh'!R110","v":25},{"$f":"'Nastavení příloh'!S110","v":25},{"$f":"'Nastavení příloh'!T110","v":25},{"$f":"'Nastavení příloh'!U110","v":25},{"$f":"'Nastavení příloh'!V110","v":25},{"$f":"'Nastavení příloh'!W110","v":25},{"$f":"'Nastavení příloh'!X110","v":25}]
[{"$f":"'Nastavení příloh'!E111","v":8850},{"$f":"'Nastavení příloh'!B111","v":8800},{"$f":"'Nastavení příloh'!D111","v":8899},{"$f":"'Nastavení příloh'!F111","v":0},{"$f":"'Nastavení příloh'!G111","v":9},{"$f":"'Nastavení příloh'!H111","v":25},{"$f":"'Nastavení příloh'!I111","v":25},{"$f":"'Nastavení příloh'!J111","v":25},{"$f":"'Nastavení příloh'!K111","v":25},{"$f":"'Nastavení příloh'!L111","v":25},{"$f":"'Nastavení příloh'!M111","v":25},{"$f":"'Nastavení příloh'!N111","v":25},{"$f":"'Nastavení příloh'!O111","v":25},{"$f":"'Nastavení příloh'!P111","v":25},{"$f":"'Nastavení příloh'!Q111","v":25},{"$f":"'Nastavení příloh'!R111","v":25},{"$f":"'Nastavení příloh'!S111","v":25},{"$f":"'Nastavení příloh'!T111","v":25},{"$f":"'Nastavení příloh'!U111","v":25},{"$f":"'Nastavení příloh'!V111","v":25},{"$f":"'Nastavení příloh'!W111","v":25},{"$f":"'Nastavení příloh'!X111","v":25}]
[{"$f":"'Nastavení příloh'!E112","v":8950},{"$f":"'Nastavení příloh'!B112","v":8900},{"$f":"'Nastavení příloh'!D112","v":8999},{"$f":"'Nastavení příloh'!F112","v":0},{"$f":"'Nastavení příloh'!G112","v":9},{"$f":"'Nastavení příloh'!H112","v":25},{"$f":"'Nastavení příloh'!I112","v":25},{"$f":"'Nastavení příloh'!J112","v":25},{"$f":"'Nastavení příloh'!K112","v":25},{"$f":"'Nastavení příloh'!L112","v":25},{"$f":"'Nastavení příloh'!M112","v":25},{"$f":"'Nastavení příloh'!N112","v":25},{"$f":"'Nastavení příloh'!O112","v":25},{"$f":"'Nastavení příloh'!P112","v":25},{"$f":"'Nastavení příloh'!Q112","v":25},{"$f":"'Nastavení příloh'!R112","v":25},{"$f":"'Nastavení příloh'!S112","v":25},{"$f":"'Nastavení příloh'!T112","v":25},{"$f":"'Nastavení příloh'!U112","v":25},{"$f":"'Nastavení příloh'!V112","v":25},{"$f":"'Nastavení příloh'!W112","v":25},{"$f":"'Nastavení příloh'!X112","v":25}]
[{"$f":"'Nastavení příloh'!E113","v":9050},{"$f":"'Nastavení příloh'!B113","v":9000},{"$f":"'Nastavení příloh'!D113","v":9099},{"$f":"'Nastavení příloh'!F113","v":0},{"$f":"'Nastavení příloh'!G113","v":10},{"$f":"'Nastavení příloh'!H113","v":25},{"$f":"'Nastavení příloh'!I113","v":25},{"$f":"'Nastavení příloh'!J113","v":25},{"$f":"'Nastavení příloh'!K113","v":25},{"$f":"'Nastavení příloh'!L113","v":25},{"$f":"'Nastavení příloh'!M113","v":25},{"$f":"'Nastavení příloh'!N113","v":25},{"$f":"'Nastavení příloh'!O113","v":25},{"$f":"'Nastavení příloh'!P113","v":25},{"$f":"'Nastavení příloh'!Q113","v":25},{"$f":"'Nastavení příloh'!R113","v":25},{"$f":"'Nastavení příloh'!S113","v":25},{"$f":"'Nastavení příloh'!T113","v":25},{"$f":"'Nastavení příloh'!U113","v":25},{"$f":"'Nastavení příloh'!V113","v":25},{"$f":"'Nastavení příloh'!W113","v":25},{"$f":"'Nastavení příloh'!X113","v":25}]
[{"$f":"'Nastavení příloh'!E114","v":9150},{"$f":"'Nastavení příloh'!B114","v":9100},{"$f":"'Nastavení příloh'!D114","v":9199},{"$f":"'Nastavení příloh'!F114","v":0},{"$f":"'Nastavení příloh'!G114","v":10},{"$f":"'Nastavení příloh'!H114","v":25},{"$f":"'Nastavení příloh'!I114","v":25},{"$f":"'Nastavení příloh'!J114","v":25},{"$f":"'Nastavení příloh'!K114","v":25},{"$f":"'Nastavení příloh'!L114","v":25},{"$f":"'Nastavení příloh'!M114","v":25},{"$f":"'Nastavení příloh'!N114","v":25},{"$f":"'Nastavení příloh'!O114","v":25},{"$f":"'Nastavení příloh'!P114","v":25},{"$f":"'Nastavení příloh'!Q114","v":25},{"$f":"'Nastavení příloh'!R114","v":25},{"$f":"'Nastavení příloh'!S114","v":25},{"$f":"'Nastavení příloh'!T114","v":25},{"$f":"'Nastavení příloh'!U114","v":25},{"$f":"'Nastavení příloh'!V114","v":25},{"$f":"'Nastavení příloh'!W114","v":25},{"$f":"'Nastavení příloh'!X114","v":25}]
[{"$f":"'Nastavení příloh'!E115","v":9250},{"$f":"'Nastavení příloh'!B115","v":9200},{"$f":"'Nastavení příloh'!D115","v":9299},{"$f":"'Nastavení příloh'!F115","v":0},{"$f":"'Nastavení příloh'!G115","v":10},{"$f":"'Nastavení příloh'!H115","v":25},{"$f":"'Nastavení příloh'!I115","v":25},{"$f":"'Nastavení příloh'!J115","v":25},{"$f":"'Nastavení příloh'!K115","v":25},{"$f":"'Nastavení příloh'!L115","v":25},{"$f":"'Nastavení příloh'!M115","v":25},{"$f":"'Nastavení příloh'!N115","v":25},{"$f":"'Nastavení příloh'!O115","v":25},{"$f":"'Nastavení příloh'!P115","v":25},{"$f":"'Nastavení příloh'!Q115","v":25},{"$f":"'Nastavení příloh'!R115","v":25},{"$f":"'Nastavení příloh'!S115","v":25},{"$f":"'Nastavení příloh'!T115","v":25},{"$f":"'Nastavení příloh'!U115","v":25},{"$f":"'Nastavení příloh'!V115","v":25},{"$f":"'Nastavení příloh'!W115","v":25},{"$f":"'Nastavení příloh'!X115","v":25}]
[{"$f":"'Nastavení příloh'!E116","v":9350},{"$f":"'Nastavení příloh'!B116","v":9300},{"$f":"'Nastavení příloh'!D116","v":9399},{"$f":"'Nastavení příloh'!F116","v":0},{"$f":"'Nastavení příloh'!G116","v":10},{"$f":"'Nastavení příloh'!H116","v":25},{"$f":"'Nastavení příloh'!I116","v":25},{"$f":"'Nastavení příloh'!J116","v":25},{"$f":"'Nastavení příloh'!K116","v":25},{"$f":"'Nastavení příloh'!L116","v":25},{"$f":"'Nastavení příloh'!M116","v":25},{"$f":"'Nastavení příloh'!N116","v":25},{"$f":"'Nastavení příloh'!O116","v":25},{"$f":"'Nastavení příloh'!P116","v":25},{"$f":"'Nastavení příloh'!Q116","v":25},{"$f":"'Nastavení příloh'!R116","v":25},{"$f":"'Nastavení příloh'!S116","v":25},{"$f":"'Nastavení příloh'!T116","v":25},{"$f":"'Nastavení příloh'!U116","v":25},{"$f":"'Nastavení příloh'!V116","v":25},{"$f":"'Nastavení příloh'!W116","v":25},{"$f":"'Nastavení příloh'!X116","v":25}]
[{"$f":"'Nastavení příloh'!E117","v":9450},9400,9999,{"$f":"'Nastavení příloh'!F117","v":0},{"$f":"'Nastavení příloh'!G117","v":10},{"$f":"'Nastavení příloh'!H117","v":25},{"$f":"'Nastavení příloh'!I117","v":25},{"$f":"'Nastavení příloh'!J117","v":25},{"$f":"'Nastavení příloh'!K117","v":25},{"$f":"'Nastavení příloh'!L117","v":25},{"$f":"'Nastavení příloh'!M117","v":25},{"$f":"'Nastavení příloh'!N117","v":25},{"$f":"'Nastavení příloh'!O117","v":25},{"$f":"'Nastavení příloh'!P117","v":25},{"$f":"'Nastavení příloh'!Q117","v":25},{"$f":"'Nastavení příloh'!R117","v":25},{"$f":"'Nastavení příloh'!S117","v":25},{"$f":"'Nastavení příloh'!T117","v":25},{"$f":"'Nastavení příloh'!U117","v":25},{"$f":"'Nastavení příloh'!V117","v":25},{"$f":"'Nastavení příloh'!W117","v":25},{"$f":"'Nastavení příloh'!X117","v":25}]

{"sheet":"bv","index":2,"n_rows":91,"n_cols":22,"rows_kept":91,"cut":false,"hidden":true,"merged":[]}
["objem","objem_min","objem_max",{"$f":"'Nastavení příloh'!AD13","v":"0 %"},{"$f":"'Nastavení příloh'!AE13","v":"1-5 %"},{"$f":"'Nastavení příloh'!AF13","v":"6-10 %"},{"$f":"'Nastavení příloh'!AG13","v":"11-15 %"},{"$f":"'Nastavení příloh'!AH13","v":"16-20 %"},{"$f":"'Nastavení příloh'!AI13","v":"21-25 %"},{"$f":"'Nastavení příloh'!AJ13","v":"26-30 %"},{"$f":"'Nastavení příloh'!AK13","v":"31-35 %"},{"$f":"'Nastavení příloh'!AL13","v":"36-40 %"},{"$f":"'Nastavení příloh'!AM13","v":"41-45 %"},{"$f":"'Nastavení příloh'!AN13","v":"46-50 %"},{"$f":"'Nastavení příloh'!AO13","v":"51-55 %"},{"$f":"'Nastavení příloh'!AP13","v":"56-60 %"},{"$f":"'Nastavení příloh'!AQ13","v":"61-65 %"},{"$f":"'Nastavení příloh'!AR13","v":"66-70 %"},{"$f":"'Nastavení příloh'!AS13","v":"71-75 %"},{"$f":"'Nastavení příloh'!AT13","v":"76-80 %"},{"$f":"'Nastavení příloh'!AU13","v":"81-85 %"},{"$f":"'Nastavení příloh'!AV13","v":"více jak 85 %"}]
[{"$f":"'Nastavení příloh'!E16","v":550},{"$f":"'Nastavení příloh'!Z16","v":0},{"$f":"'Nastavení příloh'!AB16","v":599},{"$f":"'Nastavení příloh'!AD16","v":0},{"$f":"'Nastavení příloh'!AE16","v":9},{"$f":"'Nastavení příloh'!AF16","v":10},{"$f":"'Nastavení příloh'!AG16","v":12},{"$f":"'Nastavení příloh'!AH16","v":13},{"$f":"'Nastavení příloh'!AI16","v":15},{"$f":"'Nastavení příloh'!AJ16","v":17},{"$f":"'Nastavení příloh'!AK16","v":18},{"$f":"'Nastavení příloh'!AL16","v":20},{"$f":"'Nastavení příloh'!AM16","v":21},{"$f":"'Nastavení příloh'!AN16","v":23},{"$f":"'Nastavení příloh'!AO16","v":24},{"$f":"'Nastavení příloh'!AP16","v":25},{"$f":"'Nastavení příloh'!AQ16","v":25},{"$f":"'Nastavení příloh'!AR16","v":25},{"$f":"'Nastavení příloh'!AS16","v":25},{"$f":"'Nastavení příloh'!AT16","v":25},{"$f":"'Nastavení příloh'!AU16","v":25},{"$f":"'Nastavení příloh'!AV16","v":25}]
[{"$f":"'Nastavení příloh'!E17","v":650},{"$f":"'Nastavení příloh'!Z17","v":600},{"$f":"'Nastavení příloh'!AB17","v":699},{"$f":"'Nastavení příloh'!AD17","v":0},{"$f":"'Nastavení příloh'!AE17","v":3},{"$f":"'Nastavení příloh'!AF17","v":5},{"$f":"'Nastavení příloh'!AG17","v":7},{"$f":"'Nastavení příloh'!AH17","v":9},{"$f":"'Nastavení příloh'!AI17","v":11},{"$f":"'Nastavení příloh'!AJ17","v":12},{"$f":"'Nastavení příloh'!AK17","v":14},{"$f":"'Nastavení příloh'!AL17","v":16},{"$f":"'Nastavení příloh'!AM17","v":18},{"$f":"'Nastavení příloh'!AN17","v":20},{"$f":"'Nastavení příloh'!AO17","v":22},{"$f":"'Nastavení příloh'!AP17","v":24},{"$f":"'Nastavení příloh'!AQ17","v":25},{"$f":"'Nastavení příloh'!AR17","v":25},{"$f":"'Nastavení příloh'!AS17","v":25},{"$f":"'Nastavení příloh'!AT17","v":25},{"$f":"'Nastavení příloh'!AU17","v":25},{"$f":"'Nastavení příloh'!AV17","v":25}]
[{"$f":"'Nastavení příloh'!E18","v":750},{"$f":"'Nastavení příloh'!Z18","v":700},{"$f":"'Nastavení příloh'!AB18","v":799},{"$f":"'Nastavení příloh'!AD18","v":0},{"$f":"'Nastavení příloh'!AE18","v":0},{"$f":"'Nastavení příloh'!AF18","v":0},{"$f":"'Nastavení příloh'!AG18","v":2},{"$f":"'Nastavení příloh'!AH18","v":4},{"$f":"'Nastavení příloh'!AI18","v":6},{"$f":"'Nastavení příloh'!AJ18","v":8},{"$f":"'Nastavení příloh'!AK18","v":11},{"$f":"'Nastavení příloh'!AL18","v":13},{"$f":"'Nastavení příloh'!AM18","v":15},{"$f":"'Nastavení příloh'!AN18","v":17},{"$f":"'Nastavení příloh'!AO18","v":19},{"$f":"'Nastavení příloh'!AP18","v":21},{"$f":"'Nastavení příloh'!AQ18","v":23},{"$f":"'Nastavení příloh'!AR18","v":25},{"$f":"'Nastavení příloh'!AS18","v":25},{"$f":"'Nastavení příloh'!AT18","v":25},{"$f":"'Nastavení příloh'!AU18","v":25},{"$f":"'Nastavení příloh'!AV18","v":25}]
[{"$f":"'Nastavení příloh'!E19","v":850},{"$f":"'Nastavení příloh'!Z19","v":800},{"$f":"'Nastavení příloh'!AB19","v":899},{"$f":"'Nastavení příloh'!AD19","v":0},{"$f":"'Nastavení příloh'!AE19","v":0},{"$f":"'Nastavení příloh'!AF19","v":0},{"$f":"'Nastavení příloh'!AG19","v":0},{"$f":"'Nastavení příloh'!AH19","v":0},{"$f":"'Nastavení příloh'!AI19","v":2},{"$f":"'Nastavení příloh'!AJ19","v":4},{"$f":"'Nastavení příloh'!AK19","v":7},{"$f":"'Nastavení příloh'!AL19","v":9},{"$f":"'Nastavení příloh'!AM19","v":12},{"$f":"'Nastavení příloh'!AN19","v":14},{"$f":"'Nastavení příloh'!AO19","v":16},{"$f":"'Nastavení příloh'!AP19","v":19},{"$f":"'Nastavení příloh'!AQ19","v":21},{"$f":"'Nastavení příloh'!AR19","v":24},{"$f":"'Nastavení příloh'!AS19","v":25},{"$f":"'Nastavení příloh'!AT19","v":25},{"$f":"'Nastavení příloh'!AU19","v":25},{"$f":"'Nastavení příloh'!AV19","v":24}]
[{"$f":"'Nastavení příloh'!E20","v":950},{"$f":"'Nastavení příloh'!Z20","v":900},{"$f":"'Nastavení příloh'!AB20","v":999},{"$f":"'Nastavení příloh'!AD20","v":0},{"$f":"'Nastavení příloh'!AE20","v":0},{"$f":"'Nastavení příloh'!AF20","v":0},{"$f":"'Nastavení příloh'!AG20","v":0},{"$f":"'Nastavení příloh'!AH20","v":0},{"$f":"'Nastavení příloh'!AI20","v":0},{"$f":"'Nastavení příloh'!AJ20","v":0},{"$f":"'Nastavení příloh'!AK20","v":3},{"$f":"'Nastavení příloh'!AL20","v":6},{"$f":"'Nastavení příloh'!AM20","v":8},{"$f":"'Nastavení příloh'!AN20","v":11},{"$f":"'Nastavení příloh'!AO20","v":14},{"$f":"'Nastavení příloh'!AP20","v":16},{"$f":"'Nastavení příloh'!AQ20","v":19},{"$f":"'Nastavení příloh'!AR20","v":22},{"$f":"'Nastavení příloh'!AS20","v":25},{"$f":"'Nastavení příloh'!AT20","v":25},{"$f":"'Nastavení příloh'!AU20","v":24},{"$f":"'Nastavení příloh'!AV20","v":22}]
[{"$f":"'Nastavení příloh'!E21","v":1050},{"$f":"'Nastavení příloh'!Z21","v":1000},{"$f":"'Nastavení příloh'!AB21","v":1099},{"$f":"'Nastavení příloh'!AD21","v":0},{"$f":"'Nastavení příloh'!AE21","v":0},{"$f":"'Nastavení příloh'!AF21","v":0},{"$f":"'Nastavení příloh'!AG21","v":0},{"$f":"'Nastavení příloh'!AH21","v":0},{"$f":"'Nastavení příloh'!AI21","v":0},{"$f":"'Nastavení příloh'!AJ21","v":0},{"$f":"'Nastavení příloh'!AK21","v":0},{"$f":"'Nastavení příloh'!AL21","v":2},{"$f":"'Nastavení příloh'!AM21","v":5},{"$f":"'Nastavení příloh'!AN21","v":8},{"$f":"'Nastavení příloh'!AO21","v":11},{"$f":"'Nastavení příloh'!AP21","v":14},{"$f":"'Nastavení příloh'!AQ21","v":17},{"$f":"'Nastavení příloh'!AR21","v":20},{"$f":"'Nastavení příloh'!AS21","v":23},{"$f":"'Nastavení příloh'!AT21","v":25},{"$f":"'Nastavení příloh'!AU21","v":23},{"$f":"'Nastavení příloh'!AV21","v":20}]
[{"$f":"'Nastavení příloh'!E22","v":1150},{"$f":"'Nastavení příloh'!Z22","v":1100},{"$f":"'Nastavení příloh'!AB22","v":1199},{"$f":"'Nastavení příloh'!AD22","v":-3},{"$f":"'Nastavení příloh'!AE22","v":-2},{"$f":"'Nastavení příloh'!AF22","v":0},{"$f":"'Nastavení příloh'!AG22","v":0},{"$f":"'Nastavení příloh'!AH22","v":0},{"$f":"'Nastavení příloh'!AI22","v":0},{"$f":"'Nastavení příloh'!AJ22","v":0},{"$f":"'Nastavení příloh'!AK22","v":0},{"$f":"'Nastavení příloh'!AL22","v":0},{"$f":"'Nastavení příloh'!AM22","v":2},{"$f":"'Nastavení příloh'!AN22","v":5},{"$f":"'Nastavení příloh'!AO22","v":8},{"$f":"'Nastavení příloh'!AP22","v":12},{"$f":"'Nastavení příloh'!AQ22","v":15},{"$f":"'Nastavení příloh'!AR22","v":18},{"$f":"'Nastavení příloh'!AS22","v":21},{"$f":"'Nastavení příloh'!AT22","v":25},{"$f":"'Nastavení příloh'!AU22","v":21},{"$f":"'Nastavení příloh'!AV22","v":18}]
[{"$f":"'Nastavení příloh'!E23","v":1250},{"$f":"'Nastavení příloh'!Z23","v":1200},{"$f":"'Nastavení příloh'!AB23","v":1299},{"$f":"'Nastavení příloh'!AD23","v":-6},{"$f":"'Nastavení příloh'!AE23","v":-5},{"$f":"'Nastavení příloh'!AF23","v":-3},{"$f":"'Nastavení příloh'!AG23","v":-1},{"$f":"'Nastavení příloh'!AH23","v":0},{"$f":"'Nastavení příloh'!AI23","v":0},{"$f":"'Nastavení příloh'!AJ23","v":0},{"$f":"'Nastavení příloh'!AK23","v":0},{"$f":"'Nastavení příloh'!AL23","v":0},{"$f":"'Nastavení příloh'!AM23","v":0},{"$f":"'Nastavení příloh'!AN23","v":2},{"$f":"'Nastavení příloh'!AO23","v":6},{"$f":"'Nastavení příloh'!AP23","v":9},{"$f":"'Nastavení příloh'!AQ23","v":13},{"$f":"'Nastavení příloh'!AR23","v":16},{"$f":"'Nastavení příloh'!AS23","v":20},{"$f":"'Nastavení příloh'!AT23","v":23},{"$f":"'Nastavení příloh'!AU23","v":20},{"$f":"'Nastavení příloh'!AV23","v":16}]
[{"$f":"'Nastavení příloh'!E24","v":1350},{"$f":"'Nastavení příloh'!Z24","v":1300},{"$f":"'Nastavení příloh'!AB24","v":1399},{"$f":"'Nastavení příloh'!AD24","v":-9},{"$f":"'Nastavení příloh'!AE24","v":-8},{"$f":"'Nastavení příloh'!AF24","v":-6},{"$f":"'Nastavení příloh'!AG24","v":-4},{"$f":"'Nastavení příloh'!AH24","v":-2},{"$f":"'Nastavení příloh'!AI24","v":0},{"$f":"'Nastavení příloh'!AJ24","v":0},{"$f":"'Nastavení příloh'!AK24","v":0},{"$f":"'Nastavení příloh'!AL24","v":0},{"$f":"'Nastavení příloh'!AM24","v":0},{"$f":"'Nastavení příloh'!AN24","v":0},{"$f":"'Nastavení příloh'!AO24","v":3},{"$f":"'Nastavení příloh'!AP24","v":7},{"$f":"'Nastavení příloh'!AQ24","v":11},{"$f":"'Nastavení příloh'!AR24","v":15},{"$f":"'Nastavení příloh'!AS24","v":18},{"$f":"'Nastavení příloh'!AT24","v":22},{"$f":"'Nastavení příloh'!AU24","v":18},{"$f":"'Nastavení příloh'!AV24","v":15}]
[{"$f":"'Nastavení příloh'!E25","v":1450},{"$f":"'Nastavení příloh'!Z25","v":1400},{"$f":"'Nastavení příloh'!AB25","v":1499},{"$f":"'Nastavení příloh'!AD25","v":-12},{"$f":"'Nastavení příloh'!AE25","v":-10},{"$f":"'Nastavení příloh'!AF25","v":-8},{"$f":"'Nastavení příloh'!AG25","v":-6},{"$f":"'Nastavení příloh'!AH25","v":-4},{"$f":"'Nastavení příloh'!AI25","v":-2},{"$f":"'Nastavení příloh'!AJ25","v":0},{"$f":"'Nastavení příloh'!AK25","v":0},{"$f":"'Nastavení příloh'!AL25","v":0},{"$f":"'Nastavení příloh'!AM25","v":0},{"$f":"'Nastavení příloh'!AN25","v":0},{"$f":"'Nastavení příloh'!AO25","v":0},{"$f":"'Nastavení příloh'!AP25","v":4},{"$f":"'Nastavení příloh'!AQ25","v":9},{"$f":"'Nastavení příloh'!AR25","v":13},{"$f":"'Nastavení příloh'!AS25","v":17},{"$f":"'Nastavení příloh'!AT25","v":21},{"$f":"'Nastavení příloh'!AU25","v":17},{"$f":"'Nastavení příloh'!AV25","v":13}]
[{"$f":"'Nastavení příloh'!E26","v":1550},{"$f":"'Nastavení příloh'!Z26","v":1500},{"$f":"'Nastavení příloh'!AB26","v":1599},{"$f":"'Nastavení příloh'!AD26","v":-13},{"$f":"'Nastavení příloh'!AE26","v":-13},{"$f":"'Nastavení příloh'!AF26","v":-11},{"$f":"'Nastavení příloh'!AG26","v":-9},{"$f":"'Nastavení příloh'!AH26","v":-7},{"$f":"'Nastavení příloh'!AI26","v":-4},{"$f":"'Nastavení příloh'!AJ26","v":-2},{"$f":"'Nastavení příloh'!AK26","v":0},{"$f":"'Nastavení příloh'!AL26","v":0},{"$f":"'Nastavení příloh'!AM26","v":0},{"$f":"'Nastavení příloh'!AN26","v":0},{"$f":"'Nastavení příloh'!AO26","v":0},{"$f":"'Nastavení příloh'!AP26","v":2},{"$f":"'Nastavení příloh'!AQ26","v":7},{"$f":"'Nastavení příloh'!AR26","v":11},{"$f":"'Nastavení příloh'!AS26","v":15},{"$f":"'Nastavení příloh'!AT26","v":20},{"$f":"'Nastavení příloh'!AU26","v":15},{"$f":"'Nastavení příloh'!AV26","v":11}]
[{"$f":"'Nastavení příloh'!E27","v":1650},{"$f":"'Nastavení příloh'!Z27","v":1600},{"$f":"'Nastavení příloh'!AB27","v":1699},{"$f":"'Nastavení příloh'!AD27","v":-13},{"$f":"'Nastavení příloh'!AE27","v":-13},{"$f":"'Nastavení příloh'!AF27","v":-13},{"$f":"'Nastavení příloh'!AG27","v":-11},{"$f":"'Nastavení příloh'!AH27","v":-9},{"$f":"'Nastavení příloh'!AI27","v":-6},{"$f":"'Nastavení příloh'!AJ27","v":-4},{"$f":"'Nastavení příloh'!AK27","v":-2},{"$f":"'Nastavení příloh'!AL27","v":0},{"$f":"'Nastavení příloh'!AM27","v":0},{"$f":"'Nastavení příloh'!AN27","v":0},{"$f":"'Nastavení příloh'!AO27","v":0},{"$f":"'Nastavení příloh'!AP27","v":0},{"$f":"'Nastavení příloh'!AQ27","v":4},{"$f":"'Nastavení příloh'!AR27","v":9},{"$f":"'Nastavení příloh'!AS27","v":14},{"$f":"'Nastavení příloh'!AT27","v":18},{"$f":"'Nastavení příloh'!AU27","v":14},{"$f":"'Nastavení příloh'!AV27","v":9}]
[{"$f":"'Nastavení příloh'!E28","v":1750},{"$f":"'Nastavení příloh'!Z28","v":1700},{"$f":"'Nastavení příloh'!AB28","v":1799},{"$f":"'Nastavení příloh'!AD28","v":-13},{"$f":"'Nastavení příloh'!AE28","v":-13},{"$f":"'Nastavení příloh'!AF28","v":-13},{"$f":"'Nastavení příloh'!AG28","v":-13},{"$f":"'Nastavení příloh'!AH28","v":-11},{"$f":"'Nastavení příloh'!AI28","v":-9},{"$f":"'Nastavení příloh'!AJ28","v":-6},{"$f":"'Nastavení příloh'!AK28","v":-4},{"$f":"'Nastavení příloh'!AL28","v":-1},{"$f":"'Nastavení příloh'!AM28","v":0},{"$f":"'Nastavení příloh'!AN28","v":0},{"$f":"'Nastavení příloh'!AO28","v":0},{"$f":"'Nastavení příloh'!AP28","v":0},{"$f":"'Nastavení příloh'!AQ28","v":2},{"$f":"'Nastavení příloh'!AR28","v":7},{"$f":"'Nastavení příloh'!AS28","v":12},{"$f":"'Nastavení příloh'!AT28","v":17},{"$f":"'Nastavení příloh'!AU28","v":12},{"$f":"'Nastavení příloh'!AV28","v":7}]
[{"$f":"'Nastavení příloh'!E29","v":1850},{"$f":"'Nastavení příloh'!Z29","v":1800},{"$f":"'Nastavení příloh'!AB29","v":1899},{"$f":"'Nastavení příloh'!AD29","v":-13},{"$f":"'Nastavení příloh'!AE29","v":-13},{"$f":"'Nastavení příloh'!AF29","v":-13},{"$f":"'Nastavení příloh'!AG29","v":-13},{"$f":"'Nastavení příloh'!AH29","v":-13},{"$f":"'Nastavení příloh'!AI29","v":-11},{"$f":"'Nastavení příloh'!AJ29","v":-8},{"$f":"'Nastavení příloh'!AK29","v":-6},{"$f":"'Nastavení příloh'!AL29","v":-3},{"$f":"'Nastavení příloh'!AM29","v":0},{"$f":"'Nastavení příloh'!AN29","v":0},{"$f":"'Nastavení příloh'!AO29","v":0},{"$f":"'Nastavení příloh'!AP29","v":0},{"$f":"'Nastavení příloh'!AQ29","v":0},{"$f":"'Nastavení příloh'!AR29","v":5},{"$f":"'Nastavení příloh'!AS29","v":11},{"$f":"'Nastavení příloh'!AT29","v":16},{"$f":"'Nastavení příloh'!AU29","v":11},{"$f":"'Nastavení příloh'!AV29","v":5}]
[{"$f":"'Nastavení příloh'!E30","v":1950},{"$f":"'Nastavení příloh'!Z30","v":1900},{"$f":"'Nastavení příloh'!AB30","v":1999},{"$f":"'Nastavení příloh'!AD30","v":-13},{"$f":"'Nastavení příloh'!AE30","v":-13},{"$f":"'Nastavení příloh'!AF30","v":-13},{"$f":"'Nastavení příloh'!AG30","v":-13},{"$f":"'Nastavení příloh'!AH30","v":-13},{"$f":"'Nastavení příloh'!AI30","v":-13},{"$f":"'Nastavení příloh'!AJ30","v":-10},{"$f":"'Nastavení příloh'!AK30","v":-8},{"$f":"'Nastavení příloh'!AL30","v":-5},{"$f":"'Nastavení příloh'!AM30","v":-2},{"$f":"'Nastavení příloh'!AN30","v":0},{"$f":"'Nastavení příloh'!AO30","v":0},{"$f":"'Nastavení příloh'!AP30","v":0},{"$f":"'Nastavení příloh'!AQ30","v":0},{"$f":"'Nastavení příloh'!AR30","v":4},{"$f":"'Nastavení příloh'!AS30","v":9},{"$f":"'Nastavení příloh'!AT30","v":15},{"$f":"'Nastavení příloh'!AU30","v":9},{"$f":"'Nastavení příloh'!AV30","v":4}]
[{"$f":"'Nastavení příloh'!E31","v":2050},{"$f":"'Nastavení příloh'!Z31","v":2000},{"$f":"'Nastavení příloh'!AB31","v":2099},{"$f":"'Nastavení příloh'!AD31","v":-13},{"$f":"'Nastavení příloh'!AE31","v":-13},{"$f":"'Nastavení příloh'!AF31","v":-13},{"$f":"'Nastavení příloh'!AG31","v":-13},{"$f":"'Nastavení příloh'!AH31","v":-13},{"$f":"'Nastavení příloh'!AI31","v":-13},{"$f":"'Nastavení příloh'!AJ31","v":-12},{"$f":"'Nastavení příloh'!AK31","v":-9},{"$f":"'Nastavení příloh'!AL31","v":-7},{"$f":"'Nastavení příloh'!AM31","v":-4},{"$f":"'Nastavení příloh'!AN31","v":-1},{"$f":"'Nastavení příloh'!AO31","v":0},{"$f":"'Nastavení příloh'!AP31","v":0},{"$f":"'Nastavení příloh'!AQ31","v":0},{"$f":"'Nastavení příloh'!AR31","v":2},{"$f":"'Nastavení příloh'!AS31","v":8},{"$f":"'Nastavení příloh'!AT31","v":13},{"$f":"'Nastavení příloh'!AU31","v":8},{"$f":"'Nastavení příloh'!AV31","v":2}]
[{"$f":"'Nastavení příloh'!E32","v":2150},{"$f":"'Nastavení příloh'!Z32","v":2100},{"$f":"'Nastavení příloh'!AB32","v":2199},{"$f":"'Nastavení příloh'!AD32","v":-13},{"$f":"'Nastavení příloh'!AE32","v":-13},{"$f":"'Nastavení příloh'!AF32","v":-13},{"$f":"'Nastavení příloh'!AG32","v":-13},{"$f":"'Nastavení příloh'!AH32","v":-13},{"$f":"'Nastavení příloh'!AI32","v":-13},{"$f":"'Nastavení příloh'!AJ32","v":-13},{"$f":"'Nastavení příloh'!AK32","v":-11},{"$f":"'Nastavení příloh'!AL32","v":-8},{"$f":"'Nastavení příloh'!AM32","v":-5},{"$f":"'Nastavení příloh'!AN32","v":-2},{"$f":"'Nastavení příloh'!AO32","v":0},{"$f":"'Nastavení příloh'!AP32","v":0},{"$f":"'Nastavení příloh'!AQ32","v":0},{"$f":"'Nastavení příloh'!AR32","v":0},{"$f":"'Nastavení příloh'!AS32","v":6},{"$f":"'Nastavení příloh'!AT32","v":12},{"$f":"'Nastavení příloh'!AU32","v":6},{"$f":"'Nastavení příloh'!AV32","v":0}]
[{"$f":"'Nastavení příloh'!E33","v":2250},{"$f":"'Nastavení příloh'!Z33","v":2200},{"$f":"'Nastavení příloh'!AB33","v":2299},{"$f":"'Nastavení příloh'!AD33","v":-13},{"$f":"'Nastavení příloh'!AE33","v":-13},{"$f":"'Nastavení příloh'!AF33","v":-13},{"$f":"'Nastavení příloh'!AG33","v":-13},{"$f":"'Nastavení příloh'!AH33","v":-13},{"$f":"'Nastavení příloh'!AI33","v":-13},{"$f":"'Nastavení příloh'!AJ33","v":-13},{"$f":"'Nastavení příloh'!AK33","v":-13},{"$f":"'Nastavení příloh'!AL33","v":-10},{"$f":"'Nastavení příloh'!AM33","v":-7},{"$f":"'Nastavení příloh'!AN33","v":-4},{"$f":"'Nastavení příloh'!AO33","v":0},{"$f":"'Nastavení příloh'!AP33","v":0},{"$f":"'Nastavení příloh'!AQ33","v":0},{"$f":"'Nastavení příloh'!AR33","v":0},{"$f":"'Nastavení příloh'!AS33","v":5},{"$f":"'Nastavení příloh'!AT33","v":11},{"$f":"'Nastavení příloh'!AU33","v":5},{"$f":"'Nastavení příloh'!AV33","v":0}]
[{"$f":"'Nastavení příloh'!E34","v":2350},{"$f":"'Nastavení příloh'!Z34","v":2300},{"$f":"'Nastavení příloh'!AB34","v":2399},{"$f":"'Nastavení příloh'!AD34","v":-13},{"$f":"'Nastavení příloh'!AE34","v":-13},{"$f":"'Nastavení příloh'!AF34","v":-13},{"$f":"'Nastavení příloh'!AG34","v":-13},{"$f":"'Nastavení příloh'!AH34","v":-13},{"$f":"'Nastavení příloh'!AI34","v":-13},{"$f":"'Nastavení příloh'!AJ34","v":-13},{"$f":"'Nastavení příloh'!AK34","v":-13},{"$f":"'Nastavení příloh'!AL34","v":-12},{"$f":"'Nastavení příloh'!AM34","v":-8},{"$f":"'Nastavení příloh'!AN34","v":-5},{"$f":"'Nastavení příloh'!AO34","v":-2},{"$f":"'Nastavení příloh'!AP34","v":0},{"$f":"'Nastavení příloh'!AQ34","v":0},{"$f":"'Nastavení příloh'!AR34","v":0},{"$f":"'Nastavení příloh'!AS34","v":3},{"$f":"'Nastavení příloh'!AT34","v":10},{"$f":"'Nastavení příloh'!AU34","v":3},{"$f":"'Nastavení příloh'!AV34","v":0}]
[{"$f":"'Nastavení příloh'!E35","v":2450},{"$f":"'Nastavení příloh'!Z35","v":2400},{"$f":"'Nastavení příloh'!AB35","v":2499},{"$f":"'Nastavení příloh'!AD35","v":-13},{"$f":"'Nastavení příloh'!AE35","v":-13},{"$f":"'Nastavení příloh'!AF35","v":-13},{"$f":"'Nastavení příloh'!AG35","v":-13},{"$f":"'Nastavení příloh'!AH35","v":-13},{"$f":"'Nastavení příloh'!AI35","v":-13},{"$f":"'Nastavení příloh'!AJ35","v":-13},{"$f":"'Nastavení příloh'!AK35","v":-13},{"$f":"'Nastavení příloh'!AL35","v":-13},{"$f":"'Nastavení příloh'!AM35","v":-10},{"$f":"'Nastavení příloh'!AN35","v":-7},{"$f":"'Nastavení příloh'!AO35","v":-3},{"$f":"'Nastavení příloh'!AP35","v":0},{"$f":"'Nastavení příloh'!AQ35","v":0},{"$f":"'Nastavení příloh'!AR35","v":0},{"$f":"'Nastavení příloh'!AS35","v":2},{"$f":"'Nastavení příloh'!AT35","v":8},{"$f":"'Nastavení příloh'!AU35","v":2},{"$f":"'Nastavení příloh'!AV35","v":0}]
[{"$f":"'Nastavení příloh'!E36","v":2550},{"$f":"'Nastavení příloh'!Z36","v":2500},{"$f":"'Nastavení příloh'!AB36","v":2599},{"$f":"'Nastavení příloh'!AD36","v":-13},{"$f":"'Nastavení příloh'!AE36","v":-13},{"$f":"'Nastavení příloh'!AF36","v":-13},{"$f":"'Nastavení příloh'!AG36","v":-13},{"$f":"'Nastavení příloh'!AH36","v":-13},{"$f":"'Nastavení příloh'!AI36","v":-13},{"$f":"'Nastavení příloh'!AJ36","v":-13},{"$f":"'Nastavení příloh'!AK36","v":-13},{"$f":"'Nastavení příloh'!AL36","v":-13},{"$f":"'Nastavení příloh'!AM36","v":-12},{"$f":"'Nastavení příloh'!AN36","v":-8},{"$f":"'Nastavení příloh'!AO36","v":-4},{"$f":"'Nastavení příloh'!AP36","v":-1},{"$f":"'Nastavení příloh'!AQ36","v":0},{"$f":"'Nastavení příloh'!AR36","v":0},{"$f":"'Nastavení příloh'!AS36","v":0},{"$f":"'Nastavení příloh'!AT36","v":7},{"$f":"'Nastavení příloh'!AU36","v":0},{"$f":"'Nastavení příloh'!AV36","v":0}]
[{"$f":"'Nastavení příloh'!E37","v":2650},{"$f":"'Nastavení příloh'!Z37","v":2600},{"$f":"'Nastavení příloh'!AB37","v":2699},{"$f":"'Nastavení příloh'!AD37","v":-13},{"$f":"'Nastavení příloh'!AE37","v":-13},{"$f":"'Nastavení příloh'!AF37","v":-13},{"$f":"'Nastavení příloh'!AG37","v":-13},{"$f":"'Nastavení příloh'!AH37","v":-13},{"$f":"'Nastavení příloh'!AI37","v":-13},{"$f":"'Nastavení příloh'!AJ37","v":-13},{"$f":"'Nastavení příloh'!AK37","v":-13},{"$f":"'Nastavení příloh'!AL37","v":-13},{"$f":"'Nastavení příloh'!AM37","v":-13},{"$f":"'Nastavení příloh'!AN37","v":-10},{"$f":"'Nastavení příloh'!AO37","v":-6},{"$f":"'Nastavení příloh'!AP37","v":-2},{"$f":"'Nastavení příloh'!AQ37","v":0},{"$f":"'Nastavení příloh'!AR37","v":0},{"$f":"'Nastavení příloh'!AS37","v":0},{"$f":"'Nastavení příloh'!AT37","v":6},{"$f":"'Nastavení příloh'!AU37","v":0},{"$f":"'Nastavení příloh'!AV37","v":0}]
[{"$f":"'Nastavení příloh'!E38","v":2750},{"$f":"'Nastavení příloh'!Z38","v":2700},{"$f":"'Nastavení příloh'!AB38","v":2799},{"$f":"'Nastavení příloh'!AD38","v":-13},{"$f":"'Nastavení příloh'!AE38","v":-13},{"$f":"'Nastavení příloh'!AF38","v":-13},{"$f":"'Nastavení příloh'!AG38","v":-13},{"$f":"'Nastavení příloh'!AH38","v":-13},{"$f":"'Nastavení příloh'!AI38","v":-13},{"$f":"'Nastavení příloh'!AJ38","v":-13},{"$f":"'Nastavení příloh'!AK38","v":-13},{"$f":"'Nastavení příloh'!AL38","v":-13},{"$f":"'Nastavení příloh'!AM38","v":-13},{"$f":"'Nastavení příloh'!AN38","v":-11},{"$f":"'Nastavení příloh'!AO38","v":-7},{"$f":"'Nastavení příloh'!AP38","v":-3},{"$f":"'Nastavení příloh'!AQ38","v":0},{"$f":"'Nastavení příloh'!AR38","v":0},{"$f":"'Nastavení příloh'!AS38","v":0},{"$f":"'Nastavení příloh'!AT38","v":5},{"$f":"'Nastavení příloh'!AU38","v":0},{"$f":"'Nastavení příloh'!AV38","v":0}]
[{"$f":"'Nastavení příloh'!E39","v":2850},{"$f":"'Nastavení příloh'!Z39","v":2800},{"$f":"'Nastavení příloh'!AB39","v":2899},{"$f":"'Nastavení příloh'!AD39","v":-13},{"$f":"'Nastavení příloh'!AE39","v":-13},{"$f":"'Nastavení příloh'!AF39","v":-13},{"$f":"'Nastavení příloh'!AG39","v":-13},{"$f":"'Nastavení příloh'!AH39","v":-13},{"$f":"'Nastavení příloh'!AI39","v":-13},{"$f":"'Nastavení příloh'!AJ39","v":-13},{"$f":"'Nastavení příloh'!AK39","v":-13},{"$f":"'Nastavení příloh'!AL39","v":-13},{"$f":"'Nastavení příloh'!AM39","v":-13},{"$f":"'Nastavení příloh'!AN39","v":-12},{"$f":"'Nastavení příloh'!AO39","v":-8},{"$f":"'Nastavení příloh'!AP39","v":-4},{"$f":"'Nastavení příloh'!AQ39","v":0},{"$f":"'Nastavení příloh'!AR39","v":0},{"$f":"'Nastavení příloh'!AS39","v":0},{"$f":"'Nastavení příloh'!AT39","v":0},{"$f":"'Nastavení příloh'!AU39","v":0},{"$f":"'Nastavení příloh'!AV39","v":0}]
[{"$f":"'Nastavení příloh'!E40","v":2950},{"$f":"'Nastavení příloh'!Z40","v":2900},{"$f":"'Nastavení příloh'!AB40","v":2999},{"$f":"'Nastavení příloh'!AD40","v":-13},{"$f":"'Nastavení příloh'!AE40","v":-13},{"$f":"'Nastavení příloh'!AF40","v":-13},{"$f":"'Nastavení příloh'!AG40","v":-13},{"$f":"'Nastavení příloh'!AH40","v":-13},{"$f":"'Nastavení příloh'!AI40","v":-13},{"$f":"'Nastavení příloh'!AJ40","v":-13},{"$f":"'Nastavení příloh'!AK40","v":-13},{"$f":"'Nastavení příloh'!AL40","v":-13},{"$f":"'Nastavení příloh'!AM40","v":-13},{"$f":"'Nastavení příloh'!AN40","v":-13},{"$f":"'Nastavení příloh'!AO40","v":-10},{"$f":"'Nastavení příloh'!AP40","v":-6},{"$f":"'Nastavení příloh'!AQ40","v":-1},{"$f":"'Nastavení příloh'!AR40","v":0},{"$f":"'Nastavení příloh'!AS40","v":0},{"$f":"'Nastavení příloh'!AT40","v":0},{"$f":"'Nastavení příloh'!AU40","v":0},{"$f":"'Nastavení příloh'!AV40","v":0}]
[{"$f":"'Nastavení příloh'!E41","v":3050},{"$f":"'Nastavení příloh'!Z41","v":3000},{"$f":"'Nastavení příloh'!AB41","v":3099},{"$f":"'Nastavení příloh'!AD41","v":-13},{"$f":"'Nastavení příloh'!AE41","v":-13},{"$f":"'Nastavení příloh'!AF41","v":-13},{"$f":"'Nastavení příloh'!AG41","v":-13},{"$f":"'Nastavení příloh'!AH41","v":-13},{"$f":"'Nastavení příloh'!AI41","v":-13},{"$f":"'Nastavení příloh'!AJ41","v":-13},{"$f":"'Nastavení příloh'!AK41","v":-13},{"$f":"'Nastavení příloh'!AL41","v":-13},{"$f":"'Nastavení příloh'!AM41","v":-13},{"$f":"'Nastavení příloh'!AN41","v":-13},{"$f":"'Nastavení příloh'!AO41","v":-11},{"$f":"'Nastavení příloh'!AP41","v":-7},{"$f":"'Nastavení příloh'!AQ41","v":-2},{"$f":"'Nastavení příloh'!AR41","v":0},{"$f":"'Nastavení příloh'!AS41","v":0},{"$f":"'Nastavení příloh'!AT41","v":0},{"$f":"'Nastavení příloh'!AU41","v":0},{"$f":"'Nastavení příloh'!AV41","v":0}]
[{"$f":"'Nastavení příloh'!E42","v":3150},{"$f":"'Nastavení příloh'!Z42","v":3100},{"$f":"'Nastavení příloh'!AB42","v":3199},{"$f":"'Nastavení příloh'!AD42","v":-13},{"$f":"'Nastavení příloh'!AE42","v":-13},{"$f":"'Nastavení příloh'!AF42","v":-13},{"$f":"'Nastavení příloh'!AG42","v":-13},{"$f":"'Nastavení příloh'!AH42","v":-13},{"$f":"'Nastavení příloh'!AI42","v":-13},{"$f":"'Nastavení příloh'!AJ42","v":-13},{"$f":"'Nastavení příloh'!AK42","v":-13},{"$f":"'Nastavení příloh'!AL42","v":-13},{"$f":"'Nastavení příloh'!AM42","v":-13},{"$f":"'Nastavení příloh'!AN42","v":-13},{"$f":"'Nastavení příloh'!AO42","v":-12},{"$f":"'Nastavení příloh'!AP42","v":-8},{"$f":"'Nastavení příloh'!AQ42","v":-4},{"$f":"'Nastavení příloh'!AR42","v":0},{"$f":"'Nastavení příloh'!AS42","v":0},{"$f":"'Nastavení příloh'!AT42","v":0},{"$f":"'Nastavení příloh'!AU42","v":0},{"$f":"'Nastavení příloh'!AV42","v":0}]
[{"$f":"'Nastavení příloh'!E43","v":3250},{"$f":"'Nastavení příloh'!Z43","v":3200},{"$f":"'Nastavení příloh'!AB43","v":3299},{"$f":"'Nastavení příloh'!AD43","v":-13},{"$f":"'Nastavení příloh'!AE43","v":-13},{"$f":"'Nastavení příloh'!AF43","v":-13},{"$f":"'Nastavení příloh'!AG43","v":-13},{"$f":"'Nastavení příloh'!AH43","v":-13},{"$f":"'Nastavení příloh'!AI43","v":-13},{"$f":"'Nastavení příloh'!AJ43","v":-13},{"$f":"'Nastavení příloh'!AK43","v":-13},{"$f":"'Nastavení příloh'!AL43","v":-13},{"$f":"'Nastavení příloh'!AM43","v":-13},{"$f":"'Nastavení příloh'!AN43","v":-13},{"$f":"'Nastavení příloh'!AO43","v":-13},{"$f":"'Nastavení příloh'!AP43","v":-9},{"$f":"'Nastavení příloh'!AQ43","v":-5},{"$f":"'Nastavení příloh'!AR43","v":0},{"$f":"'Nastavení příloh'!AS43","v":0},{"$f":"'Nastavení příloh'!AT43","v":0},{"$f":"'Nastavení příloh'!AU43","v":0},{"$f":"'Nastavení příloh'!AV43","v":0}]
[{"$f":"'Nastavení příloh'!E44","v":3350},{"$f":"'Nastavení příloh'!Z44","v":3300},{"$f":"'Nastavení příloh'!AB44","v":3399},{"$f":"'Nastavení příloh'!AD44","v":-13},{"$f":"'Nastavení příloh'!AE44","v":-13},{"$f":"'Nastavení příloh'!AF44","v":-13},{"$f":"'Nastavení příloh'!AG44","v":-13},{"$f":"'Nastavení příloh'!AH44","v":-13},{"$f":"'Nastavení příloh'!AI44","v":-13},{"$f":"'Nastavení příloh'!AJ44","v":-13},{"$f":"'Nastavení příloh'!AK44","v":-13},{"$f":"'Nastavení příloh'!AL44","v":-13},{"$f":"'Nastavení příloh'!AM44","v":-13},{"$f":"'Nastavení příloh'!AN44","v":-13},{"$f":"'Nastavení příloh'!AO44","v":-13},{"$f":"'Nastavení příloh'!AP44","v":-10},{"$f":"'Nastavení příloh'!AQ44","v":-6},{"$f":"'Nastavení příloh'!AR44","v":-1},{"$f":"'Nastavení příloh'!AS44","v":0},{"$f":"'Nastavení příloh'!AT44","v":0},{"$f":"'Nastavení příloh'!AU44","v":0},{"$f":"'Nastavení příloh'!AV44","v":0}]
[{"$f":"'Nastavení příloh'!E45","v":3450},{"$f":"'Nastavení příloh'!Z45","v":3400},{"$f":"'Nastavení příloh'!AB45","v":3499},{"$f":"'Nastavení příloh'!AD45","v":-13},{"$f":"'Nastavení příloh'!AE45","v":-13},{"$f":"'Nastavení příloh'!AF45","v":-13},{"$f":"'Nastavení příloh'!AG45","v":-13},{"$f":"'Nastavení příloh'!AH45","v":-13},{"$f":"'Nastavení příloh'!AI45","v":-13},{"$f":"'Nastavení příloh'!AJ45","v":-13},{"$f":"'Nastavení příloh'!AK45","v":-13},{"$f":"'Nastavení příloh'!AL45","v":-13},{"$f":"'Nastavení příloh'!AM45","v":-13},{"$f":"'Nastavení příloh'!AN45","v":-13},{"$f":"'Nastavení příloh'!AO45","v":-13},{"$f":"'Nastavení příloh'!AP45","v":-12},{"$f":"'Nastavení příloh'!AQ45","v":-7},{"$f":"'Nastavení příloh'!AR45","v":-2},{"$f":"'Nastavení příloh'!AS45","v":0},{"$f":"'Nastavení příloh'!AT45","v":0},{"$f":"'Nastavení příloh'!AU45","v":0},{"$f":"'Nastavení příloh'!AV45","v":0}]
[{"$f":"'Nastavení příloh'!E52","v":3550},{"$f":"'Nastavení příloh'!Z52","v":3500},{"$f":"'Nastavení příloh'!AB52","v":3599},{"$f":"'Nastavení příloh'!AD52","v":-13},{"$f":"'Nastavení příloh'!AE52","v":-13},{"$f":"'Nastavení příloh'!AF52","v":-13},{"$f":"'Nastavení příloh'!AG52","v":-13},{"$f":"'Nastavení příloh'!AH52","v":-13},{"$f":"'Nastavení příloh'!AI52","v":-13},{"$f":"'Nastavení příloh'!AJ52","v":-13},{"$f":"'Nastavení příloh'!AK52","v":-13},{"$f":"'Nastavení příloh'!AL52","v":-13},{"$f":"'Nastavení příloh'!AM52","v":-13},{"$f":"'Nastavení příloh'!AN52","v":-13},{"$f":"'Nastavení příloh'!AO52","v":-13},{"$f":"'Nastavení příloh'!AP52","v":-13},{"$f":"'Nastavení příloh'!AQ52","v":-8},{"$f":"'Nastavení příloh'!AR52","v":-3},{"$f":"'Nastavení příloh'!AS52","v":0},{"$f":"'Nastavení příloh'!AT52","v":0},{"$f":"'Nastavení příloh'!AU52","v":0},{"$f":"'Nastavení příloh'!AV52","v":0}]
[{"$f":"'Nastavení příloh'!E53","v":3650},{"$f":"'Nastavení příloh'!Z53","v":3600},{"$f":"'Nastavení příloh'!AB53","v":3699},{"$f":"'Nastavení příloh'!AD53","v":-13},{"$f":"'Nastavení příloh'!AE53","v":-13},{"$f":"'Nastavení příloh'!AF53","v":-13},{"$f":"'Nastavení příloh'!AG53","v":-13},{"$f":"'Nastavení příloh'!AH53","v":-13},{"$f":"'Nastavení příloh'!AI53","v":-13},{"$f":"'Nastavení příloh'!AJ53","v":-13},{"$f":"'Nastavení příloh'!AK53","v":-13},{"$f":"'Nastavení příloh'!AL53","v":-13},{"$f":"'Nastavení příloh'!AM53","v":-13},{"$f":"'Nastavení příloh'!AN53","v":-13},{"$f":"'Nastavení příloh'!AO53","v":-13},{"$f":"'Nastavení příloh'!AP53","v":-13},{"$f":"'Nastavení příloh'!AQ53","v":-9},{"$f":"'Nastavení příloh'!AR53","v":-4},{"$f":"'Nastavení příloh'!AS53","v":0},{"$f":"'Nastavení příloh'!AT53","v":0},{"$f":"'Nastavení příloh'!AU53","v":0},{"$f":"'Nastavení příloh'!AV53","v":0}]
[{"$f":"'Nastavení příloh'!E54","v":3750},{"$f":"'Nastavení příloh'!Z54","v":3700},{"$f":"'Nastavení příloh'!AB54","v":3799},{"$f":"'Nastavení příloh'!AD54","v":-13},{"$f":"'Nastavení příloh'!AE54","v":-13},{"$f":"'Nastavení příloh'!AF54","v":-13},{"$f":"'Nastavení příloh'!AG54","v":-13},{"$f":"'Nastavení příloh'!AH54","v":-13},{"$f":"'Nastavení příloh'!AI54","v":-13},{"$f":"'Nastavení příloh'!AJ54","v":-13},{"$f":"'Nastavení příloh'!AK54","v":-13},{"$f":"'Nastavení příloh'!AL54","v":-13},{"$f":"'Nastavení příloh'!AM54","v":-13},{"$f":"'Nastavení příloh'!AN54","v":-13},{"$f":"'Nastavení příloh'!AO54","v":-13},{"$f":"'Nastavení příloh'!AP54","v":-13},{"$f":"'Nastavení příloh'!AQ54","v":-10},{"$f":"'Nastavení příloh'!AR54","v":-5},{"$f":"'Nastavení příloh'!AS54","v":0},{"$f":"'Nastavení příloh'!AT54","v":0},{"$f":"'Nastavení příloh'!AU54","v":0},{"$f":"'Nastavení příloh'!AV54","v":0}]
[{"$f":"'Nastavení příloh'!E55","v":3850},{"$f":"'Nastavení příloh'!Z55","v":3800},{"$f":"'Nastavení příloh'!AB55","v":3899},{"$f":"'Nastavení příloh'!AD55","v":-13},{"$f":"'Nastavení příloh'!AE55","v":-13},{"$f":"'Nastavení příloh'!AF55","v":-13},{"$f":"'Nastavení příloh'!AG55","v":-13},{"$f":"'Nastavení příloh'!AH55","v":-13},{"$f":"'Nastavení příloh'!AI55","v":-13},{"$f":"'Nastavení příloh'!AJ55","v":-13},{"$f":"'Nastavení příloh'!AK55","v":-13},{"$f":"'Nastavení příloh'!AL55","v":-13},{"$f":"'Nastavení příloh'!AM55","v":-13},{"$f":"'Nastavení příloh'!AN55","v":-13},{"$f":"'Nastavení příloh'!AO55","v":-13},{"$f":"'Nastavení příloh'!AP55","v":-13},{"$f":"'Nastavení příloh'!AQ55","v":-11},{"$f":"'Nastavení příloh'!AR55","v":-5},{"$f":"'Nastavení příloh'!AS55","v":0},{"$f":"'Nastavení příloh'!AT55","v":0},{"$f":"'Nastavení příloh'!AU55","v":0},{"$f":"'Nastavení příloh'!AV55","v":0}]
[{"$f":"'Nastavení příloh'!E56","v":3950},{"$f":"'Nastavení příloh'!Z56","v":3900},{"$f":"'Nastavení příloh'!AB56","v":3999},{"$f":"'Nastavení příloh'!AD56","v":-13},{"$f":"'Nastavení příloh'!AE56","v":-13},{"$f":"'Nastavení příloh'!AF56","v":-13},{"$f":"'Nastavení příloh'!AG56","v":-13},{"$f":"'Nastavení příloh'!AH56","v":-13},{"$f":"'Nastavení příloh'!AI56","v":-13},{"$f":"'Nastavení příloh'!AJ56","v":-13},{"$f":"'Nastavení příloh'!AK56","v":-13},{"$f":"'Nastavení příloh'!AL56","v":-13},{"$f":"'Nastavení příloh'!AM56","v":-13},{"$f":"'Nastavení příloh'!AN56","v":-13},{"$f":"'Nastavení příloh'!AO56","v":-13},{"$f":"'Nastavení příloh'!AP56","v":-13},{"$f":"'Nastavení příloh'!AQ56","v":-12},{"$f":"'Nastavení příloh'!AR56","v":-6},{"$f":"'Nastavení příloh'!AS56","v":-1},{"$f":"'Nastavení příloh'!AT56","v":0},{"$f":"'Nastavení příloh'!AU56","v":0},{"$f":"'Nastavení příloh'!AV56","v":0}]
[{"$f":"'Nastavení příloh'!E57","v":4050},{"$f":"'Nastavení příloh'!Z57","v":4000},{"$f":"'Nastavení příloh'!AB57","v":4099},{"$f":"'Nastavení příloh'!AD57","v":-13},{"$f":"'Nastavení příloh'!AE57","v":-13},{"$f":"'Nastavení příloh'!AF57","v":-13},{"$f":"'Nastavení příloh'!AG57","v":-13},{"$f":"'Nastavení příloh'!AH57","v":-13},{"$f":"'Nastavení příloh'!AI57","v":-13},{"$f":"'Nastavení příloh'!AJ57","v":-13},{"$f":"'Nastavení příloh'!AK57","v":-13},{"$f":"'Nastavení příloh'!AL57","v":-13},{"$f":"'Nastavení příloh'!AM57","v":-13},{"$f":"'Nastavení příloh'!AN57","v":-13},{"$f":"'Nastavení příloh'!AO57","v":-13},{"$f":"'Nastavení příloh'!AP57","v":-13},{"$f":"'Nastavení příloh'!AQ57","v":-13},{"$f":"'Nastavení příloh'!AR57","v":-7},{"$f":"'Nastavení příloh'!AS57","v":-1},{"$f":"'Nastavení příloh'!AT57","v":0},{"$f":"'Nastavení příloh'!AU57","v":0},{"$f":"'Nastavení příloh'!AV57","v":0}]
[{"$f":"'Nastavení příloh'!E58","v":4150},{"$f":"'Nastavení příloh'!Z58","v":4100},{"$f":"'Nastavení příloh'!AB58","v":4199},{"$f":"'Nastavení příloh'!AD58","v":-13},{"$f":"'Nastavení příloh'!AE58","v":-13},{"$f":"'Nastavení příloh'!AF58","v":-13},{"$f":"'Nastavení příloh'!AG58","v":-13},{"$f":"'Nastavení příloh'!AH58","v":-13},{"$f":"'Nastavení příloh'!AI58","v":-13},{"$f":"'Nastavení příloh'!AJ58","v":-13},{"$f":"'Nastavení příloh'!AK58","v":-13},{"$f":"'Nastavení příloh'!AL58","v":-13},{"$f":"'Nastavení příloh'!AM58","v":-13},{"$f":"'Nastavení příloh'!AN58","v":-13},{"$f":"'Nastavení příloh'!AO58","v":-13},{"$f":"'Nastavení příloh'!AP58","v":-13},{"$f":"'Nastavení příloh'!AQ58","v":-13},{"$f":"'Nastavení příloh'!AR58","v":-8},{"$f":"'Nastavení příloh'!AS58","v":-2},{"$f":"'Nastavení příloh'!AT58","v":0},{"$f":"'Nastavení příloh'!AU58","v":0},{"$f":"'Nastavení příloh'!AV58","v":0}]
[{"$f":"'Nastavení příloh'!E59","v":4250},{"$f":"'Nastavení příloh'!Z59","v":4200},{"$f":"'Nastavení příloh'!AB59","v":4299},{"$f":"'Nastavení příloh'!AD59","v":-13},{"$f":"'Nastavení příloh'!AE59","v":-13},{"$f":"'Nastavení příloh'!AF59","v":-13},{"$f":"'Nastavení příloh'!AG59","v":-13},{"$f":"'Nastavení příloh'!AH59","v":-13},{"$f":"'Nastavení příloh'!AI59","v":-13},{"$f":"'Nastavení příloh'!AJ59","v":-13},{"$f":"'Nastavení příloh'!AK59","v":-13},{"$f":"'Nastavení příloh'!AL59","v":-13},{"$f":"'Nastavení příloh'!AM59","v":-13},{"$f":"'Nastavení příloh'!AN59","v":-13},{"$f":"'Nastavení příloh'!AO59","v":-13},{"$f":"'Nastavení příloh'!AP59","v":-13},{"$f":"'Nastavení příloh'!AQ59","v":-13},{"$f":"'Nastavení příloh'!AR59","v":-9},{"$f":"'Nastavení příloh'!AS59","v":-3},{"$f":"'Nastavení příloh'!AT59","v":0},{"$f":"'Nastavení příloh'!AU59","v":0},{"$f":"'Nastavení příloh'!AV59","v":0}]
[{"$f":"'Nastavení příloh'!E60","v":4350},{"$f":"'Nastavení příloh'!Z60","v":4300},{"$f":"'Nastavení příloh'!AB60","v":4399},{"$f":"'Nastavení příloh'!AD60","v":-13},{"$f":"'Nastavení příloh'!AE60","v":-13},{"$f":"'Nastavení příloh'!AF60","v":-13},{"$f":"'Nastavení příloh'!AG60","v":-13},{"$f":"'Nastavení příloh'!AH60","v":-13},{"$f":"'Nastavení příloh'!AI60","v":-13},{"$f":"'Nastavení příloh'!AJ60","v":-13},{"$f":"'Nastavení příloh'!AK60","v":-13},{"$f":"'Nastavení příloh'!AL60","v":-13},{"$f":"'Nastavení příloh'!AM60","v":-13},{"$f":"'Nastavení příloh'!AN60","v":-13},{"$f":"'Nastavení příloh'!AO60","v":-13},{"$f":"'Nastavení příloh'!AP60","v":-13},{"$f":"'Nastavení příloh'!AQ60","v":-13},{"$f":"'Nastavení příloh'!AR60","v":-10},{"$f":"'Nastavení příloh'!AS60","v":-4},{"$f":"'Nastavení příloh'!AT60","v":0},{"$f":"'Nastavení příloh'!AU60","v":0},{"$f":"'Nastavení příloh'!AV60","v":0}]
[{"$f":"'Nastavení příloh'!E61","v":4450},{"$f":"'Nastavení příloh'!Z61","v":4400},{"$f":"'Nastavení příloh'!AB61","v":4499},{"$f":"'Nastavení příloh'!AD61","v":-13},{"$f":"'Nastavení příloh'!AE61","v":-13},{"$f":"'Nastavení příloh'!AF61","v":-13},{"$f":"'Nastavení příloh'!AG61","v":-13},{"$f":"'Nastavení příloh'!AH61","v":-13},{"$f":"'Nastavení příloh'!AI61","v":-13},{"$f":"'Nastavení příloh'!AJ61","v":-13},{"$f":"'Nastavení příloh'!AK61","v":-13},{"$f":"'Nastavení příloh'!AL61","v":-13},{"$f":"'Nastavení příloh'!AM61","v":-13},{"$f":"'Nastavení příloh'!AN61","v":-13},{"$f":"'Nastavení příloh'!AO61","v":-13},{"$f":"'Nastavení příloh'!AP61","v":-13},{"$f":"'Nastavení příloh'!AQ61","v":-13},{"$f":"'Nastavení příloh'!AR61","v":-11},{"$f":"'Nastavení příloh'!AS61","v":-5},{"$f":"'Nastavení příloh'!AT61","v":0},{"$f":"'Nastavení příloh'!AU61","v":0},{"$f":"'Nastavení příloh'!AV61","v":0}]
[{"$f":"'Nastavení příloh'!E62","v":4550},{"$f":"'Nastavení příloh'!Z62","v":4500},{"$f":"'Nastavení příloh'!AB62","v":4599},{"$f":"'Nastavení příloh'!AD62","v":-13},{"$f":"'Nastavení příloh'!AE62","v":-13},{"$f":"'Nastavení příloh'!AF62","v":-13},{"$f":"'Nastavení příloh'!AG62","v":-13},{"$f":"'Nastavení příloh'!AH62","v":-13},{"$f":"'Nastavení příloh'!AI62","v":-13},{"$f":"'Nastavení příloh'!AJ62","v":-13},{"$f":"'Nastavení příloh'!AK62","v":-13},{"$f":"'Nastavení příloh'!AL62","v":-13},{"$f":"'Nastavení příloh'!AM62","v":-13},{"$f":"'Nastavení příloh'!AN62","v":-13},{"$f":"'Nastavení příloh'!AO62","v":-13},{"$f":"'Nastavení příloh'!AP62","v":-13},{"$f":"'Nastavení příloh'!AQ62","v":-13},{"$f":"'Nastavení příloh'!AR62","v":-12},{"$f":"'Nastavení příloh'!AS62","v":-5},{"$f":"'Nastavení příloh'!AT62","v":0},{"$f":"'Nastavení příloh'!AU62","v":0},{"$f":"'Nastavení příloh'!AV62","v":0}]
[{"$f":"'Nastavení příloh'!E63","v":4650},{"$f":"'Nastavení příloh'!Z63","v":4600},{"$f":"'Nastavení příloh'!AB63","v":4699},{"$f":"'Nastavení příloh'!AD63","v":-13},{"$f":"'Nastavení příloh'!AE63","v":-13},{"$f":"'Nastavení příloh'!AF63","v":-13},{"$f":"'Nastavení příloh'!AG63","v":-13},{"$f":"'Nastavení příloh'!AH63","v":-13},{"$f":"'Nastavení příloh'!AI63","v":-13},{"$f":"'Nastavení příloh'!AJ63","v":-13},{"$f":"'Nastavení příloh'!AK63","v":-13},{"$f":"'Nastavení příloh'!AL63","v":-13},{"$f":"'Nastavení příloh'!AM63","v":-13},{"$f":"'Nastavení příloh'!AN63","v":-13},{"$f":"'Nastavení příloh'!AO63","v":-13},{"$f":"'Nastavení příloh'!AP63","v":-13},{"$f":"'Nastavení příloh'!AQ63","v":-13},{"$f":"'Nastavení příloh'!AR63","v":-13},{"$f":"'Nastavení příloh'!AS63","v":-6},{"$f":"'Nastavení příloh'!AT63","v":0},{"$f":"'Nastavení příloh'!AU63","v":0},{"$f":"'Nastavení příloh'!AV63","v":0}]
[{"$f":"'Nastavení příloh'!E64","v":4750},{"$f":"'Nastavení příloh'!Z64","v":4700},{"$f":"'Nastavení příloh'!AB64","v":4799},{"$f":"'Nastavení příloh'!AD64","v":-13},{"$f":"'Nastavení příloh'!AE64","v":-13},{"$f":"'Nastavení příloh'!AF64","v":-13},{"$f":"'Nastavení příloh'!AG64","v":-13},{"$f":"'Nastavení příloh'!AH64","v":-13},{"$f":"'Nastavení příloh'!AI64","v":-13},{"$f":"'Nastavení příloh'!AJ64","v":-13},{"$f":"'Nastavení příloh'!AK64","v":-13},{"$f":"'Nastavení příloh'!AL64","v":-13},{"$f":"'Nastavení příloh'!AM64","v":-13},{"$f":"'Nastavení příloh'!AN64","v":-13},{"$f":"'Nastavení příloh'!AO64","v":-13},{"$f":"'Nastavení příloh'!AP64","v":-13},{"$f":"'Nastavení příloh'!AQ64","v":-13},{"$f":"'Nastavení příloh'!AR64","v":-13},{"$f":"'Nastavení příloh'!AS64","v":-7},{"$f":"'Nastavení příloh'!AT64","v":0},{"$f":"'Nastavení příloh'!AU64","v":0},{"$f":"'Nastavení příloh'!AV64","v":0}]
[{"$f":"'Nastavení příloh'!E65","v":4850},{"$f":"'Nastavení příloh'!Z65","v":4800},{"$f":"'Nastavení příloh'!AB65","v":4899},{"$f":"'Nastavení příloh'!AD65","v":-13},{"$f":"'Nastavení příloh'!AE65","v":-13},{"$f":"'Nastavení příloh'!AF65","v":-13},{"$f":"'Nastavení příloh'!AG65","v":-13},{"$f":"'Nastavení příloh'!AH65","v":-13},{"$f":"'Nastavení příloh'!AI65","v":-13},{"$f":"'Nastavení příloh'!AJ65","v":-13},{"$f":"'Nastavení příloh'!AK65","v":-13},{"$f":"'Nastavení příloh'!AL65","v":-13},{"$f":"'Nastavení příloh'!AM65","v":-13},{"$f":"'Nastavení příloh'!AN65","v":-13},{"$f":"'Nastavení příloh'!AO65","v":-13},{"$f":"'Nastavení příloh'!AP65","v":-13},{"$f":"'Nastavení příloh'!AQ65","v":-13},{"$f":"'Nastavení příloh'!AR65","v":-13},{"$f":"'Nastavení příloh'!AS65","v":-8},{"$f":"'Nastavení příloh'!AT65","v":-1},{"$f":"'Nastavení příloh'!AU65","v":0},{"$f":"'Nastavení příloh'!AV65","v":0}]
[{"$f":"'Nastavení příloh'!E66","v":4950},{"$f":"'Nastavení příloh'!Z66","v":4900},{"$f":"'Nastavení příloh'!AB66","v":4999},{"$f":"'Nastavení příloh'!AD66","v":-13},{"$f":"'Nastavení příloh'!AE66","v":-13},{"$f":"'Nastavení příloh'!AF66","v":-13},{"$f":"'Nastavení příloh'!AG66","v":-13},{"$f":"'Nastavení příloh'!AH66","v":-13},{"$f":"'Nastavení příloh'!AI66","v":-13},{"$f":"'Nastavení příloh'!AJ66","v":-13},{"$f":"'Nastavení příloh'!AK66","v":-13},{"$f":"'Nastavení příloh'!AL66","v":-13},{"$f":"'Nastavení příloh'!AM66","v":-13},{"$f":"'Nastavení příloh'!AN66","v":-13},{"$f":"'Nastavení příloh'!AO66","v":-13},{"$f":"'Nastavení příloh'!AP66","v":-13},{"$f":"'Nastavení příloh'!AQ66","v":-13},{"$f":"'Nastavení příloh'!AR66","v":-13},{"$f":"'Nastavení příloh'!AS66","v":-8},{"$f":"'Nastavení příloh'!AT66","v":-1},{"$f":"'Nastavení příloh'!AU66","v":0},{"$f":"'Nastavení příloh'!AV66","v":0}]
[{"$f":"'Nastavení příloh'!E67","v":5050},{"$f":"'Nastavení příloh'!Z67","v":5000},{"$f":"'Nastavení příloh'!AB67","v":5099},{"$f":"'Nastavení příloh'!AD67","v":-13},{"$f":"'Nastavení příloh'!AE67","v":-13},{"$f":"'Nastavení příloh'!AF67","v":-13},{"$f":"'Nastavení příloh'!AG67","v":-13},{"$f":"'Nastavení příloh'!AH67","v":-13},{"$f":"'Nastavení příloh'!AI67","v":-13},{"$f":"'Nastavení příloh'!AJ67","v":-13},{"$f":"'Nastavení příloh'!AK67","v":-13},{"$f":"'Nastavení příloh'!AL67","v":-13},{"$f":"'Nastavení příloh'!AM67","v":-13},{"$f":"'Nastavení příloh'!AN67","v":-13},{"$f":"'Nastavení příloh'!AO67","v":-13},{"$f":"'Nastavení příloh'!AP67","v":-13},{"$f":"'Nastavení příloh'!AQ67","v":-13},{"$f":"'Nastavení příloh'!AR67","v":-13},{"$f":"'Nastavení příloh'!AS67","v":-9},{"$f":"'Nastavení příloh'!AT67","v":-2},{"$f":"'Nastavení příloh'!AU67","v":0},{"$f":"'Nastavení příloh'!AV67","v":0}]
[{"$f":"'Nastavení příloh'!E68","v":5150},{"$f":"'Nastavení příloh'!Z68","v":5100},{"$f":"'Nastavení příloh'!AB68","v":5199},{"$f":"'Nastavení příloh'!AD68","v":-13},{"$f":"'Nastavení příloh'!AE68","v":-13},{"$f":"'Nastavení příloh'!AF68","v":-13},{"$f":"'Nastavení příloh'!AG68","v":-13},{"$f":"'Nastavení příloh'!AH68","v":-13},{"$f":"'Nastavení příloh'!AI68","v":-13},{"$f":"'Nastavení příloh'!AJ68","v":-13},{"$f":"'Nastavení příloh'!AK68","v":-13},{"$f":"'Nastavení příloh'!AL68","v":-13},{"$f":"'Nastavení příloh'!AM68","v":-13},{"$f":"'Nastavení příloh'!AN68","v":-13},{"$f":"'Nastavení příloh'!AO68","v":-13},{"$f":"'Nastavení příloh'!AP68","v":-13},{"$f":"'Nastavení příloh'!AQ68","v":-13},{"$f":"'Nastavení příloh'!AR68","v":-13},{"$f":"'Nastavení příloh'!AS68","v":-10},{"$f":"'Nastavení příloh'!AT68","v":-3},{"$f":"'Nastavení příloh'!AU68","v":0},{"$f":"'Nastavení příloh'!AV68","v":0}]
[{"$f":"'Nastavení příloh'!E69","v":5250},{"$f":"'Nastavení příloh'!Z69","v":5200},{"$f":"'Nastavení příloh'!AB69","v":5299},{"$f":"'Nastavení příloh'!AD69","v":-13},{"$f":"'Nastavení příloh'!AE69","v":-13},{"$f":"'Nastavení příloh'!AF69","v":-13},{"$f":"'Nastavení příloh'!AG69","v":-13},{"$f":"'Nastavení příloh'!AH69","v":-13},{"$f":"'Nastavení příloh'!AI69","v":-13},{"$f":"'Nastavení příloh'!AJ69","v":-13},{"$f":"'Nastavení příloh'!AK69","v":-13},{"$f":"'Nastavení příloh'!AL69","v":-13},{"$f":"'Nastavení příloh'!AM69","v":-13},{"$f":"'Nastavení příloh'!AN69","v":-13},{"$f":"'Nastavení příloh'!AO69","v":-13},{"$f":"'Nastavení příloh'!AP69","v":-13},{"$f":"'Nastavení příloh'!AQ69","v":-13},{"$f":"'Nastavení příloh'!AR69","v":-13},{"$f":"'Nastavení příloh'!AS69","v":-11},{"$f":"'Nastavení příloh'!AT69","v":-3},{"$f":"'Nastavení příloh'!AU69","v":0},{"$f":"'Nastavení příloh'!AV69","v":0}]
[{"$f":"'Nastavení příloh'!E70","v":5350},{"$f":"'Nastavení příloh'!Z70","v":5300},{"$f":"'Nastavení příloh'!AB70","v":5399},{"$f":"'Nastavení příloh'!AD70","v":-13},{"$f":"'Nastavení příloh'!AE70","v":-13},{"$f":"'Nastavení příloh'!AF70","v":-13},{"$f":"'Nastavení příloh'!AG70","v":-13},{"$f":"'Nastavení příloh'!AH70","v":-13},{"$f":"'Nastavení příloh'!AI70","v":-13},{"$f":"'Nastavení příloh'!AJ70","v":-13},{"$f":"'Nastavení příloh'!AK70","v":-13},{"$f":"'Nastavení příloh'!AL70","v":-13},{"$f":"'Nastavení příloh'!AM70","v":-13},{"$f":"'Nastavení příloh'!AN70","v":-13},{"$f":"'Nastavení příloh'!AO70","v":-13},{"$f":"'Nastavení příloh'!AP70","v":-13},{"$f":"'Nastavení příloh'!AQ70","v":-13},{"$f":"'Nastavení příloh'!AR70","v":-13},{"$f":"'Nastavení příloh'!AS70","v":-11},{"$f":"'Nastavení příloh'!AT70","v":-4},{"$f":"'Nastavení příloh'!AU70","v":0},{"$f":"'Nastavení příloh'!AV70","v":0}]
[{"$f":"'Nastavení příloh'!E71","v":5450},{"$f":"'Nastavení příloh'!Z71","v":5400},{"$f":"'Nastavení příloh'!AB71","v":5499},{"$f":"'Nastavení příloh'!AD71","v":-13},{"$f":"'Nastavení příloh'!AE71","v":-13},{"$f":"'Nastavení příloh'!AF71","v":-13},{"$f":"'Nastavení příloh'!AG71","v":-13},{"$f":"'Nastavení příloh'!AH71","v":-13},{"$f":"'Nastavení příloh'!AI71","v":-13},{"$f":"'Nastavení příloh'!AJ71","v":-13},{"$f":"'Nastavení příloh'!AK71","v":-13},{"$f":"'Nastavení příloh'!AL71","v":-13},{"$f":"'Nastavení příloh'!AM71","v":-13},{"$f":"'Nastavení příloh'!AN71","v":-13},{"$f":"'Nastavení příloh'!AO71","v":-13},{"$f":"'Nastavení příloh'!AP71","v":-13},{"$f":"'Nastavení příloh'!AQ71","v":-13},{"$f":"'Nastavení příloh'!AR71","v":-13},{"$f":"'Nastavení příloh'!AS71","v":-12},{"$f":"'Nastavení příloh'!AT71","v":-4},{"$f":"'Nastavení příloh'!AU71","v":0},{"$f":"'Nastavení příloh'!AV71","v":0}]
[{"$f":"'Nastavení příloh'!E72","v":5550},{"$f":"'Nastavení příloh'!Z72","v":5500},{"$f":"'Nastavení příloh'!AB72","v":5599},{"$f":"'Nastavení příloh'!AD72","v":-13},{"$f":"'Nastavení příloh'!AE72","v":-13},{"$f":"'Nastavení příloh'!AF72","v":-13},{"$f":"'Nastavení příloh'!AG72","v":-13},{"$f":"'Nastavení příloh'!AH72","v":-13},{"$f":"'Nastavení příloh'!AI72","v":-13},{"$f":"'Nastavení příloh'!AJ72","v":-13},{"$f":"'Nastavení příloh'!AK72","v":-13},{"$f":"'Nastavení příloh'!AL72","v":-13},{"$f":"'Nastavení příloh'!AM72","v":-13},{"$f":"'Nastavení příloh'!AN72","v":-13},{"$f":"'Nastavení příloh'!AO72","v":-13},{"$f":"'Nastavení příloh'!AP72","v":-13},{"$f":"'Nastavení příloh'!AQ72","v":-13},{"$f":"'Nastavení příloh'!AR72","v":-13},{"$f":"'Nastavení příloh'!AS72","v":-13},{"$f":"'Nastavení příloh'!AT72","v":-5},{"$f":"'Nastavení příloh'!AU72","v":0},{"$f":"'Nastavení příloh'!AV72","v":0}]
[{"$f":"'Nastavení příloh'!E73","v":5650},{"$f":"'Nastavení příloh'!Z73","v":5600},{"$f":"'Nastavení příloh'!AB73","v":5699},{"$f":"'Nastavení příloh'!AD73","v":-13},{"$f":"'Nastavení příloh'!AE73","v":-13},{"$f":"'Nastavení příloh'!AF73","v":-13},{"$f":"'Nastavení příloh'!AG73","v":-13},{"$f":"'Nastavení příloh'!AH73","v":-13},{"$f":"'Nastavení příloh'!AI73","v":-13},{"$f":"'Nastavení příloh'!AJ73","v":-13},{"$f":"'Nastavení příloh'!AK73","v":-13},{"$f":"'Nastavení příloh'!AL73","v":-13},{"$f":"'Nastavení příloh'!AM73","v":-13},{"$f":"'Nastavení příloh'!AN73","v":-13},{"$f":"'Nastavení příloh'!AO73","v":-13},{"$f":"'Nastavení příloh'!AP73","v":-13},{"$f":"'Nastavení příloh'!AQ73","v":-13},{"$f":"'Nastavení příloh'!AR73","v":-13},{"$f":"'Nastavení příloh'!AS73","v":-13},{"$f":"'Nastavení příloh'!AT73","v":-6},{"$f":"'Nastavení příloh'!AU73","v":0},{"$f":"'Nastavení příloh'!AV73","v":0}]
[{"$f":"'Nastavení příloh'!E74","v":5750},{"$f":"'Nastavení příloh'!Z74","v":5700},{"$f":"'Nastavení příloh'!AB74","v":5799},{"$f":"'Nastavení příloh'!AD74","v":-13},{"$f":"'Nastavení příloh'!AE74","v":-13},{"$f":"'Nastavení příloh'!AF74","v":-13},{"$f":"'Nastavení příloh'!AG74","v":-13},{"$f":"'Nastavení příloh'!AH74","v":-13},{"$f":"'Nastavení příloh'!AI74","v":-13},{"$f":"'Nastavení příloh'!AJ74","v":-13},{"$f":"'Nastavení příloh'!AK74","v":-13},{"$f":"'Nastavení příloh'!AL74","v":-13},{"$f":"'Nastavení příloh'!AM74","v":-13},{"$f":"'Nastavení příloh'!AN74","v":-13},{"$f":"'Nastavení příloh'!AO74","v":-13},{"$f":"'Nastavení příloh'!AP74","v":-13},{"$f":"'Nastavení příloh'!AQ74","v":-13},{"$f":"'Nastavení příloh'!AR74","v":-13},{"$f":"'Nastavení příloh'!AS74","v":-13},{"$f":"'Nastavení příloh'!AT74","v":-6},{"$f":"'Nastavení příloh'!AU74","v":0},{"$f":"'Nastavení příloh'!AV74","v":0}]
[{"$f":"'Nastavení příloh'!E75","v":5850},{"$f":"'Nastavení příloh'!Z75","v":5800},{"$f":"'Nastavení příloh'!AB75","v":5899},{"$f":"'Nastavení příloh'!AD75","v":-13},{"$f":"'Nastavení příloh'!AE75","v":-13},{"$f":"'Nastavení příloh'!AF75","v":-13},{"$f":"'Nastavení příloh'!AG75","v":-13},{"$f":"'Nastavení příloh'!AH75","v":-13},{"$f":"'Nastavení příloh'!AI75","v":-13},{"$f":"'Nastavení příloh'!AJ75","v":-13},{"$f":"'Nastavení příloh'!AK75","v":-13},{"$f":"'Nastavení příloh'!AL75","v":-13},{"$f":"'Nastavení příloh'!AM75","v":-13},{"$f":"'Nastavení příloh'!AN75","v":-13},{"$f":"'Nastavení příloh'!AO75","v":-13},{"$f":"'Nastavení příloh'!AP75","v":-13},{"$f":"'Nastavení příloh'!AQ75","v":-13},{"$f":"'Nastavení příloh'!AR75","v":-13},{"$f":"'Nastavení příloh'!AS75","v":-13},{"$f":"'Nastavení příloh'!AT75","v":-7},{"$f":"'Nastavení příloh'!AU75","v":0},{"$f":"'Nastavení příloh'!AV75","v":0}]
[{"$f":"'Nastavení příloh'!E76","v":5950},{"$f":"'Nastavení příloh'!Z76","v":5900},{"$f":"'Nastavení příloh'!AB76","v":5999},{"$f":"'Nastavení příloh'!AD76","v":-13},{"$f":"'Nastavení příloh'!AE76","v":-13},{"$f":"'Nastavení příloh'!AF76","v":-13},{"$f":"'Nastavení příloh'!AG76","v":-13},{"$f":"'Nastavení příloh'!AH76","v":-13},{"$f":"'Nastavení příloh'!AI76","v":-13},{"$f":"'Nastavení příloh'!AJ76","v":-13},{"$f":"'Nastavení příloh'!AK76","v":-13},{"$f":"'Nastavení příloh'!AL76","v":-13},{"$f":"'Nastavení příloh'!AM76","v":-13},{"$f":"'Nastavení příloh'!AN76","v":-13},{"$f":"'Nastavení příloh'!AO76","v":-13},{"$f":"'Nastavení příloh'!AP76","v":-13},{"$f":"'Nastavení příloh'!AQ76","v":-13},{"$f":"'Nastavení příloh'!AR76","v":-13},{"$f":"'Nastavení příloh'!AS76","v":-13},{"$f":"'Nastavení příloh'!AT76","v":-8},{"$f":"'Nastavení příloh'!AU76","v":0},{"$f":"'Nastavení příloh'!AV76","v":0}]
[{"$f":"'Nastavení příloh'!E77","v":6050},{"$f":"'Nastavení příloh'!Z77","v":6000},{"$f":"'Nastavení příloh'!AB77","v":6099},{"$f":"'Nastavení příloh'!AD77","v":-13},{"$f":"'Nastavení příloh'!AE77","v":-13},{"$f":"'Nastavení příloh'!AF77","v":-13},{"$f":"'Nastavení příloh'!AG77","v":-13},{"$f":"'Nastavení příloh'!AH77","v":-13},{"$f":"'Nastavení příloh'!AI77","v":-13},{"$f":"'Nastavení příloh'!AJ77","v":-13},{"$f":"'Nastavení příloh'!AK77","v":-13},{"$f":"'Nastavení příloh'!AL77","v":-13},{"$f":"'Nastavení příloh'!AM77","v":-13},{"$f":"'Nastavení příloh'!AN77","v":-13},{"$f":"'Nastavení příloh'!AO77","v":-13},{"$f":"'Nastavení příloh'!AP77","v":-13},{"$f":"'Nastavení příloh'!AQ77","v":-13},{"$f":"'Nastavení příloh'!AR77","v":-13},{"$f":"'Nastavení příloh'!AS77","v":-13},{"$f":"'Nastavení příloh'!AT77","v":-8},{"$f":"'Nastavení příloh'!AU77","v":0},{"$f":"'Nastavení příloh'!AV77","v":0}]
[{"$f":"'Nastavení příloh'!E78","v":6150},{"$f":"'Nastavení příloh'!Z78","v":6100},{"$f":"'Nastavení příloh'!AB78","v":6199},{"$f":"'Nastavení příloh'!AD78","v":-13},{"$f":"'Nastavení příloh'!AE78","v":-13},{"$f":"'Nastavení příloh'!AF78","v":-13},{"$f":"'Nastavení příloh'!AG78","v":-13},{"$f":"'Nastavení příloh'!AH78","v":-13},{"$f":"'Nastavení příloh'!AI78","v":-13},{"$f":"'Nastavení příloh'!AJ78","v":-13},{"$f":"'Nastavení příloh'!AK78","v":-13},{"$f":"'Nastavení příloh'!AL78","v":-13},{"$f":"'Nastavení příloh'!AM78","v":-13},{"$f":"'Nastavení příloh'!AN78","v":-13},{"$f":"'Nastavení příloh'!AO78","v":-13},{"$f":"'Nastavení příloh'!AP78","v":-13},{"$f":"'Nastavení příloh'!AQ78","v":-13},{"$f":"'Nastavení příloh'!AR78","v":-13},{"$f":"'Nastavení příloh'!AS78","v":-13},{"$f":"'Nastavení příloh'!AT78","v":-9},{"$f":"'Nastavení příloh'!AU78","v":0},{"$f":"'Nastavení příloh'!AV78","v":0}]
[{"$f":"'Nastavení příloh'!E79","v":6250},{"$f":"'Nastavení příloh'!Z79","v":6200},{"$f":"'Nastavení příloh'!AB79","v":6299},{"$f":"'Nastavení příloh'!AD79","v":-13},{"$f":"'Nastavení příloh'!AE79","v":-13},{"$f":"'Nastavení příloh'!AF79","v":-13},{"$f":"'Nastavení příloh'!AG79","v":-13},{"$f":"'Nastavení příloh'!AH79","v":-13},{"$f":"'Nastavení příloh'!AI79","v":-13},{"$f":"'Nastavení příloh'!AJ79","v":-13},{"$f":"'Nastavení příloh'!AK79","v":-13},{"$f":"'Nastavení příloh'!AL79","v":-13},{"$f":"'Nastavení příloh'!AM79","v":-13},{"$f":"'Nastavení příloh'!AN79","v":-13},{"$f":"'Nastavení příloh'!AO79","v":-13},{"$f":"'Nastavení příloh'!AP79","v":-13},{"$f":"'Nastavení příloh'!AQ79","v":-13},{"$f":"'Nastavení příloh'!AR79","v":-13},{"$f":"'Nastavení příloh'!AS79","v":-13},{"$f":"'Nastavení příloh'!AT79","v":-9},{"$f":"'Nastavení příloh'!AU79","v":-1},{"$f":"'Nastavení příloh'!AV79","v":0}]
[{"$f":"'Nastavení příloh'!E80","v":6350},{"$f":"'Nastavení příloh'!Z80","v":6300},{"$f":"'Nastavení příloh'!AB80","v":6399},{"$f":"'Nastavení příloh'!AD80","v":-13},{"$f":"'Nastavení příloh'!AE80","v":-13},{"$f":"'Nastavení příloh'!AF80","v":-13},{"$f":"'Nastavení příloh'!AG80","v":-13},{"$f":"'Nastavení příloh'!AH80","v":-13},{"$f":"'Nastavení příloh'!AI80","v":-13},{"$f":"'Nastavení příloh'!AJ80","v":-13},{"$f":"'Nastavení příloh'!AK80","v":-13},{"$f":"'Nastavení příloh'!AL80","v":-13},{"$f":"'Nastavení příloh'!AM80","v":-13},{"$f":"'Nastavení příloh'!AN80","v":-13},{"$f":"'Nastavení příloh'!AO80","v":-13},{"$f":"'Nastavení příloh'!AP80","v":-13},{"$f":"'Nastavení příloh'!AQ80","v":-13},{"$f":"'Nastavení příloh'!AR80","v":-13},{"$f":"'Nastavení příloh'!AS80","v":-13},{"$f":"'Nastavení příloh'!AT80","v":-10},{"$f":"'Nastavení příloh'!AU80","v":-1},{"$f":"'Nastavení příloh'!AV80","v":0}]
[{"$f":"'Nastavení příloh'!E81","v":6450},{"$f":"'Nastavení příloh'!Z81","v":6400},{"$f":"'Nastavení příloh'!AB81","v":6499},{"$f":"'Nastavení příloh'!AD81","v":-13},{"$f":"'Nastavení příloh'!AE81","v":-13},{"$f":"'Nastavení příloh'!AF81","v":-13},{"$f":"'Nastavení příloh'!AG81","v":-13},{"$f":"'Nastavení příloh'!AH81","v":-13},{"$f":"'Nastavení příloh'!AI81","v":-13},{"$f":"'Nastavení příloh'!AJ81","v":-13},{"$f":"'Nastavení příloh'!AK81","v":-13},{"$f":"'Nastavení příloh'!AL81","v":-13},{"$f":"'Nastavení příloh'!AM81","v":-13},{"$f":"'Nastavení příloh'!AN81","v":-13},{"$f":"'Nastavení příloh'!AO81","v":-13},{"$f":"'Nastavení příloh'!AP81","v":-13},{"$f":"'Nastavení příloh'!AQ81","v":-13},{"$f":"'Nastavení příloh'!AR81","v":-13},{"$f":"'Nastavení příloh'!AS81","v":-13},{"$f":"'Nastavení příloh'!AT81","v":-11},{"$f":"'Nastavení příloh'!AU81","v":-2},{"$f":"'Nastavení příloh'!AV81","v":0}]
[{"$f":"'Nastavení příloh'!E88","v":6550},{"$f":"'Nastavení příloh'!Z88","v":6500},{"$f":"'Nastavení příloh'!AB88","v":6599},{"$f":"'Nastavení příloh'!AD88","v":-13},{"$f":"'Nastavení příloh'!AE88","v":-13},{"$f":"'Nastavení příloh'!AF88","v":-13},{"$f":"'Nastavení příloh'!AG88","v":-13},{"$f":"'Nastavení příloh'!AH88","v":-13},{"$f":"'Nastavení příloh'!AI88","v":-13},{"$f":"'Nastavení příloh'!AJ88","v":-13},{"$f":"'Nastavení příloh'!AK88","v":-13},{"$f":"'Nastavení příloh'!AL88","v":-13},{"$f":"'Nastavení příloh'!AM88","v":-13},{"$f":"'Nastavení příloh'!AN88","v":-13},{"$f":"'Nastavení příloh'!AO88","v":-13},{"$f":"'Nastavení příloh'!AP88","v":-13},{"$f":"'Nastavení příloh'!AQ88","v":-13},{"$f":"'Nastavení příloh'!AR88","v":-13},{"$f":"'Nastavení příloh'!AS88","v":-13},{"$f":"'Nastavení příloh'!AT88","v":-11},{"$f":"'Nastavení příloh'!AU88","v":-2},{"$f":"'Nastavení příloh'!AV88","v":0}]
[{"$f":"'Nastavení příloh'!E89","v":6650},{"$f":"'Nastavení příloh'!Z89","v":6600},{"$f":"'Nastavení příloh'!AB89","v":6699},{"$f":"'Nastavení příloh'!AD89","v":-13},{"$f":"'Nastavení příloh'!AE89","v":-13},{"$f":"'Nastavení příloh'!AF89","v":-13},{"$f":"'Nastavení příloh'!AG89","v":-13},{"$f":"'Nastavení příloh'!AH89","v":-13},{"$f":"'Nastavení příloh'!AI89","v":-13},{"$f":"'Nastavení příloh'!AJ89","v":-13},{"$f":"'Nastavení příloh'!AK89","v":-13},{"$f":"'Nastavení příloh'!AL89","v":-13},{"$f":"'Nastavení příloh'!AM89","v":-13},{"$f":"'Nastavení příloh'!AN89","v":-13},{"$f":"'Nastavení příloh'!AO89","v":-13},{"$f":"'Nastavení příloh'!AP89","v":-13},{"$f":"'Nastavení příloh'!AQ89","v":-13},{"$f":"'Nastavení příloh'!AR89","v":-13},{"$f":"'Nastavení příloh'!AS89","v":-13},{"$f":"'Nastavení příloh'!AT89","v":-12},{"$f":"'Nastavení příloh'!AU89","v":-3},{"$f":"'Nastavení příloh'!AV89","v":0}]
[{"$f":"'Nastavení příloh'!E90","v":6750},{"$f":"'Nastavení příloh'!Z90","v":6700},{"$f":"'Nastavení příloh'!AB90","v":6799},{"$f":"'Nastavení příloh'!AD90","v":-13},{"$f":"'Nastavení příloh'!AE90","v":-13},{"$f":"'Nastavení příloh'!AF90","v":-13},{"$f":"'Nastavení příloh'!AG90","v":-13},{"$f":"'Nastavení příloh'!AH90","v":-13},{"$f":"'Nastavení příloh'!AI90","v":-13},{"$f":"'Nastavení příloh'!AJ90","v":-13},{"$f":"'Nastavení příloh'!AK90","v":-13},{"$f":"'Nastavení příloh'!AL90","v":-13},{"$f":"'Nastavení příloh'!AM90","v":-13},{"$f":"'Nastavení příloh'!AN90","v":-13},{"$f":"'Nastavení příloh'!AO90","v":-13},{"$f":"'Nastavení příloh'!AP90","v":-13},{"$f":"'Nastavení příloh'!AQ90","v":-13},{"$f":"'Nastavení příloh'!AR90","v":-13},{"$f":"'Nastavení příloh'!AS90","v":-13},{"$f":"'Nastavení příloh'!AT90","v":-13},{"$f":"'Nastavení příloh'!AU90","v":-3},{"$f":"'Nastavení příloh'!AV90","v":0}]
[{"$f":"'Nastavení příloh'!E91","v":6850},{"$f":"'Nastavení příloh'!Z91","v":6800},{"$f":"'Nastavení příloh'!AB91","v":6899},{"$f":"'Nastavení příloh'!AD91","v":-13},{"$f":"'Nastavení příloh'!AE91","v":-13},{"$f":"'Nastavení příloh'!AF91","v":-13},{"$f":"'Nastavení příloh'!AG91","v":-13},{"$f":"'Nastavení příloh'!AH91","v":-13},{"$f":"'Nastavení příloh'!AI91","v":-13},{"$f":"'Nastavení příloh'!AJ91","v":-13},{"$f":"'Nastavení příloh'!AK91","v":-13},{"$f":"'Nastavení příloh'!AL91","v":-13},{"$f":"'Nastavení příloh'!AM91","v":-13},{"$f":"'Nastavení příloh'!AN91","v":-13},{"$f":"'Nastavení příloh'!AO91","v":-13},{"$f":"'Nastavení příloh'!AP91","v":-13},{"$f":"'Nastavení příloh'!AQ91","v":-13},{"$f":"'Nastavení příloh'!AR91","v":-13},{"$f":"'Nastavení příloh'!AS91","v":-13},{"$f":"'Nastavení příloh'!AT91","v":-13},{"$f":"'Nastavení příloh'!AU91","v":-3},{"$f":"'Nastavení příloh'!AV91","v":0}]
[{"$f":"'Nastavení příloh'!E92","v":6950},{"$f":"'Nastavení příloh'!Z92","v":6900},{"$f":"'Nastavení příloh'!AB92","v":6999},{"$f":"'Nastavení příloh'!AD92","v":-13},{"$f":"'Nastavení příloh'!AE92","v":-13},{"$f":"'Nastavení příloh'!AF92","v":-13},{"$f":"'Nastavení příloh'!AG92","v":-13},{"$f":"'Nastavení příloh'!AH92","v":-13},{"$f":"'Nastavení příloh'!AI92","v":-13},{"$f":"'Nastavení příloh'!AJ92","v":-13},{"$f":"'Nastavení příloh'!AK92","v":-13},{"$f":"'Nastavení příloh'!AL92","v":-13},{"$f":"'Nastavení příloh'!AM92","v":-13},{"$f":"'Nastavení příloh'!AN92","v":-13},{"$f":"'Nastavení příloh'!AO92","v":-13},{"$f":"'Nastavení příloh'!AP92","v":-13},{"$f":"'Nastavení příloh'!AQ92","v":-13},{"$f":"'Nastavení příloh'!AR92","v":-13},{"$f":"'Nastavení příloh'!AS92","v":-13},{"$f":"'Nastavení příloh'!AT92","v":-13},{"$f":"'Nastavení příloh'!AU92","v":-4},{"$f":"'Nastavení příloh'!AV92","v":0}]
[{"$f":"'Nastavení příloh'!E93","v":7050},{"$f":"'Nastavení příloh'!Z93","v":7000},{"$f":"'Nastavení příloh'!AB93","v":7099},{"$f":"'Nastavení příloh'!AD93","v":-13},{"$f":"'Nastavení příloh'!AE93","v":-13},{"$f":"'Nastavení příloh'!AF93","v":-13},{"$f":"'Nastavení příloh'!AG93","v":-13},{"$f":"'Nastavení příloh'!AH93","v":-13},{"$f":"'Nastavení příloh'!AI93","v":-13},{"$f":"'Nastavení příloh'!AJ93","v":-13},{"$f":"'Nastavení příloh'!AK93","v":-13},{"$f":"'Nastavení příloh'!AL93","v":-13},{"$f":"'Nastavení příloh'!AM93","v":-13},{"$f":"'Nastavení příloh'!AN93","v":-13},{"$f":"'Nastavení příloh'!AO93","v":-13},{"$f":"'Nastavení příloh'!AP93","v":-13},{"$f":"'Nastavení příloh'!AQ93","v":-13},{"$f":"'Nastavení příloh'!AR93","v":-13},{"$f":"'Nastavení příloh'!AS93","v":-13},{"$f":"'Nastavení příloh'!AT93","v":-13},{"$f":"'Nastavení příloh'!AU93","v":-4},{"$f":"'Nastavení příloh'!AV93","v":0}]
[{"$f":"'Nastavení příloh'!E94","v":7150},{"$f":"'Nastavení příloh'!Z94","v":7100},{"$f":"'Nastavení příloh'!AB94","v":7199},{"$f":"'Nastavení příloh'!AD94","v":-13},{"$f":"'Nastavení příloh'!AE94","v":-13},{"$f":"'Nastavení příloh'!AF94","v":-13},{"$f":"'Nastavení příloh'!AG94","v":-13},{"$f":"'Nastavení příloh'!AH94","v":-13},{"$f":"'Nastavení příloh'!AI94","v":-13},{"$f":"'Nastavení příloh'!AJ94","v":-13},{"$f":"'Nastavení příloh'!AK94","v":-13},{"$f":"'Nastavení příloh'!AL94","v":-13},{"$f":"'Nastavení příloh'!AM94","v":-13},{"$f":"'Nastavení příloh'!AN94","v":-13},{"$f":"'Nastavení příloh'!AO94","v":-13},{"$f":"'Nastavení příloh'!AP94","v":-13},{"$f":"'Nastavení příloh'!AQ94","v":-13},{"$f":"'Nastavení příloh'!AR94","v":-13},{"$f":"'Nastavení příloh'!AS94","v":-13},{"$f":"'Nastavení příloh'!AT94","v":-13},{"$f":"'Nastavení příloh'!AU94","v":-5},{"$f":"'Nastavení příloh'!AV94","v":0}]
[{"$f":"'Nastavení příloh'!E95","v":7250},{"$f":"'Nastavení příloh'!Z95","v":7200},{"$f":"'Nastavení příloh'!AB95","v":7299},{"$f":"'Nastavení příloh'!AD95","v":-13},{"$f":"'Nastavení příloh'!AE95","v":-13},{"$f":"'Nastavení příloh'!AF95","v":-13},{"$f":"'Nastavení příloh'!AG95","v":-13},{"$f":"'Nastavení příloh'!AH95","v":-13},{"$f":"'Nastavení příloh'!AI95","v":-13},{"$f":"'Nastavení příloh'!AJ95","v":-13},{"$f":"'Nastavení příloh'!AK95","v":-13},{"$f":"'Nastavení příloh'!AL95","v":-13},{"$f":"'Nastavení příloh'!AM95","v":-13},{"$f":"'Nastavení příloh'!AN95","v":-13},{"$f":"'Nastavení příloh'!AO95","v":-13},{"$f":"'Nastavení příloh'!AP95","v":-13},{"$f":"'Nastavení příloh'!AQ95","v":-13},{"$f":"'Nastavení příloh'!AR95","v":-13},{"$f":"'Nastavení příloh'!AS95","v":-13},{"$f":"'Nastavení příloh'!AT95","v":-13},{"$f":"'Nastavení příloh'!AU95","v":-5},{"$f":"'Nastavení příloh'!AV95","v":0}]
[{"$f":"'Nastavení příloh'!E96","v":7350},{"$f":"'Nastavení příloh'!Z96","v":7300},{"$f":"'Nastavení příloh'!AB96","v":7399},{"$f":"'Nastavení příloh'!AD96","v":-13},{"$f":"'Nastavení příloh'!AE96","v":-13},{"$f":"'Nastavení příloh'!AF96","v":-13},{"$f":"'Nastavení příloh'!AG96","v":-13},{"$f":"'Nastavení příloh'!AH96","v":-13},{"$f":"'Nastavení příloh'!AI96","v":-13},{"$f":"'Nastavení příloh'!AJ96","v":-13},{"$f":"'Nastavení příloh'!AK96","v":-13},{"$f":"'Nastavení příloh'!AL96","v":-13},{"$f":"'Nastavení příloh'!AM96","v":-13},{"$f":"'Nastavení příloh'!AN96","v":-13},{"$f":"'Nastavení příloh'!AO96","v":-13},{"$f":"'Nastavení příloh'!AP96","v":-13},{"$f":"'Nastavení příloh'!AQ96","v":-13},{"$f":"'Nastavení příloh'!AR96","v":-13},{"$f":"'Nastavení příloh'!AS96","v":-13},{"$f":"'Nastavení příloh'!AT96","v":-13},{"$f":"'Nastavení příloh'!AU96","v":-6},{"$f":"'Nastavení příloh'!AV96","v":0}]
[{"$f":"'Nastavení příloh'!E97","v":7450},{"$f":"'Nastavení příloh'!Z97","v":7400},{"$f":"'Nastavení příloh'!AB97","v":7499},{"$f":"'Nastavení příloh'!AD97","v":-13},{"$f":"'Nastavení příloh'!AE97","v":-13},{"$f":"'Nastavení příloh'!AF97","v":-13},{"$f":"'Nastavení příloh'!AG97","v":-13},{"$f":"'Nastavení příloh'!AH97","v":-13},{"$f":"'Nastavení příloh'!AI97","v":-13},{"$f":"'Nastavení příloh'!AJ97","v":-13},{"$f":"'Nastavení příloh'!AK97","v":-13},{"$f":"'Nastavení příloh'!AL97","v":-13},{"$f":"'Nastavení příloh'!AM97","v":-13},{"$f":"'Nastavení příloh'!AN97","v":-13},{"$f":"'Nastavení příloh'!AO97","v":-13},{"$f":"'Nastavení příloh'!AP97","v":-13},{"$f":"'Nastavení příloh'!AQ97","v":-13},{"$f":"'Nastavení příloh'!AR97","v":-13},{"$f":"'Nastavení příloh'!AS97","v":-13},{"$f":"'Nastavení příloh'!AT97","v":-13},{"$f":"'Nastavení příloh'!AU97","v":-6},{"$f":"'Nastavení příloh'!AV97","v":0}]
[{"$f":"'Nastavení příloh'!E98","v":7550},{"$f":"'Nastavení příloh'!Z98","v":7500},{"$f":"'Nastavení příloh'!AB98","v":7599},{"$f":"'Nastavení příloh'!AD98","v":-13},{"$f":"'Nastavení příloh'!AE98","v":-13},{"$f":"'Nastavení příloh'!AF98","v":-13},{"$f":"'Nastavení příloh'!AG98","v":-13},{"$f":"'Nastavení příloh'!AH98","v":-13},{"$f":"'Nastavení příloh'!AI98","v":-13},{"$f":"'Nastavení příloh'!AJ98","v":-13},{"$f":"'Nastavení příloh'!AK98","v":-13},{"$f":"'Nastavení příloh'!AL98","v":-13},{"$f":"'Nastavení příloh'!AM98","v":-13},{"$f":"'Nastavení příloh'!AN98","v":-13},{"$f":"'Nastavení příloh'!AO98","v":-13},{"$f":"'Nastavení příloh'!AP98","v":-13},{"$f":"'Nastavení příloh'!AQ98","v":-13},{"$f":"'Nastavení příloh'!AR98","v":-13},{"$f":"'Nastavení příloh'!AS98","v":-13},{"$f":"'Nastavení příloh'!AT98","v":-13},{"$f":"'Nastavení příloh'!AU98","v":-7},{"$f":"'Nastavení příloh'!AV98","v":0}]
[{"$f":"'Nastavení příloh'!E99","v":7650},{"$f":"'Nastavení příloh'!Z99","v":7600},{"$f":"'Nastavení příloh'!AB99","v":7699},{"$f":"'Nastavení příloh'!AD99","v":-13},{"$f":"'Nastavení příloh'!AE99","v":-13},{"$f":"'Nastavení příloh'!AF99","v":-13},{"$f":"'Nastavení příloh'!AG99","v":-13},{"$f":"'Nastavení příloh'!AH99","v":-13},{"$f":"'Nastavení příloh'!AI99","v":-13},{"$f":"'Nastavení příloh'!AJ99","v":-13},{"$f":"'Nastavení příloh'!AK99","v":-13},{"$f":"'Nastavení příloh'!AL99","v":-13},{"$f":"'Nastavení příloh'!AM99","v":-13},{"$f":"'Nastavení příloh'!AN99","v":-13},{"$f":"'Nastavení příloh'!AO99","v":-13},{"$f":"'Nastavení příloh'!AP99","v":-13},{"$f":"'Nastavení příloh'!AQ99","v":-13},{"$f":"'Nastavení příloh'!AR99","v":-13},{"$f":"'Nastavení příloh'!AS99","v":-13},{"$f":"'Nastavení příloh'!AT99","v":-13},{"$f":"'Nastavení příloh'!AU99","v":-7},{"$f":"'Nastavení příloh'!AV99","v":-1}]
[{"$f":"'Nastavení příloh'!E100","v":7750},{"$f":"'Nastavení příloh'!Z100","v":7700},{"$f":"'Nastavení příloh'!AB100","v":7799},{"$f":"'Nastavení příloh'!AD100","v":-13},{"$f":"'Nastavení příloh'!AE100","v":-13},{"$f":"'Nastavení příloh'!AF100","v":-13},{"$f":"'Nastavení příloh'!AG100","v":-13},{"$f":"'Nastavení příloh'!AH100","v":-13},{"$f":"'Nastavení příloh'!AI100","v":-13},{"$f":"'Nastavení příloh'!AJ100","v":-13},{"$f":"'Nastavení příloh'!AK100","v":-13},{"$f":"'Nastavení příloh'!AL100","v":-13},{"$f":"'Nastavení příloh'!AM100","v":-13},{"$f":"'Nastavení příloh'!AN100","v":-13},{"$f":"'Nastavení příloh'!AO100","v":-13},{"$f":"'Nastavení příloh'!AP100","v":-13},{"$f":"'Nastavení příloh'!AQ100","v":-13},{"$f":"'Nastavení příloh'!AR100","v":-13},{"$f":"'Nastavení příloh'!AS100","v":-13},{"$f":"'Nastavení příloh'!AT100","v":-13},{"$f":"'Nastavení příloh'!AU100","v":-8},{"$f":"'Nastavení příloh'!AV100","v":-1}]
[{"$f":"'Nastavení příloh'!E101","v":7850},{"$f":"'Nastavení příloh'!Z101","v":7800},{"$f":"'Nastavení příloh'!AB101","v":7899},{"$f":"'Nastavení příloh'!AD101","v":-13},{"$f":"'Nastavení příloh'!AE101","v":-13},{"$f":"'Nastavení příloh'!AF101","v":-13},{"$f":"'Nastavení příloh'!AG101","v":-13},{"$f":"'Nastavení příloh'!AH101","v":-13},{"$f":"'Nastavení příloh'!AI101","v":-13},{"$f":"'Nastavení příloh'!AJ101","v":-13},{"$f":"'Nastavení příloh'!AK101","v":-13},{"$f":"'Nastavení příloh'!AL101","v":-13},{"$f":"'Nastavení příloh'!AM101","v":-13},{"$f":"'Nastavení příloh'!AN101","v":-13},{"$f":"'Nastavení příloh'!AO101","v":-13},{"$f":"'Nastavení příloh'!AP101","v":-13},{"$f":"'Nastavení příloh'!AQ101","v":-13},{"$f":"'Nastavení příloh'!AR101","v":-13},{"$f":"'Nastavení příloh'!AS101","v":-13},{"$f":"'Nastavení příloh'!AT101","v":-13},{"$f":"'Nastavení příloh'!AU101","v":-8},{"$f":"'Nastavení příloh'!AV101","v":-2}]
[{"$f":"'Nastavení příloh'!E102","v":7950},{"$f":"'Nastavení příloh'!Z102","v":7900},{"$f":"'Nastavení příloh'!AB102","v":7999},{"$f":"'Nastavení příloh'!AD102","v":-13},{"$f":"'Nastavení příloh'!AE102","v":-13},{"$f":"'Nastavení příloh'!AF102","v":-13},{"$f":"'Nastavení příloh'!AG102","v":-13},{"$f":"'Nastavení příloh'!AH102","v":-13},{"$f":"'Nastavení příloh'!AI102","v":-13},{"$f":"'Nastavení příloh'!AJ102","v":-13},{"$f":"'Nastavení příloh'!AK102","v":-13},{"$f":"'Nastavení příloh'!AL102","v":-13},{"$f":"'Nastavení příloh'!AM102","v":-13},{"$f":"'Nastavení příloh'!AN102","v":-13},{"$f":"'Nastavení příloh'!AO102","v":-13},{"$f":"'Nastavení příloh'!AP102","v":-13},{"$f":"'Nastavení příloh'!AQ102","v":-13},{"$f":"'Nastavení příloh'!AR102","v":-13},{"$f":"'Nastavení příloh'!AS102","v":-13},{"$f":"'Nastavení příloh'!AT102","v":-13},{"$f":"'Nastavení příloh'!AU102","v":-9},{"$f":"'Nastavení příloh'!AV102","v":-2}]
[{"$f":"'Nastavení příloh'!E103","v":8050},{"$f":"'Nastavení příloh'!Z103","v":8000},{"$f":"'Nastavení příloh'!AB103","v":8099},{"$f":"'Nastavení příloh'!AD103","v":-13},{"$f":"'Nastavení příloh'!AE103","v":-13},{"$f":"'Nastavení příloh'!AF103","v":-13},{"$f":"'Nastavení příloh'!AG103","v":-13},{"$f":"'Nastavení příloh'!AH103","v":-13},{"$f":"'Nastavení příloh'!AI103","v":-13},{"$f":"'Nastavení příloh'!AJ103","v":-13},{"$f":"'Nastavení příloh'!AK103","v":-13},{"$f":"'Nastavení příloh'!AL103","v":-13},{"$f":"'Nastavení příloh'!AM103","v":-13},{"$f":"'Nastavení příloh'!AN103","v":-13},{"$f":"'Nastavení příloh'!AO103","v":-13},{"$f":"'Nastavení příloh'!AP103","v":-13},{"$f":"'Nastavení příloh'!AQ103","v":-13},{"$f":"'Nastavení příloh'!AR103","v":-13},{"$f":"'Nastavení příloh'!AS103","v":-13},{"$f":"'Nastavení příloh'!AT103","v":-13},{"$f":"'Nastavení příloh'!AU103","v":-9},{"$f":"'Nastavení příloh'!AV103","v":-2}]
[{"$f":"'Nastavení příloh'!E104","v":8150},{"$f":"'Nastavení příloh'!Z104","v":8100},{"$f":"'Nastavení příloh'!AB104","v":8199},{"$f":"'Nastavení příloh'!AD104","v":-13},{"$f":"'Nastavení příloh'!AE104","v":-13},{"$f":"'Nastavení příloh'!AF104","v":-13},{"$f":"'Nastavení příloh'!AG104","v":-13},{"$f":"'Nastavení příloh'!AH104","v":-13},{"$f":"'Nastavení příloh'!AI104","v":-13},{"$f":"'Nastavení příloh'!AJ104","v":-13},{"$f":"'Nastavení příloh'!AK104","v":-13},{"$f":"'Nastavení příloh'!AL104","v":-13},{"$f":"'Nastavení příloh'!AM104","v":-13},{"$f":"'Nastavení příloh'!AN104","v":-13},{"$f":"'Nastavení příloh'!AO104","v":-13},{"$f":"'Nastavení příloh'!AP104","v":-13},{"$f":"'Nastavení příloh'!AQ104","v":-13},{"$f":"'Nastavení příloh'!AR104","v":-13},{"$f":"'Nastavení příloh'!AS104","v":-13},{"$f":"'Nastavení příloh'!AT104","v":-13},{"$f":"'Nastavení příloh'!AU104","v":-10},{"$f":"'Nastavení příloh'!AV104","v":-3}]
[{"$f":"'Nastavení příloh'!E105","v":8250},{"$f":"'Nastavení příloh'!Z105","v":8200},{"$f":"'Nastavení příloh'!AB105","v":8299},{"$f":"'Nastavení příloh'!AD105","v":-13},{"$f":"'Nastavení příloh'!AE105","v":-13},{"$f":"'Nastavení příloh'!AF105","v":-13},{"$f":"'Nastavení příloh'!AG105","v":-13},{"$f":"'Nastavení příloh'!AH105","v":-13},{"$f":"'Nastavení příloh'!AI105","v":-13},{"$f":"'Nastavení příloh'!AJ105","v":-13},{"$f":"'Nastavení příloh'!AK105","v":-13},{"$f":"'Nastavení příloh'!AL105","v":-13},{"$f":"'Nastavení příloh'!AM105","v":-13},{"$f":"'Nastavení příloh'!AN105","v":-13},{"$f":"'Nastavení příloh'!AO105","v":-13},{"$f":"'Nastavení příloh'!AP105","v":-13},{"$f":"'Nastavení příloh'!AQ105","v":-13},{"$f":"'Nastavení příloh'!AR105","v":-13},{"$f":"'Nastavení příloh'!AS105","v":-13},{"$f":"'Nastavení příloh'!AT105","v":-13},{"$f":"'Nastavení příloh'!AU105","v":-10},{"$f":"'Nastavení příloh'!AV105","v":-3}]
[{"$f":"'Nastavení příloh'!E106","v":8350},{"$f":"'Nastavení příloh'!Z106","v":8300},{"$f":"'Nastavení příloh'!AB106","v":8399},{"$f":"'Nastavení příloh'!AD106","v":-13},{"$f":"'Nastavení příloh'!AE106","v":-13},{"$f":"'Nastavení příloh'!AF106","v":-13},{"$f":"'Nastavení příloh'!AG106","v":-13},{"$f":"'Nastavení příloh'!AH106","v":-13},{"$f":"'Nastavení příloh'!AI106","v":-13},{"$f":"'Nastavení příloh'!AJ106","v":-13},{"$f":"'Nastavení příloh'!AK106","v":-13},{"$f":"'Nastavení příloh'!AL106","v":-13},{"$f":"'Nastavení příloh'!AM106","v":-13},{"$f":"'Nastavení příloh'!AN106","v":-13},{"$f":"'Nastavení příloh'!AO106","v":-13},{"$f":"'Nastavení příloh'!AP106","v":-13},{"$f":"'Nastavení příloh'!AQ106","v":-13},{"$f":"'Nastavení příloh'!AR106","v":-13},{"$f":"'Nastavení příloh'!AS106","v":-13},{"$f":"'Nastavení příloh'!AT106","v":-13},{"$f":"'Nastavení příloh'!AU106","v":-11},{"$f":"'Nastavení příloh'!AV106","v":-4}]
[{"$f":"'Nastavení příloh'!E107","v":8450},{"$f":"'Nastavení příloh'!Z107","v":8400},{"$f":"'Nastavení příloh'!AB107","v":8499},{"$f":"'Nastavení příloh'!AD107","v":-13},{"$f":"'Nastavení příloh'!AE107","v":-13},{"$f":"'Nastavení příloh'!AF107","v":-13},{"$f":"'Nastavení příloh'!AG107","v":-13},{"$f":"'Nastavení příloh'!AH107","v":-13},{"$f":"'Nastavení příloh'!AI107","v":-13},{"$f":"'Nastavení příloh'!AJ107","v":-13},{"$f":"'Nastavení příloh'!AK107","v":-13},{"$f":"'Nastavení příloh'!AL107","v":-13},{"$f":"'Nastavení příloh'!AM107","v":-13},{"$f":"'Nastavení příloh'!AN107","v":-13},{"$f":"'Nastavení příloh'!AO107","v":-13},{"$f":"'Nastavení příloh'!AP107","v":-13},{"$f":"'Nastavení příloh'!AQ107","v":-13},{"$f":"'Nastavení příloh'!AR107","v":-13},{"$f":"'Nastavení příloh'!AS107","v":-13},{"$f":"'Nastavení příloh'!AT107","v":-13},{"$f":"'Nastavení příloh'!AU107","v":-11},{"$f":"'Nastavení příloh'!AV107","v":-4}]
[{"$f":"'Nastavení příloh'!E108","v":8550},{"$f":"'Nastavení příloh'!Z108","v":8500},{"$f":"'Nastavení příloh'!AB108","v":8599},{"$f":"'Nastavení příloh'!AD108","v":-13},{"$f":"'Nastavení příloh'!AE108","v":-13},{"$f":"'Nastavení příloh'!AF108","v":-13},{"$f":"'Nastavení příloh'!AG108","v":-13},{"$f":"'Nastavení příloh'!AH108","v":-13},{"$f":"'Nastavení příloh'!AI108","v":-13},{"$f":"'Nastavení příloh'!AJ108","v":-13},{"$f":"'Nastavení příloh'!AK108","v":-13},{"$f":"'Nastavení příloh'!AL108","v":-13},{"$f":"'Nastavení příloh'!AM108","v":-13},{"$f":"'Nastavení příloh'!AN108","v":-13},{"$f":"'Nastavení příloh'!AO108","v":-13},{"$f":"'Nastavení příloh'!AP108","v":-13},{"$f":"'Nastavení příloh'!AQ108","v":-13},{"$f":"'Nastavení příloh'!AR108","v":-13},{"$f":"'Nastavení příloh'!AS108","v":-13},{"$f":"'Nastavení příloh'!AT108","v":-13},{"$f":"'Nastavení příloh'!AU108","v":-12},{"$f":"'Nastavení příloh'!AV108","v":-4}]
[{"$f":"'Nastavení příloh'!E109","v":8650},{"$f":"'Nastavení příloh'!Z109","v":8600},{"$f":"'Nastavení příloh'!AB109","v":8699},{"$f":"'Nastavení příloh'!AD109","v":-13},{"$f":"'Nastavení příloh'!AE109","v":-13},{"$f":"'Nastavení příloh'!AF109","v":-13},{"$f":"'Nastavení příloh'!AG109","v":-13},{"$f":"'Nastavení příloh'!AH109","v":-13},{"$f":"'Nastavení příloh'!AI109","v":-13},{"$f":"'Nastavení příloh'!AJ109","v":-13},{"$f":"'Nastavení příloh'!AK109","v":-13},{"$f":"'Nastavení příloh'!AL109","v":-13},{"$f":"'Nastavení příloh'!AM109","v":-13},{"$f":"'Nastavení příloh'!AN109","v":-13},{"$f":"'Nastavení příloh'!AO109","v":-13},{"$f":"'Nastavení příloh'!AP109","v":-13},{"$f":"'Nastavení příloh'!AQ109","v":-13},{"$f":"'Nastavení příloh'!AR109","v":-13},{"$f":"'Nastavení příloh'!AS109","v":-13},{"$f":"'Nastavení příloh'!AT109","v":-13},{"$f":"'Nastavení příloh'!AU109","v":-12},{"$f":"'Nastavení příloh'!AV109","v":-5}]
[{"$f":"'Nastavení příloh'!E110","v":8750},{"$f":"'Nastavení příloh'!Z110","v":8700},{"$f":"'Nastavení příloh'!AB110","v":8799},{"$f":"'Nastavení příloh'!AD110","v":-13},{"$f":"'Nastavení příloh'!AE110","v":-13},{"$f":"'Nastavení příloh'!AF110","v":-13},{"$f":"'Nastavení příloh'!AG110","v":-13},{"$f":"'Nastavení příloh'!AH110","v":-13},{"$f":"'Nastavení příloh'!AI110","v":-13},{"$f":"'Nastavení příloh'!AJ110","v":-13},{"$f":"'Nastavení příloh'!AK110","v":-13},{"$f":"'Nastavení příloh'!AL110","v":-13},{"$f":"'Nastavení příloh'!AM110","v":-13},{"$f":"'Nastavení příloh'!AN110","v":-13},{"$f":"'Nastavení příloh'!AO110","v":-13},{"$f":"'Nastavení příloh'!AP110","v":-13},{"$f":"'Nastavení příloh'!AQ110","v":-13},{"$f":"'Nastavení příloh'!AR110","v":-13},{"$f":"'Nastavení příloh'!AS110","v":-13},{"$f":"'Nastavení příloh'!AT110","v":-13},{"$f":"'Nastavení příloh'!AU110","v":-13},{"$f":"'Nastavení příloh'!AV110","v":-5}]
[{"$f":"'Nastavení příloh'!E111","v":8850},{"$f":"'Nastavení příloh'!Z111","v":8800},{"$f":"'Nastavení příloh'!AB111","v":8899},{"$f":"'Nastavení příloh'!AD111","v":-13},{"$f":"'Nastavení příloh'!AE111","v":-13},{"$f":"'Nastavení příloh'!AF111","v":-13},{"$f":"'Nastavení příloh'!AG111","v":-13},{"$f":"'Nastavení příloh'!AH111","v":-13},{"$f":"'Nastavení příloh'!AI111","v":-13},{"$f":"'Nastavení příloh'!AJ111","v":-13},{"$f":"'Nastavení příloh'!AK111","v":-13},{"$f":"'Nastavení příloh'!AL111","v":-13},{"$f":"'Nastavení příloh'!AM111","v":-13},{"$f":"'Nastavení příloh'!AN111","v":-13},{"$f":"'Nastavení příloh'!AO111","v":-13},{"$f":"'Nastavení příloh'!AP111","v":-13},{"$f":"'Nastavení příloh'!AQ111","v":-13},{"$f":"'Nastavení příloh'!AR111","v":-13},{"$f":"'Nastavení příloh'!AS111","v":-13},{"$f":"'Nastavení příloh'!AT111","v":-13},{"$f":"'Nastavení příloh'!AU111","v":-13},{"$f":"'Nastavení příloh'!AV111","v":-6}]
[{"$f":"'Nastavení příloh'!E112","v":8950},{"$f":"'Nastavení příloh'!Z112","v":8900},{"$f":"'Nastavení příloh'!AB112","v":8999},{"$f":"'Nastavení příloh'!AD112","v":-13},{"$f":"'Nastavení příloh'!AE112","v":-13},{"$f":"'Nastavení příloh'!AF112","v":-13},{"$f":"'Nastavení příloh'!AG112","v":-13},{"$f":"'Nastavení příloh'!AH112","v":-13},{"$f":"'Nastavení příloh'!AI112","v":-13},{"$f":"'Nastavení příloh'!AJ112","v":-13},{"$f":"'Nastavení příloh'!AK112","v":-13},{"$f":"'Nastavení příloh'!AL112","v":-13},{"$f":"'Nastavení příloh'!AM112","v":-13},{"$f":"'Nastavení příloh'!AN112","v":-13},{"$f":"'Nastavení příloh'!AO112","v":-13},{"$f":"'Nastavení příloh'!AP112","v":-13},{"$f":"'Nastavení příloh'!AQ112","v":-13},{"$f":"'Nastavení příloh'!AR112","v":-13},{"$f":"'Nastavení příloh'!AS112","v":-13},{"$f":"'Nastavení příloh'!AT112","v":-13},{"$f":"'Nastavení příloh'!AU112","v":-13},{"$f":"'Nastavení příloh'!AV112","v":-6}]
[{"$f":"'Nastavení příloh'!E113","v":9050},{"$f":"'Nastavení příloh'!Z113","v":9000},{"$f":"'Nastavení příloh'!AB113","v":9099},{"$f":"'Nastavení příloh'!AD113","v":-13},{"$f":"'Nastavení příloh'!AE113","v":-13},{"$f":"'Nastavení příloh'!AF113","v":-13},{"$f":"'Nastavení příloh'!AG113","v":-13},{"$f":"'Nastavení příloh'!AH113","v":-13},{"$f":"'Nastavení příloh'!AI113","v":-13},{"$f":"'Nastavení příloh'!AJ113","v":-13},{"$f":"'Nastavení příloh'!AK113","v":-13},{"$f":"'Nastavení příloh'!AL113","v":-13},{"$f":"'Nastavení příloh'!AM113","v":-13},{"$f":"'Nastavení příloh'!AN113","v":-13},{"$f":"'Nastavení příloh'!AO113","v":-13},{"$f":"'Nastavení příloh'!AP113","v":-13},{"$f":"'Nastavení příloh'!AQ113","v":-13},{"$f":"'Nastavení příloh'!AR113","v":-13},{"$f":"'Nastavení příloh'!AS113","v":-13},{"$f":"'Nastavení příloh'!AT113","v":-13},{"$f":"'Nastavení příloh'!AU113","v":-13},{"$f":"'Nastavení příloh'!AV113","v":-6}]
[{"$f":"'Nastavení příloh'!E114","v":9150},{"$f":"'Nastavení příloh'!Z114","v":9100},{"$f":"'Nastavení příloh'!AB114","v":9199},{"$f":"'Nastavení příloh'!AD114","v":-13},{"$f":"'Nastavení příloh'!AE114","v":-13},{"$f":"'Nastavení příloh'!AF114","v":-13},{"$f":"'Nastavení příloh'!AG114","v":-13},{"$f":"'Nastavení příloh'!AH114","v":-13},{"$f":"'Nastavení příloh'!AI114","v":-13},{"$f":"'Nastavení příloh'!AJ114","v":-13},{"$f":"'Nastavení příloh'!AK114","v":-13},{"$f":"'Nastavení příloh'!AL114","v":-13},{"$f":"'Nastavení příloh'!AM114","v":-13},{"$f":"'Nastavení příloh'!AN114","v":-13},{"$f":"'Nastavení příloh'!AO114","v":-13},{"$f":"'Nastavení příloh'!AP114","v":-13},{"$f":"'Nastavení příloh'!AQ114","v":-13},{"$f":"'Nastavení příloh'!AR114","v":-13},{"$f":"'Nastavení příloh'!AS114","v":-13},{"$f":"'Nastavení příloh'!AT114","v":-13},{"$f":"'Nastavení příloh'!AU114","v":-13},{"$f":"'Nastavení příloh'!AV114","v":-7}]
[{"$f":"'Nastavení příloh'!E115","v":9250},{"$f":"'Nastavení příloh'!Z115","v":9200},{"$f":"'Nastavení příloh'!AB115","v":9299},{"$f":"'Nastavení příloh'!AD115","v":-13},{"$f":"'Nastavení příloh'!AE115","v":-13},{"$f":"'Nastavení příloh'!AF115","v":-13},{"$f":"'Nastavení příloh'!AG115","v":-13},{"$f":"'Nastavení příloh'!AH115","v":-13},{"$f":"'Nastavení příloh'!AI115","v":-13},{"$f":"'Nastavení příloh'!AJ115","v":-13},{"$f":"'Nastavení příloh'!AK115","v":-13},{"$f":"'Nastavení příloh'!AL115","v":-13},{"$f":"'Nastavení příloh'!AM115","v":-13},{"$f":"'Nastavení příloh'!AN115","v":-13},{"$f":"'Nastavení příloh'!AO115","v":-13},{"$f":"'Nastavení příloh'!AP115","v":-13},{"$f":"'Nastavení příloh'!AQ115","v":-13},{"$f":"'Nastavení příloh'!AR115","v":-13},{"$f":"'Nastavení příloh'!AS115","v":-13},{"$f":"'Nastavení příloh'!AT115","v":-13},{"$f":"'Nastavení příloh'!AU115","v":-13},{"$f":"'Nastavení příloh'!AV115","v":-7}]
[{"$f":"'Nastavení příloh'!E116","v":9350},{"$f":"'Nastavení příloh'!Z116","v":9300},{"$f":"'Nastavení příloh'!AB116","v":9399},{"$f":"'Nastavení příloh'!AD116","v":-13},{"$f":"'Nastavení příloh'!AE116","v":-13},{"$f":"'Nastavení příloh'!AF116","v":-13},{"$f":"'Nastavení příloh'!AG116","v":-13},{"$f":"'Nastavení příloh'!AH116","v":-13},{"$f":"'Nastavení příloh'!AI116","v":-13},{"$f":"'Nastavení příloh'!AJ116","v":-13},{"$f":"'Nastavení příloh'!AK116","v":-13},{"$f":"'Nastavení příloh'!AL116","v":-13},{"$f":"'Nastavení příloh'!AM116","v":-13},{"$f":"'Nastavení příloh'!AN116","v":-13},{"$f":"'Nastavení příloh'!AO116","v":-13},{"$f":"'Nastavení příloh'!AP116","v":-13},{"$f":"'Nastavení příloh'!AQ116","v":-13},{"$f":"'Nastavení příloh'!AR116","v":-13},{"$f":"'Nastavení příloh'!AS116","v":-13},{"$f":"'Nastavení příloh'!AT116","v":-13},{"$f":"'Nastavení příloh'!AU116","v":-13},{"$f":"'Nastavení příloh'!AV116","v":-8}]
[{"$f":"'Nastavení příloh'!E117","v":9450},9400,9999,{"$f":"'Nastavení příloh'!AD117","v":-13},{"$f":"'Nastavení příloh'!AE117","v":-13},{"$f":"'Nastavení příloh'!AF117","v":-13},{"$f":"'Nastavení příloh'!AG117","v":-13},{"$f":"'Nastavení příloh'!AH117","v":-13},{"$f":"'Nastavení příloh'!AI117","v":-13},{"$f":"'Nastavení příloh'!AJ117","v":-13},{"$f":"'Nastavení příloh'!AK117","v":-13},{"$f":"'Nastavení příloh'!AL117","v":-13},{"$f":"'Nastavení příloh'!AM117","v":-13},{"$f":"'Nastavení příloh'!AN117","v":-13},{"$f":"'Nastavení příloh'!AO117","v":-13},{"$f":"'Nastavení příloh'!AP117","v":-13},{"$f":"'Nastavení příloh'!AQ117","v":-13},{"$f":"'Nastavení příloh'!AR117","v":-13},{"$f":"'Nastavení příloh'!AS117","v":-13},{"$f":"'Nastavení příloh'!AT117","v":-13},{"$f":"'Nastavení příloh'!AU117","v":-13},{"$f":"'Nastavení příloh'!AV117","v":-8}]

{"sheet":"bs","index":3,"n_rows":31,"n_cols":22,"rows_kept":31,"cut":false,"hidden":true,"merged":[]}
["objem","objem_min","objem_max",{"$f":"'Nastavení příloh'!BB13","v":"0 %"},{"$f":"'Nastavení příloh'!BC13","v":"1-5 %"},{"$f":"'Nastavení příloh'!BD13","v":"6-10 %"},{"$f":"'Nastavení příloh'!BE13","v":"11-15 %"},{"$f":"'Nastavení příloh'!BF13","v":"16-20 %"},{"$f":"'Nastavení příloh'!BG13","v":"21-25 %"},{"$f":"'Nastavení příloh'!BH13","v":"26-30 %"},{"$f":"'Nastavení příloh'!BI13","v":"31-35 %"},{"$f":"'Nastavení příloh'!BJ13","v":"36-40 %"},{"$f":"'Nastavení příloh'!BK13","v":"41-45 %"},{"$f":"'Nastavení příloh'!BL13","v":"46-50 %"},{"$f":"'Nastavení příloh'!BM13","v":"51-55 %"},{"$f":"'Nastavení příloh'!BN13","v":"56-60 %"},{"$f":"'Nastavení příloh'!BO13","v":"61-65 %"},{"$f":"'Nastavení příloh'!BP13","v":"66-70 %"},{"$f":"'Nastavení příloh'!BQ13","v":"71-75 %"},{"$f":"'Nastavení příloh'!BR13","v":"76-80 %"},{"$f":"'Nastavení příloh'!BS13","v":"81-85 %"},{"$f":"'Nastavení příloh'!BT13","v":"více jak 85 %"}]
[{"$f":"'Nastavení příloh'!E16","v":550},{"$f":"'Nastavení příloh'!AX16","v":0},{"$f":"'Nastavení příloh'!AZ16","v":599},{"$f":"'Nastavení příloh'!BB16","v":0},{"$f":"'Nastavení příloh'!BC16","v":0},{"$f":"'Nastavení příloh'!BD16","v":0},{"$f":"'Nastavení příloh'!BE16","v":0},{"$f":"'Nastavení příloh'!BF16","v":0},{"$f":"'Nastavení příloh'!BG16","v":0},{"$f":"'Nastavení příloh'!BH16","v":0},{"$f":"'Nastavení příloh'!BI16","v":0},{"$f":"'Nastavení příloh'!BJ16","v":20},{"$f":"'Nastavení příloh'!BK16","v":20},{"$f":"'Nastavení příloh'!BL16","v":20},{"$f":"'Nastavení příloh'!BM16","v":20},{"$f":"'Nastavení příloh'!BN16","v":20},{"$f":"'Nastavení příloh'!BO16","v":20},{"$f":"'Nastavení příloh'!BP16","v":20},{"$f":"'Nastavení příloh'!BQ16","v":20},{"$f":"'Nastavení příloh'!BR16","v":20},{"$f":"'Nastavení příloh'!BS16","v":20},{"$f":"'Nastavení příloh'!BT16","v":0}]
[{"$f":"'Nastavení příloh'!E17","v":650},{"$f":"'Nastavení příloh'!AX17","v":600},{"$f":"'Nastavení příloh'!AZ17","v":699},{"$f":"'Nastavení příloh'!BB17","v":0},{"$f":"'Nastavení příloh'!BC17","v":0},{"$f":"'Nastavení příloh'!BD17","v":0},{"$f":"'Nastavení příloh'!BE17","v":0},{"$f":"'Nastavení příloh'!BF17","v":0},{"$f":"'Nastavení příloh'!BG17","v":0},{"$f":"'Nastavení příloh'!BH17","v":0},{"$f":"'Nastavení příloh'!BI17","v":0},{"$f":"'Nastavení příloh'!BJ17","v":20},{"$f":"'Nastavení příloh'!BK17","v":20},{"$f":"'Nastavení příloh'!BL17","v":20},{"$f":"'Nastavení příloh'!BM17","v":20},{"$f":"'Nastavení příloh'!BN17","v":20},{"$f":"'Nastavení příloh'!BO17","v":20},{"$f":"'Nastavení příloh'!BP17","v":20},{"$f":"'Nastavení příloh'!BQ17","v":20},{"$f":"'Nastavení příloh'!BR17","v":20},{"$f":"'Nastavení příloh'!BS17","v":20},{"$f":"'Nastavení příloh'!BT17","v":0}]
[{"$f":"'Nastavení příloh'!E18","v":750},{"$f":"'Nastavení příloh'!AX18","v":700},{"$f":"'Nastavení příloh'!AZ18","v":799},{"$f":"'Nastavení příloh'!BB18","v":0},{"$f":"'Nastavení příloh'!BC18","v":0},{"$f":"'Nastavení příloh'!BD18","v":0},{"$f":"'Nastavení příloh'!BE18","v":0},{"$f":"'Nastavení příloh'!BF18","v":0},{"$f":"'Nastavení příloh'!BG18","v":0},{"$f":"'Nastavení příloh'!BH18","v":0},{"$f":"'Nastavení příloh'!BI18","v":0},{"$f":"'Nastavení příloh'!BJ18","v":20},{"$f":"'Nastavení příloh'!BK18","v":20},{"$f":"'Nastavení příloh'!BL18","v":20},{"$f":"'Nastavení příloh'!BM18","v":20},{"$f":"'Nastavení příloh'!BN18","v":20},{"$f":"'Nastavení příloh'!BO18","v":20},{"$f":"'Nastavení příloh'!BP18","v":20},{"$f":"'Nastavení příloh'!BQ18","v":20},{"$f":"'Nastavení příloh'!BR18","v":20},{"$f":"'Nastavení příloh'!BS18","v":20},{"$f":"'Nastavení příloh'!BT18","v":0}]
[{"$f":"'Nastavení příloh'!E19","v":850},{"$f":"'Nastavení příloh'!AX19","v":800},{"$f":"'Nastavení příloh'!AZ19","v":899},{"$f":"'Nastavení příloh'!BB19","v":0},{"$f":"'Nastavení příloh'!BC19","v":0},{"$f":"'Nastavení příloh'!BD19","v":0},{"$f":"'Nastavení příloh'!BE19","v":0},{"$f":"'Nastavení příloh'!BF19","v":0},{"$f":"'Nastavení příloh'!BG19","v":0},{"$f":"'Nastavení příloh'!BH19","v":0},{"$f":"'Nastavení příloh'!BI19","v":0},{"$f":"'Nastavení příloh'!BJ19","v":20},{"$f":"'Nastavení příloh'!BK19","v":20},{"$f":"'Nastavení příloh'!BL19","v":20},{"$f":"'Nastavení příloh'!BM19","v":20},{"$f":"'Nastavení příloh'!BN19","v":20},{"$f":"'Nastavení příloh'!BO19","v":20},{"$f":"'Nastavení příloh'!BP19","v":20},{"$f":"'Nastavení příloh'!BQ19","v":20},{"$f":"'Nastavení příloh'!BR19","v":20},{"$f":"'Nastavení příloh'!BS19","v":20},{"$f":"'Nastavení příloh'!BT19","v":0}]
[{"$f":"'Nastavení příloh'!E20","v":950},{"$f":"'Nastavení příloh'!AX20","v":900},{"$f":"'Nastavení příloh'!AZ20","v":999},{"$f":"'Nastavení příloh'!BB20","v":0},{"$f":"'Nastavení příloh'!BC20","v":0},{"$f":"'Nastavení příloh'!BD20","v":0},{"$f":"'Nastavení příloh'!BE20","v":0},{"$f":"'Nastavení příloh'!BF20","v":0},{"$f":"'Nastavení příloh'!BG20","v":0},{"$f":"'Nastavení příloh'!BH20","v":0},{"$f":"'Nastavení příloh'!BI20","v":0},{"$f":"'Nastavení příloh'!BJ20","v":20},{"$f":"'Nastavení příloh'!BK20","v":20},{"$f":"'Nastavení příloh'!BL20","v":20},{"$f":"'Nastavení příloh'!BM20","v":20},{"$f":"'Nastavení příloh'!BN20","v":20},{"$f":"'Nastavení příloh'!BO20","v":20},{"$f":"'Nastavení příloh'!BP20","v":20},{"$f":"'Nastavení příloh'!BQ20","v":20},{"$f":"'Nastavení příloh'!BR20","v":20},{"$f":"'Nastavení příloh'!BS20","v":20},{"$f":"'Nastavení příloh'!BT20","v":0}]
[{"$f":"'Nastavení příloh'!E21","v":1050},{"$f":"'Nastavení příloh'!AX21","v":1000},{"$f":"'Nastavení příloh'!AZ21","v":1099},{"$f":"'Nastavení příloh'!BB21","v":0},{"$f":"'Nastavení příloh'!BC21","v":0},{"$f":"'Nastavení příloh'!BD21","v":0},{"$f":"'Nastavení příloh'!BE21","v":0},{"$f":"'Nastavení příloh'!BF21","v":0},{"$f":"'Nastavení příloh'!BG21","v":0},{"$f":"'Nastavení příloh'!BH21","v":0},{"$f":"'Nastavení příloh'!BI21","v":0},{"$f":"'Nastavení příloh'!BJ21","v":20},{"$f":"'Nastavení příloh'!BK21","v":20},{"$f":"'Nastavení příloh'!BL21","v":20},{"$f":"'Nastavení příloh'!BM21","v":20},{"$f":"'Nastavení příloh'!BN21","v":20},{"$f":"'Nastavení příloh'!BO21","v":20},{"$f":"'Nastavení příloh'!BP21","v":20},{"$f":"'Nastavení příloh'!BQ21","v":20},{"$f":"'Nastavení příloh'!BR21","v":20},{"$f":"'Nastavení příloh'!BS21","v":20},{"$f":"'Nastavení příloh'!BT21","v":0}]
[{"$f":"'Nastavení příloh'!E22","v":1150},{"$f":"'Nastavení příloh'!AX22","v":1100},{"$f":"'Nastavení příloh'!AZ22","v":1199},{"$f":"'Nastavení příloh'!BB22","v":0},{"$f":"'Nastavení příloh'!BC22","v":0},{"$f":"'Nastavení příloh'!BD22","v":0},{"$f":"'Nastavení příloh'!BE22","v":0},{"$f":"'Nastavení příloh'!BF22","v":0},{"$f":"'Nastavení příloh'!BG22","v":0},{"$f":"'Nastavení příloh'!BH22","v":0},{"$f":"'Nastavení příloh'!BI22","v":0},{"$f":"'Nastavení příloh'!BJ22","v":0},{"$f":"'Nastavení příloh'!BK22","v":20},{"$f":"'Nastavení příloh'!BL22","v":20},{"$f":"'Nastavení příloh'!BM22","v":20},{"$f":"'Nastavení příloh'!BN22","v":20},{"$f":"'Nastavení příloh'!BO22","v":20},{"$f":"'Nastavení příloh'!BP22","v":20},{"$f":"'Nastavení příloh'!BQ22","v":20},{"$f":"'Nastavení příloh'!BR22","v":20},{"$f":"'Nastavení příloh'!BS22","v":20},{"$f":"'Nastavení příloh'!BT22","v":0}]
[{"$f":"'Nastavení příloh'!E23","v":1250},{"$f":"'Nastavení příloh'!AX23","v":1200},{"$f":"'Nastavení příloh'!AZ23","v":1299},{"$f":"'Nastavení příloh'!BB23","v":0},{"$f":"'Nastavení příloh'!BC23","v":0},{"$f":"'Nastavení příloh'!BD23","v":0},{"$f":"'Nastavení příloh'!BE23","v":0},{"$f":"'Nastavení příloh'!BF23","v":0},{"$f":"'Nastavení příloh'!BG23","v":0},{"$f":"'Nastavení příloh'!BH23","v":0},{"$f":"'Nastavení příloh'!BI23","v":0},{"$f":"'Nastavení příloh'!BJ23","v":0},{"$f":"'Nastavení příloh'!BK23","v":19},{"$f":"'Nastavení příloh'!BL23","v":20},{"$f":"'Nastavení příloh'!BM23","v":20},{"$f":"'Nastavení příloh'!BN23","v":20},{"$f":"'Nastavení příloh'!BO23","v":20},{"$f":"'Nastavení příloh'!BP23","v":20},{"$f":"'Nastavení příloh'!BQ23","v":20},{"$f":"'Nastavení příloh'!BR23","v":20},{"$f":"'Nastavení příloh'!BS23","v":20},{"$f":"'Nastavení příloh'!BT23","v":0}]
[{"$f":"'Nastavení příloh'!E24","v":1350},{"$f":"'Nastavení příloh'!AX24","v":1300},{"$f":"'Nastavení příloh'!AZ24","v":1399},{"$f":"'Nastavení příloh'!BB24","v":0},{"$f":"'Nastavení příloh'!BC24","v":0},{"$f":"'Nastavení příloh'!BD24","v":0},{"$f":"'Nastavení příloh'!BE24","v":0},{"$f":"'Nastavení příloh'!BF24","v":0},{"$f":"'Nastavení příloh'!BG24","v":0},{"$f":"'Nastavení příloh'!BH24","v":0},{"$f":"'Nastavení příloh'!BI24","v":0},{"$f":"'Nastavení příloh'!BJ24","v":0},{"$f":"'Nastavení příloh'!BK24","v":0},{"$f":"'Nastavení příloh'!BL24","v":19},{"$f":"'Nastavení příloh'!BM24","v":20},{"$f":"'Nastavení příloh'!BN24","v":20},{"$f":"'Nastavení příloh'!BO24","v":20},{"$f":"'Nastavení příloh'!BP24","v":20},{"$f":"'Nastavení příloh'!BQ24","v":20},{"$f":"'Nastavení příloh'!BR24","v":20},{"$f":"'Nastavení příloh'!BS24","v":19},{"$f":"'Nastavení příloh'!BT24","v":0}]
[{"$f":"'Nastavení příloh'!E25","v":1450},{"$f":"'Nastavení příloh'!AX25","v":1400},{"$f":"'Nastavení příloh'!AZ25","v":1499},{"$f":"'Nastavení příloh'!BB25","v":0},{"$f":"'Nastavení příloh'!BC25","v":0},{"$f":"'Nastavení příloh'!BD25","v":0},{"$f":"'Nastavení příloh'!BE25","v":0},{"$f":"'Nastavení příloh'!BF25","v":0},{"$f":"'Nastavení příloh'!BG25","v":0},{"$f":"'Nastavení příloh'!BH25","v":0},{"$f":"'Nastavení příloh'!BI25","v":0},{"$f":"'Nastavení příloh'!BJ25","v":0},{"$f":"'Nastavení příloh'!BK25","v":0},{"$f":"'Nastavení příloh'!BL25","v":16},{"$f":"'Nastavení příloh'!BM25","v":20},{"$f":"'Nastavení příloh'!BN25","v":20},{"$f":"'Nastavení příloh'!BO25","v":20},{"$f":"'Nastavení příloh'!BP25","v":20},{"$f":"'Nastavení příloh'!BQ25","v":20},{"$f":"'Nastavení příloh'!BR25","v":19},{"$f":"'Nastavení příloh'!BS25","v":0},{"$f":"'Nastavení příloh'!BT25","v":0}]
[{"$f":"'Nastavení příloh'!E26","v":1550},{"$f":"'Nastavení příloh'!AX26","v":1500},{"$f":"'Nastavení příloh'!AZ26","v":1599},{"$f":"'Nastavení příloh'!BB26","v":0},{"$f":"'Nastavení příloh'!BC26","v":0},{"$f":"'Nastavení příloh'!BD26","v":0},{"$f":"'Nastavení příloh'!BE26","v":0},{"$f":"'Nastavení příloh'!BF26","v":0},{"$f":"'Nastavení příloh'!BG26","v":0},{"$f":"'Nastavení příloh'!BH26","v":0},{"$f":"'Nastavení příloh'!BI26","v":0},{"$f":"'Nastavení příloh'!BJ26","v":0},{"$f":"'Nastavení příloh'!BK26","v":0},{"$f":"'Nastavení příloh'!BL26","v":0},{"$f":"'Nastavení příloh'!BM26","v":18},{"$f":"'Nastavení příloh'!BN26","v":20},{"$f":"'Nastavení příloh'!BO26","v":20},{"$f":"'Nastavení příloh'!BP26","v":20},{"$f":"'Nastavení příloh'!BQ26","v":19},{"$f":"'Nastavení příloh'!BR26","v":17},{"$f":"'Nastavení příloh'!BS26","v":0},{"$f":"'Nastavení příloh'!BT26","v":0}]
[{"$f":"'Nastavení příloh'!E27","v":1650},{"$f":"'Nastavení příloh'!AX27","v":1600},{"$f":"'Nastavení příloh'!AZ27","v":1699},{"$f":"'Nastavení příloh'!BB27","v":0},{"$f":"'Nastavení příloh'!BC27","v":0},{"$f":"'Nastavení příloh'!BD27","v":0},{"$f":"'Nastavení příloh'!BE27","v":0},{"$f":"'Nastavení příloh'!BF27","v":0},{"$f":"'Nastavení příloh'!BG27","v":0},{"$f":"'Nastavení příloh'!BH27","v":0},{"$f":"'Nastavení příloh'!BI27","v":0},{"$f":"'Nastavení příloh'!BJ27","v":0},{"$f":"'Nastavení příloh'!BK27","v":0},{"$f":"'Nastavení příloh'!BL27","v":0},{"$f":"'Nastavení příloh'!BM27","v":15},{"$f":"'Nastavení příloh'!BN27","v":20},{"$f":"'Nastavení příloh'!BO27","v":20},{"$f":"'Nastavení příloh'!BP27","v":19},{"$f":"'Nastavení příloh'!BQ27","v":17},{"$f":"'Nastavení příloh'!BR27","v":0},{"$f":"'Nastavení příloh'!BS27","v":0},{"$f":"'Nastavení příloh'!BT27","v":0}]
[{"$f":"'Nastavení příloh'!E28","v":1750},{"$f":"'Nastavení příloh'!AX28","v":1700},{"$f":"'Nastavení příloh'!AZ28","v":1799},{"$f":"'Nastavení příloh'!BB28","v":0},{"$f":"'Nastavení příloh'!BC28","v":0},{"$f":"'Nastavení příloh'!BD28","v":0},{"$f":"'Nastavení příloh'!BE28","v":0},{"$f":"'Nastavení příloh'!BF28","v":0},{"$f":"'Nastavení příloh'!BG28","v":0},{"$f":"'Nastavení příloh'!BH28","v":0},{"$f":"'Nastavení příloh'!BI28","v":0},{"$f":"'Nastavení příloh'!BJ28","v":0},{"$f":"'Nastavení příloh'!BK28","v":0},{"$f":"'Nastavení příloh'!BL28","v":0},{"$f":"'Nastavení příloh'!BM28","v":0},{"$f":"'Nastavení příloh'!BN28","v":17},{"$f":"'Nastavení příloh'!BO28","v":19},{"$f":"'Nastavení příloh'!BP28","v":17},{"$f":"'Nastavení příloh'!BQ28","v":0},{"$f":"'Nastavení příloh'!BR28","v":0},{"$f":"'Nastavení příloh'!BS28","v":0},{"$f":"'Nastavení příloh'!BT28","v":0}]
[{"$f":"'Nastavení příloh'!E29","v":1850},{"$f":"'Nastavení příloh'!AX29","v":1800},{"$f":"'Nastavení příloh'!AZ29","v":1899},{"$f":"'Nastavení příloh'!BB29","v":0},{"$f":"'Nastavení příloh'!BC29","v":0},{"$f":"'Nastavení příloh'!BD29","v":0},{"$f":"'Nastavení příloh'!BE29","v":0},{"$f":"'Nastavení příloh'!BF29","v":0},{"$f":"'Nastavení příloh'!BG29","v":0},{"$f":"'Nastavení příloh'!BH29","v":0},{"$f":"'Nastavení příloh'!BI29","v":0},{"$f":"'Nastavení příloh'!BJ29","v":0},{"$f":"'Nastavení příloh'!BK29","v":0},{"$f":"'Nastavení příloh'!BL29","v":0},{"$f":"'Nastavení příloh'!BM29","v":0},{"$f":"'Nastavení příloh'!BN29","v":0},{"$f":"'Nastavení příloh'!BO29","v":0},{"$f":"'Nastavení příloh'!BP29","v":0},{"$f":"'Nastavení příloh'!BQ29","v":0},{"$f":"'Nastavení příloh'!BR29","v":0},{"$f":"'Nastavení příloh'!BS29","v":0},{"$f":"'Nastavení příloh'!BT29","v":0}]
[{"$f":"'Nastavení příloh'!E30","v":1950},{"$f":"'Nastavení příloh'!AX30","v":1900},{"$f":"'Nastavení příloh'!AZ30","v":1999},{"$f":"'Nastavení příloh'!BB30","v":0},{"$f":"'Nastavení příloh'!BC30","v":0},{"$f":"'Nastavení příloh'!BD30","v":0},{"$f":"'Nastavení příloh'!BE30","v":0},{"$f":"'Nastavení příloh'!BF30","v":0},{"$f":"'Nastavení příloh'!BG30","v":0},{"$f":"'Nastavení příloh'!BH30","v":0},{"$f":"'Nastavení příloh'!BI30","v":0},{"$f":"'Nastavení příloh'!BJ30","v":0},{"$f":"'Nastavení příloh'!BK30","v":0},{"$f":"'Nastavení příloh'!BL30","v":0},{"$f":"'Nastavení příloh'!BM30","v":0},{"$f":"'Nastavení příloh'!BN30","v":0},{"$f":"'Nastavení příloh'!BO30","v":0},{"$f":"'Nastavení příloh'!BP30","v":0},{"$f":"'Nastavení příloh'!BQ30","v":0},{"$f":"'Nastavení příloh'!BR30","v":0},{"$f":"'Nastavení příloh'!BS30","v":0},{"$f":"'Nastavení příloh'!BT30","v":0}]
[{"$f":"'Nastavení příloh'!E31","v":2050},{"$f":"'Nastavení příloh'!AX31","v":2000},{"$f":"'Nastavení příloh'!AZ31","v":2099},{"$f":"'Nastavení příloh'!BB31","v":0},{"$f":"'Nastavení příloh'!BC31","v":0},{"$f":"'Nastavení příloh'!BD31","v":0},{"$f":"'Nastavení příloh'!BE31","v":0},{"$f":"'Nastavení příloh'!BF31","v":0},{"$f":"'Nastavení příloh'!BG31","v":0},{"$f":"'Nastavení příloh'!BH31","v":0},{"$f":"'Nastavení příloh'!BI31","v":0},{"$f":"'Nastavení příloh'!BJ31","v":0},{"$f":"'Nastavení příloh'!BK31","v":0},{"$f":"'Nastavení příloh'!BL31","v":0},{"$f":"'Nastavení příloh'!BM31","v":0},{"$f":"'Nastavení příloh'!BN31","v":0},{"$f":"'Nastavení příloh'!BO31","v":0},{"$f":"'Nastavení příloh'!BP31","v":0},{"$f":"'Nastavení příloh'!BQ31","v":0},{"$f":"'Nastavení příloh'!BR31","v":0},{"$f":"'Nastavení příloh'!BS31","v":0},{"$f":"'Nastavení příloh'!BT31","v":0}]
[{"$f":"'Nastavení příloh'!E32","v":2150},{"$f":"'Nastavení příloh'!AX32","v":2100},{"$f":"'Nastavení příloh'!AZ32","v":2199},{"$f":"'Nastavení příloh'!BB32","v":0},{"$f":"'Nastavení příloh'!BC32","v":0},{"$f":"'Nastavení příloh'!BD32","v":0},{"$f":"'Nastavení příloh'!BE32","v":0},{"$f":"'Nastavení příloh'!BF32","v":0},{"$f":"'Nastavení příloh'!BG32","v":0},{"$f":"'Nastavení příloh'!BH32","v":0},{"$f":"'Nastavení příloh'!BI32","v":0},{"$f":"'Nastavení příloh'!BJ32","v":0},{"$f":"'Nastavení příloh'!BK32","v":0},{"$f":"'Nastavení příloh'!BL32","v":0},{"$f":"'Nastavení příloh'!BM32","v":0},{"$f":"'Nastavení příloh'!BN32","v":0},{"$f":"'Nastavení příloh'!BO32","v":0},{"$f":"'Nastavení příloh'!BP32","v":0},{"$f":"'Nastavení příloh'!BQ32","v":0},{"$f":"'Nastavení příloh'!BR32","v":0},{"$f":"'Nastavení příloh'!BS32","v":0},{"$f":"'Nastavení příloh'!BT32","v":0}]
[{"$f":"'Nastavení příloh'!E33","v":2250},{"$f":"'Nastavení příloh'!AX33","v":2200},{"$f":"'Nastavení příloh'!AZ33","v":2299},{"$f":"'Nastavení příloh'!BB33","v":0},{"$f":"'Nastavení příloh'!BC33","v":0},{"$f":"'Nastavení příloh'!BD33","v":0},{"$f":"'Nastavení příloh'!BE33","v":0},{"$f":"'Nastavení příloh'!BF33","v":0},{"$f":"'Nastavení příloh'!BG33","v":0},{"$f":"'Nastavení příloh'!BH33","v":0},{"$f":"'Nastavení příloh'!BI33","v":0},{"$f":"'Nastavení příloh'!BJ33","v":0},{"$f":"'Nastavení příloh'!BK33","v":0},{"$f":"'Nastavení příloh'!BL33","v":0},{"$f":"'Nastavení příloh'!BM33","v":0},{"$f":"'Nastavení příloh'!BN33","v":0},{"$f":"'Nastavení příloh'!BO33","v":0},{"$f":"'Nastavení příloh'!BP33","v":0},{"$f":"'Nastavení příloh'!BQ33","v":0},{"$f":"'Nastavení příloh'!BR33","v":0},{"$f":"'Nastavení příloh'!BS33","v":0},{"$f":"'Nastavení příloh'!BT33","v":0}]
[{"$f":"'Nastavení příloh'!E34","v":2350},{"$f":"'Nastavení příloh'!AX34","v":2300},{"$f":"'Nastavení příloh'!AZ34","v":2399},{"$f":"'Nastavení příloh'!BB34","v":0},{"$f":"'Nastavení příloh'!BC34","v":0},{"$f":"'Nastavení příloh'!BD34","v":0},{"$f":"'Nastavení příloh'!BE34","v":0},{"$f":"'Nastavení příloh'!BF34","v":0},{"$f":"'Nastavení příloh'!BG34","v":0},{"$f":"'Nastavení příloh'!BH34","v":0},{"$f":"'Nastavení příloh'!BI34","v":0},{"$f":"'Nastavení příloh'!BJ34","v":0},{"$f":"'Nastavení příloh'!BK34","v":0},{"$f":"'Nastavení příloh'!BL34","v":0},{"$f":"'Nastavení příloh'!BM34","v":0},{"$f":"'Nastavení příloh'!BN34","v":0},{"$f":"'Nastavení příloh'!BO34","v":0},{"$f":"'Nastavení příloh'!BP34","v":0},{"$f":"'Nastavení příloh'!BQ34","v":0},{"$f":"'Nastavení příloh'!BR34","v":0},{"$f":"'Nastavení příloh'!BS34","v":0},{"$f":"'Nastavení příloh'!BT34","v":0}]
[{"$f":"'Nastavení příloh'!E35","v":2450},{"$f":"'Nastavení příloh'!AX35","v":2400},{"$f":"'Nastavení příloh'!AZ35","v":2499},{"$f":"'Nastavení příloh'!BB35","v":0},{"$f":"'Nastavení příloh'!BC35","v":0},{"$f":"'Nastavení příloh'!BD35","v":0},{"$f":"'Nastavení příloh'!BE35","v":0},{"$f":"'Nastavení příloh'!BF35","v":0},{"$f":"'Nastavení příloh'!BG35","v":0},{"$f":"'Nastavení příloh'!BH35","v":0},{"$f":"'Nastavení příloh'!BI35","v":0},{"$f":"'Nastavení příloh'!BJ35","v":0},{"$f":"'Nastavení příloh'!BK35","v":0},{"$f":"'Nastavení příloh'!BL35","v":0},{"$f":"'Nastavení příloh'!BM35","v":0},{"$f":"'Nastavení příloh'!BN35","v":0},{"$f":"'Nastavení příloh'!BO35","v":0},{"$f":"'Nastavení příloh'!BP35","v":0},{"$f":"'Nastavení příloh'!BQ35","v":0},{"$f":"'Nastavení příloh'!BR35","v":0},{"$f":"'Nastavení příloh'!BS35","v":0},{"$f":"'Nastavení příloh'!BT35","v":0}]
[{"$f":"'Nastavení příloh'!E36","v":2550},{"$f":"'Nastavení příloh'!AX36","v":2500},{"$f":"'Nastavení příloh'!AZ36","v":2599},{"$f":"'Nastavení příloh'!BB36","v":0},{"$f":"'Nastavení příloh'!BC36","v":0},{"$f":"'Nastavení příloh'!BD36","v":0},{"$f":"'Nastavení příloh'!BE36","v":0},{"$f":"'Nastavení příloh'!BF36","v":0},{"$f":"'Nastavení příloh'!BG36","v":0},{"$f":"'Nastavení příloh'!BH36","v":0},{"$f":"'Nastavení příloh'!BI36","v":0},{"$f":"'Nastavení příloh'!BJ36","v":0},{"$f":"'Nastavení příloh'!BK36","v":0},{"$f":"'Nastavení příloh'!BL36","v":0},{"$f":"'Nastavení příloh'!BM36","v":0},{"$f":"'Nastavení příloh'!BN36","v":0},{"$f":"'Nastavení příloh'!BO36","v":0},{"$f":"'Nastavení příloh'!BP36","v":0},{"$f":"'Nastavení příloh'!BQ36","v":0},{"$f":"'Nastavení příloh'!BR36","v":0},{"$f":"'Nastavení příloh'!BS36","v":0},{"$f":"'Nastavení příloh'!BT36","v":0}]
[{"$f":"'Nastavení příloh'!E37","v":2650},{"$f":"'Nastavení příloh'!AX37","v":2600},{"$f":"'Nastavení příloh'!AZ37","v":2699},{"$f":"'Nastavení příloh'!BB37","v":0},{"$f":"'Nastavení příloh'!BC37","v":0},{"$f":"'Nastavení příloh'!BD37","v":0},{"$f":"'Nastavení příloh'!BE37","v":0},{"$f":"'Nastavení příloh'!BF37","v":0},{"$f":"'Nastavení příloh'!BG37","v":0},{"$f":"'Nastavení příloh'!BH37","v":0},{"$f":"'Nastavení příloh'!BI37","v":0},{"$f":"'Nastavení příloh'!BJ37","v":0},{"$f":"'Nastavení příloh'!BK37","v":0},{"$f":"'Nastavení příloh'!BL37","v":0},{"$f":"'Nastavení příloh'!BM37","v":0},{"$f":"'Nastavení příloh'!BN37","v":0},{"$f":"'Nastavení příloh'!BO37","v":0},{"$f":"'Nastavení příloh'!BP37","v":0},{"$f":"'Nastavení příloh'!BQ37","v":0},{"$f":"'Nastavení příloh'!BR37","v":0},{"$f":"'Nastavení příloh'!BS37","v":0},{"$f":"'Nastavení příloh'!BT37","v":0}]
[{"$f":"'Nastavení příloh'!E38","v":2750},{"$f":"'Nastavení příloh'!AX38","v":2700},{"$f":"'Nastavení příloh'!AZ38","v":2799},{"$f":"'Nastavení příloh'!BB38","v":0},{"$f":"'Nastavení příloh'!BC38","v":0},{"$f":"'Nastavení příloh'!BD38","v":0},{"$f":"'Nastavení příloh'!BE38","v":0},{"$f":"'Nastavení příloh'!BF38","v":0},{"$f":"'Nastavení příloh'!BG38","v":0},{"$f":"'Nastavení příloh'!BH38","v":0},{"$f":"'Nastavení příloh'!BI38","v":0},{"$f":"'Nastavení příloh'!BJ38","v":0},{"$f":"'Nastavení příloh'!BK38","v":0},{"$f":"'Nastavení příloh'!BL38","v":0},{"$f":"'Nastavení příloh'!BM38","v":0},{"$f":"'Nastavení příloh'!BN38","v":0},{"$f":"'Nastavení příloh'!BO38","v":0},{"$f":"'Nastavení příloh'!BP38","v":0},{"$f":"'Nastavení příloh'!BQ38","v":0},{"$f":"'Nastavení příloh'!BR38","v":0},{"$f":"'Nastavení příloh'!BS38","v":0},{"$f":"'Nastavení příloh'!BT38","v":0}]
[{"$f":"'Nastavení příloh'!E39","v":2850},{"$f":"'Nastavení příloh'!AX39","v":2800},{"$f":"'Nastavení příloh'!AZ39","v":2899},{"$f":"'Nastavení příloh'!BB39","v":0},{"$f":"'Nastavení příloh'!BC39","v":0},{"$f":"'Nastavení příloh'!BD39","v":0},{"$f":"'Nastavení příloh'!BE39","v":0},{"$f":"'Nastavení příloh'!BF39","v":0},{"$f":"'Nastavení příloh'!BG39","v":0},{"$f":"'Nastavení příloh'!BH39","v":0},{"$f":"'Nastavení příloh'!BI39","v":0},{"$f":"'Nastavení příloh'!BJ39","v":0},{"$f":"'Nastavení příloh'!BK39","v":0},{"$f":"'Nastavení příloh'!BL39","v":0},{"$f":"'Nastavení příloh'!BM39","v":0},{"$f":"'Nastavení příloh'!BN39","v":0},{"$f":"'Nastavení příloh'!BO39","v":0},{"$f":"'Nastavení příloh'!BP39","v":0},{"$f":"'Nastavení příloh'!BQ39","v":0},{"$f":"'Nastavení příloh'!BR39","v":0},{"$f":"'Nastavení příloh'!BS39","v":0},{"$f":"'Nastavení příloh'!BT39","v":0}]
[{"$f":"'Nastavení příloh'!E40","v":2950},{"$f":"'Nastavení příloh'!AX40","v":2900},{"$f":"'Nastavení příloh'!AZ40","v":2999},{"$f":"'Nastavení příloh'!BB40","v":0},{"$f":"'Nastavení příloh'!BC40","v":0},{"$f":"'Nastavení příloh'!BD40","v":0},{"$f":"'Nastavení příloh'!BE40","v":0},{"$f":"'Nastavení příloh'!BF40","v":0},{"$f":"'Nastavení příloh'!BG40","v":0},{"$f":"'Nastavení příloh'!BH40","v":0},{"$f":"'Nastavení příloh'!BI40","v":0},{"$f":"'Nastavení příloh'!BJ40","v":0},{"$f":"'Nastavení příloh'!BK40","v":0},{"$f":"'Nastavení příloh'!BL40","v":0},{"$f":"'Nastavení příloh'!BM40","v":0},{"$f":"'Nastavení příloh'!BN40","v":0},{"$f":"'Nastavení příloh'!BO40","v":0},{"$f":"'Nastavení příloh'!BP40","v":0},{"$f":"'Nastavení příloh'!BQ40","v":0},{"$f":"'Nastavení příloh'!BR40","v":0},{"$f":"'Nastavení příloh'!BS40","v":0},{"$f":"'Nastavení příloh'!BT40","v":0}]
[{"$f":"'Nastavení příloh'!E41","v":3050},{"$f":"'Nastavení příloh'!AX41","v":3000},{"$f":"'Nastavení příloh'!AZ41","v":3099},{"$f":"'Nastavení příloh'!BB41","v":0},{"$f":"'Nastavení příloh'!BC41","v":0},{"$f":"'Nastavení příloh'!BD41","v":0},{"$f":"'Nastavení příloh'!BE41","v":0},{"$f":"'Nastavení příloh'!BF41","v":0},{"$f":"'Nastavení příloh'!BG41","v":0},{"$f":"'Nastavení příloh'!BH41","v":0},{"$f":"'Nastavení příloh'!BI41","v":0},{"$f":"'Nastavení příloh'!BJ41","v":0},{"$f":"'Nastavení příloh'!BK41","v":0},{"$f":"'Nastavení příloh'!BL41","v":0},{"$f":"'Nastavení příloh'!BM41","v":0},{"$f":"'Nastavení příloh'!BN41","v":0},{"$f":"'Nastavení příloh'!BO41","v":0},{"$f":"'Nastavení příloh'!BP41","v":0},{"$f":"'Nastavení příloh'!BQ41","v":0},{"$f":"'Nastavení příloh'!BR41","v":0},{"$f":"'Nastavení příloh'!BS41","v":0},{"$f":"'Nastavení příloh'!BT41","v":0}]
[{"$f":"'Nastavení příloh'!E42","v":3150},{"$f":"'Nastavení příloh'!AX42","v":3100},{"$f":"'Nastavení příloh'!AZ42","v":3199},{"$f":"'Nastavení příloh'!BB42","v":0},{"$f":"'Nastavení příloh'!BC42","v":0},{"$f":"'Nastavení příloh'!BD42","v":0},{"$f":"'Nastavení příloh'!BE42","v":0},{"$f":"'Nastavení příloh'!BF42","v":0},{"$f":"'Nastavení příloh'!BG42","v":0},{"$f":"'Nastavení příloh'!BH42","v":0},{"$f":"'Nastavení příloh'!BI42","v":0},{"$f":"'Nastavení příloh'!BJ42","v":0},{"$f":"'Nastavení příloh'!BK42","v":0},{"$f":"'Nastavení příloh'!BL42","v":0},{"$f":"'Nastavení příloh'!BM42","v":0},{"$f":"'Nastavení příloh'!BN42","v":0},{"$f":"'Nastavení příloh'!BO42","v":0},{"$f":"'Nastavení příloh'!BP42","v":0},{"$f":"'Nastavení příloh'!BQ42","v":0},{"$f":"'Nastavení příloh'!BR42","v":0},{"$f":"'Nastavení příloh'!BS42","v":0},{"$f":"'Nastavení příloh'!BT42","v":0}]
[{"$f":"'Nastavení příloh'!E43","v":3250},{"$f":"'Nastavení příloh'!AX43","v":3200},{"$f":"'Nastavení příloh'!AZ43","v":3299},{"$f":"'Nastavení příloh'!BB43","v":0},{"$f":"'Nastavení příloh'!BC43","v":0},{"$f":"'Nastavení příloh'!BD43","v":0},{"$f":"'Nastavení příloh'!BE43","v":0},{"$f":"'Nastavení příloh'!BF43","v":0},{"$f":"'Nastavení příloh'!BG43","v":0},{"$f":"'Nastavení příloh'!BH43","v":0},{"$f":"'Nastavení příloh'!BI43","v":0},{"$f":"'Nastavení příloh'!BJ43","v":0},{"$f":"'Nastavení příloh'!BK43","v":0},{"$f":"'Nastavení příloh'!BL43","v":0},{"$f":"'Nastavení příloh'!BM43","v":0},{"$f":"'Nastavení příloh'!BN43","v":0},{"$f":"'Nastavení příloh'!BO43","v":0},{"$f":"'Nastavení příloh'!BP43","v":0},{"$f":"'Nastavení příloh'!BQ43","v":0},{"$f":"'Nastavení příloh'!BR43","v":0},{"$f":"'Nastavení příloh'!BS43","v":0},{"$f":"'Nastavení příloh'!BT43","v":0}]
[{"$f":"'Nastavení příloh'!E44","v":3350},{"$f":"'Nastavení příloh'!AX44","v":3300},{"$f":"'Nastavení příloh'!AZ44","v":3399},{"$f":"'Nastavení příloh'!BB44","v":0},{"$f":"'Nastavení příloh'!BC44","v":0},{"$f":"'Nastavení příloh'!BD44","v":0},{"$f":"'Nastavení příloh'!BE44","v":0},{"$f":"'Nastavení příloh'!BF44","v":0},{"$f":"'Nastavení příloh'!BG44","v":0},{"$f":"'Nastavení příloh'!BH44","v":0},{"$f":"'Nastavení příloh'!BI44","v":0},{"$f":"'Nastavení příloh'!BJ44","v":0},{"$f":"'Nastavení příloh'!BK44","v":0},{"$f":"'Nastavení příloh'!BL44","v":0},{"$f":"'Nastavení příloh'!BM44","v":0},{"$f":"'Nastavení příloh'!BN44","v":0},{"$f":"'Nastavení příloh'!BO44","v":0},{"$f":"'Nastavení příloh'!BP44","v":0},{"$f":"'Nastavení příloh'!BQ44","v":0},{"$f":"'Nastavení příloh'!BR44","v":0},{"$f":"'Nastavení příloh'!BS44","v":0},{"$f":"'Nastavení příloh'!BT44","v":0}]
[{"$f":"'Nastavení příloh'!E45","v":3450},3400,9999,{"$f":"'Nastavení příloh'!BB45","v":0},{"$f":"'Nastavení příloh'!BC45","v":0},{"$f":"'Nastavení příloh'!BD45","v":0},{"$f":"'Nastavení příloh'!BE45","v":0},{"$f":"'Nastavení příloh'!BF45","v":0},{"$f":"'Nastavení příloh'!BG45","v":0},{"$f":"'Nastavení příloh'!BH45","v":0},{"$f":"'Nastavení příloh'!BI45","v":0},{"$f":"'Nastavení příloh'!BJ45","v":0},{"$f":"'Nastavení příloh'!BK45","v":0},{"$f":"'Nastavení příloh'!BL45","v":0},{"$f":"'Nastavení příloh'!BM45","v":0},{"$f":"'Nastavení příloh'!BN45","v":0},{"$f":"'Nastavení příloh'!BO45","v":0},{"$f":"'Nastavení příloh'!BP45","v":0},{"$f":"'Nastavení příloh'!BQ45","v":0},{"$f":"'Nastavení příloh'!BR45","v":0},{"$f":"'Nastavení příloh'!BS45","v":0},{"$f":"'Nastavení příloh'!BT45","v":0}]

{"sheet":"Bonusy bez procent","index":4,"n_rows":108,"n_cols":92,"rows_kept":108,"cut":false,"hidden":true,"merged":[[5,4,5,22],[39,0,41,3],[5,50,5,68],[5,73,5,91],[41,27,41,45],[1,0,1,22],[3,4,3,22],[39,23,41,26],[42,23,71,23],[39,27,39,45],[37,0,37,22],[5,27,5,45],[41,4,41,22],[42,0,71,0],[3,0,5,3],[3,23,5,26],[6,23,35,23],[1,23,1,45],[37,23,37,45],[3,27,3,45],[6,0,35,0],[78,0,107,0],[75,23,77,26],[78,23,107,23],[73,23,73,45],[77,4,77,22],[77,27,77,45],[75,0,77,3],[75,4,75,22],[73,0,73,22],[75,27,75,45],[1,46,1,68],[3,46,5,49],[3,50,3,68],[1,69,1,91],[3,73,3,91],[3,69,5,72],[78,69,107,69],[6,46,35,46],[42,69,71,69],[73,69,73,91],[75,73,75,91],[75,69,77,72],[77,73,77,91],[37,69,37,91],[39,73,39,91],[39,69,41,72],[41,73,41,91],[6,69,35,69]]}
[null,null,null,null,null,null,null,null,null,null,null,null,null,null,null,null,null,null,null,null,null,null,"Příloha č. 5 k OZV č. …/2013 Název obec/město",null,null,null,null,null,null,null,null,null,null,null,null,null,null,null,null,null,null,null,null,null,null,"Příloha č. 6 k OZV č. …/2013 Název obec/město",null,null,null,null,null,null,null,null,null,null,null,null,null,null,null,null,null,null,null,null,null,null,"Příloha č. 7 k OZV č. …/2013 Název obec/město",null,null,null,null,null,null,null,null,null,null,null,null,null,null,null,null,null,null,null,null,null,null,"Příloha č. ??? k OZV č. …/2013 Název obec/město"]
["Maximální roční bonusy za třídění odpadů (zkráceně BT) - procentuální úleva na poplatku placeného na následující rok",null,null,null,null,null,null,null,null,null,null,null,null,null,null,null,null,null,null,null,null,null,null,"Maximální roční bonusy za efektivní využívání nádob (BV)-procentuální úleva na poplatku placeného na následující rok",null,null,null,null,null,null,null,null,null,null,null,null,null,null,null,null,null,null,null,null,null,null,"Maximální roční bonusy za snižování produkce odpadů (BS)-procentuální úleva na poplatku placeného na následující rok",null,null,null,null,null,null,null,null,null,null,null,null,null,null,null,null,null,null,null,null,null,null,"Součet maximálních ročních bonusů (BT + BV + BS)"]
[]
["Bonus za třídění odpadů je udělen do výše 23% za plast, 20% za papír, 30% za bioodpad, 13% za sklo, 8% za textil, 2% za nápojový karton, 2% za jedlý olej a tuk a 2% za drobné elektrozařízení z hodnoty maximálního bonusu uvedeného v  této tabulce. ",null,null,null,"Procentuální zastoupení objemu obsloužených nádob na plast a na papír v celkovém objemu obsloužených nádob",null,null,null,null,null,null,null,null,null,null,null,null,null,null,null,null,null,null,"Bonus za efektivní využívání sběrných nádob je udělen do výše 100% z hodnoty maximálního bonusu uvedeného v této tabulce.",null,null,null,"Procentuální zastoupení objemu obsloužených nádob na plast a na papír v celkovém objemu obsloužených nádob",null,null,null,null,null,null,null,null,null,null,null,null,null,null,null,null,null,null,"Bonus za snižování produkce odpadů je udělen do výše 20% za každý způsob snižování produkce odpadů uvedený v odpadovém dotazníku z hodnoty maximálního bonusu uvedeného v této tabulce.",null,null,null,"Procentuální zastoupení objemu obsloužených nádob na plast a na papír v celkovém objemu obsloužených nádob",null,null,null,null,null,null,null,null,null,null,null,null,null,null,null,null,null,null,"Záporná hodnota součtu bonusů (BT + BV + BS) je nahrazena nulou.",null,null,null,"Procentuální zastoupení objemu obsloužených nádob na plast a na papír v celkovém objemu obsloužených nádob"]
[null,null,null,null,"0 %","1-5 %","6-10 %","11-15 %","16-20 %","21-25 %","26-30 %","31-35 %","36-40 %","41-45 %","46-50 %","51-55 %","56-60 %","61-65 %","66-70 %","71-75 %","76-80 %","81-85 %","více jak 85 %",null,null,null,null,"0 %","1-5 %","6-10 %","11-15 %","16-20 %","21-25 %","26-30 %","31-35 %","36-40 %","41-45 %","46-50 %","51-55 %","56-60 %","61-65 %","66-70 %","71-75 %","76-80 %","81-85 %","více jak 85 %",null,null,null,null,"0 %","1-5 %","6-10 %","11-15 %","16-20 %","21-25 %","26-30 %","31-35 %","36-40 %","41-45 %","46-50 %","51-55 %","56-60 %","61-65 %","66-70 %","71-75 %","76-80 %","81-85 %","více jak 85 %",null,null,null,null,"0 %","1-5 %","6-10 %","11-15 %","16-20 %","21-25 %","26-30 %","31-35 %","36-40 %","41-45 %","46-50 %","51-55 %","56-60 %","61-65 %","66-70 %","71-75 %","76-80 %","81-85 %","více jak 85 %"]
[null,null,null,null,"\"Třídí málo\"                                                                                                                                   \"Třídí hodně\"",null,null,null,null,null,null,null,null,null,null,null,null,null,null,null,null,null,null,null,null,null,null,"\"Třídí málo\"                                                                                                                                   \"Třídí hodně\"",null,null,null,null,null,null,null,null,null,null,null,null,null,null,null,null,null,null,null,null,null,null,"\"Třídí málo\"                                                                                                                                   \"Třídí hodně\"",null,null,null,null,null,null,null,null,null,null,null,null,null,null,null,null,null,null,null,null,null,null,"\"Třídí málo\"                                                                                                                                   \"Třídí hodně\""]
["Roční celkový objem obsloužených nádob přepočtený na jednoho účastníka systému užívajícího dané nádoby (litry/účastník systému/rok)",500,"-",599,{"$f":"'Nastavení příloh'!F16","v":0},{"$f":"'Nastavení příloh'!G16","v":1},{"$f":"'Nastavení příloh'!H16","v":2},{"$f":"'Nastavení příloh'!I16","v":3},{"$f":"'Nastavení příloh'!J16","v":3},{"$f":"'Nastavení příloh'!K16","v":4},{"$f":"'Nastavení příloh'!L16","v":5},{"$f":"'Nastavení příloh'!M16","v":6},{"$f":"'Nastavení příloh'!N16","v":7},{"$f":"'Nastavení příloh'!O16","v":8},{"$f":"'Nastavení příloh'!P16","v":9},{"$f":"'Nastavení příloh'!Q16","v":10},{"$f":"'Nastavení příloh'!R16","v":11},{"$f":"'Nastavení příloh'!S16","v":12},{"$f":"'Nastavení příloh'!T16","v":13},{"$f":"'Nastavení příloh'!U16","v":14},{"$f":"'Nastavení příloh'!V16","v":15},{"$f":"'Nastavení příloh'!W16","v":16},{"$f":"'Nastavení příloh'!X16","v":17},"Roční celkový objem obsloužených nádob přepočtený na jednoho účastníka systému užívajícího dané nádoby (litry/účastník systému/rok)",500,"-",599,{"$f":"'Nastavení příloh'!AD16","v":0},{"$f":"'Nastavení příloh'!AE16","v":9},{"$f":"'Nastavení příloh'!AF16","v":10},{"$f":"'Nastavení příloh'!AG16","v":12},{"$f":"'Nastavení příloh'!AH16","v":13},{"$f":"'Nastavení příloh'!AI16","v":15},{"$f":"'Nastavení příloh'!AJ16","v":17},{"$f":"'Nastavení příloh'!AK16","v":18},{"$f":"'Nastavení příloh'!AL16","v":20},{"$f":"'Nastavení příloh'!AM16","v":21},{"$f":"'Nastavení příloh'!AN16","v":23},{"$f":"'Nastavení příloh'!AO16","v":24},{"$f":"'Nastavení příloh'!AP16","v":25},{"$f":"'Nastavení příloh'!AQ16","v":25},{"$f":"'Nastavení příloh'!AR16","v":25},{"$f":"'Nastavení příloh'!AS16","v":25},{"$f":"'Nastavení příloh'!AT16","v":25},{"$f":"'Nastavení příloh'!AU16","v":25},{"$f":"'Nastavení příloh'!AV16","v":25},"Roční celkový objem obsloužených nádob přepočtený na jednoho účastníka systému užívajícího dané nádoby (litry/účastník systému/rok)",500,"-",599,{"$f":"'Nastavení příloh'!BB16","v":0},{"$f":"'Nastavení příloh'!BC16","v":0},{"$f":"'Nastavení příloh'!BD16","v":0},{"$f":"'Nastavení příloh'!BE16","v":0},{"$f":"'Nastavení příloh'!BF16","v":0},{"$f":"'Nastavení příloh'!BG16","v":0},{"$f":"'Nastavení příloh'!BH16","v":0},{"$f":"'Nastavení příloh'!BI16","v":0},{"$f":"'Nastavení příloh'!BJ16","v":20},{"$f":"'Nastavení příloh'!BK16","v":20},{"$f":"'Nastavení příloh'!BL16","v":20},{"$f":"'Nastavení příloh'!BM16","v":20},{"$f":"'Nastavení příloh'!BN16","v":20},{"$f":"'Nastavení příloh'!BO16","v":20},{"$f":"'Nastavení příloh'!BP16","v":20},{"$f":"'Nastavení příloh'!BQ16","v":20},{"$f":"'Nastavení příloh'!BR16","v":20},{"$f":"'Nastavení příloh'!BS16","v":20},{"$f":"'Nastavení příloh'!BT16","v":0},"Roční celkový objem obsloužených nádob přepočtený na jednoho účastníka systému užívajícího dané nádoby (litry/účastník systému/rok)",500,"-",599,{"$f":"'Nastavení příloh'!BZ16","v":0},{"$f":"'Nastavení příloh'!CA16","v":10},{"$f":"'Nastavení příloh'!CB16","v":12},{"$f":"'Nastavení příloh'!CC16","v":15},{"$f":"'Nastavení příloh'!CD16","v":16},{"$f":"'Nastavení příloh'!CE16","v":19},{"$f":"'Nastavení příloh'!CF16","v":22},{"$f":"'Nastavení příloh'!CG16","v":24},{"$f":"'Nastavení příloh'!CH16","v":47},{"$f":"'Nastavení příloh'!CI16","v":49},{"$f":"'Nastavení příloh'!CJ16","v":52},{"$f":"'Nastavení příloh'!CK16","v":54},{"$f":"'Nastavení příloh'!CL16","v":56},{"$f":"'Nastavení příloh'!CM16","v":57},{"$f":"'Nastavení příloh'!CN16","v":58},{"$f":"'Nastavení příloh'!CO16","v":59},{"$f":"'Nastavení příloh'!CP16","v":60},{"$f":"'Nastavení příloh'!CQ16","v":61},{"$f":"'Nastavení příloh'!CR16","v":42}]
[null,600,"-",699,{"$f":"'Nastavení příloh'!F17","v":0},{"$f":"'Nastavení příloh'!G17","v":1},{"$f":"'Nastavení příloh'!H17","v":2},{"$f":"'Nastavení příloh'!I17","v":3},{"$f":"'Nastavení příloh'!J17","v":4},{"$f":"'Nastavení příloh'!K17","v":5},{"$f":"'Nastavení příloh'!L17","v":6},{"$f":"'Nastavení příloh'!M17","v":8},{"$f":"'Nastavení příloh'!N17","v":9},{"$f":"'Nastavení příloh'!O17","v":10},{"$f":"'Nastavení příloh'!P17","v":11},{"$f":"'Nastavení příloh'!Q17","v":12},{"$f":"'Nastavení příloh'!R17","v":13},{"$f":"'Nastavení příloh'!S17","v":14},{"$f":"'Nastavení příloh'!T17","v":15},{"$f":"'Nastavení příloh'!U17","v":17},{"$f":"'Nastavení příloh'!V17","v":18},{"$f":"'Nastavení příloh'!W17","v":19},{"$f":"'Nastavení příloh'!X17","v":20},null,600,"-",699,{"$f":"'Nastavení příloh'!AD17","v":0},{"$f":"'Nastavení příloh'!AE17","v":3},{"$f":"'Nastavení příloh'!AF17","v":5},{"$f":"'Nastavení příloh'!AG17","v":7},{"$f":"'Nastavení příloh'!AH17","v":9},{"$f":"'Nastavení příloh'!AI17","v":11},{"$f":"'Nastavení příloh'!AJ17","v":12},{"$f":"'Nastavení příloh'!AK17","v":14},{"$f":"'Nastavení příloh'!AL17","v":16},{"$f":"'Nastavení příloh'!AM17","v":18},{"$f":"'Nastavení příloh'!AN17","v":20},{"$f":"'Nastavení příloh'!AO17","v":22},{"$f":"'Nastavení příloh'!AP17","v":24},{"$f":"'Nastavení příloh'!AQ17","v":25},{"$f":"'Nastavení příloh'!AR17","v":25},{"$f":"'Nastavení příloh'!AS17","v":25},{"$f":"'Nastavení příloh'!AT17","v":25},{"$f":"'Nastavení příloh'!AU17","v":25},{"$f":"'Nastavení příloh'!AV17","v":25},null,600,"-",699,{"$f":"'Nastavení příloh'!BB17","v":0},{"$f":"'Nastavení příloh'!BC17","v":0},{"$f":"'Nastavení příloh'!BD17","v":0},{"$f":"'Nastavení příloh'!BE17","v":0},{"$f":"'Nastavení příloh'!BF17","v":0},{"$f":"'Nastavení příloh'!BG17","v":0},{"$f":"'Nastavení příloh'!BH17","v":0},{"$f":"'Nastavení příloh'!BI17","v":0},{"$f":"'Nastavení příloh'!BJ17","v":20},{"$f":"'Nastavení příloh'!BK17","v":20},{"$f":"'Nastavení příloh'!BL17","v":20},{"$f":"'Nastavení příloh'!BM17","v":20},{"$f":"'Nastavení příloh'!BN17","v":20},{"$f":"'Nastavení příloh'!BO17","v":20},{"$f":"'Nastavení příloh'!BP17","v":20},{"$f":"'Nastavení příloh'!BQ17","v":20},{"$f":"'Nastavení příloh'!BR17","v":20},{"$f":"'Nastavení příloh'!BS17","v":20},{"$f":"'Nastavení příloh'!BT17","v":0},null,600,"-",699,{"$f":"'Nastavení příloh'!BZ17","v":0},{"$f":"'Nastavení příloh'!CA17","v":4},{"$f":"'Nastavení příloh'!CB17","v":7},{"$f":"'Nastavení příloh'!CC17","v":10},{"$f":"'Nastavení příloh'!CD17","v":13},{"$f":"'Nastavení příloh'!CE17","v":16},{"$f":"'Nastavení příloh'!CF17","v":18},{"$f":"'Nastavení příloh'!CG17","v":22},{"$f":"'Nastavení příloh'!CH17","v":45},{"$f":"'Nastavení příloh'!CI17","v":48},{"$f":"'Nastavení příloh'!CJ17","v":51},{"$f":"'Nastavení příloh'!CK17","v":54},{"$f":"'Nastavení příloh'!CL17","v":57},{"$f":"'Nastavení příloh'!CM17","v":59},{"$f":"'Nastavení příloh'!CN17","v":60},{"$f":"'Nastavení příloh'!CO17","v":62},{"$f":"'Nastavení příloh'!CP17","v":63},{"$f":"'Nastavení příloh'!CQ17","v":64},{"$f":"'Nastavení příloh'!CR17","v":45}]
[null,700,"-",799,{"$f":"'Nastavení příloh'!F18","v":0},{"$f":"'Nastavení příloh'!G18","v":1},{"$f":"'Nastavení příloh'!H18","v":2},{"$f":"'Nastavení příloh'!I18","v":3},{"$f":"'Nastavení příloh'!J18","v":5},{"$f":"'Nastavení příloh'!K18","v":6},{"$f":"'Nastavení příloh'!L18","v":7},{"$f":"'Nastavení příloh'!M18","v":9},{"$f":"'Nastavení příloh'!N18","v":10},{"$f":"'Nastavení příloh'!O18","v":11},{"$f":"'Nastavení příloh'!P18","v":13},{"$f":"'Nastavení příloh'!Q18","v":14},{"$f":"'Nastavení příloh'!R18","v":15},{"$f":"'Nastavení příloh'!S18","v":17},{"$f":"'Nastavení příloh'!T18","v":18},{"$f":"'Nastavení příloh'!U18","v":19},{"$f":"'Nastavení příloh'!V18","v":20},{"$f":"'Nastavení příloh'!W18","v":22},{"$f":"'Nastavení příloh'!X18","v":23},null,700,"-",799,{"$f":"'Nastavení příloh'!AD18","v":0},{"$f":"'Nastavení příloh'!AE18","v":0},{"$f":"'Nastavení příloh'!AF18","v":0},{"$f":"'Nastavení příloh'!AG18","v":2},{"$f":"'Nastavení příloh'!AH18","v":4},{"$f":"'Nastavení příloh'!AI18","v":6},{"$f":"'Nastavení příloh'!AJ18","v":8},{"$f":"'Nastavení příloh'!AK18","v":11},{"$f":"'Nastavení příloh'!AL18","v":13},{"$f":"'Nastavení příloh'!AM18","v":15},{"$f":"'Nastavení příloh'!AN18","v":17},{"$f":"'Nastavení příloh'!AO18","v":19},{"$f":"'Nastavení příloh'!AP18","v":21},{"$f":"'Nastavení příloh'!AQ18","v":23},{"$f":"'Nastavení příloh'!AR18","v":25},{"$f":"'Nastavení příloh'!AS18","v":25},{"$f":"'Nastavení příloh'!AT18","v":25},{"$f":"'Nastavení příloh'!AU18","v":25},{"$f":"'Nastavení příloh'!AV18","v":25},null,700,"-",799,{"$f":"'Nastavení příloh'!BB18","v":0},{"$f":"'Nastavení příloh'!BC18","v":0},{"$f":"'Nastavení příloh'!BD18","v":0},{"$f":"'Nastavení příloh'!BE18","v":0},{"$f":"'Nastavení příloh'!BF18","v":0},{"$f":"'Nastavení příloh'!BG18","v":0},{"$f":"'Nastavení příloh'!BH18","v":0},{"$f":"'Nastavení příloh'!BI18","v":0},{"$f":"'Nastavení příloh'!BJ18","v":20},{"$f":"'Nastavení příloh'!BK18","v":20},{"$f":"'Nastavení příloh'!BL18","v":20},{"$f":"'Nastavení příloh'!BM18","v":20},{"$f":"'Nastavení příloh'!BN18","v":20},{"$f":"'Nastavení příloh'!BO18","v":20},{"$f":"'Nastavení příloh'!BP18","v":20},{"$f":"'Nastavení příloh'!BQ18","v":20},{"$f":"'Nastavení příloh'!BR18","v":20},{"$f":"'Nastavení příloh'!BS18","v":20},{"$f":"'Nastavení příloh'!BT18","v":0},null,700,"-",799,{"$f":"'Nastavení příloh'!BZ18","v":0},{"$f":"'Nastavení příloh'!CA18","v":1},{"$f":"'Nastavení příloh'!CB18","v":2},{"$f":"'Nastavení příloh'!CC18","v":5},{"$f":"'Nastavení příloh'!CD18","v":9},{"$f":"'Nastavení příloh'!CE18","v":12},{"$f":"'Nastavení příloh'!CF18","v":15},{"$f":"'Nastavení příloh'!CG18","v":20},{"$f":"'Nastavení příloh'!CH18","v":43},{"$f":"'Nastavení příloh'!CI18","v":46},{"$f":"'Nastavení příloh'!CJ18","v":50},{"$f":"'Nastavení příloh'!CK18","v":53},{"$f":"'Nastavení příloh'!CL18","v":56},{"$f":"'Nastavení příloh'!CM18","v":60},{"$f":"'Nastavení příloh'!CN18","v":63},{"$f":"'Nastavení příloh'!CO18","v":64},{"$f":"'Nastavení příloh'!CP18","v":65},{"$f":"'Nastavení příloh'!CQ18","v":67},{"$f":"'Nastavení příloh'!CR18","v":48}]
[null,800,"-",899,{"$f":"'Nastavení příloh'!F19","v":0},{"$f":"'Nastavení příloh'!G19","v":1},{"$f":"'Nastavení příloh'!H19","v":2},{"$f":"'Nastavení příloh'!I19","v":4},{"$f":"'Nastavení příloh'!J19","v":5},{"$f":"'Nastavení příloh'!K19","v":7},{"$f":"'Nastavení příloh'!L19","v":8},{"$f":"'Nastavení příloh'!M19","v":10},{"$f":"'Nastavení příloh'!N19","v":11},{"$f":"'Nastavení příloh'!O19","v":13},{"$f":"'Nastavení příloh'!P19","v":14},{"$f":"'Nastavení příloh'!Q19","v":16},{"$f":"'Nastavení příloh'!R19","v":17},{"$f":"'Nastavení příloh'!S19","v":19},{"$f":"'Nastavení příloh'!T19","v":20},{"$f":"'Nastavení příloh'!U19","v":22},{"$f":"'Nastavení příloh'!V19","v":23},{"$f":"'Nastavení příloh'!W19","v":25},{"$f":"'Nastavení příloh'!X19","v":25},null,800,"-",899,{"$f":"'Nastavení příloh'!AD19","v":0},{"$f":"'Nastavení příloh'!AE19","v":0},{"$f":"'Nastavení příloh'!AF19","v":0},{"$f":"'Nastavení příloh'!AG19","v":0},{"$f":"'Nastavení příloh'!AH19","v":0},{"$f":"'Nastavení příloh'!AI19","v":2},{"$f":"'Nastavení příloh'!AJ19","v":4},{"$f":"'Nastavení příloh'!AK19","v":7},{"$f":"'Nastavení příloh'!AL19","v":9},{"$f":"'Nastavení příloh'!AM19","v":12},{"$f":"'Nastavení příloh'!AN19","v":14},{"$f":"'Nastavení příloh'!AO19","v":16},{"$f":"'Nastavení příloh'!AP19","v":19},{"$f":"'Nastavení příloh'!AQ19","v":21},{"$f":"'Nastavení příloh'!AR19","v":24},{"$f":"'Nastavení příloh'!AS19","v":25},{"$f":"'Nastavení příloh'!AT19","v":25},{"$f":"'Nastavení příloh'!AU19","v":25},{"$f":"'Nastavení příloh'!AV19","v":24},null,800,"-",899,{"$f":"'Nastavení příloh'!BB19","v":0},{"$f":"'Nastavení příloh'!BC19","v":0},{"$f":"'Nastavení příloh'!BD19","v":0},{"$f":"'Nastavení příloh'!BE19","v":0},{"$f":"'Nastavení příloh'!BF19","v":0},{"$f":"'Nastavení příloh'!BG19","v":0},{"$f":"'Nastavení příloh'!BH19","v":0},{"$f":"'Nastavení příloh'!BI19","v":0},{"$f":"'Nastavení příloh'!BJ19","v":20},{"$f":"'Nastavení příloh'!BK19","v":20},{"$f":"'Nastavení příloh'!BL19","v":20},{"$f":"'Nastavení příloh'!BM19","v":20},{"$f":"'Nastavení příloh'!BN19","v":20},{"$f":"'Nastavení příloh'!BO19","v":20},{"$f":"'Nastavení příloh'!BP19","v":20},{"$f":"'Nastavení příloh'!BQ19","v":20},{"$f":"'Nastavení příloh'!BR19","v":20},{"$f":"'Nastavení příloh'!BS19","v":20},{"$f":"'Nastavení příloh'!BT19","v":0},null,800,"-",899,{"$f":"'Nastavení příloh'!BZ19","v":0},{"$f":"'Nastavení příloh'!CA19","v":1},{"$f":"'Nastavení příloh'!CB19","v":2},{"$f":"'Nastavení příloh'!CC19","v":4},{"$f":"'Nastavení příloh'!CD19","v":5},{"$f":"'Nastavení příloh'!CE19","v":9},{"$f":"'Nastavení příloh'!CF19","v":12},{"$f":"'Nastavení příloh'!CG19","v":17},{"$f":"'Nastavení příloh'!CH19","v":40},{"$f":"'Nastavení příloh'!CI19","v":45},{"$f":"'Nastavení příloh'!CJ19","v":48},{"$f":"'Nastavení příloh'!CK19","v":52},{"$f":"'Nastavení příloh'!CL19","v":56},{"$f":"'Nastavení příloh'!CM19","v":60},{"$f":"'Nastavení příloh'!CN19","v":64},{"$f":"'Nastavení příloh'!CO19","v":67},{"$f":"'Nastavení příloh'!CP19","v":68},{"$f":"'Nastavení příloh'!CQ19","v":70},{"$f":"'Nastavení příloh'!CR19","v":49}]
[null,900,"-",999,{"$f":"'Nastavení příloh'!F20","v":0},{"$f":"'Nastavení příloh'!G20","v":1},{"$f":"'Nastavení příloh'!H20","v":3},{"$f":"'Nastavení příloh'!I20","v":4},{"$f":"'Nastavení příloh'!J20","v":6},{"$f":"'Nastavení příloh'!K20","v":8},{"$f":"'Nastavení příloh'!L20","v":9},{"$f":"'Nastavení příloh'!M20","v":11},{"$f":"'Nastavení příloh'!N20","v":13},{"$f":"'Nastavení příloh'!O20","v":14},{"$f":"'Nastavení příloh'!P20","v":16},{"$f":"'Nastavení příloh'!Q20","v":18},{"$f":"'Nastavení příloh'!R20","v":19},{"$f":"'Nastavení příloh'!S20","v":21},{"$f":"'Nastavení příloh'!T20","v":23},{"$f":"'Nastavení příloh'!U20","v":24},{"$f":"'Nastavení příloh'!V20","v":25},{"$f":"'Nastavení příloh'!W20","v":25},{"$f":"'Nastavení příloh'!X20","v":25},null,900,"-",999,{"$f":"'Nastavení příloh'!AD20","v":0},{"$f":"'Nastavení příloh'!AE20","v":0},{"$f":"'Nastavení příloh'!AF20","v":0},{"$f":"'Nastavení příloh'!AG20","v":0},{"$f":"'Nastavení příloh'!AH20","v":0},{"$f":"'Nastavení příloh'!AI20","v":0},{"$f":"'Nastavení příloh'!AJ20","v":0},{"$f":"'Nastavení příloh'!AK20","v":3},{"$f":"'Nastavení příloh'!AL20","v":6},{"$f":"'Nastavení příloh'!AM20","v":8},{"$f":"'Nastavení příloh'!AN20","v":11},{"$f":"'Nastavení příloh'!AO20","v":14},{"$f":"'Nastavení příloh'!AP20","v":16},{"$f":"'Nastavení příloh'!AQ20","v":19},{"$f":"'Nastavení příloh'!AR20","v":22},{"$f":"'Nastavení příloh'!AS20","v":25},{"$f":"'Nastavení příloh'!AT20","v":25},{"$f":"'Nastavení příloh'!AU20","v":24},{"$f":"'Nastavení příloh'!AV20","v":22},null,900,"-",999,{"$f":"'Nastavení příloh'!BB20","v":0},{"$f":"'Nastavení příloh'!BC20","v":0},{"$f":"'Nastavení příloh'!BD20","v":0},{"$f":"'Nastavení příloh'!BE20","v":0},{"$f":"'Nastavení příloh'!BF20","v":0},{"$f":"'Nastavení příloh'!BG20","v":0},{"$f":"'Nastavení příloh'!BH20","v":0},{"$f":"'Nastavení příloh'!BI20","v":0},{"$f":"'Nastavení příloh'!BJ20","v":20},{"$f":"'Nastavení příloh'!BK20","v":20},{"$f":"'Nastavení příloh'!BL20","v":20},{"$f":"'Nastavení příloh'!BM20","v":20},{"$f":"'Nastavení příloh'!BN20","v":20},{"$f":"'Nastavení příloh'!BO20","v":20},{"$f":"'Nastavení příloh'!BP20","v":20},{"$f":"'Nastavení příloh'!BQ20","v":20},{"$f":"'Nastavení příloh'!BR20","v":20},{"$f":"'Nastavení příloh'!BS20","v":20},{"$f":"'Nastavení příloh'!BT20","v":0},null,900,"-",999,{"$f":"'Nastavení příloh'!BZ20","v":0},{"$f":"'Nastavení příloh'!CA20","v":1},{"$f":"'Nastavení příloh'!CB20","v":3},{"$f":"'Nastavení příloh'!CC20","v":4},{"$f":"'Nastavení příloh'!CD20","v":6},{"$f":"'Nastavení příloh'!CE20","v":8},{"$f":"'Nastavení příloh'!CF20","v":9},{"$f":"'Nastavení příloh'!CG20","v":14},{"$f":"'Nastavení příloh'!CH20","v":39},{"$f":"'Nastavení příloh'!CI20","v":42},{"$f":"'Nastavení příloh'!CJ20","v":47},{"$f":"'Nastavení příloh'!CK20","v":52},{"$f":"'Nastavení příloh'!CL20","v":55},{"$f":"'Nastavení příloh'!CM20","v":60},{"$f":"'Nastavení příloh'!CN20","v":65},{"$f":"'Nastavení příloh'!CO20","v":69},{"$f":"'Nastavení příloh'!CP20","v":70},{"$f":"'Nastavení příloh'!CQ20","v":69},{"$f":"'Nastavení příloh'!CR20","v":47}]
[null,1000,"-",1099,{"$f":"'Nastavení příloh'!F21","v":0},{"$f":"'Nastavení příloh'!G21","v":1},{"$f":"'Nastavení příloh'!H21","v":3},{"$f":"'Nastavení příloh'!I21","v":5},{"$f":"'Nastavení příloh'!J21","v":7},{"$f":"'Nastavení příloh'!K21","v":8},{"$f":"'Nastavení příloh'!L21","v":10},{"$f":"'Nastavení příloh'!M21","v":12},{"$f":"'Nastavení příloh'!N21","v":14},{"$f":"'Nastavení příloh'!O21","v":16},{"$f":"'Nastavení příloh'!P21","v":18},{"$f":"'Nastavení příloh'!Q21","v":19},{"$f":"'Nastavení příloh'!R21","v":21},{"$f":"'Nastavení příloh'!S21","v":23},{"$f":"'Nastavení příloh'!T21","v":25},{"$f":"'Nastavení příloh'!U21","v":25},{"$f":"'Nastavení příloh'!V21","v":25},{"$f":"'Nastavení příloh'!W21","v":25},{"$f":"'Nastavení příloh'!X21","v":25},null,1000,"-",1099,{"$f":"'Nastavení příloh'!AD21","v":0},{"$f":"'Nastavení příloh'!AE21","v":0},{"$f":"'Nastavení příloh'!AF21","v":0},{"$f":"'Nastavení příloh'!AG21","v":0},{"$f":"'Nastavení příloh'!AH21","v":0},{"$f":"'Nastavení příloh'!AI21","v":0},{"$f":"'Nastavení příloh'!AJ21","v":0},{"$f":"'Nastavení příloh'!AK21","v":0},{"$f":"'Nastavení příloh'!AL21","v":2},{"$f":"'Nastavení příloh'!AM21","v":5},{"$f":"'Nastavení příloh'!AN21","v":8},{"$f":"'Nastavení příloh'!AO21","v":11},{"$f":"'Nastavení příloh'!AP21","v":14},{"$f":"'Nastavení příloh'!AQ21","v":17},{"$f":"'Nastavení příloh'!AR21","v":20},{"$f":"'Nastavení příloh'!AS21","v":23},{"$f":"'Nastavení příloh'!AT21","v":25},{"$f":"'Nastavení příloh'!AU21","v":23},{"$f":"'Nastavení příloh'!AV21","v":20},null,1000,"-",1099,{"$f":"'Nastavení příloh'!BB21","v":0},{"$f":"'Nastavení příloh'!BC21","v":0},{"$f":"'Nastavení příloh'!BD21","v":0},{"$f":"'Nastavení příloh'!BE21","v":0},{"$f":"'Nastavení příloh'!BF21","v":0},{"$f":"'Nastavení příloh'!BG21","v":0},{"$f":"'Nastavení příloh'!BH21","v":0},{"$f":"'Nastavení příloh'!BI21","v":0},{"$f":"'Nastavení příloh'!BJ21","v":20},{"$f":"'Nastavení příloh'!BK21","v":20},{"$f":"'Nastavení příloh'!BL21","v":20},{"$f":"'Nastavení příloh'!BM21","v":20},{"$f":"'Nastavení příloh'!BN21","v":20},{"$f":"'Nastavení příloh'!BO21","v":20},{"$f":"'Nastavení příloh'!BP21","v":20},{"$f":"'Nastavení příloh'!BQ21","v":20},{"$f":"'Nastavení příloh'!BR21","v":20},{"$f":"'Nastavení příloh'!BS21","v":20},{"$f":"'Nastavení příloh'!BT21","v":0},null,1000,"-",1099,{"$f":"'Nastavení příloh'!BZ21","v":0},{"$f":"'Nastavení příloh'!CA21","v":1},{"$f":"'Nastavení příloh'!CB21","v":3},{"$f":"'Nastavení příloh'!CC21","v":5},{"$f":"'Nastavení příloh'!CD21","v":7},{"$f":"'Nastavení příloh'!CE21","v":8},{"$f":"'Nastavení příloh'!CF21","v":10},{"$f":"'Nastavení příloh'!CG21","v":12},{"$f":"'Nastavení příloh'!CH21","v":36},{"$f":"'Nastavení příloh'!CI21","v":41},{"$f":"'Nastavení příloh'!CJ21","v":46},{"$f":"'Nastavení příloh'!CK21","v":50},{"$f":"'Nastavení příloh'!CL21","v":55},{"$f":"'Nastavení příloh'!CM21","v":60},{"$f":"'Nastavení příloh'!CN21","v":65},{"$f":"'Nastavení příloh'!CO21","v":68},{"$f":"'Nastavení příloh'!CP21","v":70},{"$f":"'Nastavení příloh'!CQ21","v":68},{"$f":"'Nastavení příloh'!CR21","v":45}]
[null,1100,"-",1199,{"$f":"'Nastavení příloh'!F22","v":0},{"$f":"'Nastavení příloh'!G22","v":1},{"$f":"'Nastavení příloh'!H22","v":3},{"$f":"'Nastavení příloh'!I22","v":5},{"$f":"'Nastavení příloh'!J22","v":7},{"$f":"'Nastavení příloh'!K22","v":9},{"$f":"'Nastavení příloh'!L22","v":11},{"$f":"'Nastavení příloh'!M22","v":13},{"$f":"'Nastavení příloh'!N22","v":15},{"$f":"'Nastavení příloh'!O22","v":17},{"$f":"'Nastavení příloh'!P22","v":19},{"$f":"'Nastavení příloh'!Q22","v":21},{"$f":"'Nastavení příloh'!R22","v":23},{"$f":"'Nastavení příloh'!S22","v":25},{"$f":"'Nastavení příloh'!T22","v":25},{"$f":"'Nastavení příloh'!U22","v":25},{"$f":"'Nastavení příloh'!V22","v":25},{"$f":"'Nastavení příloh'!W22","v":25},{"$f":"'Nastavení příloh'!X22","v":25},null,1100,"-",1199,{"$f":"'Nastavení příloh'!AD22","v":-3},{"$f":"'Nastavení příloh'!AE22","v":-2},{"$f":"'Nastavení příloh'!AF22","v":0},{"$f":"'Nastavení příloh'!AG22","v":0},{"$f":"'Nastavení příloh'!AH22","v":0},{"$f":"'Nastavení příloh'!AI22","v":0},{"$f":"'Nastavení příloh'!AJ22","v":0},{"$f":"'Nastavení příloh'!AK22","v":0},{"$f":"'Nastavení příloh'!AL22","v":0},{"$f":"'Nastavení příloh'!AM22","v":2},{"$f":"'Nastavení příloh'!AN22","v":5},{"$f":"'Nastavení příloh'!AO22","v":8},{"$f":"'Nastavení příloh'!AP22","v":12},{"$f":"'Nastavení příloh'!AQ22","v":15},{"$f":"'Nastavení příloh'!AR22","v":18},{"$f":"'Nastavení příloh'!AS22","v":21},{"$f":"'Nastavení příloh'!AT22","v":25},{"$f":"'Nastavení příloh'!AU22","v":21},{"$f":"'Nastavení příloh'!AV22","v":18},null,1100,"-",1199,{"$f":"'Nastavení příloh'!BB22","v":0},{"$f":"'Nastavení příloh'!BC22","v":0},{"$f":"'Nastavení příloh'!BD22","v":0},{"$f":"'Nastavení příloh'!BE22","v":0},{"$f":"'Nastavení příloh'!BF22","v":0},{"$f":"'Nastavení příloh'!BG22","v":0},{"$f":"'Nastavení příloh'!BH22","v":0},{"$f":"'Nastavení příloh'!BI22","v":0},{"$f":"'Nastavení příloh'!BJ22","v":0},{"$f":"'Nastavení příloh'!BK22","v":20},{"$f":"'Nastavení příloh'!BL22","v":20},{"$f":"'Nastavení příloh'!BM22","v":20},{"$f":"'Nastavení příloh'!BN22","v":20},{"$f":"'Nastavení příloh'!BO22","v":20},{"$f":"'Nastavení příloh'!BP22","v":20},{"$f":"'Nastavení příloh'!BQ22","v":20},{"$f":"'Nastavení příloh'!BR22","v":20},{"$f":"'Nastavení příloh'!BS22","v":20},{"$f":"'Nastavení příloh'!BT22","v":0},null,1100,"-",1199,{"$f":"'Nastavení příloh'!BZ22","v":0},{"$f":"'Nastavení příloh'!CA22","v":0},{"$f":"'Nastavení příloh'!CB22","v":3},{"$f":"'Nastavení příloh'!CC22","v":5},{"$f":"'Nastavení příloh'!CD22","v":7},{"$f":"'Nastavení příloh'!CE22","v":9},{"$f":"'Nastavení příloh'!CF22","v":11},{"$f":"'Nastavení příloh'!CG22","v":13},{"$f":"'Nastavení příloh'!CH22","v":15},{"$f":"'Nastavení příloh'!CI22","v":39},{"$f":"'Nastavení příloh'!CJ22","v":44},{"$f":"'Nastavení příloh'!CK22","v":49},{"$f":"'Nastavení příloh'!CL22","v":55},{"$f":"'Nastavení příloh'!CM22","v":60},{"$f":"'Nastavení příloh'!CN22","v":63},{"$f":"'Nastavení příloh'!CO22","v":66},{"$f":"'Nastavení příloh'!CP22","v":70},{"$f":"'Nastavení příloh'!CQ22","v":66},{"$f":"'Nastavení příloh'!CR22","v":43}]
[null,1200,"-",1299,{"$f":"'Nastavení příloh'!F23","v":0},{"$f":"'Nastavení příloh'!G23","v":1},{"$f":"'Nastavení příloh'!H23","v":4},{"$f":"'Nastavení příloh'!I23","v":6},{"$f":"'Nastavení příloh'!J23","v":8},{"$f":"'Nastavení příloh'!K23","v":10},{"$f":"'Nastavení příloh'!L23","v":12},{"$f":"'Nastavení příloh'!M23","v":14},{"$f":"'Nastavení příloh'!N23","v":17},{"$f":"'Nastavení příloh'!O23","v":19},{"$f":"'Nastavení příloh'!P23","v":21},{"$f":"'Nastavení příloh'!Q23","v":23},{"$f":"'Nastavení příloh'!R23","v":25},{"$f":"'Nastavení příloh'!S23","v":25},{"$f":"'Nastavení příloh'!T23","v":25},{"$f":"'Nastavení příloh'!U23","v":25},{"$f":"'Nastavení příloh'!V23","v":25},{"$f":"'Nastavení příloh'!W23","v":25},{"$f":"'Nastavení příloh'!X23","v":25},null,1200,"-",1299,{"$f":"'Nastavení příloh'!AD23","v":-6},{"$f":"'Nastavení příloh'!AE23","v":-5},{"$f":"'Nastavení příloh'!AF23","v":-3},{"$f":"'Nastavení příloh'!AG23","v":-1},{"$f":"'Nastavení příloh'!AH23","v":0},{"$f":"'Nastavení příloh'!AI23","v":0},{"$f":"'Nastavení příloh'!AJ23","v":0},{"$f":"'Nastavení příloh'!AK23","v":0},{"$f":"'Nastavení příloh'!AL23","v":0},{"$f":"'Nastavení příloh'!AM23","v":0},{"$f":"'Nastavení příloh'!AN23","v":2},{"$f":"'Nastavení příloh'!AO23","v":6},{"$f":"'Nastavení příloh'!AP23","v":9},{"$f":"'Nastavení příloh'!AQ23","v":13},{"$f":"'Nastavení příloh'!AR23","v":16},{"$f":"'Nastavení příloh'!AS23","v":20},{"$f":"'Nastavení příloh'!AT23","v":23},{"$f":"'Nastavení příloh'!AU23","v":20},{"$f":"'Nastavení příloh'!AV23","v":16},null,1200,"-",1299,{"$f":"'Nastavení příloh'!BB23","v":0},{"$f":"'Nastavení příloh'!BC23","v":0},{"$f":"'Nastavení příloh'!BD23","v":0},{"$f":"'Nastavení příloh'!BE23","v":0},{"$f":"'Nastavení příloh'!BF23","v":0},{"$f":"'Nastavení příloh'!BG23","v":0},{"$f":"'Nastavení příloh'!BH23","v":0},{"$f":"'Nastavení příloh'!BI23","v":0},{"$f":"'Nastavení příloh'!BJ23","v":0},{"$f":"'Nastavení příloh'!BK23","v":19},{"$f":"'Nastavení příloh'!BL23","v":20},{"$f":"'Nastavení příloh'!BM23","v":20},{"$f":"'Nastavení příloh'!BN23","v":20},{"$f":"'Nastavení příloh'!BO23","v":20},{"$f":"'Nastavení příloh'!BP23","v":20},{"$f":"'Nastavení příloh'!BQ23","v":20},{"$f":"'Nastavení příloh'!BR23","v":20},{"$f":"'Nastavení příloh'!BS23","v":20},{"$f":"'Nastavení příloh'!BT23","v":0},null,1200,"-",1299,{"$f":"'Nastavení příloh'!BZ23","v":0},{"$f":"'Nastavení příloh'!CA23","v":0},{"$f":"'Nastavení příloh'!CB23","v":1},{"$f":"'Nastavení příloh'!CC23","v":5},{"$f":"'Nastavení příloh'!CD23","v":8},{"$f":"'Nastavení příloh'!CE23","v":10},{"$f":"'Nastavení příloh'!CF23","v":12},{"$f":"'Nastavení příloh'!CG23","v":14},{"$f":"'Nastavení příloh'!CH23","v":17},{"$f":"'Nastavení příloh'!CI23","v":38},{"$f":"'Nastavení příloh'!CJ23","v":43},{"$f":"'Nastavení příloh'!CK23","v":49},{"$f":"'Nastavení příloh'!CL23","v":54},{"$f":"'Nastavení příloh'!CM23","v":58},{"$f":"'Nastavení příloh'!CN23","v":61},{"$f":"'Nastavení příloh'!CO23","v":65},{"$f":"'Nastavení příloh'!CP23","v":68},{"$f":"'Nastavení příloh'!CQ23","v":65},{"$f":"'Nastavení příloh'!CR23","v":41}]
[null,1300,"-",1399,{"$f":"'Nastavení příloh'!F24","v":0},{"$f":"'Nastavení příloh'!G24","v":1},{"$f":"'Nastavení příloh'!H24","v":4},{"$f":"'Nastavení příloh'!I24","v":6},{"$f":"'Nastavení příloh'!J24","v":9},{"$f":"'Nastavení příloh'!K24","v":11},{"$f":"'Nastavení příloh'!L24","v":13},{"$f":"'Nastavení příloh'!M24","v":16},{"$f":"'Nastavení příloh'!N24","v":18},{"$f":"'Nastavení příloh'!O24","v":20},{"$f":"'Nastavení příloh'!P24","v":23},{"$f":"'Nastavení příloh'!Q24","v":25},{"$f":"'Nastavení příloh'!R24","v":25},{"$f":"'Nastavení příloh'!S24","v":25},{"$f":"'Nastavení příloh'!T24","v":25},{"$f":"'Nastavení příloh'!U24","v":25},{"$f":"'Nastavení příloh'!V24","v":25},{"$f":"'Nastavení příloh'!W24","v":25},{"$f":"'Nastavení příloh'!X24","v":25},null,1300,"-",1399,{"$f":"'Nastavení příloh'!AD24","v":-9},{"$f":"'Nastavení příloh'!AE24","v":-8},{"$f":"'Nastavení příloh'!AF24","v":-6},{"$f":"'Nastavení příloh'!AG24","v":-4},{"$f":"'Nastavení příloh'!AH24","v":-2},{"$f":"'Nastavení příloh'!AI24","v":0},{"$f":"'Nastavení příloh'!AJ24","v":0},{"$f":"'Nastavení příloh'!AK24","v":0},{"$f":"'Nastavení příloh'!AL24","v":0},{"$f":"'Nastavení příloh'!AM24","v":0},{"$f":"'Nastavení příloh'!AN24","v":0},{"$f":"'Nastavení příloh'!AO24","v":3},{"$f":"'Nastavení příloh'!AP24","v":7},{"$f":"'Nastavení příloh'!AQ24","v":11},{"$f":"'Nastavení příloh'!AR24","v":15},{"$f":"'Nastavení příloh'!AS24","v":18},{"$f":"'Nastavení příloh'!AT24","v":22},{"$f":"'Nastavení příloh'!AU24","v":18},{"$f":"'Nastavení příloh'!AV24","v":15},null,1300,"-",1399,{"$f":"'Nastavení příloh'!BB24","v":0},{"$f":"'Nastavení příloh'!BC24","v":0},{"$f":"'Nastavení příloh'!BD24","v":0},{"$f":"'Nastavení příloh'!BE24","v":0},{"$f":"'Nastavení příloh'!BF24","v":0},{"$f":"'Nastavení příloh'!BG24","v":0},{"$f":"'Nastavení příloh'!BH24","v":0},{"$f":"'Nastavení příloh'!BI24","v":0},{"$f":"'Nastavení příloh'!BJ24","v":0},{"$f":"'Nastavení příloh'!BK24","v":0},{"$f":"'Nastavení příloh'!BL24","v":19},{"$f":"'Nastavení příloh'!BM24","v":20},{"$f":"'Nastavení příloh'!BN24","v":20},{"$f":"'Nastavení příloh'!BO24","v":20},{"$f":"'Nastavení příloh'!BP24","v":20},{"$f":"'Nastavení příloh'!BQ24","v":20},{"$f":"'Nastavení příloh'!BR24","v":20},{"$f":"'Nastavení příloh'!BS24","v":19},{"$f":"'Nastavení příloh'!BT24","v":0},null,1300,"-",1399,{"$f":"'Nastavení příloh'!BZ24","v":0},{"$f":"'Nastavení příloh'!CA24","v":0},{"$f":"'Nastavení příloh'!CB24","v":0},{"$f":"'Nastavení příloh'!CC24","v":2},{"$f":"'Nastavení příloh'!CD24","v":7},{"$f":"'Nastavení příloh'!CE24","v":11},{"$f":"'Nastavení příloh'!CF24","v":13},{"$f":"'Nastavení příloh'!CG24","v":16},{"$f":"'Nastavení příloh'!CH24","v":18},{"$f":"'Nastavení příloh'!CI24","v":20},{"$f":"'Nastavení příloh'!CJ24","v":42},{"$f":"'Nastavení příloh'!CK24","v":48},{"$f":"'Nastavení příloh'!CL24","v":52},{"$f":"'Nastavení příloh'!CM24","v":56},{"$f":"'Nastavení příloh'!CN24","v":60},{"$f":"'Nastavení příloh'!CO24","v":63},{"$f":"'Nastavení příloh'!CP24","v":67},{"$f":"'Nastavení příloh'!CQ24","v":62},{"$f":"'Nastavení příloh'!CR24","v":40}]
[null,1400,"-",1499,{"$f":"'Nastavení příloh'!F25","v":0},{"$f":"'Nastavení příloh'!G25","v":2},{"$f":"'Nastavení příloh'!H25","v":4},{"$f":"'Nastavení příloh'!I25","v":7},{"$f":"'Nastavení příloh'!J25","v":9},{"$f":"'Nastavení příloh'!K25","v":12},{"$f":"'Nastavení příloh'!L25","v":14},{"$f":"'Nastavení příloh'!M25","v":17},{"$f":"'Nastavení příloh'!N25","v":19},{"$f":"'Nastavení příloh'!O25","v":22},{"$f":"'Nastavení příloh'!P25","v":24},{"$f":"'Nastavení příloh'!Q25","v":25},{"$f":"'Nastavení příloh'!R25","v":25},{"$f":"'Nastavení příloh'!S25","v":25},{"$f":"'Nastavení příloh'!T25","v":25},{"$f":"'Nastavení příloh'!U25","v":25},{"$f":"'Nastavení příloh'!V25","v":25},{"$f":"'Nastavení příloh'!W25","v":25},{"$f":"'Nastavení příloh'!X25","v":25},null,1400,"-",1499,{"$f":"'Nastavení příloh'!AD25","v":-12},{"$f":"'Nastavení příloh'!AE25","v":-10},{"$f":"'Nastavení příloh'!AF25","v":-8},{"$f":"'Nastavení příloh'!AG25","v":-6},{"$f":"'Nastavení příloh'!AH25","v":-4},{"$f":"'Nastavení příloh'!AI25","v":-2},{"$f":"'Nastavení příloh'!AJ25","v":0},{"$f":"'Nastavení příloh'!AK25","v":0},{"$f":"'Nastavení příloh'!AL25","v":0},{"$f":"'Nastavení příloh'!AM25","v":0},{"$f":"'Nastavení příloh'!AN25","v":0},{"$f":"'Nastavení příloh'!AO25","v":0},{"$f":"'Nastavení příloh'!AP25","v":4},{"$f":"'Nastavení příloh'!AQ25","v":9},{"$f":"'Nastavení příloh'!AR25","v":13},{"$f":"'Nastavení příloh'!AS25","v":17},{"$f":"'Nastavení příloh'!AT25","v":21},{"$f":"'Nastavení příloh'!AU25","v":17},{"$f":"'Nastavení příloh'!AV25","v":13},null,1400,"-",1499,{"$f":"'Nastavení příloh'!BB25","v":0},{"$f":"'Nastavení příloh'!BC25","v":0},{"$f":"'Nastavení příloh'!BD25","v":0},{"$f":"'Nastavení příloh'!BE25","v":0},{"$f":"'Nastavení příloh'!BF25","v":0},{"$f":"'Nastavení příloh'!BG25","v":0},{"$f":"'Nastavení příloh'!BH25","v":0},{"$f":"'Nastavení příloh'!BI25","v":0},{"$f":"'Nastavení příloh'!BJ25","v":0},{"$f":"'Nastavení příloh'!BK25","v":0},{"$f":"'Nastavení příloh'!BL25","v":16},{"$f":"'Nastavení příloh'!BM25","v":20},{"$f":"'Nastavení příloh'!BN25","v":20},{"$f":"'Nastavení příloh'!BO25","v":20},{"$f":"'Nastavení příloh'!BP25","v":20},{"$f":"'Nastavení příloh'!BQ25","v":20},{"$f":"'Nastavení příloh'!BR25","v":19},{"$f":"'Nastavení příloh'!BS25","v":0},{"$f":"'Nastavení příloh'!BT25","v":0},null,1400,"-",1499,{"$f":"'Nastavení příloh'!BZ25","v":0},{"$f":"'Nastavení příloh'!CA25","v":0},{"$f":"'Nastavení příloh'!CB25","v":0},{"$f":"'Nastavení příloh'!CC25","v":1},{"$f":"'Nastavení příloh'!CD25","v":5},{"$f":"'Nastavení příloh'!CE25","v":10},{"$f":"'Nastavení příloh'!CF25","v":14},{"$f":"'Nastavení příloh'!CG25","v":17},{"$f":"'Nastavení příloh'!CH25","v":19},{"$f":"'Nastavení příloh'!CI25","v":22},{"$f":"'Nastavení příloh'!CJ25","v":40},{"$f":"'Nastavení příloh'!CK25","v":45},{"$f":"'Nastavení příloh'!CL25","v":49},{"$f":"'Nastavení příloh'!CM25","v":54},{"$f":"'Nastavení příloh'!CN25","v":58},{"$f":"'Nastavení příloh'!CO25","v":62},{"$f":"'Nastavení příloh'!CP25","v":65},{"$f":"'Nastavení příloh'!CQ25","v":42},{"$f":"'Nastavení příloh'!CR25","v":38}]
[null,1500,"-",1599,{"$f":"'Nastavení příloh'!F26","v":0},{"$f":"'Nastavení příloh'!G26","v":2},{"$f":"'Nastavení příloh'!H26","v":4},{"$f":"'Nastavení příloh'!I26","v":7},{"$f":"'Nastavení příloh'!J26","v":10},{"$f":"'Nastavení příloh'!K26","v":12},{"$f":"'Nastavení příloh'!L26","v":15},{"$f":"'Nastavení příloh'!M26","v":18},{"$f":"'Nastavení příloh'!N26","v":21},{"$f":"'Nastavení příloh'!O26","v":23},{"$f":"'Nastavení příloh'!P26","v":25},{"$f":"'Nastavení příloh'!Q26","v":25},{"$f":"'Nastavení příloh'!R26","v":25},{"$f":"'Nastavení příloh'!S26","v":25},{"$f":"'Nastavení příloh'!T26","v":25},{"$f":"'Nastavení příloh'!U26","v":25},{"$f":"'Nastavení příloh'!V26","v":25},{"$f":"'Nastavení příloh'!W26","v":25},{"$f":"'Nastavení příloh'!X26","v":25},null,1500,"-",1599,{"$f":"'Nastavení příloh'!AD26","v":-13},{"$f":"'Nastavení příloh'!AE26","v":-13},{"$f":"'Nastavení příloh'!AF26","v":-11},{"$f":"'Nastavení příloh'!AG26","v":-9},{"$f":"'Nastavení příloh'!AH26","v":-7},{"$f":"'Nastavení příloh'!AI26","v":-4},{"$f":"'Nastavení příloh'!AJ26","v":-2},{"$f":"'Nastavení příloh'!AK26","v":0},{"$f":"'Nastavení příloh'!AL26","v":0},{"$f":"'Nastavení příloh'!AM26","v":0},{"$f":"'Nastavení příloh'!AN26","v":0},{"$f":"'Nastavení příloh'!AO26","v":0},{"$f":"'Nastavení příloh'!AP26","v":2},{"$f":"'Nastavení příloh'!AQ26","v":7},{"$f":"'Nastavení příloh'!AR26","v":11},{"$f":"'Nastavení příloh'!AS26","v":15},{"$f":"'Nastavení příloh'!AT26","v":20},{"$f":"'Nastavení příloh'!AU26","v":15},{"$f":"'Nastavení příloh'!AV26","v":11},null,1500,"-",1599,{"$f":"'Nastavení příloh'!BB26","v":0},{"$f":"'Nastavení příloh'!BC26","v":0},{"$f":"'Nastavení příloh'!BD26","v":0},{"$f":"'Nastavení příloh'!BE26","v":0},{"$f":"'Nastavení příloh'!BF26","v":0},{"$f":"'Nastavení příloh'!BG26","v":0},{"$f":"'Nastavení příloh'!BH26","v":0},{"$f":"'Nastavení příloh'!BI26","v":0},{"$f":"'Nastavení příloh'!BJ26","v":0},{"$f":"'Nastavení příloh'!BK26","v":0},{"$f":"'Nastavení příloh'!BL26","v":0},{"$f":"'Nastavení příloh'!BM26","v":18},{"$f":"'Nastavení příloh'!BN26","v":20},{"$f":"'Nastavení příloh'!BO26","v":20},{"$f":"'Nastavení příloh'!BP26","v":20},{"$f":"'Nastavení příloh'!BQ26","v":19},{"$f":"'Nastavení příloh'!BR26","v":17},{"$f":"'Nastavení příloh'!BS26","v":0},{"$f":"'Nastavení příloh'!BT26","v":0},null,1500,"-",1599,{"$f":"'Nastavení příloh'!BZ26","v":0},{"$f":"'Nastavení příloh'!CA26","v":0},{"$f":"'Nastavení příloh'!CB26","v":0},{"$f":"'Nastavení příloh'!CC26","v":0},{"$f":"'Nastavení příloh'!CD26","v":3},{"$f":"'Nastavení příloh'!CE26","v":8},{"$f":"'Nastavení příloh'!CF26","v":13},{"$f":"'Nastavení příloh'!CG26","v":18},{"$f":"'Nastavení příloh'!CH26","v":21},{"$f":"'Nastavení příloh'!CI26","v":23},{"$f":"'Nastavení příloh'!CJ26","v":25},{"$f":"'Nastavení příloh'!CK26","v":43},{"$f":"'Nastavení příloh'!CL26","v":47},{"$f":"'Nastavení příloh'!CM26","v":52},{"$f":"'Nastavení příloh'!CN26","v":56},{"$f":"'Nastavení příloh'!CO26","v":59},{"$f":"'Nastavení příloh'!CP26","v":62},{"$f":"'Nastavení příloh'!CQ26","v":40},{"$f":"'Nastavení příloh'!CR26","v":36}]
[null,1600,"-",1699,{"$f":"'Nastavení příloh'!F27","v":0},{"$f":"'Nastavení příloh'!G27","v":2},{"$f":"'Nastavení příloh'!H27","v":5},{"$f":"'Nastavení příloh'!I27","v":8},{"$f":"'Nastavení příloh'!J27","v":10},{"$f":"'Nastavení příloh'!K27","v":13},{"$f":"'Nastavení příloh'!L27","v":16},{"$f":"'Nastavení příloh'!M27","v":19},{"$f":"'Nastavení příloh'!N27","v":22},{"$f":"'Nastavení příloh'!O27","v":25},{"$f":"'Nastavení příloh'!P27","v":25},{"$f":"'Nastavení příloh'!Q27","v":25},{"$f":"'Nastavení příloh'!R27","v":25},{"$f":"'Nastavení příloh'!S27","v":25},{"$f":"'Nastavení příloh'!T27","v":25},{"$f":"'Nastavení příloh'!U27","v":25},{"$f":"'Nastavení příloh'!V27","v":25},{"$f":"'Nastavení příloh'!W27","v":25},{"$f":"'Nastavení příloh'!X27","v":25},null,1600,"-",1699,{"$f":"'Nastavení příloh'!AD27","v":-13},{"$f":"'Nastavení příloh'!AE27","v":-13},{"$f":"'Nastavení příloh'!AF27","v":-13},{"$f":"'Nastavení příloh'!AG27","v":-11},{"$f":"'Nastavení příloh'!AH27","v":-9},{"$f":"'Nastavení příloh'!AI27","v":-6},{"$f":"'Nastavení příloh'!AJ27","v":-4},{"$f":"'Nastavení příloh'!AK27","v":-2},{"$f":"'Nastavení příloh'!AL27","v":0},{"$f":"'Nastavení příloh'!AM27","v":0},{"$f":"'Nastavení příloh'!AN27","v":0},{"$f":"'Nastavení příloh'!AO27","v":0},{"$f":"'Nastavení příloh'!AP27","v":0},{"$f":"'Nastavení příloh'!AQ27","v":4},{"$f":"'Nastavení příloh'!AR27","v":9},{"$f":"'Nastavení příloh'!AS27","v":14},{"$f":"'Nastavení příloh'!AT27","v":18},{"$f":"'Nastavení příloh'!AU27","v":14},{"$f":"'Nastavení příloh'!AV27","v":9},null,1600,"-",1699,{"$f":"'Nastavení příloh'!BB27","v":0},{"$f":"'Nastavení příloh'!BC27","v":0},{"$f":"'Nastavení příloh'!BD27","v":0},{"$f":"'Nastavení příloh'!BE27","v":0},{"$f":"'Nastavení příloh'!BF27","v":0},{"$f":"'Nastavení příloh'!BG27","v":0},{"$f":"'Nastavení příloh'!BH27","v":0},{"$f":"'Nastavení příloh'!BI27","v":0},{"$f":"'Nastavení příloh'!BJ27","v":0},{"$f":"'Nastavení příloh'!BK27","v":0},{"$f":"'Nastavení příloh'!BL27","v":0},{"$f":"'Nastavení příloh'!BM27","v":15},{"$f":"'Nastavení příloh'!BN27","v":20},{"$f":"'Nastavení příloh'!BO27","v":20},{"$f":"'Nastavení příloh'!BP27","v":19},{"$f":"'Nastavení příloh'!BQ27","v":17},{"$f":"'Nastavení příloh'!BR27","v":0},{"$f":"'Nastavení příloh'!BS27","v":0},{"$f":"'Nastavení příloh'!BT27","v":0},null,1600,"-",1699,{"$f":"'Nastavení příloh'!BZ27","v":0},{"$f":"'Nastavení příloh'!CA27","v":0},{"$f":"'Nastavení příloh'!CB27","v":0},{"$f":"'Nastavení příloh'!CC27","v":0},{"$f":"'Nastavení příloh'!CD27","v":1},{"$f":"'Nastavení příloh'!CE27","v":7},{"$f":"'Nastavení příloh'!CF27","v":12},{"$f":"'Nastavení příloh'!CG27","v":17},{"$f":"'Nastavení příloh'!CH27","v":22},{"$f":"'Nastavení příloh'!CI27","v":25},{"$f":"'Nastavení příloh'!CJ27","v":25},{"$f":"'Nastavení příloh'!CK27","v":40},{"$f":"'Nastavení příloh'!CL27","v":45},{"$f":"'Nastavení příloh'!CM27","v":49},{"$f":"'Nastavení příloh'!CN27","v":53},{"$f":"'Nastavení příloh'!CO27","v":56},{"$f":"'Nastavení příloh'!CP27","v":43},{"$f":"'Nastavení příloh'!CQ27","v":39},{"$f":"'Nastavení příloh'!CR27","v":34}]
[null,1700,"-",1799,{"$f":"'Nastavení příloh'!F28","v":0},{"$f":"'Nastavení příloh'!G28","v":2},{"$f":"'Nastavení příloh'!H28","v":5},{"$f":"'Nastavení příloh'!I28","v":8},{"$f":"'Nastavení příloh'!J28","v":11},{"$f":"'Nastavení příloh'!K28","v":14},{"$f":"'Nastavení příloh'!L28","v":17},{"$f":"'Nastavení příloh'!M28","v":20},{"$f":"'Nastavení příloh'!N28","v":23},{"$f":"'Nastavení příloh'!O28","v":25},{"$f":"'Nastavení příloh'!P28","v":25},{"$f":"'Nastavení příloh'!Q28","v":25},{"$f":"'Nastavení příloh'!R28","v":25},{"$f":"'Nastavení příloh'!S28","v":25},{"$f":"'Nastavení příloh'!T28","v":25},{"$f":"'Nastavení příloh'!U28","v":25},{"$f":"'Nastavení příloh'!V28","v":25},{"$f":"'Nastavení příloh'!W28","v":25},{"$f":"'Nastavení příloh'!X28","v":25},null,1700,"-",1799,{"$f":"'Nastavení příloh'!AD28","v":-13},{"$f":"'Nastavení příloh'!AE28","v":-13},{"$f":"'Nastavení příloh'!AF28","v":-13},{"$f":"'Nastavení příloh'!AG28","v":-13},{"$f":"'Nastavení příloh'!AH28","v":-11},{"$f":"'Nastavení příloh'!AI28","v":-9},{"$f":"'Nastavení příloh'!AJ28","v":-6},{"$f":"'Nastavení příloh'!AK28","v":-4},{"$f":"'Nastavení příloh'!AL28","v":-1},{"$f":"'Nastavení příloh'!AM28","v":0},{"$f":"'Nastavení příloh'!AN28","v":0},{"$f":"'Nastavení příloh'!AO28","v":0},{"$f":"'Nastavení příloh'!AP28","v":0},{"$f":"'Nastavení příloh'!AQ28","v":2},{"$f":"'Nastavení příloh'!AR28","v":7},{"$f":"'Nastavení příloh'!AS28","v":12},{"$f":"'Nastavení příloh'!AT28","v":17},{"$f":"'Nastavení příloh'!AU28","v":12},{"$f":"'Nastavení příloh'!AV28","v":7},null,1700,"-",1799,{"$f":"'Nastavení příloh'!BB28","v":0},{"$f":"'Nastavení příloh'!BC28","v":0},{"$f":"'Nastavení příloh'!BD28","v":0},{"$f":"'Nastavení příloh'!BE28","v":0},{"$f":"'Nastavení příloh'!BF28","v":0},{"$f":"'Nastavení příloh'!BG28","v":0},{"$f":"'Nastavení příloh'!BH28","v":0},{"$f":"'Nastavení příloh'!BI28","v":0},{"$f":"'Nastavení příloh'!BJ28","v":0},{"$f":"'Nastavení příloh'!BK28","v":0},{"$f":"'Nastavení příloh'!BL28","v":0},{"$f":"'Nastavení příloh'!BM28","v":0},{"$f":"'Nastavení příloh'!BN28","v":17},{"$f":"'Nastavení příloh'!BO28","v":19},{"$f":"'Nastavení příloh'!BP28","v":17},{"$f":"'Nastavení příloh'!BQ28","v":0},{"$f":"'Nastavení příloh'!BR28","v":0},{"$f":"'Nastavení příloh'!BS28","v":0},{"$f":"'Nastavení příloh'!BT28","v":0},null,1700,"-",1799,{"$f":"'Nastavení příloh'!BZ28","v":0},{"$f":"'Nastavení příloh'!CA28","v":0},{"$f":"'Nastavení příloh'!CB28","v":0},{"$f":"'Nastavení příloh'!CC28","v":0},{"$f":"'Nastavení příloh'!CD28","v":0},{"$f":"'Nastavení příloh'!CE28","v":5},{"$f":"'Nastavení příloh'!CF28","v":11},{"$f":"'Nastavení příloh'!CG28","v":16},{"$f":"'Nastavení příloh'!CH28","v":22},{"$f":"'Nastavení příloh'!CI28","v":25},{"$f":"'Nastavení příloh'!CJ28","v":25},{"$f":"'Nastavení příloh'!CK28","v":25},{"$f":"'Nastavení příloh'!CL28","v":42},{"$f":"'Nastavení příloh'!CM28","v":46},{"$f":"'Nastavení příloh'!CN28","v":49},{"$f":"'Nastavení příloh'!CO28","v":37},{"$f":"'Nastavení příloh'!CP28","v":42},{"$f":"'Nastavení příloh'!CQ28","v":37},{"$f":"'Nastavení příloh'!CR28","v":32}]
[null,1800,"-",1899,{"$f":"'Nastavení příloh'!F29","v":0},{"$f":"'Nastavení příloh'!G29","v":2},{"$f":"'Nastavení příloh'!H29","v":5},{"$f":"'Nastavení příloh'!I29","v":8},{"$f":"'Nastavení příloh'!J29","v":12},{"$f":"'Nastavení příloh'!K29","v":15},{"$f":"'Nastavení příloh'!L29","v":18},{"$f":"'Nastavení příloh'!M29","v":21},{"$f":"'Nastavení příloh'!N29","v":25},{"$f":"'Nastavení příloh'!O29","v":25},{"$f":"'Nastavení příloh'!P29","v":25},{"$f":"'Nastavení příloh'!Q29","v":25},{"$f":"'Nastavení příloh'!R29","v":25},{"$f":"'Nastavení příloh'!S29","v":25},{"$f":"'Nastavení příloh'!T29","v":25},{"$f":"'Nastavení příloh'!U29","v":25},{"$f":"'Nastavení příloh'!V29","v":25},{"$f":"'Nastavení příloh'!W29","v":25},{"$f":"'Nastavení příloh'!X29","v":25},null,1800,"-",1899,{"$f":"'Nastavení příloh'!AD29","v":-13},{"$f":"'Nastavení příloh'!AE29","v":-13},{"$f":"'Nastavení příloh'!AF29","v":-13},{"$f":"'Nastavení příloh'!AG29","v":-13},{"$f":"'Nastavení příloh'!AH29","v":-13},{"$f":"'Nastavení příloh'!AI29","v":-11},{"$f":"'Nastavení příloh'!AJ29","v":-8},{"$f":"'Nastavení příloh'!AK29","v":-6},{"$f":"'Nastavení příloh'!AL29","v":-3},{"$f":"'Nastavení příloh'!AM29","v":0},{"$f":"'Nastavení příloh'!AN29","v":0},{"$f":"'Nastavení příloh'!AO29","v":0},{"$f":"'Nastavení příloh'!AP29","v":0},{"$f":"'Nastavení příloh'!AQ29","v":0},{"$f":"'Nastavení příloh'!AR29","v":5},{"$f":"'Nastavení příloh'!AS29","v":11},{"$f":"'Nastavení příloh'!AT29","v":16},{"$f":"'Nastavení příloh'!AU29","v":11},{"$f":"'Nastavení příloh'!AV29","v":5},null,1800,"-",1899,{"$f":"'Nastavení příloh'!BB29","v":0},{"$f":"'Nastavení příloh'!BC29","v":0},{"$f":"'Nastavení příloh'!BD29","v":0},{"$f":"'Nastavení příloh'!BE29","v":0},{"$f":"'Nastavení příloh'!BF29","v":0},{"$f":"'Nastavení příloh'!BG29","v":0},{"$f":"'Nastavení příloh'!BH29","v":0},{"$f":"'Nastavení příloh'!BI29","v":0},{"$f":"'Nastavení příloh'!BJ29","v":0},{"$f":"'Nastavení příloh'!BK29","v":0},{"$f":"'Nastavení příloh'!BL29","v":0},{"$f":"'Nastavení příloh'!BM29","v":0},{"$f":"'Nastavení příloh'!BN29","v":0},{"$f":"'Nastavení příloh'!BO29","v":0},{"$f":"'Nastavení příloh'!BP29","v":0},{"$f":"'Nastavení příloh'!BQ29","v":0},{"$f":"'Nastavení příloh'!BR29","v":0},{"$f":"'Nastavení příloh'!BS29","v":0},{"$f":"'Nastavení příloh'!BT29","v":0},null,1800,"-",1899,{"$f":"'Nastavení příloh'!BZ29","v":0},{"$f":"'Nastavení příloh'!CA29","v":0},{"$f":"'Nastavení příloh'!CB29","v":0},{"$f":"'Nastavení příloh'!CC29","v":0},{"$f":"'Nastavení příloh'!CD29","v":0},{"$f":"'Nastavení příloh'!CE29","v":4},{"$f":"'Nastavení příloh'!CF29","v":10},{"$f":"'Nastavení příloh'!CG29","v":15},{"$f":"'Nastavení příloh'!CH29","v":22},{"$f":"'Nastavení příloh'!CI29","v":25},{"$f":"'Nastavení příloh'!CJ29","v":25},{"$f":"'Nastavení příloh'!CK29","v":25},{"$f":"'Nastavení příloh'!CL29","v":25},{"$f":"'Nastavení příloh'!CM29","v":25},{"$f":"'Nastavení příloh'!CN29","v":30},{"$f":"'Nastavení příloh'!CO29","v":36},{"$f":"'Nastavení příloh'!CP29","v":41},{"$f":"'Nastavení příloh'!CQ29","v":36},{"$f":"'Nastavení příloh'!CR29","v":30}]
[null,1900,"-",1999,{"$f":"'Nastavení příloh'!F30","v":0},{"$f":"'Nastavení příloh'!G30","v":2},{"$f":"'Nastavení příloh'!H30","v":5},{"$f":"'Nastavení příloh'!I30","v":9},{"$f":"'Nastavení příloh'!J30","v":12},{"$f":"'Nastavení příloh'!K30","v":16},{"$f":"'Nastavení příloh'!L30","v":19},{"$f":"'Nastavení příloh'!M30","v":23},{"$f":"'Nastavení příloh'!N30","v":25},{"$f":"'Nastavení příloh'!O30","v":25},{"$f":"'Nastavení příloh'!P30","v":25},{"$f":"'Nastavení příloh'!Q30","v":25},{"$f":"'Nastavení příloh'!R30","v":25},{"$f":"'Nastavení příloh'!S30","v":25},{"$f":"'Nastavení příloh'!T30","v":25},{"$f":"'Nastavení příloh'!U30","v":25},{"$f":"'Nastavení příloh'!V30","v":25},{"$f":"'Nastavení příloh'!W30","v":25},{"$f":"'Nastavení příloh'!X30","v":25},null,1900,"-",1999,{"$f":"'Nastavení příloh'!AD30","v":-13},{"$f":"'Nastavení příloh'!AE30","v":-13},{"$f":"'Nastavení příloh'!AF30","v":-13},{"$f":"'Nastavení příloh'!AG30","v":-13},{"$f":"'Nastavení příloh'!AH30","v":-13},{"$f":"'Nastavení příloh'!AI30","v":-13},{"$f":"'Nastavení příloh'!AJ30","v":-10},{"$f":"'Nastavení příloh'!AK30","v":-8},{"$f":"'Nastavení příloh'!AL30","v":-5},{"$f":"'Nastavení příloh'!AM30","v":-2},{"$f":"'Nastavení příloh'!AN30","v":0},{"$f":"'Nastavení příloh'!AO30","v":0},{"$f":"'Nastavení příloh'!AP30","v":0},{"$f":"'Nastavení příloh'!AQ30","v":0},{"$f":"'Nastavení příloh'!AR30","v":4},{"$f":"'Nastavení příloh'!AS30","v":9},{"$f":"'Nastavení příloh'!AT30","v":15},{"$f":"'Nastavení příloh'!AU30","v":9},{"$f":"'Nastavení příloh'!AV30","v":4},null,1900,"-",1999,{"$f":"'Nastavení příloh'!BB30","v":0},{"$f":"'Nastavení příloh'!BC30","v":0},{"$f":"'Nastavení příloh'!BD30","v":0},{"$f":"'Nastavení příloh'!BE30","v":0},{"$f":"'Nastavení příloh'!BF30","v":0},{"$f":"'Nastavení příloh'!BG30","v":0},{"$f":"'Nastavení příloh'!BH30","v":0},{"$f":"'Nastavení příloh'!BI30","v":0},{"$f":"'Nastavení příloh'!BJ30","v":0},{"$f":"'Nastavení příloh'!BK30","v":0},{"$f":"'Nastavení příloh'!BL30","v":0},{"$f":"'Nastavení příloh'!BM30","v":0},{"$f":"'Nastavení příloh'!BN30","v":0},{"$f":"'Nastavení příloh'!BO30","v":0},{"$f":"'Nastavení příloh'!BP30","v":0},{"$f":"'Nastavení příloh'!BQ30","v":0},{"$f":"'Nastavení příloh'!BR30","v":0},{"$f":"'Nastavení příloh'!BS30","v":0},{"$f":"'Nastavení příloh'!BT30","v":0},null,1900,"-",1999,{"$f":"'Nastavení příloh'!BZ30","v":0},{"$f":"'Nastavení příloh'!CA30","v":0},{"$f":"'Nastavení příloh'!CB30","v":0},{"$f":"'Nastavení příloh'!CC30","v":0},{"$f":"'Nastavení příloh'!CD30","v":0},{"$f":"'Nastavení příloh'!CE30","v":3},{"$f":"'Nastavení příloh'!CF30","v":9},{"$f":"'Nastavení příloh'!CG30","v":15},{"$f":"'Nastavení příloh'!CH30","v":20},{"$f":"'Nastavení příloh'!CI30","v":23},{"$f":"'Nastavení příloh'!CJ30","v":25},{"$f":"'Nastavení příloh'!CK30","v":25},{"$f":"'Nastavení příloh'!CL30","v":25},{"$f":"'Nastavení příloh'!CM30","v":25},{"$f":"'Nastavení příloh'!CN30","v":29},{"$f":"'Nastavení příloh'!CO30","v":34},{"$f":"'Nastavení příloh'!CP30","v":40},{"$f":"'Nastavení příloh'!CQ30","v":34},{"$f":"'Nastavení příloh'!CR30","v":29}]
[null,2000,"-",2099,{"$f":"'Nastavení příloh'!F31","v":0},{"$f":"'Nastavení příloh'!G31","v":2},{"$f":"'Nastavení příloh'!H31","v":6},{"$f":"'Nastavení příloh'!I31","v":9},{"$f":"'Nastavení příloh'!J31","v":13},{"$f":"'Nastavení příloh'!K31","v":17},{"$f":"'Nastavení příloh'!L31","v":20},{"$f":"'Nastavení příloh'!M31","v":24},{"$f":"'Nastavení příloh'!N31","v":25},{"$f":"'Nastavení příloh'!O31","v":25},{"$f":"'Nastavení příloh'!P31","v":25},{"$f":"'Nastavení příloh'!Q31","v":25},{"$f":"'Nastavení příloh'!R31","v":25},{"$f":"'Nastavení příloh'!S31","v":25},{"$f":"'Nastavení příloh'!T31","v":25},{"$f":"'Nastavení příloh'!U31","v":25},{"$f":"'Nastavení příloh'!V31","v":25},{"$f":"'Nastavení příloh'!W31","v":25},{"$f":"'Nastavení příloh'!X31","v":25},null,2000,"-",2099,{"$f":"'Nastavení příloh'!AD31","v":-13},{"$f":"'Nastavení příloh'!AE31","v":-13},{"$f":"'Nastavení příloh'!AF31","v":-13},{"$f":"'Nastavení příloh'!AG31","v":-13},{"$f":"'Nastavení příloh'!AH31","v":-13},{"$f":"'Nastavení příloh'!AI31","v":-13},{"$f":"'Nastavení příloh'!AJ31","v":-12},{"$f":"'Nastavení příloh'!AK31","v":-9},{"$f":"'Nastavení příloh'!AL31","v":-7},{"$f":"'Nastavení příloh'!AM31","v":-4},{"$f":"'Nastavení příloh'!AN31","v":-1},{"$f":"'Nastavení příloh'!AO31","v":0},{"$f":"'Nastavení příloh'!AP31","v":0},{"$f":"'Nastavení příloh'!AQ31","v":0},{"$f":"'Nastavení příloh'!AR31","v":2},{"$f":"'Nastavení příloh'!AS31","v":8},{"$f":"'Nastavení příloh'!AT31","v":13},{"$f":"'Nastavení příloh'!AU31","v":8},{"$f":"'Nastavení příloh'!AV31","v":2},null,2000,"-",2099,{"$f":"'Nastavení příloh'!BB31","v":0},{"$f":"'Nastavení příloh'!BC31","v":0},{"$f":"'Nastavení příloh'!BD31","v":0},{"$f":"'Nastavení příloh'!BE31","v":0},{"$f":"'Nastavení příloh'!BF31","v":0},{"$f":"'Nastavení příloh'!BG31","v":0},{"$f":"'Nastavení příloh'!BH31","v":0},{"$f":"'Nastavení příloh'!BI31","v":0},{"$f":"'Nastavení příloh'!BJ31","v":0},{"$f":"'Nastavení příloh'!BK31","v":0},{"$f":"'Nastavení příloh'!BL31","v":0},{"$f":"'Nastavení příloh'!BM31","v":0},{"$f":"'Nastavení příloh'!BN31","v":0},{"$f":"'Nastavení příloh'!BO31","v":0},{"$f":"'Nastavení příloh'!BP31","v":0},{"$f":"'Nastavení příloh'!BQ31","v":0},{"$f":"'Nastavení příloh'!BR31","v":0},{"$f":"'Nastavení příloh'!BS31","v":0},{"$f":"'Nastavení příloh'!BT31","v":0},null,2000,"-",2099,{"$f":"'Nastavení příloh'!BZ31","v":0},{"$f":"'Nastavení příloh'!CA31","v":0},{"$f":"'Nastavení příloh'!CB31","v":0},{"$f":"'Nastavení příloh'!CC31","v":0},{"$f":"'Nastavení příloh'!CD31","v":0},{"$f":"'Nastavení příloh'!CE31","v":4},{"$f":"'Nastavení příloh'!CF31","v":8},{"$f":"'Nastavení příloh'!CG31","v":15},{"$f":"'Nastavení příloh'!CH31","v":18},{"$f":"'Nastavení příloh'!CI31","v":21},{"$f":"'Nastavení příloh'!CJ31","v":24},{"$f":"'Nastavení příloh'!CK31","v":25},{"$f":"'Nastavení příloh'!CL31","v":25},{"$f":"'Nastavení příloh'!CM31","v":25},{"$f":"'Nastavení příloh'!CN31","v":27},{"$f":"'Nastavení příloh'!CO31","v":33},{"$f":"'Nastavení příloh'!CP31","v":38},{"$f":"'Nastavení příloh'!CQ31","v":33},{"$f":"'Nastavení příloh'!CR31","v":27}]
[null,2100,"-",2199,{"$f":"'Nastavení příloh'!F32","v":0},{"$f":"'Nastavení příloh'!G32","v":2},{"$f":"'Nastavení příloh'!H32","v":6},{"$f":"'Nastavení příloh'!I32","v":10},{"$f":"'Nastavení příloh'!J32","v":14},{"$f":"'Nastavení příloh'!K32","v":17},{"$f":"'Nastavení příloh'!L32","v":21},{"$f":"'Nastavení příloh'!M32","v":25},{"$f":"'Nastavení příloh'!N32","v":25},{"$f":"'Nastavení příloh'!O32","v":25},{"$f":"'Nastavení příloh'!P32","v":25},{"$f":"'Nastavení příloh'!Q32","v":25},{"$f":"'Nastavení příloh'!R32","v":25},{"$f":"'Nastavení příloh'!S32","v":25},{"$f":"'Nastavení příloh'!T32","v":25},{"$f":"'Nastavení příloh'!U32","v":25},{"$f":"'Nastavení příloh'!V32","v":25},{"$f":"'Nastavení příloh'!W32","v":25},{"$f":"'Nastavení příloh'!X32","v":25},null,2100,"-",2199,{"$f":"'Nastavení příloh'!AD32","v":-13},{"$f":"'Nastavení příloh'!AE32","v":-13},{"$f":"'Nastavení příloh'!AF32","v":-13},{"$f":"'Nastavení příloh'!AG32","v":-13},{"$f":"'Nastavení příloh'!AH32","v":-13},{"$f":"'Nastavení příloh'!AI32","v":-13},{"$f":"'Nastavení příloh'!AJ32","v":-13},{"$f":"'Nastavení příloh'!AK32","v":-11},{"$f":"'Nastavení příloh'!AL32","v":-8},{"$f":"'Nastavení příloh'!AM32","v":-5},{"$f":"'Nastavení příloh'!AN32","v":-2},{"$f":"'Nastavení příloh'!AO32","v":0},{"$f":"'Nastavení příloh'!AP32","v":0},{"$f":"'Nastavení příloh'!AQ32","v":0},{"$f":"'Nastavení příloh'!AR32","v":0},{"$f":"'Nastavení příloh'!AS32","v":6},{"$f":"'Nastavení příloh'!AT32","v":12},{"$f":"'Nastavení příloh'!AU32","v":6},{"$f":"'Nastavení příloh'!AV32","v":0},null,2100,"-",2199,{"$f":"'Nastavení příloh'!BB32","v":0},{"$f":"'Nastavení příloh'!BC32","v":0},{"$f":"'Nastavení příloh'!BD32","v":0},{"$f":"'Nastavení příloh'!BE32","v":0},{"$f":"'Nastavení příloh'!BF32","v":0},{"$f":"'Nastavení příloh'!BG32","v":0},{"$f":"'Nastavení příloh'!BH32","v":0},{"$f":"'Nastavení příloh'!BI32","v":0},{"$f":"'Nastavení příloh'!BJ32","v":0},{"$f":"'Nastavení příloh'!BK32","v":0},{"$f":"'Nastavení příloh'!BL32","v":0},{"$f":"'Nastavení příloh'!BM32","v":0},{"$f":"'Nastavení příloh'!BN32","v":0},{"$f":"'Nastavení příloh'!BO32","v":0},{"$f":"'Nastavení příloh'!BP32","v":0},{"$f":"'Nastavení příloh'!BQ32","v":0},{"$f":"'Nastavení příloh'!BR32","v":0},{"$f":"'Nastavení příloh'!BS32","v":0},{"$f":"'Nastavení příloh'!BT32","v":0},null,2100,"-",2199,{"$f":"'Nastavení příloh'!BZ32","v":0},{"$f":"'Nastavení příloh'!CA32","v":0},{"$f":"'Nastavení příloh'!CB32","v":0},{"$f":"'Nastavení příloh'!CC32","v":0},{"$f":"'Nastavení příloh'!CD32","v":1},{"$f":"'Nastavení příloh'!CE32","v":4},{"$f":"'Nastavení příloh'!CF32","v":8},{"$f":"'Nastavení příloh'!CG32","v":14},{"$f":"'Nastavení příloh'!CH32","v":17},{"$f":"'Nastavení příloh'!CI32","v":20},{"$f":"'Nastavení příloh'!CJ32","v":23},{"$f":"'Nastavení příloh'!CK32","v":25},{"$f":"'Nastavení příloh'!CL32","v":25},{"$f":"'Nastavení příloh'!CM32","v":25},{"$f":"'Nastavení příloh'!CN32","v":25},{"$f":"'Nastavení příloh'!CO32","v":31},{"$f":"'Nastavení příloh'!CP32","v":37},{"$f":"'Nastavení příloh'!CQ32","v":31},{"$f":"'Nastavení příloh'!CR32","v":25}]
[null,2200,"-",2299,{"$f":"'Nastavení příloh'!F33","v":0},{"$f":"'Nastavení příloh'!G33","v":2},{"$f":"'Nastavení příloh'!H33","v":6},{"$f":"'Nastavení příloh'!I33","v":10},{"$f":"'Nastavení příloh'!J33","v":14},{"$f":"'Nastavení příloh'!K33","v":18},{"$f":"'Nastavení příloh'!L33","v":22},{"$f":"'Nastavení příloh'!M33","v":25},{"$f":"'Nastavení příloh'!N33","v":25},{"$f":"'Nastavení příloh'!O33","v":25},{"$f":"'Nastavení příloh'!P33","v":25},{"$f":"'Nastavení příloh'!Q33","v":25},{"$f":"'Nastavení příloh'!R33","v":25},{"$f":"'Nastavení příloh'!S33","v":25},{"$f":"'Nastavení příloh'!T33","v":25},{"$f":"'Nastavení příloh'!U33","v":25},{"$f":"'Nastavení příloh'!V33","v":25},{"$f":"'Nastavení příloh'!W33","v":25},{"$f":"'Nastavení příloh'!X33","v":25},null,2200,"-",2299,{"$f":"'Nastavení příloh'!AD33","v":-13},{"$f":"'Nastavení příloh'!AE33","v":-13},{"$f":"'Nastavení příloh'!AF33","v":-13},{"$f":"'Nastavení příloh'!AG33","v":-13},{"$f":"'Nastavení příloh'!AH33","v":-13},{"$f":"'Nastavení příloh'!AI33","v":-13},{"$f":"'Nastavení příloh'!AJ33","v":-13},{"$f":"'Nastavení příloh'!AK33","v":-13},{"$f":"'Nastavení příloh'!AL33","v":-10},{"$f":"'Nastavení příloh'!AM33","v":-7},{"$f":"'Nastavení příloh'!AN33","v":-4},{"$f":"'Nastavení příloh'!AO33","v":0},{"$f":"'Nastavení příloh'!AP33","v":0},{"$f":"'Nastavení příloh'!AQ33","v":0},{"$f":"'Nastavení příloh'!AR33","v":0},{"$f":"'Nastavení příloh'!AS33","v":5},{"$f":"'Nastavení příloh'!AT33","v":11},{"$f":"'Nastavení příloh'!AU33","v":5},{"$f":"'Nastavení příloh'!AV33","v":0},null,2200,"-",2299,{"$f":"'Nastavení příloh'!BB33","v":0},{"$f":"'Nastavení příloh'!BC33","v":0},{"$f":"'Nastavení příloh'!BD33","v":0},{"$f":"'Nastavení příloh'!BE33","v":0},{"$f":"'Nastavení příloh'!BF33","v":0},{"$f":"'Nastavení příloh'!BG33","v":0},{"$f":"'Nastavení příloh'!BH33","v":0},{"$f":"'Nastavení příloh'!BI33","v":0},{"$f":"'Nastavení příloh'!BJ33","v":0},{"$f":"'Nastavení příloh'!BK33","v":0},{"$f":"'Nastavení příloh'!BL33","v":0},{"$f":"'Nastavení příloh'!BM33","v":0},{"$f":"'Nastavení příloh'!BN33","v":0},{"$f":"'Nastavení příloh'!BO33","v":0},{"$f":"'Nastavení příloh'!BP33","v":0},{"$f":"'Nastavení příloh'!BQ33","v":0},{"$f":"'Nastavení příloh'!BR33","v":0},{"$f":"'Nastavení příloh'!BS33","v":0},{"$f":"'Nastavení příloh'!BT33","v":0},null,2200,"-",2299,{"$f":"'Nastavení příloh'!BZ33","v":0},{"$f":"'Nastavení příloh'!CA33","v":0},{"$f":"'Nastavení příloh'!CB33","v":0},{"$f":"'Nastavení příloh'!CC33","v":0},{"$f":"'Nastavení příloh'!CD33","v":1},{"$f":"'Nastavení příloh'!CE33","v":5},{"$f":"'Nastavení příloh'!CF33","v":9},{"$f":"'Nastavení příloh'!CG33","v":12},{"$f":"'Nastavení příloh'!CH33","v":15},{"$f":"'Nastavení příloh'!CI33","v":18},{"$f":"'Nastavení příloh'!CJ33","v":21},{"$f":"'Nastavení příloh'!CK33","v":25},{"$f":"'Nastavení příloh'!CL33","v":25},{"$f":"'Nastavení příloh'!CM33","v":25},{"$f":"'Nastavení příloh'!CN33","v":25},{"$f":"'Nastavení příloh'!CO33","v":30},{"$f":"'Nastavení příloh'!CP33","v":36},{"$f":"'Nastavení příloh'!CQ33","v":30},{"$f":"'Nastavení příloh'!CR33","v":25}]
[null,2300,"-",2399,{"$f":"'Nastavení příloh'!F34","v":0},{"$f":"'Nastavení příloh'!G34","v":2},{"$f":"'Nastavení příloh'!H34","v":7},{"$f":"'Nastavení příloh'!I34","v":11},{"$f":"'Nastavení příloh'!J34","v":15},{"$f":"'Nastavení příloh'!K34","v":19},{"$f":"'Nastavení příloh'!L34","v":23},{"$f":"'Nastavení příloh'!M34","v":25},{"$f":"'Nastavení příloh'!N34","v":25},{"$f":"'Nastavení příloh'!O34","v":25},{"$f":"'Nastavení příloh'!P34","v":25},{"$f":"'Nastavení příloh'!Q34","v":25},{"$f":"'Nastavení příloh'!R34","v":25},{"$f":"'Nastavení příloh'!S34","v":25},{"$f":"'Nastavení příloh'!T34","v":25},{"$f":"'Nastavení příloh'!U34","v":25},{"$f":"'Nastavení příloh'!V34","v":25},{"$f":"'Nastavení příloh'!W34","v":25},{"$f":"'Nastavení příloh'!X34","v":25},null,2300,"-",2399,{"$f":"'Nastavení příloh'!AD34","v":-13},{"$f":"'Nastavení příloh'!AE34","v":-13},{"$f":"'Nastavení příloh'!AF34","v":-13},{"$f":"'Nastavení příloh'!AG34","v":-13},{"$f":"'Nastavení příloh'!AH34","v":-13},{"$f":"'Nastavení příloh'!AI34","v":-13},{"$f":"'Nastavení příloh'!AJ34","v":-13},{"$f":"'Nastavení příloh'!AK34","v":-13},{"$f":"'Nastavení příloh'!AL34","v":-12},{"$f":"'Nastavení příloh'!AM34","v":-8},{"$f":"'Nastavení příloh'!AN34","v":-5},{"$f":"'Nastavení příloh'!AO34","v":-2},{"$f":"'Nastavení příloh'!AP34","v":0},{"$f":"'Nastavení příloh'!AQ34","v":0},{"$f":"'Nastavení příloh'!AR34","v":0},{"$f":"'Nastavení příloh'!AS34","v":3},{"$f":"'Nastavení příloh'!AT34","v":10},{"$f":"'Nastavení příloh'!AU34","v":3},{"$f":"'Nastavení příloh'!AV34","v":0},null,2300,"-",2399,{"$f":"'Nastavení příloh'!BB34","v":0},{"$f":"'Nastavení příloh'!BC34","v":0},{"$f":"'Nastavení příloh'!BD34","v":0},{"$f":"'Nastavení příloh'!BE34","v":0},{"$f":"'Nastavení příloh'!BF34","v":0},{"$f":"'Nastavení příloh'!BG34","v":0},{"$f":"'Nastavení příloh'!BH34","v":0},{"$f":"'Nastavení příloh'!BI34","v":0},{"$f":"'Nastavení příloh'!BJ34","v":0},{"$f":"'Nastavení příloh'!BK34","v":0},{"$f":"'Nastavení příloh'!BL34","v":0},{"$f":"'Nastavení příloh'!BM34","v":0},{"$f":"'Nastavení příloh'!BN34","v":0},{"$f":"'Nastavení příloh'!BO34","v":0},{"$f":"'Nastavení příloh'!BP34","v":0},{"$f":"'Nastavení příloh'!BQ34","v":0},{"$f":"'Nastavení příloh'!BR34","v":0},{"$f":"'Nastavení příloh'!BS34","v":0},{"$f":"'Nastavení příloh'!BT34","v":0},null,2300,"-",2399,{"$f":"'Nastavení příloh'!BZ34","v":0},{"$f":"'Nastavení příloh'!CA34","v":0},{"$f":"'Nastavení příloh'!CB34","v":0},{"$f":"'Nastavení příloh'!CC34","v":0},{"$f":"'Nastavení příloh'!CD34","v":2},{"$f":"'Nastavení příloh'!CE34","v":6},{"$f":"'Nastavení příloh'!CF34","v":10},{"$f":"'Nastavení příloh'!CG34","v":12},{"$f":"'Nastavení příloh'!CH34","v":13},{"$f":"'Nastavení příloh'!CI34","v":17},{"$f":"'Nastavení příloh'!CJ34","v":20},{"$f":"'Nastavení příloh'!CK34","v":23},{"$f":"'Nastavení příloh'!CL34","v":25},{"$f":"'Nastavení příloh'!CM34","v":25},{"$f":"'Nastavení příloh'!CN34","v":25},{"$f":"'Nastavení příloh'!CO34","v":28},{"$f":"'Nastavení příloh'!CP34","v":35},{"$f":"'Nastavení příloh'!CQ34","v":28},{"$f":"'Nastavení příloh'!CR34","v":25}]
[null,2400,"-",2499,{"$f":"'Nastavení příloh'!F35","v":0},{"$f":"'Nastavení příloh'!G35","v":3},{"$f":"'Nastavení příloh'!H35","v":7},{"$f":"'Nastavení příloh'!I35","v":11},{"$f":"'Nastavení příloh'!J35","v":15},{"$f":"'Nastavení příloh'!K35","v":20},{"$f":"'Nastavení příloh'!L35","v":24},{"$f":"'Nastavení příloh'!M35","v":25},{"$f":"'Nastavení příloh'!N35","v":25},{"$f":"'Nastavení příloh'!O35","v":25},{"$f":"'Nastavení příloh'!P35","v":25},{"$f":"'Nastavení příloh'!Q35","v":25},{"$f":"'Nastavení příloh'!R35","v":25},{"$f":"'Nastavení příloh'!S35","v":25},{"$f":"'Nastavení příloh'!T35","v":25},{"$f":"'Nastavení příloh'!U35","v":25},{"$f":"'Nastavení příloh'!V35","v":25},{"$f":"'Nastavení příloh'!W35","v":25},{"$f":"'Nastavení příloh'!X35","v":25},null,2400,"-",2499,{"$f":"'Nastavení příloh'!AD35","v":-13},{"$f":"'Nastavení příloh'!AE35","v":-13},{"$f":"'Nastavení příloh'!AF35","v":-13},{"$f":"'Nastavení příloh'!AG35","v":-13},{"$f":"'Nastavení příloh'!AH35","v":-13},{"$f":"'Nastavení příloh'!AI35","v":-13},{"$f":"'Nastavení příloh'!AJ35","v":-13},{"$f":"'Nastavení příloh'!AK35","v":-13},{"$f":"'Nastavení příloh'!AL35","v":-13},{"$f":"'Nastavení příloh'!AM35","v":-10},{"$f":"'Nastavení příloh'!AN35","v":-7},{"$f":"'Nastavení příloh'!AO35","v":-3},{"$f":"'Nastavení příloh'!AP35","v":0},{"$f":"'Nastavení příloh'!AQ35","v":0},{"$f":"'Nastavení příloh'!AR35","v":0},{"$f":"'Nastavení příloh'!AS35","v":2},{"$f":"'Nastavení příloh'!AT35","v":8},{"$f":"'Nastavení příloh'!AU35","v":2},{"$f":"'Nastavení příloh'!AV35","v":0},null,2400,"-",2499,{"$f":"'Nastavení příloh'!BB35","v":0},{"$f":"'Nastavení příloh'!BC35","v":0},{"$f":"'Nastavení příloh'!BD35","v":0},{"$f":"'Nastavení příloh'!BE35","v":0},{"$f":"'Nastavení příloh'!BF35","v":0},{"$f":"'Nastavení příloh'!BG35","v":0},{"$f":"'Nastavení příloh'!BH35","v":0},{"$f":"'Nastavení příloh'!BI35","v":0},{"$f":"'Nastavení příloh'!BJ35","v":0},{"$f":"'Nastavení příloh'!BK35","v":0},{"$f":"'Nastavení příloh'!BL35","v":0},{"$f":"'Nastavení příloh'!BM35","v":0},{"$f":"'Nastavení příloh'!BN35","v":0},{"$f":"'Nastavení příloh'!BO35","v":0},{"$f":"'Nastavení příloh'!BP35","v":0},{"$f":"'Nastavení příloh'!BQ35","v":0},{"$f":"'Nastavení příloh'!BR35","v":0},{"$f":"'Nastavení příloh'!BS35","v":0},{"$f":"'Nastavení příloh'!BT35","v":0},null,2400,"-",2499,{"$f":"'Nastavení příloh'!BZ35","v":0},{"$f":"'Nastavení příloh'!CA35","v":0},{"$f":"'Nastavení příloh'!CB35","v":0},{"$f":"'Nastavení příloh'!CC35","v":0},{"$f":"'Nastavení příloh'!CD35","v":2},{"$f":"'Nastavení příloh'!CE35","v":7},{"$f":"'Nastavení příloh'!CF35","v":11},{"$f":"'Nastavení příloh'!CG35","v":12},{"$f":"'Nastavení příloh'!CH35","v":12},{"$f":"'Nastavení příloh'!CI35","v":15},{"$f":"'Nastavení příloh'!CJ35","v":18},{"$f":"'Nastavení příloh'!CK35","v":22},{"$f":"'Nastavení příloh'!CL35","v":25},{"$f":"'Nastavení příloh'!CM35","v":25},{"$f":"'Nastavení příloh'!CN35","v":25},{"$f":"'Nastavení příloh'!CO35","v":27},{"$f":"'Nastavení příloh'!CP35","v":33},{"$f":"'Nastavení příloh'!CQ35","v":27},{"$f":"'Nastavení příloh'!CR35","v":25}]
[null,2500,"-",2599,{"$f":"'Nastavení příloh'!F36","v":0},{"$f":"'Nastavení příloh'!G36","v":3},{"$f":"'Nastavení příloh'!H36","v":7},{"$f":"'Nastavení příloh'!I36","v":12},{"$f":"'Nastavení příloh'!J36","v":16},{"$f":"'Nastavení příloh'!K36","v":21},{"$f":"'Nastavení příloh'!L36","v":25},{"$f":"'Nastavení příloh'!M36","v":25},{"$f":"'Nastavení příloh'!N36","v":25},{"$f":"'Nastavení příloh'!O36","v":25},{"$f":"'Nastavení příloh'!P36","v":25},{"$f":"'Nastavení příloh'!Q36","v":25},{"$f":"'Nastavení příloh'!R36","v":25},{"$f":"'Nastavení příloh'!S36","v":25},{"$f":"'Nastavení příloh'!T36","v":25},{"$f":"'Nastavení příloh'!U36","v":25},{"$f":"'Nastavení příloh'!V36","v":25},{"$f":"'Nastavení příloh'!W36","v":25},{"$f":"'Nastavení příloh'!X36","v":25},null,2500,"-",2599,{"$f":"'Nastavení příloh'!AD36","v":-13},{"$f":"'Nastavení příloh'!AE36","v":-13},{"$f":"'Nastavení příloh'!AF36","v":-13},{"$f":"'Nastavení příloh'!AG36","v":-13},{"$f":"'Nastavení příloh'!AH36","v":-13},{"$f":"'Nastavení příloh'!AI36","v":-13},{"$f":"'Nastavení příloh'!AJ36","v":-13},{"$f":"'Nastavení příloh'!AK36","v":-13},{"$f":"'Nastavení příloh'!AL36","v":-13},{"$f":"'Nastavení příloh'!AM36","v":-12},{"$f":"'Nastavení příloh'!AN36","v":-8},{"$f":"'Nastavení příloh'!AO36","v":-4},{"$f":"'Nastavení příloh'!AP36","v":-1},{"$f":"'Nastavení příloh'!AQ36","v":0},{"$f":"'Nastavení příloh'!AR36","v":0},{"$f":"'Nastavení příloh'!AS36","v":0},{"$f":"'Nastavení příloh'!AT36","v":7},{"$f":"'Nastavení příloh'!AU36","v":0},{"$f":"'Nastavení příloh'!AV36","v":0},null,2500,"-",2599,{"$f":"'Nastavení příloh'!BB36","v":0},{"$f":"'Nastavení příloh'!BC36","v":0},{"$f":"'Nastavení příloh'!BD36","v":0},{"$f":"'Nastavení příloh'!BE36","v":0},{"$f":"'Nastavení příloh'!BF36","v":0},{"$f":"'Nastavení příloh'!BG36","v":0},{"$f":"'Nastavení příloh'!BH36","v":0},{"$f":"'Nastavení příloh'!BI36","v":0},{"$f":"'Nastavení příloh'!BJ36","v":0},{"$f":"'Nastavení příloh'!BK36","v":0},{"$f":"'Nastavení příloh'!BL36","v":0},{"$f":"'Nastavení příloh'!BM36","v":0},{"$f":"'Nastavení příloh'!BN36","v":0},{"$f":"'Nastavení příloh'!BO36","v":0},{"$f":"'Nastavení příloh'!BP36","v":0},{"$f":"'Nastavení příloh'!BQ36","v":0},{"$f":"'Nastavení příloh'!BR36","v":0},{"$f":"'Nastavení příloh'!BS36","v":0},{"$f":"'Nastavení příloh'!BT36","v":0},null,2500,"-",2599,{"$f":"'Nastavení příloh'!BZ36","v":0},{"$f":"'Nastavení příloh'!CA36","v":0},{"$f":"'Nastavení příloh'!CB36","v":0},{"$f":"'Nastavení příloh'!CC36","v":0},{"$f":"'Nastavení příloh'!CD36","v":3},{"$f":"'Nastavení příloh'!CE36","v":8},{"$f":"'Nastavení příloh'!CF36","v":12},{"$f":"'Nastavení příloh'!CG36","v":12},{"$f":"'Nastavení příloh'!CH36","v":12},{"$f":"'Nastavení příloh'!CI36","v":13},{"$f":"'Nastavení příloh'!CJ36","v":17},{"$f":"'Nastavení příloh'!CK36","v":21},{"$f":"'Nastavení příloh'!CL36","v":24},{"$f":"'Nastavení příloh'!CM36","v":25},{"$f":"'Nastavení příloh'!CN36","v":25},{"$f":"'Nastavení příloh'!CO36","v":25},{"$f":"'Nastavení příloh'!CP36","v":32},{"$f":"'Nastavení příloh'!CQ36","v":25},{"$f":"'Nastavení příloh'!CR36","v":25}]
[null,2600,"-",2699,{"$f":"'Nastavení příloh'!F37","v":0},{"$f":"'Nastavení příloh'!G37","v":3},{"$f":"'Nastavení příloh'!H37","v":7},{"$f":"'Nastavení příloh'!I37","v":12},{"$f":"'Nastavení příloh'!J37","v":17},{"$f":"'Nastavení příloh'!K37","v":21},{"$f":"'Nastavení příloh'!L37","v":25},{"$f":"'Nastavení příloh'!M37","v":25},{"$f":"'Nastavení příloh'!N37","v":25},{"$f":"'Nastavení příloh'!O37","v":25},{"$f":"'Nastavení příloh'!P37","v":25},{"$f":"'Nastavení příloh'!Q37","v":25},{"$f":"'Nastavení příloh'!R37","v":25},{"$f":"'Nastavení příloh'!S37","v":25},{"$f":"'Nastavení příloh'!T37","v":25},{"$f":"'Nastavení příloh'!U37","v":25},{"$f":"'Nastavení příloh'!V37","v":25},{"$f":"'Nastavení příloh'!W37","v":25},{"$f":"'Nastavení příloh'!X37","v":25},null,2600,"-",2699,{"$f":"'Nastavení příloh'!AD37","v":-13},{"$f":"'Nastavení příloh'!AE37","v":-13},{"$f":"'Nastavení příloh'!AF37","v":-13},{"$f":"'Nastavení příloh'!AG37","v":-13},{"$f":"'Nastavení příloh'!AH37","v":-13},{"$f":"'Nastavení příloh'!AI37","v":-13},{"$f":"'Nastavení příloh'!AJ37","v":-13},{"$f":"'Nastavení příloh'!AK37","v":-13},{"$f":"'Nastavení příloh'!AL37","v":-13},{"$f":"'Nastavení příloh'!AM37","v":-13},{"$f":"'Nastavení příloh'!AN37","v":-10},{"$f":"'Nastavení příloh'!AO37","v":-6},{"$f":"'Nastavení příloh'!AP37","v":-2},{"$f":"'Nastavení příloh'!AQ37","v":0},{"$f":"'Nastavení příloh'!AR37","v":0},{"$f":"'Nastavení příloh'!AS37","v":0},{"$f":"'Nastavení příloh'!AT37","v":6},{"$f":"'Nastavení příloh'!AU37","v":0},{"$f":"'Nastavení příloh'!AV37","v":0},null,2600,"-",2699,{"$f":"'Nastavení příloh'!BB37","v":0},{"$f":"'Nastavení příloh'!BC37","v":0},{"$f":"'Nastavení příloh'!BD37","v":0},{"$f":"'Nastavení příloh'!BE37","v":0},{"$f":"'Nastavení příloh'!BF37","v":0},{"$f":"'Nastavení příloh'!BG37","v":0},{"$f":"'Nastavení příloh'!BH37","v":0},{"$f":"'Nastavení příloh'!BI37","v":0},{"$f":"'Nastavení příloh'!BJ37","v":0},{"$f":"'Nastavení příloh'!BK37","v":0},{"$f":"'Nastavení příloh'!BL37","v":0},{"$f":"'Nastavení příloh'!BM37","v":0},{"$f":"'Nastavení příloh'!BN37","v":0},{"$f":"'Nastavení příloh'!BO37","v":0},{"$f":"'Nastavení příloh'!BP37","v":0},{"$f":"'Nastavení příloh'!BQ37","v":0},{"$f":"'Nastavení příloh'!BR37","v":0},{"$f":"'Nastavení příloh'!BS37","v":0},{"$f":"'Nastavení příloh'!BT37","v":0},null,2600,"-",2699,{"$f":"'Nastavení příloh'!BZ37","v":0},{"$f":"'Nastavení příloh'!CA37","v":0},{"$f":"'Nastavení příloh'!CB37","v":0},{"$f":"'Nastavení příloh'!CC37","v":0},{"$f":"'Nastavení příloh'!CD37","v":4},{"$f":"'Nastavení příloh'!CE37","v":8},{"$f":"'Nastavení příloh'!CF37","v":12},{"$f":"'Nastavení příloh'!CG37","v":12},{"$f":"'Nastavení příloh'!CH37","v":12},{"$f":"'Nastavení příloh'!CI37","v":12},{"$f":"'Nastavení příloh'!CJ37","v":15},{"$f":"'Nastavení příloh'!CK37","v":19},{"$f":"'Nastavení příloh'!CL37","v":23},{"$f":"'Nastavení příloh'!CM37","v":25},{"$f":"'Nastavení příloh'!CN37","v":25},{"$f":"'Nastavení příloh'!CO37","v":25},{"$f":"'Nastavení příloh'!CP37","v":31},{"$f":"'Nastavení příloh'!CQ37","v":25},{"$f":"'Nastavení příloh'!CR37","v":25}]
[null,2700,"-",2799,{"$f":"'Nastavení příloh'!F38","v":0},{"$f":"'Nastavení příloh'!G38","v":3},{"$f":"'Nastavení příloh'!H38","v":8},{"$f":"'Nastavení příloh'!I38","v":13},{"$f":"'Nastavení příloh'!J38","v":17},{"$f":"'Nastavení příloh'!K38","v":22},{"$f":"'Nastavení příloh'!L38","v":25},{"$f":"'Nastavení příloh'!M38","v":25},{"$f":"'Nastavení příloh'!N38","v":25},{"$f":"'Nastavení příloh'!O38","v":25},{"$f":"'Nastavení příloh'!P38","v":25},{"$f":"'Nastavení příloh'!Q38","v":25},{"$f":"'Nastavení příloh'!R38","v":25},{"$f":"'Nastavení příloh'!S38","v":25},{"$f":"'Nastavení příloh'!T38","v":25},{"$f":"'Nastavení příloh'!U38","v":25},{"$f":"'Nastavení příloh'!V38","v":25},{"$f":"'Nastavení příloh'!W38","v":25},{"$f":"'Nastavení příloh'!X38","v":25},null,2700,"-",2799,{"$f":"'Nastavení příloh'!AD38","v":-13},{"$f":"'Nastavení příloh'!AE38","v":-13},{"$f":"'Nastavení příloh'!AF38","v":-13},{"$f":"'Nastavení příloh'!AG38","v":-13},{"$f":"'Nastavení příloh'!AH38","v":-13},{"$f":"'Nastavení příloh'!AI38","v":-13},{"$f":"'Nastavení příloh'!AJ38","v":-13},{"$f":"'Nastavení příloh'!AK38","v":-13},{"$f":"'Nastavení příloh'!AL38","v":-13},{"$f":"'Nastavení příloh'!AM38","v":-13},{"$f":"'Nastavení příloh'!AN38","v":-11},{"$f":"'Nastavení příloh'!AO38","v":-7},{"$f":"'Nastavení příloh'!AP38","v":-3},{"$f":"'Nastavení příloh'!AQ38","v":0},{"$f":"'Nastavení příloh'!AR38","v":0},{"$f":"'Nastavení příloh'!AS38","v":0},{"$f":"'Nastavení příloh'!AT38","v":5},{"$f":"'Nastavení příloh'!AU38","v":0},{"$f":"'Nastavení příloh'!AV38","v":0},null,2700,"-",2799,{"$f":"'Nastavení příloh'!BB38","v":0},{"$f":"'Nastavení příloh'!BC38","v":0},{"$f":"'Nastavení příloh'!BD38","v":0},{"$f":"'Nastavení příloh'!BE38","v":0},{"$f":"'Nastavení příloh'!BF38","v":0},{"$f":"'Nastavení příloh'!BG38","v":0},{"$f":"'Nastavení příloh'!BH38","v":0},{"$f":"'Nastavení příloh'!BI38","v":0},{"$f":"'Nastavení příloh'!BJ38","v":0},{"$f":"'Nastavení příloh'!BK38","v":0},{"$f":"'Nastavení příloh'!BL38","v":0},{"$f":"'Nastavení příloh'!BM38","v":0},{"$f":"'Nastavení příloh'!BN38","v":0},{"$f":"'Nastavení příloh'!BO38","v":0},{"$f":"'Nastavení příloh'!BP38","v":0},{"$f":"'Nastavení příloh'!BQ38","v":0},{"$f":"'Nastavení příloh'!BR38","v":0},{"$f":"'Nastavení příloh'!BS38","v":0},{"$f":"'Nastavení příloh'!BT38","v":0},null,2700,"-",2799,{"$f":"'Nastavení příloh'!BZ38","v":0},{"$f":"'Nastavení příloh'!CA38","v":0},{"$f":"'Nastavení příloh'!CB38","v":0},{"$f":"'Nastavení příloh'!CC38","v":0},{"$f":"'Nastavení příloh'!CD38","v":4},{"$f":"'Nastavení příloh'!CE38","v":9},{"$f":"'Nastavení příloh'!CF38","v":12},{"$f":"'Nastavení příloh'!CG38","v":12},{"$f":"'Nastavení příloh'!CH38","v":12},{"$f":"'Nastavení příloh'!CI38","v":12},{"$f":"'Nastavení příloh'!CJ38","v":14},{"$f":"'Nastavení příloh'!CK38","v":18},{"$f":"'Nastavení příloh'!CL38","v":22},{"$f":"'Nastavení příloh'!CM38","v":25},{"$f":"'Nastavení příloh'!CN38","v":25},{"$f":"'Nastavení příloh'!CO38","v":25},{"$f":"'Nastavení příloh'!CP38","v":30},{"$f":"'Nastavení příloh'!CQ38","v":25},{"$f":"'Nastavení příloh'!CR38","v":25}]
[null,2800,"-",2899,{"$f":"'Nastavení příloh'!F39","v":0},{"$f":"'Nastavení příloh'!G39","v":3},{"$f":"'Nastavení příloh'!H39","v":8},{"$f":"'Nastavení příloh'!I39","v":13},{"$f":"'Nastavení příloh'!J39","v":18},{"$f":"'Nastavení příloh'!K39","v":23},{"$f":"'Nastavení příloh'!L39","v":25},{"$f":"'Nastavení příloh'!M39","v":25},{"$f":"'Nastavení příloh'!N39","v":25},{"$f":"'Nastavení příloh'!O39","v":25},{"$f":"'Nastavení příloh'!P39","v":25},{"$f":"'Nastavení příloh'!Q39","v":25},{"$f":"'Nastavení příloh'!R39","v":25},{"$f":"'Nastavení příloh'!S39","v":25},{"$f":"'Nastavení příloh'!T39","v":25},{"$f":"'Nastavení příloh'!U39","v":25},{"$f":"'Nastavení příloh'!V39","v":25},{"$f":"'Nastavení příloh'!W39","v":25},{"$f":"'Nastavení příloh'!X39","v":25},null,2800,"-",2899,{"$f":"'Nastavení příloh'!AD39","v":-13},{"$f":"'Nastavení příloh'!AE39","v":-13},{"$f":"'Nastavení příloh'!AF39","v":-13},{"$f":"'Nastavení příloh'!AG39","v":-13},{"$f":"'Nastavení příloh'!AH39","v":-13},{"$f":"'Nastavení příloh'!AI39","v":-13},{"$f":"'Nastavení příloh'!AJ39","v":-13},{"$f":"'Nastavení příloh'!AK39","v":-13},{"$f":"'Nastavení příloh'!AL39","v":-13},{"$f":"'Nastavení příloh'!AM39","v":-13},{"$f":"'Nastavení příloh'!AN39","v":-12},{"$f":"'Nastavení příloh'!AO39","v":-8},{"$f":"'Nastavení příloh'!AP39","v":-4},{"$f":"'Nastavení příloh'!AQ39","v":0},{"$f":"'Nastavení příloh'!AR39","v":0},{"$f":"'Nastavení příloh'!AS39","v":0},{"$f":"'Nastavení příloh'!AT39","v":0},{"$f":"'Nastavení příloh'!AU39","v":0},{"$f":"'Nastavení příloh'!AV39","v":0},null,2800,"-",2899,{"$f":"'Nastavení příloh'!BB39","v":0},{"$f":"'Nastavení příloh'!BC39","v":0},{"$f":"'Nastavení příloh'!BD39","v":0},{"$f":"'Nastavení příloh'!BE39","v":0},{"$f":"'Nastavení příloh'!BF39","v":0},{"$f":"'Nastavení příloh'!BG39","v":0},{"$f":"'Nastavení příloh'!BH39","v":0},{"$f":"'Nastavení příloh'!BI39","v":0},{"$f":"'Nastavení příloh'!BJ39","v":0},{"$f":"'Nastavení příloh'!BK39","v":0},{"$f":"'Nastavení příloh'!BL39","v":0},{"$f":"'Nastavení příloh'!BM39","v":0},{"$f":"'Nastavení příloh'!BN39","v":0},{"$f":"'Nastavení příloh'!BO39","v":0},{"$f":"'Nastavení příloh'!BP39","v":0},{"$f":"'Nastavení příloh'!BQ39","v":0},{"$f":"'Nastavení příloh'!BR39","v":0},{"$f":"'Nastavení příloh'!BS39","v":0},{"$f":"'Nastavení příloh'!BT39","v":0},null,2800,"-",2899,{"$f":"'Nastavení příloh'!BZ39","v":0},{"$f":"'Nastavení příloh'!CA39","v":0},{"$f":"'Nastavení příloh'!CB39","v":0},{"$f":"'Nastavení příloh'!CC39","v":0},{"$f":"'Nastavení příloh'!CD39","v":5},{"$f":"'Nastavení příloh'!CE39","v":10},{"$f":"'Nastavení příloh'!CF39","v":12},{"$f":"'Nastavení příloh'!CG39","v":12},{"$f":"'Nastavení příloh'!CH39","v":12},{"$f":"'Nastavení příloh'!CI39","v":12},{"$f":"'Nastavení příloh'!CJ39","v":13},{"$f":"'Nastavení příloh'!CK39","v":17},{"$f":"'Nastavení příloh'!CL39","v":21},{"$f":"'Nastavení příloh'!CM39","v":25},{"$f":"'Nastavení příloh'!CN39","v":25},{"$f":"'Nastavení příloh'!CO39","v":25},{"$f":"'Nastavení příloh'!CP39","v":25},{"$f":"'Nastavení příloh'!CQ39","v":25},{"$f":"'Nastavení příloh'!CR39","v":25}]
[null,2900,"-",2999,{"$f":"'Nastavení příloh'!F40","v":0},{"$f":"'Nastavení příloh'!G40","v":3},{"$f":"'Nastavení příloh'!H40","v":8},{"$f":"'Nastavení příloh'!I40","v":13},{"$f":"'Nastavení příloh'!J40","v":19},{"$f":"'Nastavení příloh'!K40","v":24},{"$f":"'Nastavení příloh'!L40","v":25},{"$f":"'Nastavení příloh'!M40","v":25},{"$f":"'Nastavení příloh'!N40","v":25},{"$f":"'Nastavení příloh'!O40","v":25},{"$f":"'Nastavení příloh'!P40","v":25},{"$f":"'Nastavení příloh'!Q40","v":25},{"$f":"'Nastavení příloh'!R40","v":25},{"$f":"'Nastavení příloh'!S40","v":25},{"$f":"'Nastavení příloh'!T40","v":25},{"$f":"'Nastavení příloh'!U40","v":25},{"$f":"'Nastavení příloh'!V40","v":25},{"$f":"'Nastavení příloh'!W40","v":25},{"$f":"'Nastavení příloh'!X40","v":25},null,2900,"-",2999,{"$f":"'Nastavení příloh'!AD40","v":-13},{"$f":"'Nastavení příloh'!AE40","v":-13},{"$f":"'Nastavení příloh'!AF40","v":-13},{"$f":"'Nastavení příloh'!AG40","v":-13},{"$f":"'Nastavení příloh'!AH40","v":-13},{"$f":"'Nastavení příloh'!AI40","v":-13},{"$f":"'Nastavení příloh'!AJ40","v":-13},{"$f":"'Nastavení příloh'!AK40","v":-13},{"$f":"'Nastavení příloh'!AL40","v":-13},{"$f":"'Nastavení příloh'!AM40","v":-13},{"$f":"'Nastavení příloh'!AN40","v":-13},{"$f":"'Nastavení příloh'!AO40","v":-10},{"$f":"'Nastavení příloh'!AP40","v":-6},{"$f":"'Nastavení příloh'!AQ40","v":-1},{"$f":"'Nastavení příloh'!AR40","v":0},{"$f":"'Nastavení příloh'!AS40","v":0},{"$f":"'Nastavení příloh'!AT40","v":0},{"$f":"'Nastavení příloh'!AU40","v":0},{"$f":"'Nastavení příloh'!AV40","v":0},null,2900,"-",2999,{"$f":"'Nastavení příloh'!BB40","v":0},{"$f":"'Nastavení příloh'!BC40","v":0},{"$f":"'Nastavení příloh'!BD40","v":0},{"$f":"'Nastavení příloh'!BE40","v":0},{"$f":"'Nastavení příloh'!BF40","v":0},{"$f":"'Nastavení příloh'!BG40","v":0},{"$f":"'Nastavení příloh'!BH40","v":0},{"$f":"'Nastavení příloh'!BI40","v":0},{"$f":"'Nastavení příloh'!BJ40","v":0},{"$f":"'Nastavení příloh'!BK40","v":0},{"$f":"'Nastavení příloh'!BL40","v":0},{"$f":"'Nastavení příloh'!BM40","v":0},{"$f":"'Nastavení příloh'!BN40","v":0},{"$f":"'Nastavení příloh'!BO40","v":0},{"$f":"'Nastavení příloh'!BP40","v":0},{"$f":"'Nastavení příloh'!BQ40","v":0},{"$f":"'Nastavení příloh'!BR40","v":0},{"$f":"'Nastavení příloh'!BS40","v":0},{"$f":"'Nastavení příloh'!BT40","v":0},null,2900,"-",2999,{"$f":"'Nastavení příloh'!BZ40","v":0},{"$f":"'Nastavení příloh'!CA40","v":0},{"$f":"'Nastavení příloh'!CB40","v":0},{"$f":"'Nastavení příloh'!CC40","v":0},{"$f":"'Nastavení příloh'!CD40","v":6},{"$f":"'Nastavení příloh'!CE40","v":11},{"$f":"'Nastavení příloh'!CF40","v":12},{"$f":"'Nastavení příloh'!CG40","v":12},{"$f":"'Nastavení příloh'!CH40","v":12},{"$f":"'Nastavení příloh'!CI40","v":12},{"$f":"'Nastavení příloh'!CJ40","v":12},{"$f":"'Nastavení příloh'!CK40","v":15},{"$f":"'Nastavení příloh'!CL40","v":19},{"$f":"'Nastavení příloh'!CM40","v":24},{"$f":"'Nastavení příloh'!CN40","v":25},{"$f":"'Nastavení příloh'!CO40","v":25},{"$f":"'Nastavení příloh'!CP40","v":25},{"$f":"'Nastavení příloh'!CQ40","v":25},{"$f":"'Nastavení příloh'!CR40","v":25}]
[null,3000,"-",3099,{"$f":"'Nastavení příloh'!F41","v":0},{"$f":"'Nastavení příloh'!G41","v":3},{"$f":"'Nastavení příloh'!H41","v":9},{"$f":"'Nastavení příloh'!I41","v":14},{"$f":"'Nastavení příloh'!J41","v":19},{"$f":"'Nastavení příloh'!K41","v":25},{"$f":"'Nastavení příloh'!L41","v":25},{"$f":"'Nastavení příloh'!M41","v":25},{"$f":"'Nastavení příloh'!N41","v":25},{"$f":"'Nastavení příloh'!O41","v":25},{"$f":"'Nastavení příloh'!P41","v":25},{"$f":"'Nastavení příloh'!Q41","v":25},{"$f":"'Nastavení příloh'!R41","v":25},{"$f":"'Nastavení příloh'!S41","v":25},{"$f":"'Nastavení příloh'!T41","v":25},{"$f":"'Nastavení příloh'!U41","v":25},{"$f":"'Nastavení příloh'!V41","v":25},{"$f":"'Nastavení příloh'!W41","v":25},{"$f":"'Nastavení příloh'!X41","v":25},null,3000,"-",3099,{"$f":"'Nastavení příloh'!AD41","v":-13},{"$f":"'Nastavení příloh'!AE41","v":-13},{"$f":"'Nastavení příloh'!AF41","v":-13},{"$f":"'Nastavení příloh'!AG41","v":-13},{"$f":"'Nastavení příloh'!AH41","v":-13},{"$f":"'Nastavení příloh'!AI41","v":-13},{"$f":"'Nastavení příloh'!AJ41","v":-13},{"$f":"'Nastavení příloh'!AK41","v":-13},{"$f":"'Nastavení příloh'!AL41","v":-13},{"$f":"'Nastavení příloh'!AM41","v":-13},{"$f":"'Nastavení příloh'!AN41","v":-13},{"$f":"'Nastavení příloh'!AO41","v":-11},{"$f":"'Nastavení příloh'!AP41","v":-7},{"$f":"'Nastavení příloh'!AQ41","v":-2},{"$f":"'Nastavení příloh'!AR41","v":0},{"$f":"'Nastavení příloh'!AS41","v":0},{"$f":"'Nastavení příloh'!AT41","v":0},{"$f":"'Nastavení příloh'!AU41","v":0},{"$f":"'Nastavení příloh'!AV41","v":0},null,3000,"-",3099,{"$f":"'Nastavení příloh'!BB41","v":0},{"$f":"'Nastavení příloh'!BC41","v":0},{"$f":"'Nastavení příloh'!BD41","v":0},{"$f":"'Nastavení příloh'!BE41","v":0},{"$f":"'Nastavení příloh'!BF41","v":0},{"$f":"'Nastavení příloh'!BG41","v":0},{"$f":"'Nastavení příloh'!BH41","v":0},{"$f":"'Nastavení příloh'!BI41","v":0},{"$f":"'Nastavení příloh'!BJ41","v":0},{"$f":"'Nastavení příloh'!BK41","v":0},{"$f":"'Nastavení příloh'!BL41","v":0},{"$f":"'Nastavení příloh'!BM41","v":0},{"$f":"'Nastavení příloh'!BN41","v":0},{"$f":"'Nastavení příloh'!BO41","v":0},{"$f":"'Nastavení příloh'!BP41","v":0},{"$f":"'Nastavení příloh'!BQ41","v":0},{"$f":"'Nastavení příloh'!BR41","v":0},{"$f":"'Nastavení příloh'!BS41","v":0},{"$f":"'Nastavení příloh'!BT41","v":0},null,3000,"-",3099,{"$f":"'Nastavení příloh'!BZ41","v":0},{"$f":"'Nastavení příloh'!CA41","v":0},{"$f":"'Nastavení příloh'!CB41","v":0},{"$f":"'Nastavení příloh'!CC41","v":1},{"$f":"'Nastavení příloh'!CD41","v":6},{"$f":"'Nastavení příloh'!CE41","v":12},{"$f":"'Nastavení příloh'!CF41","v":12},{"$f":"'Nastavení příloh'!CG41","v":12},{"$f":"'Nastavení příloh'!CH41","v":12},{"$f":"'Nastavení příloh'!CI41","v":12},{"$f":"'Nastavení příloh'!CJ41","v":12},{"$f":"'Nastavení příloh'!CK41","v":14},{"$f":"'Nastavení příloh'!CL41","v":18},{"$f":"'Nastavení příloh'!CM41","v":23},{"$f":"'Nastavení příloh'!CN41","v":25},{"$f":"'Nastavení příloh'!CO41","v":25},{"$f":"'Nastavení příloh'!CP41","v":25},{"$f":"'Nastavení příloh'!CQ41","v":25},{"$f":"'Nastavení příloh'!CR41","v":25}]
[null,3100,"-",3199,{"$f":"'Nastavení příloh'!F42","v":0},{"$f":"'Nastavení příloh'!G42","v":3},{"$f":"'Nastavení příloh'!H42","v":9},{"$f":"'Nastavení příloh'!I42","v":14},{"$f":"'Nastavení příloh'!J42","v":20},{"$f":"'Nastavení příloh'!K42","v":25},{"$f":"'Nastavení příloh'!L42","v":25},{"$f":"'Nastavení příloh'!M42","v":25},{"$f":"'Nastavení příloh'!N42","v":25},{"$f":"'Nastavení příloh'!O42","v":25},{"$f":"'Nastavení příloh'!P42","v":25},{"$f":"'Nastavení příloh'!Q42","v":25},{"$f":"'Nastavení příloh'!R42","v":25},{"$f":"'Nastavení příloh'!S42","v":25},{"$f":"'Nastavení příloh'!T42","v":25},{"$f":"'Nastavení příloh'!U42","v":25},{"$f":"'Nastavení příloh'!V42","v":25},{"$f":"'Nastavení příloh'!W42","v":25},{"$f":"'Nastavení příloh'!X42","v":25},null,3100,"-",3199,{"$f":"'Nastavení příloh'!AD42","v":-13},{"$f":"'Nastavení příloh'!AE42","v":-13},{"$f":"'Nastavení příloh'!AF42","v":-13},{"$f":"'Nastavení příloh'!AG42","v":-13},{"$f":"'Nastavení příloh'!AH42","v":-13},{"$f":"'Nastavení příloh'!AI42","v":-13},{"$f":"'Nastavení příloh'!AJ42","v":-13},{"$f":"'Nastavení příloh'!AK42","v":-13},{"$f":"'Nastavení příloh'!AL42","v":-13},{"$f":"'Nastavení příloh'!AM42","v":-13},{"$f":"'Nastavení příloh'!AN42","v":-13},{"$f":"'Nastavení příloh'!AO42","v":-12},{"$f":"'Nastavení příloh'!AP42","v":-8},{"$f":"'Nastavení příloh'!AQ42","v":-4},{"$f":"'Nastavení příloh'!AR42","v":0},{"$f":"'Nastavení příloh'!AS42","v":0},{"$f":"'Nastavení příloh'!AT42","v":0},{"$f":"'Nastavení příloh'!AU42","v":0},{"$f":"'Nastavení příloh'!AV42","v":0},null,3100,"-",3199,{"$f":"'Nastavení příloh'!BB42","v":0},{"$f":"'Nastavení příloh'!BC42","v":0},{"$f":"'Nastavení příloh'!BD42","v":0},{"$f":"'Nastavení příloh'!BE42","v":0},{"$f":"'Nastavení příloh'!BF42","v":0},{"$f":"'Nastavení příloh'!BG42","v":0},{"$f":"'Nastavení příloh'!BH42","v":0},{"$f":"'Nastavení příloh'!BI42","v":0},{"$f":"'Nastavení příloh'!BJ42","v":0},{"$f":"'Nastavení příloh'!BK42","v":0},{"$f":"'Nastavení příloh'!BL42","v":0},{"$f":"'Nastavení příloh'!BM42","v":0},{"$f":"'Nastavení příloh'!BN42","v":0},{"$f":"'Nastavení příloh'!BO42","v":0},{"$f":"'Nastavení příloh'!BP42","v":0},{"$f":"'Nastavení příloh'!BQ42","v":0},{"$f":"'Nastavení příloh'!BR42","v":0},{"$f":"'Nastavení příloh'!BS42","v":0},{"$f":"'Nastavení příloh'!BT42","v":0},null,3100,"-",3199,{"$f":"'Nastavení příloh'!BZ42","v":0},{"$f":"'Nastavení příloh'!CA42","v":0},{"$f":"'Nastavení příloh'!CB42","v":0},{"$f":"'Nastavení příloh'!CC42","v":1},{"$f":"'Nastavení příloh'!CD42","v":7},{"$f":"'Nastavení příloh'!CE42","v":12},{"$f":"'Nastavení příloh'!CF42","v":12},{"$f":"'Nastavení příloh'!CG42","v":12},{"$f":"'Nastavení příloh'!CH42","v":12},{"$f":"'Nastavení příloh'!CI42","v":12},{"$f":"'Nastavení příloh'!CJ42","v":12},{"$f":"'Nastavení příloh'!CK42","v":13},{"$f":"'Nastavení příloh'!CL42","v":17},{"$f":"'Nastavení příloh'!CM42","v":21},{"$f":"'Nastavení příloh'!CN42","v":25},{"$f":"'Nastavení příloh'!CO42","v":25},{"$f":"'Nastavení příloh'!CP42","v":25},{"$f":"'Nastavení příloh'!CQ42","v":25},{"$f":"'Nastavení příloh'!CR42","v":25}]
[null,3200,"-",3299,{"$f":"'Nastavení příloh'!F43","v":0},{"$f":"'Nastavení příloh'!G43","v":3},{"$f":"'Nastavení příloh'!H43","v":9},{"$f":"'Nastavení příloh'!I43","v":15},{"$f":"'Nastavení příloh'!J43","v":20},{"$f":"'Nastavení příloh'!K43","v":25},{"$f":"'Nastavení příloh'!L43","v":25},{"$f":"'Nastavení příloh'!M43","v":25},{"$f":"'Nastavení příloh'!N43","v":25},{"$f":"'Nastavení příloh'!O43","v":25},{"$f":"'Nastavení příloh'!P43","v":25},{"$f":"'Nastavení příloh'!Q43","v":25},{"$f":"'Nastavení příloh'!R43","v":25},{"$f":"'Nastavení příloh'!S43","v":25},{"$f":"'Nastavení příloh'!T43","v":25},{"$f":"'Nastavení příloh'!U43","v":25},{"$f":"'Nastavení příloh'!V43","v":25},{"$f":"'Nastavení příloh'!W43","v":25},{"$f":"'Nastavení příloh'!X43","v":25},null,3200,"-",3299,{"$f":"'Nastavení příloh'!AD43","v":-13},{"$f":"'Nastavení příloh'!AE43","v":-13},{"$f":"'Nastavení příloh'!AF43","v":-13},{"$f":"'Nastavení příloh'!AG43","v":-13},{"$f":"'Nastavení příloh'!AH43","v":-13},{"$f":"'Nastavení příloh'!AI43","v":-13},{"$f":"'Nastavení příloh'!AJ43","v":-13},{"$f":"'Nastavení příloh'!AK43","v":-13},{"$f":"'Nastavení příloh'!AL43","v":-13},{"$f":"'Nastavení příloh'!AM43","v":-13},{"$f":"'Nastavení příloh'!AN43","v":-13},{"$f":"'Nastavení příloh'!AO43","v":-13},{"$f":"'Nastavení příloh'!AP43","v":-9},{"$f":"'Nastavení příloh'!AQ43","v":-5},{"$f":"'Nastavení příloh'!AR43","v":0},{"$f":"'Nastavení příloh'!AS43","v":0},{"$f":"'Nastavení příloh'!AT43","v":0},{"$f":"'Nastavení příloh'!AU43","v":0},{"$f":"'Nastavení příloh'!AV43","v":0},null,3200,"-",3299,{"$f":"'Nastavení příloh'!BB43","v":0},{"$f":"'Nastavení příloh'!BC43","v":0},{"$f":"'Nastavení příloh'!BD43","v":0},{"$f":"'Nastavení příloh'!BE43","v":0},{"$f":"'Nastavení příloh'!BF43","v":0},{"$f":"'Nastavení příloh'!BG43","v":0},{"$f":"'Nastavení příloh'!BH43","v":0},{"$f":"'Nastavení příloh'!BI43","v":0},{"$f":"'Nastavení příloh'!BJ43","v":0},{"$f":"'Nastavení příloh'!BK43","v":0},{"$f":"'Nastavení příloh'!BL43","v":0},{"$f":"'Nastavení příloh'!BM43","v":0},{"$f":"'Nastavení příloh'!BN43","v":0},{"$f":"'Nastavení příloh'!BO43","v":0},{"$f":"'Nastavení příloh'!BP43","v":0},{"$f":"'Nastavení příloh'!BQ43","v":0},{"$f":"'Nastavení příloh'!BR43","v":0},{"$f":"'Nastavení příloh'!BS43","v":0},{"$f":"'Nastavení příloh'!BT43","v":0},null,3200,"-",3299,{"$f":"'Nastavení příloh'!BZ43","v":0},{"$f":"'Nastavení příloh'!CA43","v":0},{"$f":"'Nastavení příloh'!CB43","v":0},{"$f":"'Nastavení příloh'!CC43","v":2},{"$f":"'Nastavení příloh'!CD43","v":7},{"$f":"'Nastavení příloh'!CE43","v":12},{"$f":"'Nastavení příloh'!CF43","v":12},{"$f":"'Nastavení příloh'!CG43","v":12},{"$f":"'Nastavení příloh'!CH43","v":12},{"$f":"'Nastavení příloh'!CI43","v":12},{"$f":"'Nastavení příloh'!CJ43","v":12},{"$f":"'Nastavení příloh'!CK43","v":12},{"$f":"'Nastavení příloh'!CL43","v":16},{"$f":"'Nastavení příloh'!CM43","v":20},{"$f":"'Nastavení příloh'!CN43","v":25},{"$f":"'Nastavení příloh'!CO43","v":25},{"$f":"'Nastavení příloh'!CP43","v":25},{"$f":"'Nastavení příloh'!CQ43","v":25},{"$f":"'Nastavení příloh'!CR43","v":25}]
[null,3300,"-",3399,{"$f":"'Nastavení příloh'!F44","v":0},{"$f":"'Nastavení příloh'!G44","v":4},{"$f":"'Nastavení příloh'!H44","v":9},{"$f":"'Nastavení příloh'!I44","v":15},{"$f":"'Nastavení příloh'!J44","v":21},{"$f":"'Nastavení příloh'!K44","v":25},{"$f":"'Nastavení příloh'!L44","v":25},{"$f":"'Nastavení příloh'!M44","v":25},{"$f":"'Nastavení příloh'!N44","v":25},{"$f":"'Nastavení příloh'!O44","v":25},{"$f":"'Nastavení příloh'!P44","v":25},{"$f":"'Nastavení příloh'!Q44","v":25},{"$f":"'Nastavení příloh'!R44","v":25},{"$f":"'Nastavení příloh'!S44","v":25},{"$f":"'Nastavení příloh'!T44","v":25},{"$f":"'Nastavení příloh'!U44","v":25},{"$f":"'Nastavení příloh'!V44","v":25},{"$f":"'Nastavení příloh'!W44","v":25},{"$f":"'Nastavení příloh'!X44","v":25},null,3300,"-",3399,{"$f":"'Nastavení příloh'!AD44","v":-13},{"$f":"'Nastavení příloh'!AE44","v":-13},{"$f":"'Nastavení příloh'!AF44","v":-13},{"$f":"'Nastavení příloh'!AG44","v":-13},{"$f":"'Nastavení příloh'!AH44","v":-13},{"$f":"'Nastavení příloh'!AI44","v":-13},{"$f":"'Nastavení příloh'!AJ44","v":-13},{"$f":"'Nastavení příloh'!AK44","v":-13},{"$f":"'Nastavení příloh'!AL44","v":-13},{"$f":"'Nastavení příloh'!AM44","v":-13},{"$f":"'Nastavení příloh'!AN44","v":-13},{"$f":"'Nastavení příloh'!AO44","v":-13},{"$f":"'Nastavení příloh'!AP44","v":-10},{"$f":"'Nastavení příloh'!AQ44","v":-6},{"$f":"'Nastavení příloh'!AR44","v":-1},{"$f":"'Nastavení příloh'!AS44","v":0},{"$f":"'Nastavení příloh'!AT44","v":0},{"$f":"'Nastavení příloh'!AU44","v":0},{"$f":"'Nastavení příloh'!AV44","v":0},null,3300,"-",3399,{"$f":"'Nastavení příloh'!BB44","v":0},{"$f":"'Nastavení příloh'!BC44","v":0},{"$f":"'Nastavení příloh'!BD44","v":0},{"$f":"'Nastavení příloh'!BE44","v":0},{"$f":"'Nastavení příloh'!BF44","v":0},{"$f":"'Nastavení příloh'!BG44","v":0},{"$f":"'Nastavení příloh'!BH44","v":0},{"$f":"'Nastavení příloh'!BI44","v":0},{"$f":"'Nastavení příloh'!BJ44","v":0},{"$f":"'Nastavení příloh'!BK44","v":0},{"$f":"'Nastavení příloh'!BL44","v":0},{"$f":"'Nastavení příloh'!BM44","v":0},{"$f":"'Nastavení příloh'!BN44","v":0},{"$f":"'Nastavení příloh'!BO44","v":0},{"$f":"'Nastavení příloh'!BP44","v":0},{"$f":"'Nastavení příloh'!BQ44","v":0},{"$f":"'Nastavení příloh'!BR44","v":0},{"$f":"'Nastavení příloh'!BS44","v":0},{"$f":"'Nastavení příloh'!BT44","v":0},null,3300,"-",3399,{"$f":"'Nastavení příloh'!BZ44","v":0},{"$f":"'Nastavení příloh'!CA44","v":0},{"$f":"'Nastavení příloh'!CB44","v":0},{"$f":"'Nastavení příloh'!CC44","v":2},{"$f":"'Nastavení příloh'!CD44","v":8},{"$f":"'Nastavení příloh'!CE44","v":12},{"$f":"'Nastavení příloh'!CF44","v":12},{"$f":"'Nastavení příloh'!CG44","v":12},{"$f":"'Nastavení příloh'!CH44","v":12},{"$f":"'Nastavení příloh'!CI44","v":12},{"$f":"'Nastavení příloh'!CJ44","v":12},{"$f":"'Nastavení příloh'!CK44","v":12},{"$f":"'Nastavení příloh'!CL44","v":15},{"$f":"'Nastavení příloh'!CM44","v":19},{"$f":"'Nastavení příloh'!CN44","v":24},{"$f":"'Nastavení příloh'!CO44","v":25},{"$f":"'Nastavení příloh'!CP44","v":25},{"$f":"'Nastavení příloh'!CQ44","v":25},{"$f":"'Nastavení příloh'!CR44","v":25}]
[null,3400,"-",3499,{"$f":"'Nastavení příloh'!F45","v":0},{"$f":"'Nastavení příloh'!G45","v":4},{"$f":"'Nastavení příloh'!H45","v":10},{"$f":"'Nastavení příloh'!I45","v":16},{"$f":"'Nastavení příloh'!J45","v":22},{"$f":"'Nastavení příloh'!K45","v":25},{"$f":"'Nastavení příloh'!L45","v":25},{"$f":"'Nastavení příloh'!M45","v":25},{"$f":"'Nastavení příloh'!N45","v":25},{"$f":"'Nastavení příloh'!O45","v":25},{"$f":"'Nastavení příloh'!P45","v":25},{"$f":"'Nastavení příloh'!Q45","v":25},{"$f":"'Nastavení příloh'!R45","v":25},{"$f":"'Nastavení příloh'!S45","v":25},{"$f":"'Nastavení příloh'!T45","v":25},{"$f":"'Nastavení příloh'!U45","v":25},{"$f":"'Nastavení příloh'!V45","v":25},{"$f":"'Nastavení příloh'!W45","v":25},{"$f":"'Nastavení příloh'!X45","v":25},null,3400,"-",3499,{"$f":"'Nastavení příloh'!AD45","v":-13},{"$f":"'Nastavení příloh'!AE45","v":-13},{"$f":"'Nastavení příloh'!AF45","v":-13},{"$f":"'Nastavení příloh'!AG45","v":-13},{"$f":"'Nastavení příloh'!AH45","v":-13},{"$f":"'Nastavení příloh'!AI45","v":-13},{"$f":"'Nastavení příloh'!AJ45","v":-13},{"$f":"'Nastavení příloh'!AK45","v":-13},{"$f":"'Nastavení příloh'!AL45","v":-13},{"$f":"'Nastavení příloh'!AM45","v":-13},{"$f":"'Nastavení příloh'!AN45","v":-13},{"$f":"'Nastavení příloh'!AO45","v":-13},{"$f":"'Nastavení příloh'!AP45","v":-12},{"$f":"'Nastavení příloh'!AQ45","v":-7},{"$f":"'Nastavení příloh'!AR45","v":-2},{"$f":"'Nastavení příloh'!AS45","v":0},{"$f":"'Nastavení příloh'!AT45","v":0},{"$f":"'Nastavení příloh'!AU45","v":0},{"$f":"'Nastavení příloh'!AV45","v":0},null,"více jak 3400",null,null,{"$f":"'Nastavení příloh'!BB45","v":0},{"$f":"'Nastavení příloh'!BC45","v":0},{"$f":"'Nastavení příloh'!BD45","v":0},{"$f":"'Nastavení příloh'!BE45","v":0},{"$f":"'Nastavení příloh'!BF45","v":0},{"$f":"'Nastavení příloh'!BG45","v":0},{"$f":"'Nastavení příloh'!BH45","v":0},{"$f":"'Nastavení příloh'!BI45","v":0},{"$f":"'Nastavení příloh'!BJ45","v":0},{"$f":"'Nastavení příloh'!BK45","v":0},{"$f":"'Nastavení příloh'!BL45","v":0},{"$f":"'Nastavení příloh'!BM45","v":0},{"$f":"'Nastavení příloh'!BN45","v":0},{"$f":"'Nastavení příloh'!BO45","v":0},{"$f":"'Nastavení příloh'!BP45","v":0},{"$f":"'Nastavení příloh'!BQ45","v":0},{"$f":"'Nastavení příloh'!BR45","v":0},{"$f":"'Nastavení příloh'!BS45","v":0},{"$f":"'Nastavení příloh'!BT45","v":0},null,3400,"-",3499,{"$f":"'Nastavení příloh'!BZ45","v":0},{"$f":"'Nastavení příloh'!CA45","v":0},{"$f":"'Nastavení příloh'!CB45","v":0},{"$f":"'Nastavení příloh'!CC45","v":3},{"$f":"'Nastavení příloh'!CD45","v":9},{"$f":"'Nastavení příloh'!CE45","v":12},{"$f":"'Nastavení příloh'!CF45","v":12},{"$f":"'Nastavení příloh'!CG45","v":12},{"$f":"'Nastavení příloh'!CH45","v":12},{"$f":"'Nastavení příloh'!CI45","v":12},{"$f":"'Nastavení příloh'!CJ45","v":12},{"$f":"'Nastavení příloh'!CK45","v":12},{"$f":"'Nastavení příloh'!CL45","v":13},{"$f":"'Nastavení příloh'!CM45","v":18},{"$f":"'Nastavení příloh'!CN45","v":23},{"$f":"'Nastavení příloh'!CO45","v":25},{"$f":"'Nastavení příloh'!CP45","v":25},{"$f":"'Nastavení příloh'!CQ45","v":25},{"$f":"'Nastavení příloh'!CR45","v":25}]
[null,null,null,null,null,null,null,null,null,null,null,null,null,null,null,null,null,null,null,null,null,null,"Příloha č. 5 k OZV č. …/2013 Název obec/město",null,null,null,null,null,null,null,null,null,null,null,null,null,null,null,null,null,null,null,null,null,null,"Příloha č. 6 k OZV č. …/2013 Název obec/město",null,null,null,null,null,null,null,null,null,null,null,null,null,null,null,null,null,null,null,null,null,null,null,null,null,null,null,null,null,null,null,null,null,null,null,null,null,null,null,null,null,null,null,null,null,"Příloha č. ??? k OZV č. …/2013 Název obec/město"]
["Maximální roční bonusy za třídění odpadů (zkráceně BT) - procentuální úleva na poplatku placeného na následující rok",null,null,null,null,null,null,null,null,null,null,null,null,null,null,null,null,null,null,null,null,null,null,"Maximální roční bonusy za efektivní využívání nádob (BV)-procentuální úleva na poplatku placeného na následující rok",null,null,null,null,null,null,null,null,null,null,null,null,null,null,null,null,null,null,null,null,null,null,null,null,null,null,null,null,null,null,null,null,null,null,null,null,null,null,null,null,null,null,null,null,null,"Součet maximálních ročních bonusů (BT + BV + BS)"]
[]
["Bonus za třídění odpadů je udělen do výše 23% za plast, 20% za papír, 30% za bioodpad, 13% za sklo, 8% za textil, 2% za nápojový karton, 2% za jedlý olej a tuk a 2% za drobné elektrozařízení z hodnoty maximálního bonusu uvedeného v  této tabulce. ",null,null,null,"Procentuální zastoupení objemu obsloužených nádob na plast a na papír v celkovém objemu obsloužených nádob",null,null,null,null,null,null,null,null,null,null,null,null,null,null,null,null,null,null,"Bonus za efektivní využívání sběrných nádob je udělen do výše 100% z hodnoty maximálního bonusu uvedeného v této tabulce.",null,null,null,"Procentuální zastoupení objemu obsloužených nádob na plast a na papír v celkovém objemu obsloužených nádob",null,null,null,null,null,null,null,null,null,null,null,null,null,null,null,null,null,null,null,null,null,null,null,null,null,null,null,null,null,null,null,null,null,null,null,null,null,null,null,null,null,"Záporná hodnota součtu bonusů (BT + BV + BS) je nahrazena nulou.",null,null,null,"Procentuální zastoupení objemu obsloužených nádob na plast a na papír v celkovém objemu obsloužených nádob"]
[null,null,null,null,"0 %","1-5 %","6-10 %","11-15 %","16-20 %","21-25 %","26-30 %","31-35 %","36-40 %","41-45 %","46-50 %","51-55 %","56-60 %","61-65 %","66-70 %","71-75 %","76-80 %","81-85 %","více jak 85 %",null,null,null,null,"0 %","1-5 %","6-10 %","11-15 %","16-20 %","21-25 %","26-30 %","31-35 %","36-40 %","41-45 %","46-50 %","51-55 %","56-60 %","61-65 %","66-70 %","71-75 %","76-80 %","81-85 %","více jak 85 %",null,null,null,null,null,null,null,null,null,null,null,null,null,null,null,null,null,null,null,null,null,null,null,null,null,null,null,"0 %","1-5 %","6-10 %","11-15 %","16-20 %","21-25 %","26-30 %","31-35 %","36-40 %","41-45 %","46-50 %","51-55 %","56-60 %","61-65 %","66-70 %","71-75 %","76-80 %","81-85 %","více jak 85 %"]
[null,null,null,null,"\"Třídí málo\"                                                                                                                                   \"Třídí hodně\"",null,null,null,null,null,null,null,null,null,null,null,null,null,null,null,null,null,null,null,null,null,null,"\"Třídí málo\"                                                                                                                                   \"Třídí hodně\"",null,null,null,null,null,null,null,null,null,null,null,null,null,null,null,null,null,null,null,null,null,null,null,null,null,null,null,null,null,null,null,null,null,null,null,null,null,null,null,null,null,null,null,null,null,"\"Třídí málo\"                                                                                                                                   \"Třídí hodně\""]
["Roční celkový objem obsloužených nádob přepočtený na jednoho účastníka systému užívajícího dané nádoby (litry/účastník systému/rok)",3500,"-",3599,{"$f":"'Nastavení příloh'!F52","v":0},{"$f":"'Nastavení příloh'!G52","v":4},{"$f":"'Nastavení příloh'!H52","v":10},{"$f":"'Nastavení příloh'!I52","v":16},{"$f":"'Nastavení příloh'!J52","v":22},{"$f":"'Nastavení příloh'!K52","v":25},{"$f":"'Nastavení příloh'!L52","v":25},{"$f":"'Nastavení příloh'!M52","v":25},{"$f":"'Nastavení příloh'!N52","v":25},{"$f":"'Nastavení příloh'!O52","v":25},{"$f":"'Nastavení příloh'!P52","v":25},{"$f":"'Nastavení příloh'!Q52","v":25},{"$f":"'Nastavení příloh'!R52","v":25},{"$f":"'Nastavení příloh'!S52","v":25},{"$f":"'Nastavení příloh'!T52","v":25},{"$f":"'Nastavení příloh'!U52","v":25},{"$f":"'Nastavení příloh'!V52","v":25},{"$f":"'Nastavení příloh'!W52","v":25},{"$f":"'Nastavení příloh'!X52","v":25},"Roční celkový objem obsloužených nádob přepočtený na jednoho účastníka systému užívajícího dané nádoby (litry/účastník systému/rok)",3500,"-",3599,{"$f":"'Nastavení příloh'!AD52","v":-13},{"$f":"'Nastavení příloh'!AE52","v":-13},{"$f":"'Nastavení příloh'!AF52","v":-13},{"$f":"'Nastavení příloh'!AG52","v":-13},{"$f":"'Nastavení příloh'!AH52","v":-13},{"$f":"'Nastavení příloh'!AI52","v":-13},{"$f":"'Nastavení příloh'!AJ52","v":-13},{"$f":"'Nastavení příloh'!AK52","v":-13},{"$f":"'Nastavení příloh'!AL52","v":-13},{"$f":"'Nastavení příloh'!AM52","v":-13},{"$f":"'Nastavení příloh'!AN52","v":-13},{"$f":"'Nastavení příloh'!AO52","v":-13},{"$f":"'Nastavení příloh'!AP52","v":-13},{"$f":"'Nastavení příloh'!AQ52","v":-8},{"$f":"'Nastavení příloh'!AR52","v":-3},{"$f":"'Nastavení příloh'!AS52","v":0},{"$f":"'Nastavení příloh'!AT52","v":0},{"$f":"'Nastavení příloh'!AU52","v":0},{"$f":"'Nastavení příloh'!AV52","v":0},null,null,null,null,null,null,null,null,null,null,null,null,null,null,null,null,null,null,null,null,null,null,null,"Roční celkový objem obsloužených nádob přepočtený na jednoho účastníka systému užívajícího dané nádoby (litry/účastník systému/rok)",3500,"-",3599,{"$f":"'Nastavení příloh'!BZ52","v":0},{"$f":"'Nastavení příloh'!CA52","v":0},{"$f":"'Nastavení příloh'!CB52","v":0},{"$f":"'Nastavení příloh'!CC52","v":3},{"$f":"'Nastavení příloh'!CD52","v":9},{"$f":"'Nastavení příloh'!CE52","v":12},{"$f":"'Nastavení příloh'!CF52","v":12},{"$f":"'Nastavení příloh'!CG52","v":12},{"$f":"'Nastavení příloh'!CH52","v":12},{"$f":"'Nastavení příloh'!CI52","v":12},{"$f":"'Nastavení příloh'!CJ52","v":12},{"$f":"'Nastavení příloh'!CK52","v":12},{"$f":"'Nastavení příloh'!CL52","v":12},{"$f":"'Nastavení příloh'!CM52","v":17},{"$f":"'Nastavení příloh'!CN52","v":22},{"$f":"'Nastavení příloh'!CO52","v":25},{"$f":"'Nastavení příloh'!CP52","v":25},{"$f":"'Nastavení příloh'!CQ52","v":25},{"$f":"'Nastavení příloh'!CR52","v":25}]
[null,3600,"-",3699,{"$f":"'Nastavení příloh'!F53","v":0},{"$f":"'Nastavení příloh'!G53","v":4},{"$f":"'Nastavení příloh'!H53","v":10},{"$f":"'Nastavení příloh'!I53","v":17},{"$f":"'Nastavení příloh'!J53","v":23},{"$f":"'Nastavení příloh'!K53","v":25},{"$f":"'Nastavení příloh'!L53","v":25},{"$f":"'Nastavení příloh'!M53","v":25},{"$f":"'Nastavení příloh'!N53","v":25},{"$f":"'Nastavení příloh'!O53","v":25},{"$f":"'Nastavení příloh'!P53","v":25},{"$f":"'Nastavení příloh'!Q53","v":25},{"$f":"'Nastavení příloh'!R53","v":25},{"$f":"'Nastavení příloh'!S53","v":25},{"$f":"'Nastavení příloh'!T53","v":25},{"$f":"'Nastavení příloh'!U53","v":25},{"$f":"'Nastavení příloh'!V53","v":25},{"$f":"'Nastavení příloh'!W53","v":25},{"$f":"'Nastavení příloh'!X53","v":25},null,3600,"-",3699,{"$f":"'Nastavení příloh'!AD53","v":-13},{"$f":"'Nastavení příloh'!AE53","v":-13},{"$f":"'Nastavení příloh'!AF53","v":-13},{"$f":"'Nastavení příloh'!AG53","v":-13},{"$f":"'Nastavení příloh'!AH53","v":-13},{"$f":"'Nastavení příloh'!AI53","v":-13},{"$f":"'Nastavení příloh'!AJ53","v":-13},{"$f":"'Nastavení příloh'!AK53","v":-13},{"$f":"'Nastavení příloh'!AL53","v":-13},{"$f":"'Nastavení příloh'!AM53","v":-13},{"$f":"'Nastavení příloh'!AN53","v":-13},{"$f":"'Nastavení příloh'!AO53","v":-13},{"$f":"'Nastavení příloh'!AP53","v":-13},{"$f":"'Nastavení příloh'!AQ53","v":-9},{"$f":"'Nastavení příloh'!AR53","v":-4},{"$f":"'Nastavení příloh'!AS53","v":0},{"$f":"'Nastavení příloh'!AT53","v":0},{"$f":"'Nastavení příloh'!AU53","v":0},{"$f":"'Nastavení příloh'!AV53","v":0},null,null,null,null,null,null,null,null,null,null,null,null,null,null,null,null,null,null,null,null,null,null,null,null,3600,"-",3699,{"$f":"'Nastavení příloh'!BZ53","v":0},{"$f":"'Nastavení příloh'!CA53","v":0},{"$f":"'Nastavení příloh'!CB53","v":0},{"$f":"'Nastavení příloh'!CC53","v":4},{"$f":"'Nastavení příloh'!CD53","v":10},{"$f":"'Nastavení příloh'!CE53","v":12},{"$f":"'Nastavení příloh'!CF53","v":12},{"$f":"'Nastavení příloh'!CG53","v":12},{"$f":"'Nastavení příloh'!CH53","v":12},{"$f":"'Nastavení příloh'!CI53","v":12},{"$f":"'Nastavení příloh'!CJ53","v":12},{"$f":"'Nastavení příloh'!CK53","v":12},{"$f":"'Nastavení příloh'!CL53","v":12},{"$f":"'Nastavení příloh'!CM53","v":16},{"$f":"'Nastavení příloh'!CN53","v":21},{"$f":"'Nastavení příloh'!CO53","v":25},{"$f":"'Nastavení příloh'!CP53","v":25},{"$f":"'Nastavení příloh'!CQ53","v":25},{"$f":"'Nastavení příloh'!CR53","v":25}]
[null,3700,"-",3799,{"$f":"'Nastavení příloh'!F54","v":0},{"$f":"'Nastavení příloh'!G54","v":4},{"$f":"'Nastavení příloh'!H54","v":11},{"$f":"'Nastavení příloh'!I54","v":17},{"$f":"'Nastavení příloh'!J54","v":24},{"$f":"'Nastavení příloh'!K54","v":25},{"$f":"'Nastavení příloh'!L54","v":25},{"$f":"'Nastavení příloh'!M54","v":25},{"$f":"'Nastavení příloh'!N54","v":25},{"$f":"'Nastavení příloh'!O54","v":25},{"$f":"'Nastavení příloh'!P54","v":25},{"$f":"'Nastavení příloh'!Q54","v":25},{"$f":"'Nastavení příloh'!R54","v":25},{"$f":"'Nastavení příloh'!S54","v":25},{"$f":"'Nastavení příloh'!T54","v":25},{"$f":"'Nastavení příloh'!U54","v":25},{"$f":"'Nastavení příloh'!V54","v":25},{"$f":"'Nastavení příloh'!W54","v":25},{"$f":"'Nastavení příloh'!X54","v":25},null,3700,"-",3799,{"$f":"'Nastavení příloh'!AD54","v":-13},{"$f":"'Nastavení příloh'!AE54","v":-13},{"$f":"'Nastavení příloh'!AF54","v":-13},{"$f":"'Nastavení příloh'!AG54","v":-13},{"$f":"'Nastavení příloh'!AH54","v":-13},{"$f":"'Nastavení příloh'!AI54","v":-13},{"$f":"'Nastavení příloh'!AJ54","v":-13},{"$f":"'Nastavení příloh'!AK54","v":-13},{"$f":"'Nastavení příloh'!AL54","v":-13},{"$f":"'Nastavení příloh'!AM54","v":-13},{"$f":"'Nastavení příloh'!AN54","v":-13},{"$f":"'Nastavení příloh'!AO54","v":-13},{"$f":"'Nastavení příloh'!AP54","v":-13},{"$f":"'Nastavení příloh'!AQ54","v":-10},{"$f":"'Nastavení příloh'!AR54","v":-5},{"$f":"'Nastavení příloh'!AS54","v":0},{"$f":"'Nastavení příloh'!AT54","v":0},{"$f":"'Nastavení příloh'!AU54","v":0},{"$f":"'Nastavení příloh'!AV54","v":0},null,null,null,null,null,null,null,null,null,null,null,null,null,null,null,null,null,null,null,null,null,null,null,null,3700,"-",3799,{"$f":"'Nastavení příloh'!BZ54","v":0},{"$f":"'Nastavení příloh'!CA54","v":0},{"$f":"'Nastavení příloh'!CB54","v":0},{"$f":"'Nastavení příloh'!CC54","v":4},{"$f":"'Nastavení příloh'!CD54","v":11},{"$f":"'Nastavení příloh'!CE54","v":12},{"$f":"'Nastavení příloh'!CF54","v":12},{"$f":"'Nastavení příloh'!CG54","v":12},{"$f":"'Nastavení příloh'!CH54","v":12},{"$f":"'Nastavení příloh'!CI54","v":12},{"$f":"'Nastavení příloh'!CJ54","v":12},{"$f":"'Nastavení příloh'!CK54","v":12},{"$f":"'Nastavení příloh'!CL54","v":12},{"$f":"'Nastavení příloh'!CM54","v":15},{"$f":"'Nastavení příloh'!CN54","v":20},{"$f":"'Nastavení příloh'!CO54","v":25},{"$f":"'Nastavení příloh'!CP54","v":25},{"$f":"'Nastavení příloh'!CQ54","v":25},{"$f":"'Nastavení příloh'!CR54","v":25}]
[null,3800,"-",3899,{"$f":"'Nastavení příloh'!F55","v":0},{"$f":"'Nastavení příloh'!G55","v":4},{"$f":"'Nastavení příloh'!H55","v":11},{"$f":"'Nastavení příloh'!I55","v":18},{"$f":"'Nastavení příloh'!J55","v":24},{"$f":"'Nastavení příloh'!K55","v":25},{"$f":"'Nastavení příloh'!L55","v":25},{"$f":"'Nastavení příloh'!M55","v":25},{"$f":"'Nastavení příloh'!N55","v":25},{"$f":"'Nastavení příloh'!O55","v":25},{"$f":"'Nastavení příloh'!P55","v":25},{"$f":"'Nastavení příloh'!Q55","v":25},{"$f":"'Nastavení příloh'!R55","v":25},{"$f":"'Nastavení příloh'!S55","v":25},{"$f":"'Nastavení příloh'!T55","v":25},{"$f":"'Nastavení příloh'!U55","v":25},{"$f":"'Nastavení příloh'!V55","v":25},{"$f":"'Nastavení příloh'!W55","v":25},{"$f":"'Nastavení příloh'!X55","v":25},null,3800,"-",3899,{"$f":"'Nastavení příloh'!AD55","v":-13},{"$f":"'Nastavení příloh'!AE55","v":-13},{"$f":"'Nastavení příloh'!AF55","v":-13},{"$f":"'Nastavení příloh'!AG55","v":-13},{"$f":"'Nastavení příloh'!AH55","v":-13},{"$f":"'Nastavení příloh'!AI55","v":-13},{"$f":"'Nastavení příloh'!AJ55","v":-13},{"$f":"'Nastavení příloh'!AK55","v":-13},{"$f":"'Nastavení příloh'!AL55","v":-13},{"$f":"'Nastavení příloh'!AM55","v":-13},{"$f":"'Nastavení příloh'!AN55","v":-13},{"$f":"'Nastavení příloh'!AO55","v":-13},{"$f":"'Nastavení příloh'!AP55","v":-13},{"$f":"'Nastavení příloh'!AQ55","v":-11},{"$f":"'Nastavení příloh'!AR55","v":-5},{"$f":"'Nastavení příloh'!AS55","v":0},{"$f":"'Nastavení příloh'!AT55","v":0},{"$f":"'Nastavení příloh'!AU55","v":0},{"$f":"'Nastavení příloh'!AV55","v":0},null,null,null,null,null,null,null,null,null,null,null,null,null,null,null,null,null,null,null,null,null,null,null,null,3800,"-",3899,{"$f":"'Nastavení příloh'!BZ55","v":0},{"$f":"'Nastavení příloh'!CA55","v":0},{"$f":"'Nastavení příloh'!CB55","v":0},{"$f":"'Nastavení příloh'!CC55","v":5},{"$f":"'Nastavení příloh'!CD55","v":11},{"$f":"'Nastavení příloh'!CE55","v":12},{"$f":"'Nastavení příloh'!CF55","v":12},{"$f":"'Nastavení příloh'!CG55","v":12},{"$f":"'Nastavení příloh'!CH55","v":12},{"$f":"'Nastavení příloh'!CI55","v":12},{"$f":"'Nastavení příloh'!CJ55","v":12},{"$f":"'Nastavení příloh'!CK55","v":12},{"$f":"'Nastavení příloh'!CL55","v":12},{"$f":"'Nastavení příloh'!CM55","v":14},{"$f":"'Nastavení příloh'!CN55","v":20},{"$f":"'Nastavení příloh'!CO55","v":25},{"$f":"'Nastavení příloh'!CP55","v":25},{"$f":"'Nastavení příloh'!CQ55","v":25},{"$f":"'Nastavení příloh'!CR55","v":25}]
[null,3900,"-",3999,{"$f":"'Nastavení příloh'!F56","v":0},{"$f":"'Nastavení příloh'!G56","v":4},{"$f":"'Nastavení příloh'!H56","v":11},{"$f":"'Nastavení příloh'!I56","v":18},{"$f":"'Nastavení příloh'!J56","v":25},{"$f":"'Nastavení příloh'!K56","v":25},{"$f":"'Nastavení příloh'!L56","v":25},{"$f":"'Nastavení příloh'!M56","v":25},{"$f":"'Nastavení příloh'!N56","v":25},{"$f":"'Nastavení příloh'!O56","v":25},{"$f":"'Nastavení příloh'!P56","v":25},{"$f":"'Nastavení příloh'!Q56","v":25},{"$f":"'Nastavení příloh'!R56","v":25},{"$f":"'Nastavení příloh'!S56","v":25},{"$f":"'Nastavení příloh'!T56","v":25},{"$f":"'Nastavení příloh'!U56","v":25},{"$f":"'Nastavení příloh'!V56","v":25},{"$f":"'Nastavení příloh'!W56","v":25},{"$f":"'Nastavení příloh'!X56","v":25},null,3900,"-",3999,{"$f":"'Nastavení příloh'!AD56","v":-13},{"$f":"'Nastavení příloh'!AE56","v":-13},{"$f":"'Nastavení příloh'!AF56","v":-13},{"$f":"'Nastavení příloh'!AG56","v":-13},{"$f":"'Nastavení příloh'!AH56","v":-13},{"$f":"'Nastavení příloh'!AI56","v":-13},{"$f":"'Nastavení příloh'!AJ56","v":-13},{"$f":"'Nastavení příloh'!AK56","v":-13},{"$f":"'Nastavení příloh'!AL56","v":-13},{"$f":"'Nastavení příloh'!AM56","v":-13},{"$f":"'Nastavení příloh'!AN56","v":-13},{"$f":"'Nastavení příloh'!AO56","v":-13},{"$f":"'Nastavení příloh'!AP56","v":-13},{"$f":"'Nastavení příloh'!AQ56","v":-12},{"$f":"'Nastavení příloh'!AR56","v":-6},{"$f":"'Nastavení příloh'!AS56","v":-1},{"$f":"'Nastavení příloh'!AT56","v":0},{"$f":"'Nastavení příloh'!AU56","v":0},{"$f":"'Nastavení příloh'!AV56","v":0},null,null,null,null,null,null,null,null,null,null,null,null,null,null,null,null,null,null,null,null,null,null,null,null,3900,"-",3999,{"$f":"'Nastavení příloh'!BZ56","v":0},{"$f":"'Nastavení příloh'!CA56","v":0},{"$f":"'Nastavení příloh'!CB56","v":0},{"$f":"'Nastavení příloh'!CC56","v":5},{"$f":"'Nastavení příloh'!CD56","v":12},{"$f":"'Nastavení příloh'!CE56","v":12},{"$f":"'Nastavení příloh'!CF56","v":12},{"$f":"'Nastavení příloh'!CG56","v":12},{"$f":"'Nastavení příloh'!CH56","v":12},{"$f":"'Nastavení příloh'!CI56","v":12},{"$f":"'Nastavení příloh'!CJ56","v":12},{"$f":"'Nastavení příloh'!CK56","v":12},{"$f":"'Nastavení příloh'!CL56","v":12},{"$f":"'Nastavení příloh'!CM56","v":13},{"$f":"'Nastavení příloh'!CN56","v":19},{"$f":"'Nastavení příloh'!CO56","v":24},{"$f":"'Nastavení příloh'!CP56","v":25},{"$f":"'Nastavení příloh'!CQ56","v":25},{"$f":"'Nastavení příloh'!CR56","v":25}]
[null,4000,"-",4099,{"$f":"'Nastavení příloh'!F57","v":0},{"$f":"'Nastavení příloh'!G57","v":4},{"$f":"'Nastavení příloh'!H57","v":11},{"$f":"'Nastavení příloh'!I57","v":18},{"$f":"'Nastavení příloh'!J57","v":25},{"$f":"'Nastavení příloh'!K57","v":25},{"$f":"'Nastavení příloh'!L57","v":25},{"$f":"'Nastavení příloh'!M57","v":25},{"$f":"'Nastavení příloh'!N57","v":25},{"$f":"'Nastavení příloh'!O57","v":25},{"$f":"'Nastavení příloh'!P57","v":25},{"$f":"'Nastavení příloh'!Q57","v":25},{"$f":"'Nastavení příloh'!R57","v":25},{"$f":"'Nastavení příloh'!S57","v":25},{"$f":"'Nastavení příloh'!T57","v":25},{"$f":"'Nastavení příloh'!U57","v":25},{"$f":"'Nastavení příloh'!V57","v":25},{"$f":"'Nastavení příloh'!W57","v":25},{"$f":"'Nastavení příloh'!X57","v":25},null,4000,"-",4099,{"$f":"'Nastavení příloh'!AD57","v":-13},{"$f":"'Nastavení příloh'!AE57","v":-13},{"$f":"'Nastavení příloh'!AF57","v":-13},{"$f":"'Nastavení příloh'!AG57","v":-13},{"$f":"'Nastavení příloh'!AH57","v":-13},{"$f":"'Nastavení příloh'!AI57","v":-13},{"$f":"'Nastavení příloh'!AJ57","v":-13},{"$f":"'Nastavení příloh'!AK57","v":-13},{"$f":"'Nastavení příloh'!AL57","v":-13},{"$f":"'Nastavení příloh'!AM57","v":-13},{"$f":"'Nastavení příloh'!AN57","v":-13},{"$f":"'Nastavení příloh'!AO57","v":-13},{"$f":"'Nastavení příloh'!AP57","v":-13},{"$f":"'Nastavení příloh'!AQ57","v":-13},{"$f":"'Nastavení příloh'!AR57","v":-7},{"$f":"'Nastavení příloh'!AS57","v":-1},{"$f":"'Nastavení příloh'!AT57","v":0},{"$f":"'Nastavení příloh'!AU57","v":0},{"$f":"'Nastavení příloh'!AV57","v":0},null,null,null,null,null,null,null,null,null,null,null,null,null,null,null,null,null,null,null,null,null,null,null,null,4000,"-",4099,{"$f":"'Nastavení příloh'!BZ57","v":0},{"$f":"'Nastavení příloh'!CA57","v":0},{"$f":"'Nastavení příloh'!CB57","v":0},{"$f":"'Nastavení příloh'!CC57","v":5},{"$f":"'Nastavení příloh'!CD57","v":12},{"$f":"'Nastavení příloh'!CE57","v":12},{"$f":"'Nastavení příloh'!CF57","v":12},{"$f":"'Nastavení příloh'!CG57","v":12},{"$f":"'Nastavení příloh'!CH57","v":12},{"$f":"'Nastavení příloh'!CI57","v":12},{"$f":"'Nastavení příloh'!CJ57","v":12},{"$f":"'Nastavení příloh'!CK57","v":12},{"$f":"'Nastavení příloh'!CL57","v":12},{"$f":"'Nastavení příloh'!CM57","v":12},{"$f":"'Nastavení příloh'!CN57","v":18},{"$f":"'Nastavení příloh'!CO57","v":24},{"$f":"'Nastavení příloh'!CP57","v":25},{"$f":"'Nastavení příloh'!CQ57","v":25},{"$f":"'Nastavení příloh'!CR57","v":25}]
[null,4100,"-",4199,{"$f":"'Nastavení příloh'!F58","v":0},{"$f":"'Nastavení příloh'!G58","v":4},{"$f":"'Nastavení příloh'!H58","v":12},{"$f":"'Nastavení příloh'!I58","v":19},{"$f":"'Nastavení příloh'!J58","v":25},{"$f":"'Nastavení příloh'!K58","v":25},{"$f":"'Nastavení příloh'!L58","v":25},{"$f":"'Nastavení příloh'!M58","v":25},{"$f":"'Nastavení příloh'!N58","v":25},{"$f":"'Nastavení příloh'!O58","v":25},{"$f":"'Nastavení příloh'!P58","v":25},{"$f":"'Nastavení příloh'!Q58","v":25},{"$f":"'Nastavení příloh'!R58","v":25},{"$f":"'Nastavení příloh'!S58","v":25},{"$f":"'Nastavení příloh'!T58","v":25},{"$f":"'Nastavení příloh'!U58","v":25},{"$f":"'Nastavení příloh'!V58","v":25},{"$f":"'Nastavení příloh'!W58","v":25},{"$f":"'Nastavení příloh'!X58","v":25},null,4100,"-",4199,{"$f":"'Nastavení příloh'!AD58","v":-13},{"$f":"'Nastavení příloh'!AE58","v":-13},{"$f":"'Nastavení příloh'!AF58","v":-13},{"$f":"'Nastavení příloh'!AG58","v":-13},{"$f":"'Nastavení příloh'!AH58","v":-13},{"$f":"'Nastavení příloh'!AI58","v":-13},{"$f":"'Nastavení příloh'!AJ58","v":-13},{"$f":"'Nastavení příloh'!AK58","v":-13},{"$f":"'Nastavení příloh'!AL58","v":-13},{"$f":"'Nastavení příloh'!AM58","v":-13},{"$f":"'Nastavení příloh'!AN58","v":-13},{"$f":"'Nastavení příloh'!AO58","v":-13},{"$f":"'Nastavení příloh'!AP58","v":-13},{"$f":"'Nastavení příloh'!AQ58","v":-13},{"$f":"'Nastavení příloh'!AR58","v":-8},{"$f":"'Nastavení příloh'!AS58","v":-2},{"$f":"'Nastavení příloh'!AT58","v":0},{"$f":"'Nastavení příloh'!AU58","v":0},{"$f":"'Nastavení příloh'!AV58","v":0},null,null,null,null,null,null,null,null,null,null,null,null,null,null,null,null,null,null,null,null,null,null,null,null,4100,"-",4199,{"$f":"'Nastavení příloh'!BZ58","v":0},{"$f":"'Nastavení příloh'!CA58","v":0},{"$f":"'Nastavení příloh'!CB58","v":0},{"$f":"'Nastavení příloh'!CC58","v":6},{"$f":"'Nastavení příloh'!CD58","v":12},{"$f":"'Nastavení příloh'!CE58","v":12},{"$f":"'Nastavení příloh'!CF58","v":12},{"$f":"'Nastavení příloh'!CG58","v":12},{"$f":"'Nastavení příloh'!CH58","v":12},{"$f":"'Nastavení příloh'!CI58","v":12},{"$f":"'Nastavení příloh'!CJ58","v":12},{"$f":"'Nastavení příloh'!CK58","v":12},{"$f":"'Nastavení příloh'!CL58","v":12},{"$f":"'Nastavení příloh'!CM58","v":12},{"$f":"'Nastavení příloh'!CN58","v":17},{"$f":"'Nastavení příloh'!CO58","v":23},{"$f":"'Nastavení příloh'!CP58","v":25},{"$f":"'Nastavení příloh'!CQ58","v":25},{"$f":"'Nastavení příloh'!CR58","v":25}]
[null,4200,"-",4299,{"$f":"'Nastavení příloh'!F59","v":0},{"$f":"'Nastavení příloh'!G59","v":4},{"$f":"'Nastavení příloh'!H59","v":12},{"$f":"'Nastavení příloh'!I59","v":19},{"$f":"'Nastavení příloh'!J59","v":25},{"$f":"'Nastavení příloh'!K59","v":25},{"$f":"'Nastavení příloh'!L59","v":25},{"$f":"'Nastavení příloh'!M59","v":25},{"$f":"'Nastavení příloh'!N59","v":25},{"$f":"'Nastavení příloh'!O59","v":25},{"$f":"'Nastavení příloh'!P59","v":25},{"$f":"'Nastavení příloh'!Q59","v":25},{"$f":"'Nastavení příloh'!R59","v":25},{"$f":"'Nastavení příloh'!S59","v":25},{"$f":"'Nastavení příloh'!T59","v":25},{"$f":"'Nastavení příloh'!U59","v":25},{"$f":"'Nastavení příloh'!V59","v":25},{"$f":"'Nastavení příloh'!W59","v":25},{"$f":"'Nastavení příloh'!X59","v":25},null,4200,"-",4299,{"$f":"'Nastavení příloh'!AD59","v":-13},{"$f":"'Nastavení příloh'!AE59","v":-13},{"$f":"'Nastavení příloh'!AF59","v":-13},{"$f":"'Nastavení příloh'!AG59","v":-13},{"$f":"'Nastavení příloh'!AH59","v":-13},{"$f":"'Nastavení příloh'!AI59","v":-13},{"$f":"'Nastavení příloh'!AJ59","v":-13},{"$f":"'Nastavení příloh'!AK59","v":-13},{"$f":"'Nastavení příloh'!AL59","v":-13},{"$f":"'Nastavení příloh'!AM59","v":-13},{"$f":"'Nastavení příloh'!AN59","v":-13},{"$f":"'Nastavení příloh'!AO59","v":-13},{"$f":"'Nastavení příloh'!AP59","v":-13},{"$f":"'Nastavení příloh'!AQ59","v":-13},{"$f":"'Nastavení příloh'!AR59","v":-9},{"$f":"'Nastavení příloh'!AS59","v":-3},{"$f":"'Nastavení příloh'!AT59","v":0},{"$f":"'Nastavení příloh'!AU59","v":0},{"$f":"'Nastavení příloh'!AV59","v":0},null,null,null,null,null,null,null,null,null,null,null,null,null,null,null,null,null,null,null,null,null,null,null,null,4200,"-",4299,{"$f":"'Nastavení příloh'!BZ59","v":0},{"$f":"'Nastavení příloh'!CA59","v":0},{"$f":"'Nastavení příloh'!CB59","v":0},{"$f":"'Nastavení příloh'!CC59","v":6},{"$f":"'Nastavení příloh'!CD59","v":12},{"$f":"'Nastavení příloh'!CE59","v":12},{"$f":"'Nastavení příloh'!CF59","v":12},{"$f":"'Nastavení příloh'!CG59","v":12},{"$f":"'Nastavení příloh'!CH59","v":12},{"$f":"'Nastavení příloh'!CI59","v":12},{"$f":"'Nastavení příloh'!CJ59","v":12},{"$f":"'Nastavení příloh'!CK59","v":12},{"$f":"'Nastavení příloh'!CL59","v":12},{"$f":"'Nastavení příloh'!CM59","v":12},{"$f":"'Nastavení příloh'!CN59","v":16},{"$f":"'Nastavení příloh'!CO59","v":22},{"$f":"'Nastavení příloh'!CP59","v":25},{"$f":"'Nastavení příloh'!CQ59","v":25},{"$f":"'Nastavení příloh'!CR59","v":25}]
[null,4300,"-",4399,{"$f":"'Nastavení příloh'!F60","v":0},{"$f":"'Nastavení příloh'!G60","v":5},{"$f":"'Nastavení příloh'!H60","v":12},{"$f":"'Nastavení příloh'!I60","v":20},{"$f":"'Nastavení příloh'!J60","v":25},{"$f":"'Nastavení příloh'!K60","v":25},{"$f":"'Nastavení příloh'!L60","v":25},{"$f":"'Nastavení příloh'!M60","v":25},{"$f":"'Nastavení příloh'!N60","v":25},{"$f":"'Nastavení příloh'!O60","v":25},{"$f":"'Nastavení příloh'!P60","v":25},{"$f":"'Nastavení příloh'!Q60","v":25},{"$f":"'Nastavení příloh'!R60","v":25},{"$f":"'Nastavení příloh'!S60","v":25},{"$f":"'Nastavení příloh'!T60","v":25},{"$f":"'Nastavení příloh'!U60","v":25},{"$f":"'Nastavení příloh'!V60","v":25},{"$f":"'Nastavení příloh'!W60","v":25},{"$f":"'Nastavení příloh'!X60","v":25},null,4300,"-",4399,{"$f":"'Nastavení příloh'!AD60","v":-13},{"$f":"'Nastavení příloh'!AE60","v":-13},{"$f":"'Nastavení příloh'!AF60","v":-13},{"$f":"'Nastavení příloh'!AG60","v":-13},{"$f":"'Nastavení příloh'!AH60","v":-13},{"$f":"'Nastavení příloh'!AI60","v":-13},{"$f":"'Nastavení příloh'!AJ60","v":-13},{"$f":"'Nastavení příloh'!AK60","v":-13},{"$f":"'Nastavení příloh'!AL60","v":-13},{"$f":"'Nastavení příloh'!AM60","v":-13},{"$f":"'Nastavení příloh'!AN60","v":-13},{"$f":"'Nastavení příloh'!AO60","v":-13},{"$f":"'Nastavení příloh'!AP60","v":-13},{"$f":"'Nastavení příloh'!AQ60","v":-13},{"$f":"'Nastavení příloh'!AR60","v":-10},{"$f":"'Nastavení příloh'!AS60","v":-4},{"$f":"'Nastavení příloh'!AT60","v":0},{"$f":"'Nastavení příloh'!AU60","v":0},{"$f":"'Nastavení příloh'!AV60","v":0},null,null,null,null,null,null,null,null,null,null,null,null,null,null,null,null,null,null,null,null,null,null,null,null,4300,"-",4399,{"$f":"'Nastavení příloh'!BZ60","v":0},{"$f":"'Nastavení příloh'!CA60","v":0},{"$f":"'Nastavení příloh'!CB60","v":0},{"$f":"'Nastavení příloh'!CC60","v":7},{"$f":"'Nastavení příloh'!CD60","v":12},{"$f":"'Nastavení příloh'!CE60","v":12},{"$f":"'Nastavení příloh'!CF60","v":12},{"$f":"'Nastavení příloh'!CG60","v":12},{"$f":"'Nastavení příloh'!CH60","v":12},{"$f":"'Nastavení příloh'!CI60","v":12},{"$f":"'Nastavení příloh'!CJ60","v":12},{"$f":"'Nastavení příloh'!CK60","v":12},{"$f":"'Nastavení příloh'!CL60","v":12},{"$f":"'Nastavení příloh'!CM60","v":12},{"$f":"'Nastavení příloh'!CN60","v":15},{"$f":"'Nastavení příloh'!CO60","v":21},{"$f":"'Nastavení příloh'!CP60","v":25},{"$f":"'Nastavení příloh'!CQ60","v":25},{"$f":"'Nastavení příloh'!CR60","v":25}]
[null,4400,"-",4499,{"$f":"'Nastavení příloh'!F61","v":0},{"$f":"'Nastavení příloh'!G61","v":5},{"$f":"'Nastavení příloh'!H61","v":12},{"$f":"'Nastavení příloh'!I61","v":20},{"$f":"'Nastavení příloh'!J61","v":25},{"$f":"'Nastavení příloh'!K61","v":25},{"$f":"'Nastavení příloh'!L61","v":25},{"$f":"'Nastavení příloh'!M61","v":25},{"$f":"'Nastavení příloh'!N61","v":25},{"$f":"'Nastavení příloh'!O61","v":25},{"$f":"'Nastavení příloh'!P61","v":25},{"$f":"'Nastavení příloh'!Q61","v":25},{"$f":"'Nastavení příloh'!R61","v":25},{"$f":"'Nastavení příloh'!S61","v":25},{"$f":"'Nastavení příloh'!T61","v":25},{"$f":"'Nastavení příloh'!U61","v":25},{"$f":"'Nastavení příloh'!V61","v":25},{"$f":"'Nastavení příloh'!W61","v":25},{"$f":"'Nastavení příloh'!X61","v":25},null,4400,"-",4499,{"$f":"'Nastavení příloh'!AD61","v":-13},{"$f":"'Nastavení příloh'!AE61","v":-13},{"$f":"'Nastavení příloh'!AF61","v":-13},{"$f":"'Nastavení příloh'!AG61","v":-13},{"$f":"'Nastavení příloh'!AH61","v":-13},{"$f":"'Nastavení příloh'!AI61","v":-13},{"$f":"'Nastavení příloh'!AJ61","v":-13},{"$f":"'Nastavení příloh'!AK61","v":-13},{"$f":"'Nastavení příloh'!AL61","v":-13},{"$f":"'Nastavení příloh'!AM61","v":-13},{"$f":"'Nastavení příloh'!AN61","v":-13},{"$f":"'Nastavení příloh'!AO61","v":-13},{"$f":"'Nastavení příloh'!AP61","v":-13},{"$f":"'Nastavení příloh'!AQ61","v":-13},{"$f":"'Nastavení příloh'!AR61","v":-11},{"$f":"'Nastavení příloh'!AS61","v":-5},{"$f":"'Nastavení příloh'!AT61","v":0},{"$f":"'Nastavení příloh'!AU61","v":0},{"$f":"'Nastavení příloh'!AV61","v":0},null,null,null,null,null,null,null,null,null,null,null,null,null,null,null,null,null,null,null,null,null,null,null,null,4400,"-",4499,{"$f":"'Nastavení příloh'!BZ61","v":0},{"$f":"'Nastavení příloh'!CA61","v":0},{"$f":"'Nastavení příloh'!CB61","v":0},{"$f":"'Nastavení příloh'!CC61","v":7},{"$f":"'Nastavení příloh'!CD61","v":12},{"$f":"'Nastavení příloh'!CE61","v":12},{"$f":"'Nastavení příloh'!CF61","v":12},{"$f":"'Nastavení příloh'!CG61","v":12},{"$f":"'Nastavení příloh'!CH61","v":12},{"$f":"'Nastavení příloh'!CI61","v":12},{"$f":"'Nastavení příloh'!CJ61","v":12},{"$f":"'Nastavení příloh'!CK61","v":12},{"$f":"'Nastavení příloh'!CL61","v":12},{"$f":"'Nastavení příloh'!CM61","v":12},{"$f":"'Nastavení příloh'!CN61","v":14},{"$f":"'Nastavení příloh'!CO61","v":20},{"$f":"'Nastavení příloh'!CP61","v":25},{"$f":"'Nastavení příloh'!CQ61","v":25},{"$f":"'Nastavení příloh'!CR61","v":25}]
[null,4500,"-",4599,{"$f":"'Nastavení příloh'!F62","v":0},{"$f":"'Nastavení příloh'!G62","v":5},{"$f":"'Nastavení příloh'!H62","v":13},{"$f":"'Nastavení příloh'!I62","v":21},{"$f":"'Nastavení příloh'!J62","v":25},{"$f":"'Nastavení příloh'!K62","v":25},{"$f":"'Nastavení příloh'!L62","v":25},{"$f":"'Nastavení příloh'!M62","v":25},{"$f":"'Nastavení příloh'!N62","v":25},{"$f":"'Nastavení příloh'!O62","v":25},{"$f":"'Nastavení příloh'!P62","v":25},{"$f":"'Nastavení příloh'!Q62","v":25},{"$f":"'Nastavení příloh'!R62","v":25},{"$f":"'Nastavení příloh'!S62","v":25},{"$f":"'Nastavení příloh'!T62","v":25},{"$f":"'Nastavení příloh'!U62","v":25},{"$f":"'Nastavení příloh'!V62","v":25},{"$f":"'Nastavení příloh'!W62","v":25},{"$f":"'Nastavení příloh'!X62","v":25},null,4500,"-",4599,{"$f":"'Nastavení příloh'!AD62","v":-13},{"$f":"'Nastavení příloh'!AE62","v":-13},{"$f":"'Nastavení příloh'!AF62","v":-13},{"$f":"'Nastavení příloh'!AG62","v":-13},{"$f":"'Nastavení příloh'!AH62","v":-13},{"$f":"'Nastavení příloh'!AI62","v":-13},{"$f":"'Nastavení příloh'!AJ62","v":-13},{"$f":"'Nastavení příloh'!AK62","v":-13},{"$f":"'Nastavení příloh'!AL62","v":-13},{"$f":"'Nastavení příloh'!AM62","v":-13},{"$f":"'Nastavení příloh'!AN62","v":-13},{"$f":"'Nastavení příloh'!AO62","v":-13},{"$f":"'Nastavení příloh'!AP62","v":-13},{"$f":"'Nastavení příloh'!AQ62","v":-13},{"$f":"'Nastavení příloh'!AR62","v":-12},{"$f":"'Nastavení příloh'!AS62","v":-5},{"$f":"'Nastavení příloh'!AT62","v":0},{"$f":"'Nastavení příloh'!AU62","v":0},{"$f":"'Nastavení příloh'!AV62","v":0},null,null,null,null,null,null,null,null,null,null,null,null,null,null,null,null,null,null,null,null,null,null,null,null,4500,"-",4599,{"$f":"'Nastavení příloh'!BZ62","v":0},{"$f":"'Nastavení příloh'!CA62","v":0},{"$f":"'Nastavení příloh'!CB62","v":0},{"$f":"'Nastavení příloh'!CC62","v":8},{"$f":"'Nastavení příloh'!CD62","v":12},{"$f":"'Nastavení příloh'!CE62","v":12},{"$f":"'Nastavení příloh'!CF62","v":12},{"$f":"'Nastavení příloh'!CG62","v":12},{"$f":"'Nastavení příloh'!CH62","v":12},{"$f":"'Nastavení příloh'!CI62","v":12},{"$f":"'Nastavení příloh'!CJ62","v":12},{"$f":"'Nastavení příloh'!CK62","v":12},{"$f":"'Nastavení příloh'!CL62","v":12},{"$f":"'Nastavení příloh'!CM62","v":12},{"$f":"'Nastavení příloh'!CN62","v":13},{"$f":"'Nastavení příloh'!CO62","v":20},{"$f":"'Nastavení příloh'!CP62","v":25},{"$f":"'Nastavení příloh'!CQ62","v":25},{"$f":"'Nastavení příloh'!CR62","v":25}]
[null,4600,"-",4699,{"$f":"'Nastavení příloh'!F63","v":0},{"$f":"'Nastavení příloh'!G63","v":5},{"$f":"'Nastavení příloh'!H63","v":13},{"$f":"'Nastavení příloh'!I63","v":21},{"$f":"'Nastavení příloh'!J63","v":25},{"$f":"'Nastavení příloh'!K63","v":25},{"$f":"'Nastavení příloh'!L63","v":25},{"$f":"'Nastavení příloh'!M63","v":25},{"$f":"'Nastavení příloh'!N63","v":25},{"$f":"'Nastavení příloh'!O63","v":25},{"$f":"'Nastavení příloh'!P63","v":25},{"$f":"'Nastavení příloh'!Q63","v":25},{"$f":"'Nastavení příloh'!R63","v":25},{"$f":"'Nastavení příloh'!S63","v":25},{"$f":"'Nastavení příloh'!T63","v":25},{"$f":"'Nastavení příloh'!U63","v":25},{"$f":"'Nastavení příloh'!V63","v":25},{"$f":"'Nastavení příloh'!W63","v":25},{"$f":"'Nastavení příloh'!X63","v":25},null,4600,"-",4699,{"$f":"'Nastavení příloh'!AD63","v":-13},{"$f":"'Nastavení příloh'!AE63","v":-13},{"$f":"'Nastavení příloh'!AF63","v":-13},{"$f":"'Nastavení příloh'!AG63","v":-13},{"$f":"'Nastavení příloh'!AH63","v":-13},{"$f":"'Nastavení příloh'!AI63","v":-13},{"$f":"'Nastavení příloh'!AJ63","v":-13},{"$f":"'Nastavení příloh'!AK63","v":-13},{"$f":"'Nastavení příloh'!AL63","v":-13},{"$f":"'Nastavení příloh'!AM63","v":-13},{"$f":"'Nastavení příloh'!AN63","v":-13},{"$f":"'Nastavení příloh'!AO63","v":-13},{"$f":"'Nastavení příloh'!AP63","v":-13},{"$f":"'Nastavení příloh'!AQ63","v":-13},{"$f":"'Nastavení příloh'!AR63","v":-13},{"$f":"'Nastavení příloh'!AS63","v":-6},{"$f":"'Nastavení příloh'!AT63","v":0},{"$f":"'Nastavení příloh'!AU63","v":0},{"$f":"'Nastavení příloh'!AV63","v":0},null,null,null,null,null,null,null,null,null,null,null,null,null,null,null,null,null,null,null,null,null,null,null,null,4600,"-",4699,{"$f":"'Nastavení příloh'!BZ63","v":0},{"$f":"'Nastavení příloh'!CA63","v":0},{"$f":"'Nastavení příloh'!CB63","v":0},{"$f":"'Nastavení příloh'!CC63","v":8},{"$f":"'Nastavení příloh'!CD63","v":12},{"$f":"'Nastavení příloh'!CE63","v":12},{"$f":"'Nastavení příloh'!CF63","v":12},{"$f":"'Nastavení příloh'!CG63","v":12},{"$f":"'Nastavení příloh'!CH63","v":12},{"$f":"'Nastavení příloh'!CI63","v":12},{"$f":"'Nastavení příloh'!CJ63","v":12},{"$f":"'Nastavení příloh'!CK63","v":12},{"$f":"'Nastavení příloh'!CL63","v":12},{"$f":"'Nastavení příloh'!CM63","v":12},{"$f":"'Nastavení příloh'!CN63","v":12},{"$f":"'Nastavení příloh'!CO63","v":19},{"$f":"'Nastavení příloh'!CP63","v":25},{"$f":"'Nastavení příloh'!CQ63","v":25},{"$f":"'Nastavení příloh'!CR63","v":25}]
[null,4700,"-",4799,{"$f":"'Nastavení příloh'!F64","v":0},{"$f":"'Nastavení příloh'!G64","v":5},{"$f":"'Nastavení příloh'!H64","v":13},{"$f":"'Nastavení příloh'!I64","v":22},{"$f":"'Nastavení příloh'!J64","v":25},{"$f":"'Nastavení příloh'!K64","v":25},{"$f":"'Nastavení příloh'!L64","v":25},{"$f":"'Nastavení příloh'!M64","v":25},{"$f":"'Nastavení příloh'!N64","v":25},{"$f":"'Nastavení příloh'!O64","v":25},{"$f":"'Nastavení příloh'!P64","v":25},{"$f":"'Nastavení příloh'!Q64","v":25},{"$f":"'Nastavení příloh'!R64","v":25},{"$f":"'Nastavení příloh'!S64","v":25},{"$f":"'Nastavení příloh'!T64","v":25},{"$f":"'Nastavení příloh'!U64","v":25},{"$f":"'Nastavení příloh'!V64","v":25},{"$f":"'Nastavení příloh'!W64","v":25},{"$f":"'Nastavení příloh'!X64","v":25},null,4700,"-",4799,{"$f":"'Nastavení příloh'!AD64","v":-13},{"$f":"'Nastavení příloh'!AE64","v":-13},{"$f":"'Nastavení příloh'!AF64","v":-13},{"$f":"'Nastavení příloh'!AG64","v":-13},{"$f":"'Nastavení příloh'!AH64","v":-13},{"$f":"'Nastavení příloh'!AI64","v":-13},{"$f":"'Nastavení příloh'!AJ64","v":-13},{"$f":"'Nastavení příloh'!AK64","v":-13},{"$f":"'Nastavení příloh'!AL64","v":-13},{"$f":"'Nastavení příloh'!AM64","v":-13},{"$f":"'Nastavení příloh'!AN64","v":-13},{"$f":"'Nastavení příloh'!AO64","v":-13},{"$f":"'Nastavení příloh'!AP64","v":-13},{"$f":"'Nastavení příloh'!AQ64","v":-13},{"$f":"'Nastavení příloh'!AR64","v":-13},{"$f":"'Nastavení příloh'!AS64","v":-7},{"$f":"'Nastavení příloh'!AT64","v":0},{"$f":"'Nastavení příloh'!AU64","v":0},{"$f":"'Nastavení příloh'!AV64","v":0},null,null,null,null,null,null,null,null,null,null,null,null,null,null,null,null,null,null,null,null,null,null,null,null,4700,"-",4799,{"$f":"'Nastavení příloh'!BZ64","v":0},{"$f":"'Nastavení příloh'!CA64","v":0},{"$f":"'Nastavení příloh'!CB64","v":0},{"$f":"'Nastavení příloh'!CC64","v":9},{"$f":"'Nastavení příloh'!CD64","v":12},{"$f":"'Nastavení příloh'!CE64","v":12},{"$f":"'Nastavení příloh'!CF64","v":12},{"$f":"'Nastavení příloh'!CG64","v":12},{"$f":"'Nastavení příloh'!CH64","v":12},{"$f":"'Nastavení příloh'!CI64","v":12},{"$f":"'Nastavení příloh'!CJ64","v":12},{"$f":"'Nastavení příloh'!CK64","v":12},{"$f":"'Nastavení příloh'!CL64","v":12},{"$f":"'Nastavení příloh'!CM64","v":12},{"$f":"'Nastavení příloh'!CN64","v":12},{"$f":"'Nastavení příloh'!CO64","v":18},{"$f":"'Nastavení příloh'!CP64","v":25},{"$f":"'Nastavení příloh'!CQ64","v":25},{"$f":"'Nastavení příloh'!CR64","v":25}]
[null,4800,"-",4899,{"$f":"'Nastavení příloh'!F65","v":0},{"$f":"'Nastavení příloh'!G65","v":5},{"$f":"'Nastavení příloh'!H65","v":14},{"$f":"'Nastavení příloh'!I65","v":22},{"$f":"'Nastavení příloh'!J65","v":25},{"$f":"'Nastavení příloh'!K65","v":25},{"$f":"'Nastavení příloh'!L65","v":25},{"$f":"'Nastavení příloh'!M65","v":25},{"$f":"'Nastavení příloh'!N65","v":25},{"$f":"'Nastavení příloh'!O65","v":25},{"$f":"'Nastavení příloh'!P65","v":25},{"$f":"'Nastavení příloh'!Q65","v":25},{"$f":"'Nastavení příloh'!R65","v":25},{"$f":"'Nastavení příloh'!S65","v":25},{"$f":"'Nastavení příloh'!T65","v":25},{"$f":"'Nastavení příloh'!U65","v":25},{"$f":"'Nastavení příloh'!V65","v":25},{"$f":"'Nastavení příloh'!W65","v":25},{"$f":"'Nastavení příloh'!X65","v":25},null,4800,"-",4899,{"$f":"'Nastavení příloh'!AD65","v":-13},{"$f":"'Nastavení příloh'!AE65","v":-13},{"$f":"'Nastavení příloh'!AF65","v":-13},{"$f":"'Nastavení příloh'!AG65","v":-13},{"$f":"'Nastavení příloh'!AH65","v":-13},{"$f":"'Nastavení příloh'!AI65","v":-13},{"$f":"'Nastavení příloh'!AJ65","v":-13},{"$f":"'Nastavení příloh'!AK65","v":-13},{"$f":"'Nastavení příloh'!AL65","v":-13},{"$f":"'Nastavení příloh'!AM65","v":-13},{"$f":"'Nastavení příloh'!AN65","v":-13},{"$f":"'Nastavení příloh'!AO65","v":-13},{"$f":"'Nastavení příloh'!AP65","v":-13},{"$f":"'Nastavení příloh'!AQ65","v":-13},{"$f":"'Nastavení příloh'!AR65","v":-13},{"$f":"'Nastavení příloh'!AS65","v":-8},{"$f":"'Nastavení příloh'!AT65","v":-1},{"$f":"'Nastavení příloh'!AU65","v":0},{"$f":"'Nastavení příloh'!AV65","v":0},null,null,null,null,null,null,null,null,null,null,null,null,null,null,null,null,null,null,null,null,null,null,null,null,4800,"-",4899,{"$f":"'Nastavení příloh'!BZ65","v":0},{"$f":"'Nastavení příloh'!CA65","v":0},{"$f":"'Nastavení příloh'!CB65","v":1},{"$f":"'Nastavení příloh'!CC65","v":9},{"$f":"'Nastavení příloh'!CD65","v":12},{"$f":"'Nastavení příloh'!CE65","v":12},{"$f":"'Nastavení příloh'!CF65","v":12},{"$f":"'Nastavení příloh'!CG65","v":12},{"$f":"'Nastavení příloh'!CH65","v":12},{"$f":"'Nastavení příloh'!CI65","v":12},{"$f":"'Nastavení příloh'!CJ65","v":12},{"$f":"'Nastavení příloh'!CK65","v":12},{"$f":"'Nastavení příloh'!CL65","v":12},{"$f":"'Nastavení příloh'!CM65","v":12},{"$f":"'Nastavení příloh'!CN65","v":12},{"$f":"'Nastavení příloh'!CO65","v":17},{"$f":"'Nastavení příloh'!CP65","v":24},{"$f":"'Nastavení příloh'!CQ65","v":25},{"$f":"'Nastavení příloh'!CR65","v":25}]
[null,4900,"-",4999,{"$f":"'Nastavení příloh'!F66","v":0},{"$f":"'Nastavení příloh'!G66","v":5},{"$f":"'Nastavení příloh'!H66","v":14},{"$f":"'Nastavení příloh'!I66","v":23},{"$f":"'Nastavení příloh'!J66","v":25},{"$f":"'Nastavení příloh'!K66","v":25},{"$f":"'Nastavení příloh'!L66","v":25},{"$f":"'Nastavení příloh'!M66","v":25},{"$f":"'Nastavení příloh'!N66","v":25},{"$f":"'Nastavení příloh'!O66","v":25},{"$f":"'Nastavení příloh'!P66","v":25},{"$f":"'Nastavení příloh'!Q66","v":25},{"$f":"'Nastavení příloh'!R66","v":25},{"$f":"'Nastavení příloh'!S66","v":25},{"$f":"'Nastavení příloh'!T66","v":25},{"$f":"'Nastavení příloh'!U66","v":25},{"$f":"'Nastavení příloh'!V66","v":25},{"$f":"'Nastavení příloh'!W66","v":25},{"$f":"'Nastavení příloh'!X66","v":25},null,4900,"-",4999,{"$f":"'Nastavení příloh'!AD66","v":-13},{"$f":"'Nastavení příloh'!AE66","v":-13},{"$f":"'Nastavení příloh'!AF66","v":-13},{"$f":"'Nastavení příloh'!AG66","v":-13},{"$f":"'Nastavení příloh'!AH66","v":-13},{"$f":"'Nastavení příloh'!AI66","v":-13},{"$f":"'Nastavení příloh'!AJ66","v":-13},{"$f":"'Nastavení příloh'!AK66","v":-13},{"$f":"'Nastavení příloh'!AL66","v":-13},{"$f":"'Nastavení příloh'!AM66","v":-13},{"$f":"'Nastavení příloh'!AN66","v":-13},{"$f":"'Nastavení příloh'!AO66","v":-13},{"$f":"'Nastavení příloh'!AP66","v":-13},{"$f":"'Nastavení příloh'!AQ66","v":-13},{"$f":"'Nastavení příloh'!AR66","v":-13},{"$f":"'Nastavení příloh'!AS66","v":-8},{"$f":"'Nastavení příloh'!AT66","v":-1},{"$f":"'Nastavení příloh'!AU66","v":0},{"$f":"'Nastavení příloh'!AV66","v":0},null,null,null,null,null,null,null,null,null,null,null,null,null,null,null,null,null,null,null,null,null,null,null,null,4900,"-",4999,{"$f":"'Nastavení příloh'!BZ66","v":0},{"$f":"'Nastavení příloh'!CA66","v":0},{"$f":"'Nastavení příloh'!CB66","v":1},{"$f":"'Nastavení příloh'!CC66","v":10},{"$f":"'Nastavení příloh'!CD66","v":12},{"$f":"'Nastavení příloh'!CE66","v":12},{"$f":"'Nastavení příloh'!CF66","v":12},{"$f":"'Nastavení příloh'!CG66","v":12},{"$f":"'Nastavení příloh'!CH66","v":12},{"$f":"'Nastavení příloh'!CI66","v":12},{"$f":"'Nastavení příloh'!CJ66","v":12},{"$f":"'Nastavení příloh'!CK66","v":12},{"$f":"'Nastavení příloh'!CL66","v":12},{"$f":"'Nastavení příloh'!CM66","v":12},{"$f":"'Nastavení příloh'!CN66","v":12},{"$f":"'Nastavení příloh'!CO66","v":17},{"$f":"'Nastavení příloh'!CP66","v":24},{"$f":"'Nastavení příloh'!CQ66","v":25},{"$f":"'Nastavení příloh'!CR66","v":25}]
[null,5000,"-",5099,{"$f":"'Nastavení příloh'!F67","v":0},{"$f":"'Nastavení příloh'!G67","v":5},{"$f":"'Nastavení příloh'!H67","v":14},{"$f":"'Nastavení příloh'!I67","v":23},{"$f":"'Nastavení příloh'!J67","v":25},{"$f":"'Nastavení příloh'!K67","v":25},{"$f":"'Nastavení příloh'!L67","v":25},{"$f":"'Nastavení příloh'!M67","v":25},{"$f":"'Nastavení příloh'!N67","v":25},{"$f":"'Nastavení příloh'!O67","v":25},{"$f":"'Nastavení příloh'!P67","v":25},{"$f":"'Nastavení příloh'!Q67","v":25},{"$f":"'Nastavení příloh'!R67","v":25},{"$f":"'Nastavení příloh'!S67","v":25},{"$f":"'Nastavení příloh'!T67","v":25},{"$f":"'Nastavení příloh'!U67","v":25},{"$f":"'Nastavení příloh'!V67","v":25},{"$f":"'Nastavení příloh'!W67","v":25},{"$f":"'Nastavení příloh'!X67","v":25},null,5000,"-",5099,{"$f":"'Nastavení příloh'!AD67","v":-13},{"$f":"'Nastavení příloh'!AE67","v":-13},{"$f":"'Nastavení příloh'!AF67","v":-13},{"$f":"'Nastavení příloh'!AG67","v":-13},{"$f":"'Nastavení příloh'!AH67","v":-13},{"$f":"'Nastavení příloh'!AI67","v":-13},{"$f":"'Nastavení příloh'!AJ67","v":-13},{"$f":"'Nastavení příloh'!AK67","v":-13},{"$f":"'Nastavení příloh'!AL67","v":-13},{"$f":"'Nastavení příloh'!AM67","v":-13},{"$f":"'Nastavení příloh'!AN67","v":-13},{"$f":"'Nastavení příloh'!AO67","v":-13},{"$f":"'Nastavení příloh'!AP67","v":-13},{"$f":"'Nastavení příloh'!AQ67","v":-13},{"$f":"'Nastavení příloh'!AR67","v":-13},{"$f":"'Nastavení příloh'!AS67","v":-9},{"$f":"'Nastavení příloh'!AT67","v":-2},{"$f":"'Nastavení příloh'!AU67","v":0},{"$f":"'Nastavení příloh'!AV67","v":0},null,null,null,null,null,null,null,null,null,null,null,null,null,null,null,null,null,null,null,null,null,null,null,null,5000,"-",5099,{"$f":"'Nastavení příloh'!BZ67","v":0},{"$f":"'Nastavení příloh'!CA67","v":0},{"$f":"'Nastavení příloh'!CB67","v":1},{"$f":"'Nastavení příloh'!CC67","v":10},{"$f":"'Nastavení příloh'!CD67","v":12},{"$f":"'Nastavení příloh'!CE67","v":12},{"$f":"'Nastavení příloh'!CF67","v":12},{"$f":"'Nastavení příloh'!CG67","v":12},{"$f":"'Nastavení příloh'!CH67","v":12},{"$f":"'Nastavení příloh'!CI67","v":12},{"$f":"'Nastavení příloh'!CJ67","v":12},{"$f":"'Nastavení příloh'!CK67","v":12},{"$f":"'Nastavení příloh'!CL67","v":12},{"$f":"'Nastavení příloh'!CM67","v":12},{"$f":"'Nastavení příloh'!CN67","v":12},{"$f":"'Nastavení příloh'!CO67","v":16},{"$f":"'Nastavení příloh'!CP67","v":23},{"$f":"'Nastavení příloh'!CQ67","v":25},{"$f":"'Nastavení příloh'!CR67","v":25}]
[null,5100,"-",5199,{"$f":"'Nastavení příloh'!F68","v":0},{"$f":"'Nastavení příloh'!G68","v":5},{"$f":"'Nastavení příloh'!H68","v":14},{"$f":"'Nastavení příloh'!I68","v":23},{"$f":"'Nastavení příloh'!J68","v":25},{"$f":"'Nastavení příloh'!K68","v":25},{"$f":"'Nastavení příloh'!L68","v":25},{"$f":"'Nastavení příloh'!M68","v":25},{"$f":"'Nastavení příloh'!N68","v":25},{"$f":"'Nastavení příloh'!O68","v":25},{"$f":"'Nastavení příloh'!P68","v":25},{"$f":"'Nastavení příloh'!Q68","v":25},{"$f":"'Nastavení příloh'!R68","v":25},{"$f":"'Nastavení příloh'!S68","v":25},{"$f":"'Nastavení příloh'!T68","v":25},{"$f":"'Nastavení příloh'!U68","v":25},{"$f":"'Nastavení příloh'!V68","v":25},{"$f":"'Nastavení příloh'!W68","v":25},{"$f":"'Nastavení příloh'!X68","v":25},null,5100,"-",5199,{"$f":"'Nastavení příloh'!AD68","v":-13},{"$f":"'Nastavení příloh'!AE68","v":-13},{"$f":"'Nastavení příloh'!AF68","v":-13},{"$f":"'Nastavení příloh'!AG68","v":-13},{"$f":"'Nastavení příloh'!AH68","v":-13},{"$f":"'Nastavení příloh'!AI68","v":-13},{"$f":"'Nastavení příloh'!AJ68","v":-13},{"$f":"'Nastavení příloh'!AK68","v":-13},{"$f":"'Nastavení příloh'!AL68","v":-13},{"$f":"'Nastavení příloh'!AM68","v":-13},{"$f":"'Nastavení příloh'!AN68","v":-13},{"$f":"'Nastavení příloh'!AO68","v":-13},{"$f":"'Nastavení příloh'!AP68","v":-13},{"$f":"'Nastavení příloh'!AQ68","v":-13},{"$f":"'Nastavení příloh'!AR68","v":-13},{"$f":"'Nastavení příloh'!AS68","v":-10},{"$f":"'Nastavení příloh'!AT68","v":-3},{"$f":"'Nastavení příloh'!AU68","v":0},{"$f":"'Nastavení příloh'!AV68","v":0},null,null,null,null,null,null,null,null,null,null,null,null,null,null,null,null,null,null,null,null,null,null,null,null,5100,"-",5199,{"$f":"'Nastavení příloh'!BZ68","v":0},{"$f":"'Nastavení příloh'!CA68","v":0},{"$f":"'Nastavení příloh'!CB68","v":1},{"$f":"'Nastavení příloh'!CC68","v":10},{"$f":"'Nastavení příloh'!CD68","v":12},{"$f":"'Nastavení příloh'!CE68","v":12},{"$f":"'Nastavení příloh'!CF68","v":12},{"$f":"'Nastavení příloh'!CG68","v":12},{"$f":"'Nastavení příloh'!CH68","v":12},{"$f":"'Nastavení příloh'!CI68","v":12},{"$f":"'Nastavení příloh'!CJ68","v":12},{"$f":"'Nastavení příloh'!CK68","v":12},{"$f":"'Nastavení příloh'!CL68","v":12},{"$f":"'Nastavení příloh'!CM68","v":12},{"$f":"'Nastavení příloh'!CN68","v":12},{"$f":"'Nastavení příloh'!CO68","v":15},{"$f":"'Nastavení příloh'!CP68","v":22},{"$f":"'Nastavení příloh'!CQ68","v":25},{"$f":"'Nastavení příloh'!CR68","v":25}]
[null,5200,"-",5299,{"$f":"'Nastavení příloh'!F69","v":0},{"$f":"'Nastavení příloh'!G69","v":6},{"$f":"'Nastavení příloh'!H69","v":15},{"$f":"'Nastavení příloh'!I69","v":24},{"$f":"'Nastavení příloh'!J69","v":25},{"$f":"'Nastavení příloh'!K69","v":25},{"$f":"'Nastavení příloh'!L69","v":25},{"$f":"'Nastavení příloh'!M69","v":25},{"$f":"'Nastavení příloh'!N69","v":25},{"$f":"'Nastavení příloh'!O69","v":25},{"$f":"'Nastavení příloh'!P69","v":25},{"$f":"'Nastavení příloh'!Q69","v":25},{"$f":"'Nastavení příloh'!R69","v":25},{"$f":"'Nastavení příloh'!S69","v":25},{"$f":"'Nastavení příloh'!T69","v":25},{"$f":"'Nastavení příloh'!U69","v":25},{"$f":"'Nastavení příloh'!V69","v":25},{"$f":"'Nastavení příloh'!W69","v":25},{"$f":"'Nastavení příloh'!X69","v":25},null,5200,"-",5299,{"$f":"'Nastavení příloh'!AD69","v":-13},{"$f":"'Nastavení příloh'!AE69","v":-13},{"$f":"'Nastavení příloh'!AF69","v":-13},{"$f":"'Nastavení příloh'!AG69","v":-13},{"$f":"'Nastavení příloh'!AH69","v":-13},{"$f":"'Nastavení příloh'!AI69","v":-13},{"$f":"'Nastavení příloh'!AJ69","v":-13},{"$f":"'Nastavení příloh'!AK69","v":-13},{"$f":"'Nastavení příloh'!AL69","v":-13},{"$f":"'Nastavení příloh'!AM69","v":-13},{"$f":"'Nastavení příloh'!AN69","v":-13},{"$f":"'Nastavení příloh'!AO69","v":-13},{"$f":"'Nastavení příloh'!AP69","v":-13},{"$f":"'Nastavení příloh'!AQ69","v":-13},{"$f":"'Nastavení příloh'!AR69","v":-13},{"$f":"'Nastavení příloh'!AS69","v":-11},{"$f":"'Nastavení příloh'!AT69","v":-3},{"$f":"'Nastavení příloh'!AU69","v":0},{"$f":"'Nastavení příloh'!AV69","v":0},null,null,null,null,null,null,null,null,null,null,null,null,null,null,null,null,null,null,null,null,null,null,null,null,5200,"-",5299,{"$f":"'Nastavení příloh'!BZ69","v":0},{"$f":"'Nastavení příloh'!CA69","v":0},{"$f":"'Nastavení příloh'!CB69","v":2},{"$f":"'Nastavení příloh'!CC69","v":11},{"$f":"'Nastavení příloh'!CD69","v":12},{"$f":"'Nastavení příloh'!CE69","v":12},{"$f":"'Nastavení příloh'!CF69","v":12},{"$f":"'Nastavení příloh'!CG69","v":12},{"$f":"'Nastavení příloh'!CH69","v":12},{"$f":"'Nastavení příloh'!CI69","v":12},{"$f":"'Nastavení příloh'!CJ69","v":12},{"$f":"'Nastavení příloh'!CK69","v":12},{"$f":"'Nastavení příloh'!CL69","v":12},{"$f":"'Nastavení příloh'!CM69","v":12},{"$f":"'Nastavení příloh'!CN69","v":12},{"$f":"'Nastavení příloh'!CO69","v":14},{"$f":"'Nastavení příloh'!CP69","v":22},{"$f":"'Nastavení příloh'!CQ69","v":25},{"$f":"'Nastavení příloh'!CR69","v":25}]
[null,5300,"-",5399,{"$f":"'Nastavení příloh'!F70","v":0},{"$f":"'Nastavení příloh'!G70","v":6},{"$f":"'Nastavení příloh'!H70","v":15},{"$f":"'Nastavení příloh'!I70","v":24},{"$f":"'Nastavení příloh'!J70","v":25},{"$f":"'Nastavení příloh'!K70","v":25},{"$f":"'Nastavení příloh'!L70","v":25},{"$f":"'Nastavení příloh'!M70","v":25},{"$f":"'Nastavení příloh'!N70","v":25},{"$f":"'Nastavení příloh'!O70","v":25},{"$f":"'Nastavení příloh'!P70","v":25},{"$f":"'Nastavení příloh'!Q70","v":25},{"$f":"'Nastavení příloh'!R70","v":25},{"$f":"'Nastavení příloh'!S70","v":25},{"$f":"'Nastavení příloh'!T70","v":25},{"$f":"'Nastavení příloh'!U70","v":25},{"$f":"'Nastavení příloh'!V70","v":25},{"$f":"'Nastavení příloh'!W70","v":25},{"$f":"'Nastavení příloh'!X70","v":25},null,5300,"-",5399,{"$f":"'Nastavení příloh'!AD70","v":-13},{"$f":"'Nastavení příloh'!AE70","v":-13},{"$f":"'Nastavení příloh'!AF70","v":-13},{"$f":"'Nastavení příloh'!AG70","v":-13},{"$f":"'Nastavení příloh'!AH70","v":-13},{"$f":"'Nastavení příloh'!AI70","v":-13},{"$f":"'Nastavení příloh'!AJ70","v":-13},{"$f":"'Nastavení příloh'!AK70","v":-13},{"$f":"'Nastavení příloh'!AL70","v":-13},{"$f":"'Nastavení příloh'!AM70","v":-13},{"$f":"'Nastavení příloh'!AN70","v":-13},{"$f":"'Nastavení příloh'!AO70","v":-13},{"$f":"'Nastavení příloh'!AP70","v":-13},{"$f":"'Nastavení příloh'!AQ70","v":-13},{"$f":"'Nastavení příloh'!AR70","v":-13},{"$f":"'Nastavení příloh'!AS70","v":-11},{"$f":"'Nastavení příloh'!AT70","v":-4},{"$f":"'Nastavení příloh'!AU70","v":0},{"$f":"'Nastavení příloh'!AV70","v":0},null,null,null,null,null,null,null,null,null,null,null,null,null,null,null,null,null,null,null,null,null,null,null,null,5300,"-",5399,{"$f":"'Nastavení příloh'!BZ70","v":0},{"$f":"'Nastavení příloh'!CA70","v":0},{"$f":"'Nastavení příloh'!CB70","v":2},{"$f":"'Nastavení příloh'!CC70","v":11},{"$f":"'Nastavení příloh'!CD70","v":12},{"$f":"'Nastavení příloh'!CE70","v":12},{"$f":"'Nastavení příloh'!CF70","v":12},{"$f":"'Nastavení příloh'!CG70","v":12},{"$f":"'Nastavení příloh'!CH70","v":12},{"$f":"'Nastavení příloh'!CI70","v":12},{"$f":"'Nastavení příloh'!CJ70","v":12},{"$f":"'Nastavení příloh'!CK70","v":12},{"$f":"'Nastavení příloh'!CL70","v":12},{"$f":"'Nastavení příloh'!CM70","v":12},{"$f":"'Nastavení příloh'!CN70","v":12},{"$f":"'Nastavení příloh'!CO70","v":14},{"$f":"'Nastavení příloh'!CP70","v":21},{"$f":"'Nastavení příloh'!CQ70","v":25},{"$f":"'Nastavení příloh'!CR70","v":25}]
[null,5400,"-",5499,{"$f":"'Nastavení příloh'!F71","v":0},{"$f":"'Nastavení příloh'!G71","v":6},{"$f":"'Nastavení příloh'!H71","v":15},{"$f":"'Nastavení příloh'!I71","v":25},{"$f":"'Nastavení příloh'!J71","v":25},{"$f":"'Nastavení příloh'!K71","v":25},{"$f":"'Nastavení příloh'!L71","v":25},{"$f":"'Nastavení příloh'!M71","v":25},{"$f":"'Nastavení příloh'!N71","v":25},{"$f":"'Nastavení příloh'!O71","v":25},{"$f":"'Nastavení příloh'!P71","v":25},{"$f":"'Nastavení příloh'!Q71","v":25},{"$f":"'Nastavení příloh'!R71","v":25},{"$f":"'Nastavení příloh'!S71","v":25},{"$f":"'Nastavení příloh'!T71","v":25},{"$f":"'Nastavení příloh'!U71","v":25},{"$f":"'Nastavení příloh'!V71","v":25},{"$f":"'Nastavení příloh'!W71","v":25},{"$f":"'Nastavení příloh'!X71","v":25},null,5400,"-",5499,{"$f":"'Nastavení příloh'!AD71","v":-13},{"$f":"'Nastavení příloh'!AE71","v":-13},{"$f":"'Nastavení příloh'!AF71","v":-13},{"$f":"'Nastavení příloh'!AG71","v":-13},{"$f":"'Nastavení příloh'!AH71","v":-13},{"$f":"'Nastavení příloh'!AI71","v":-13},{"$f":"'Nastavení příloh'!AJ71","v":-13},{"$f":"'Nastavení příloh'!AK71","v":-13},{"$f":"'Nastavení příloh'!AL71","v":-13},{"$f":"'Nastavení příloh'!AM71","v":-13},{"$f":"'Nastavení příloh'!AN71","v":-13},{"$f":"'Nastavení příloh'!AO71","v":-13},{"$f":"'Nastavení příloh'!AP71","v":-13},{"$f":"'Nastavení příloh'!AQ71","v":-13},{"$f":"'Nastavení příloh'!AR71","v":-13},{"$f":"'Nastavení příloh'!AS71","v":-12},{"$f":"'Nastavení příloh'!AT71","v":-4},{"$f":"'Nastavení příloh'!AU71","v":0},{"$f":"'Nastavení příloh'!AV71","v":0},null,null,null,null,null,null,null,null,null,null,null,null,null,null,null,null,null,null,null,null,null,null,null,null,5400,"-",5499,{"$f":"'Nastavení příloh'!BZ71","v":0},{"$f":"'Nastavení příloh'!CA71","v":0},{"$f":"'Nastavení příloh'!CB71","v":2},{"$f":"'Nastavení příloh'!CC71","v":12},{"$f":"'Nastavení příloh'!CD71","v":12},{"$f":"'Nastavení příloh'!CE71","v":12},{"$f":"'Nastavení příloh'!CF71","v":12},{"$f":"'Nastavení příloh'!CG71","v":12},{"$f":"'Nastavení příloh'!CH71","v":12},{"$f":"'Nastavení příloh'!CI71","v":12},{"$f":"'Nastavení příloh'!CJ71","v":12},{"$f":"'Nastavení příloh'!CK71","v":12},{"$f":"'Nastavení příloh'!CL71","v":12},{"$f":"'Nastavení příloh'!CM71","v":12},{"$f":"'Nastavení příloh'!CN71","v":12},{"$f":"'Nastavení příloh'!CO71","v":13},{"$f":"'Nastavení příloh'!CP71","v":21},{"$f":"'Nastavení příloh'!CQ71","v":25},{"$f":"'Nastavení příloh'!CR71","v":25}]
[null,5500,"-",5599,{"$f":"'Nastavení příloh'!F72","v":0},{"$f":"'Nastavení příloh'!G72","v":6},{"$f":"'Nastavení příloh'!H72","v":16},{"$f":"'Nastavení příloh'!I72","v":25},{"$f":"'Nastavení příloh'!J72","v":25},{"$f":"'Nastavení příloh'!K72","v":25},{"$f":"'Nastavení příloh'!L72","v":25},{"$f":"'Nastavení příloh'!M72","v":25},{"$f":"'Nastavení příloh'!N72","v":25},{"$f":"'Nastavení příloh'!O72","v":25},{"$f":"'Nastavení příloh'!P72","v":25},{"$f":"'Nastavení příloh'!Q72","v":25},{"$f":"'Nastavení příloh'!R72","v":25},{"$f":"'Nastavení příloh'!S72","v":25},{"$f":"'Nastavení příloh'!T72","v":25},{"$f":"'Nastavení příloh'!U72","v":25},{"$f":"'Nastavení příloh'!V72","v":25},{"$f":"'Nastavení příloh'!W72","v":25},{"$f":"'Nastavení příloh'!X72","v":25},null,5500,"-",5599,{"$f":"'Nastavení příloh'!AD72","v":-13},{"$f":"'Nastavení příloh'!AE72","v":-13},{"$f":"'Nastavení příloh'!AF72","v":-13},{"$f":"'Nastavení příloh'!AG72","v":-13},{"$f":"'Nastavení příloh'!AH72","v":-13},{"$f":"'Nastavení příloh'!AI72","v":-13},{"$f":"'Nastavení příloh'!AJ72","v":-13},{"$f":"'Nastavení příloh'!AK72","v":-13},{"$f":"'Nastavení příloh'!AL72","v":-13},{"$f":"'Nastavení příloh'!AM72","v":-13},{"$f":"'Nastavení příloh'!AN72","v":-13},{"$f":"'Nastavení příloh'!AO72","v":-13},{"$f":"'Nastavení příloh'!AP72","v":-13},{"$f":"'Nastavení příloh'!AQ72","v":-13},{"$f":"'Nastavení příloh'!AR72","v":-13},{"$f":"'Nastavení příloh'!AS72","v":-13},{"$f":"'Nastavení příloh'!AT72","v":-5},{"$f":"'Nastavení příloh'!AU72","v":0},{"$f":"'Nastavení příloh'!AV72","v":0},null,null,null,null,null,null,null,null,null,null,null,null,null,null,null,null,null,null,null,null,null,null,null,null,5500,"-",5599,{"$f":"'Nastavení příloh'!BZ72","v":0},{"$f":"'Nastavení příloh'!CA72","v":0},{"$f":"'Nastavení příloh'!CB72","v":3},{"$f":"'Nastavení příloh'!CC72","v":12},{"$f":"'Nastavení příloh'!CD72","v":12},{"$f":"'Nastavení příloh'!CE72","v":12},{"$f":"'Nastavení příloh'!CF72","v":12},{"$f":"'Nastavení příloh'!CG72","v":12},{"$f":"'Nastavení příloh'!CH72","v":12},{"$f":"'Nastavení příloh'!CI72","v":12},{"$f":"'Nastavení příloh'!CJ72","v":12},{"$f":"'Nastavení příloh'!CK72","v":12},{"$f":"'Nastavení příloh'!CL72","v":12},{"$f":"'Nastavení příloh'!CM72","v":12},{"$f":"'Nastavení příloh'!CN72","v":12},{"$f":"'Nastavení příloh'!CO72","v":12},{"$f":"'Nastavení příloh'!CP72","v":20},{"$f":"'Nastavení příloh'!CQ72","v":25},{"$f":"'Nastavení příloh'!CR72","v":25}]
[null,5600,"-",5699,{"$f":"'Nastavení příloh'!F73","v":0},{"$f":"'Nastavení příloh'!G73","v":6},{"$f":"'Nastavení příloh'!H73","v":16},{"$f":"'Nastavení příloh'!I73","v":25},{"$f":"'Nastavení příloh'!J73","v":25},{"$f":"'Nastavení příloh'!K73","v":25},{"$f":"'Nastavení příloh'!L73","v":25},{"$f":"'Nastavení příloh'!M73","v":25},{"$f":"'Nastavení příloh'!N73","v":25},{"$f":"'Nastavení příloh'!O73","v":25},{"$f":"'Nastavení příloh'!P73","v":25},{"$f":"'Nastavení příloh'!Q73","v":25},{"$f":"'Nastavení příloh'!R73","v":25},{"$f":"'Nastavení příloh'!S73","v":25},{"$f":"'Nastavení příloh'!T73","v":25},{"$f":"'Nastavení příloh'!U73","v":25},{"$f":"'Nastavení příloh'!V73","v":25},{"$f":"'Nastavení příloh'!W73","v":25},{"$f":"'Nastavení příloh'!X73","v":25},null,5600,"-",5699,{"$f":"'Nastavení příloh'!AD73","v":-13},{"$f":"'Nastavení příloh'!AE73","v":-13},{"$f":"'Nastavení příloh'!AF73","v":-13},{"$f":"'Nastavení příloh'!AG73","v":-13},{"$f":"'Nastavení příloh'!AH73","v":-13},{"$f":"'Nastavení příloh'!AI73","v":-13},{"$f":"'Nastavení příloh'!AJ73","v":-13},{"$f":"'Nastavení příloh'!AK73","v":-13},{"$f":"'Nastavení příloh'!AL73","v":-13},{"$f":"'Nastavení příloh'!AM73","v":-13},{"$f":"'Nastavení příloh'!AN73","v":-13},{"$f":"'Nastavení příloh'!AO73","v":-13},{"$f":"'Nastavení příloh'!AP73","v":-13},{"$f":"'Nastavení příloh'!AQ73","v":-13},{"$f":"'Nastavení příloh'!AR73","v":-13},{"$f":"'Nastavení příloh'!AS73","v":-13},{"$f":"'Nastavení příloh'!AT73","v":-6},{"$f":"'Nastavení příloh'!AU73","v":0},{"$f":"'Nastavení příloh'!AV73","v":0},null,null,null,null,null,null,null,null,null,null,null,null,null,null,null,null,null,null,null,null,null,null,null,null,5600,"-",5699,{"$f":"'Nastavení příloh'!BZ73","v":0},{"$f":"'Nastavení příloh'!CA73","v":0},{"$f":"'Nastavení příloh'!CB73","v":3},{"$f":"'Nastavení příloh'!CC73","v":12},{"$f":"'Nastavení příloh'!CD73","v":12},{"$f":"'Nastavení příloh'!CE73","v":12},{"$f":"'Nastavení příloh'!CF73","v":12},{"$f":"'Nastavení příloh'!CG73","v":12},{"$f":"'Nastavení příloh'!CH73","v":12},{"$f":"'Nastavení příloh'!CI73","v":12},{"$f":"'Nastavení příloh'!CJ73","v":12},{"$f":"'Nastavení příloh'!CK73","v":12},{"$f":"'Nastavení příloh'!CL73","v":12},{"$f":"'Nastavení příloh'!CM73","v":12},{"$f":"'Nastavení příloh'!CN73","v":12},{"$f":"'Nastavení příloh'!CO73","v":12},{"$f":"'Nastavení příloh'!CP73","v":19},{"$f":"'Nastavení příloh'!CQ73","v":25},{"$f":"'Nastavení příloh'!CR73","v":25}]
[null,5700,"-",5799,{"$f":"'Nastavení příloh'!F74","v":0},{"$f":"'Nastavení příloh'!G74","v":6},{"$f":"'Nastavení příloh'!H74","v":16},{"$f":"'Nastavení příloh'!I74","v":25},{"$f":"'Nastavení příloh'!J74","v":25},{"$f":"'Nastavení příloh'!K74","v":25},{"$f":"'Nastavení příloh'!L74","v":25},{"$f":"'Nastavení příloh'!M74","v":25},{"$f":"'Nastavení příloh'!N74","v":25},{"$f":"'Nastavení příloh'!O74","v":25},{"$f":"'Nastavení příloh'!P74","v":25},{"$f":"'Nastavení příloh'!Q74","v":25},{"$f":"'Nastavení příloh'!R74","v":25},{"$f":"'Nastavení příloh'!S74","v":25},{"$f":"'Nastavení příloh'!T74","v":25},{"$f":"'Nastavení příloh'!U74","v":25},{"$f":"'Nastavení příloh'!V74","v":25},{"$f":"'Nastavení příloh'!W74","v":25},{"$f":"'Nastavení příloh'!X74","v":25},null,5700,"-",5799,{"$f":"'Nastavení příloh'!AD74","v":-13},{"$f":"'Nastavení příloh'!AE74","v":-13},{"$f":"'Nastavení příloh'!AF74","v":-13},{"$f":"'Nastavení příloh'!AG74","v":-13},{"$f":"'Nastavení příloh'!AH74","v":-13},{"$f":"'Nastavení příloh'!AI74","v":-13},{"$f":"'Nastavení příloh'!AJ74","v":-13},{"$f":"'Nastavení příloh'!AK74","v":-13},{"$f":"'Nastavení příloh'!AL74","v":-13},{"$f":"'Nastavení příloh'!AM74","v":-13},{"$f":"'Nastavení příloh'!AN74","v":-13},{"$f":"'Nastavení příloh'!AO74","v":-13},{"$f":"'Nastavení příloh'!AP74","v":-13},{"$f":"'Nastavení příloh'!AQ74","v":-13},{"$f":"'Nastavení příloh'!AR74","v":-13},{"$f":"'Nastavení příloh'!AS74","v":-13},{"$f":"'Nastavení příloh'!AT74","v":-6},{"$f":"'Nastavení příloh'!AU74","v":0},{"$f":"'Nastavení příloh'!AV74","v":0},null,null,null,null,null,null,null,null,null,null,null,null,null,null,null,null,null,null,null,null,null,null,null,null,5700,"-",5799,{"$f":"'Nastavení příloh'!BZ74","v":0},{"$f":"'Nastavení příloh'!CA74","v":0},{"$f":"'Nastavení příloh'!CB74","v":3},{"$f":"'Nastavení příloh'!CC74","v":12},{"$f":"'Nastavení příloh'!CD74","v":12},{"$f":"'Nastavení příloh'!CE74","v":12},{"$f":"'Nastavení příloh'!CF74","v":12},{"$f":"'Nastavení příloh'!CG74","v":12},{"$f":"'Nastavení příloh'!CH74","v":12},{"$f":"'Nastavení příloh'!CI74","v":12},{"$f":"'Nastavení příloh'!CJ74","v":12},{"$f":"'Nastavení příloh'!CK74","v":12},{"$f":"'Nastavení příloh'!CL74","v":12},{"$f":"'Nastavení příloh'!CM74","v":12},{"$f":"'Nastavení příloh'!CN74","v":12},{"$f":"'Nastavení příloh'!CO74","v":12},{"$f":"'Nastavení příloh'!CP74","v":19},{"$f":"'Nastavení příloh'!CQ74","v":25},{"$f":"'Nastavení příloh'!CR74","v":25}]
[null,5800,"-",5899,{"$f":"'Nastavení příloh'!F75","v":0},{"$f":"'Nastavení příloh'!G75","v":6},{"$f":"'Nastavení příloh'!H75","v":16},{"$f":"'Nastavení příloh'!I75","v":25},{"$f":"'Nastavení příloh'!J75","v":25},{"$f":"'Nastavení příloh'!K75","v":25},{"$f":"'Nastavení příloh'!L75","v":25},{"$f":"'Nastavení příloh'!M75","v":25},{"$f":"'Nastavení příloh'!N75","v":25},{"$f":"'Nastavení příloh'!O75","v":25},{"$f":"'Nastavení příloh'!P75","v":25},{"$f":"'Nastavení příloh'!Q75","v":25},{"$f":"'Nastavení příloh'!R75","v":25},{"$f":"'Nastavení příloh'!S75","v":25},{"$f":"'Nastavení příloh'!T75","v":25},{"$f":"'Nastavení příloh'!U75","v":25},{"$f":"'Nastavení příloh'!V75","v":25},{"$f":"'Nastavení příloh'!W75","v":25},{"$f":"'Nastavení příloh'!X75","v":25},null,5800,"-",5899,{"$f":"'Nastavení příloh'!AD75","v":-13},{"$f":"'Nastavení příloh'!AE75","v":-13},{"$f":"'Nastavení příloh'!AF75","v":-13},{"$f":"'Nastavení příloh'!AG75","v":-13},{"$f":"'Nastavení příloh'!AH75","v":-13},{"$f":"'Nastavení příloh'!AI75","v":-13},{"$f":"'Nastavení příloh'!AJ75","v":-13},{"$f":"'Nastavení příloh'!AK75","v":-13},{"$f":"'Nastavení příloh'!AL75","v":-13},{"$f":"'Nastavení příloh'!AM75","v":-13},{"$f":"'Nastavení příloh'!AN75","v":-13},{"$f":"'Nastavení příloh'!AO75","v":-13},{"$f":"'Nastavení příloh'!AP75","v":-13},{"$f":"'Nastavení příloh'!AQ75","v":-13},{"$f":"'Nastavení příloh'!AR75","v":-13},{"$f":"'Nastavení příloh'!AS75","v":-13},{"$f":"'Nastavení příloh'!AT75","v":-7},{"$f":"'Nastavení příloh'!AU75","v":0},{"$f":"'Nastavení příloh'!AV75","v":0},null,null,null,null,null,null,null,null,null,null,null,null,null,null,null,null,null,null,null,null,null,null,null,null,5800,"-",5899,{"$f":"'Nastavení příloh'!BZ75","v":0},{"$f":"'Nastavení příloh'!CA75","v":0},{"$f":"'Nastavení příloh'!CB75","v":3},{"$f":"'Nastavení příloh'!CC75","v":12},{"$f":"'Nastavení příloh'!CD75","v":12},{"$f":"'Nastavení příloh'!CE75","v":12},{"$f":"'Nastavení příloh'!CF75","v":12},{"$f":"'Nastavení příloh'!CG75","v":12},{"$f":"'Nastavení příloh'!CH75","v":12},{"$f":"'Nastavení příloh'!CI75","v":12},{"$f":"'Nastavení příloh'!CJ75","v":12},{"$f":"'Nastavení příloh'!CK75","v":12},{"$f":"'Nastavení příloh'!CL75","v":12},{"$f":"'Nastavení příloh'!CM75","v":12},{"$f":"'Nastavení příloh'!CN75","v":12},{"$f":"'Nastavení příloh'!CO75","v":12},{"$f":"'Nastavení příloh'!CP75","v":18},{"$f":"'Nastavení příloh'!CQ75","v":25},{"$f":"'Nastavení příloh'!CR75","v":25}]
[null,5900,"-",5999,{"$f":"'Nastavení příloh'!F76","v":0},{"$f":"'Nastavení příloh'!G76","v":6},{"$f":"'Nastavení příloh'!H76","v":17},{"$f":"'Nastavení příloh'!I76","v":25},{"$f":"'Nastavení příloh'!J76","v":25},{"$f":"'Nastavení příloh'!K76","v":25},{"$f":"'Nastavení příloh'!L76","v":25},{"$f":"'Nastavení příloh'!M76","v":25},{"$f":"'Nastavení příloh'!N76","v":25},{"$f":"'Nastavení příloh'!O76","v":25},{"$f":"'Nastavení příloh'!P76","v":25},{"$f":"'Nastavení příloh'!Q76","v":25},{"$f":"'Nastavení příloh'!R76","v":25},{"$f":"'Nastavení příloh'!S76","v":25},{"$f":"'Nastavení příloh'!T76","v":25},{"$f":"'Nastavení příloh'!U76","v":25},{"$f":"'Nastavení příloh'!V76","v":25},{"$f":"'Nastavení příloh'!W76","v":25},{"$f":"'Nastavení příloh'!X76","v":25},null,5900,"-",5999,{"$f":"'Nastavení příloh'!AD76","v":-13},{"$f":"'Nastavení příloh'!AE76","v":-13},{"$f":"'Nastavení příloh'!AF76","v":-13},{"$f":"'Nastavení příloh'!AG76","v":-13},{"$f":"'Nastavení příloh'!AH76","v":-13},{"$f":"'Nastavení příloh'!AI76","v":-13},{"$f":"'Nastavení příloh'!AJ76","v":-13},{"$f":"'Nastavení příloh'!AK76","v":-13},{"$f":"'Nastavení příloh'!AL76","v":-13},{"$f":"'Nastavení příloh'!AM76","v":-13},{"$f":"'Nastavení příloh'!AN76","v":-13},{"$f":"'Nastavení příloh'!AO76","v":-13},{"$f":"'Nastavení příloh'!AP76","v":-13},{"$f":"'Nastavení příloh'!AQ76","v":-13},{"$f":"'Nastavení příloh'!AR76","v":-13},{"$f":"'Nastavení příloh'!AS76","v":-13},{"$f":"'Nastavení příloh'!AT76","v":-8},{"$f":"'Nastavení příloh'!AU76","v":0},{"$f":"'Nastavení příloh'!AV76","v":0},null,null,null,null,null,null,null,null,null,null,null,null,null,null,null,null,null,null,null,null,null,null,null,null,5900,"-",5999,{"$f":"'Nastavení příloh'!BZ76","v":0},{"$f":"'Nastavení příloh'!CA76","v":0},{"$f":"'Nastavení příloh'!CB76","v":4},{"$f":"'Nastavení příloh'!CC76","v":12},{"$f":"'Nastavení příloh'!CD76","v":12},{"$f":"'Nastavení příloh'!CE76","v":12},{"$f":"'Nastavení příloh'!CF76","v":12},{"$f":"'Nastavení příloh'!CG76","v":12},{"$f":"'Nastavení příloh'!CH76","v":12},{"$f":"'Nastavení příloh'!CI76","v":12},{"$f":"'Nastavení příloh'!CJ76","v":12},{"$f":"'Nastavení příloh'!CK76","v":12},{"$f":"'Nastavení příloh'!CL76","v":12},{"$f":"'Nastavení příloh'!CM76","v":12},{"$f":"'Nastavení příloh'!CN76","v":12},{"$f":"'Nastavení příloh'!CO76","v":12},{"$f":"'Nastavení příloh'!CP76","v":17},{"$f":"'Nastavení příloh'!CQ76","v":25},{"$f":"'Nastavení příloh'!CR76","v":25}]
[null,6000,"-",6099,{"$f":"'Nastavení příloh'!F77","v":0},{"$f":"'Nastavení příloh'!G77","v":6},{"$f":"'Nastavení příloh'!H77","v":17},{"$f":"'Nastavení příloh'!I77","v":25},{"$f":"'Nastavení příloh'!J77","v":25},{"$f":"'Nastavení příloh'!K77","v":25},{"$f":"'Nastavení příloh'!L77","v":25},{"$f":"'Nastavení příloh'!M77","v":25},{"$f":"'Nastavení příloh'!N77","v":25},{"$f":"'Nastavení příloh'!O77","v":25},{"$f":"'Nastavení příloh'!P77","v":25},{"$f":"'Nastavení příloh'!Q77","v":25},{"$f":"'Nastavení příloh'!R77","v":25},{"$f":"'Nastavení příloh'!S77","v":25},{"$f":"'Nastavení příloh'!T77","v":25},{"$f":"'Nastavení příloh'!U77","v":25},{"$f":"'Nastavení příloh'!V77","v":25},{"$f":"'Nastavení příloh'!W77","v":25},{"$f":"'Nastavení příloh'!X77","v":25},null,6000,"-",6099,{"$f":"'Nastavení příloh'!AD77","v":-13},{"$f":"'Nastavení příloh'!AE77","v":-13},{"$f":"'Nastavení příloh'!AF77","v":-13},{"$f":"'Nastavení příloh'!AG77","v":-13},{"$f":"'Nastavení příloh'!AH77","v":-13},{"$f":"'Nastavení příloh'!AI77","v":-13},{"$f":"'Nastavení příloh'!AJ77","v":-13},{"$f":"'Nastavení příloh'!AK77","v":-13},{"$f":"'Nastavení příloh'!AL77","v":-13},{"$f":"'Nastavení příloh'!AM77","v":-13},{"$f":"'Nastavení příloh'!AN77","v":-13},{"$f":"'Nastavení příloh'!AO77","v":-13},{"$f":"'Nastavení příloh'!AP77","v":-13},{"$f":"'Nastavení příloh'!AQ77","v":-13},{"$f":"'Nastavení příloh'!AR77","v":-13},{"$f":"'Nastavení příloh'!AS77","v":-13},{"$f":"'Nastavení příloh'!AT77","v":-8},{"$f":"'Nastavení příloh'!AU77","v":0},{"$f":"'Nastavení příloh'!AV77","v":0},null,null,null,null,null,null,null,null,null,null,null,null,null,null,null,null,null,null,null,null,null,null,null,null,6000,"-",6099,{"$f":"'Nastavení příloh'!BZ77","v":0},{"$f":"'Nastavení příloh'!CA77","v":0},{"$f":"'Nastavení příloh'!CB77","v":4},{"$f":"'Nastavení příloh'!CC77","v":12},{"$f":"'Nastavení příloh'!CD77","v":12},{"$f":"'Nastavení příloh'!CE77","v":12},{"$f":"'Nastavení příloh'!CF77","v":12},{"$f":"'Nastavení příloh'!CG77","v":12},{"$f":"'Nastavení příloh'!CH77","v":12},{"$f":"'Nastavení příloh'!CI77","v":12},{"$f":"'Nastavení příloh'!CJ77","v":12},{"$f":"'Nastavení příloh'!CK77","v":12},{"$f":"'Nastavení příloh'!CL77","v":12},{"$f":"'Nastavení příloh'!CM77","v":12},{"$f":"'Nastavení příloh'!CN77","v":12},{"$f":"'Nastavení příloh'!CO77","v":12},{"$f":"'Nastavení příloh'!CP77","v":17},{"$f":"'Nastavení příloh'!CQ77","v":25},{"$f":"'Nastavení příloh'!CR77","v":25}]
[null,6100,"-",6199,{"$f":"'Nastavení příloh'!F78","v":0},{"$f":"'Nastavení příloh'!G78","v":6},{"$f":"'Nastavení příloh'!H78","v":17},{"$f":"'Nastavení příloh'!I78","v":25},{"$f":"'Nastavení příloh'!J78","v":25},{"$f":"'Nastavení příloh'!K78","v":25},{"$f":"'Nastavení příloh'!L78","v":25},{"$f":"'Nastavení příloh'!M78","v":25},{"$f":"'Nastavení příloh'!N78","v":25},{"$f":"'Nastavení příloh'!O78","v":25},{"$f":"'Nastavení příloh'!P78","v":25},{"$f":"'Nastavení příloh'!Q78","v":25},{"$f":"'Nastavení příloh'!R78","v":25},{"$f":"'Nastavení příloh'!S78","v":25},{"$f":"'Nastavení příloh'!T78","v":25},{"$f":"'Nastavení příloh'!U78","v":25},{"$f":"'Nastavení příloh'!V78","v":25},{"$f":"'Nastavení příloh'!W78","v":25},{"$f":"'Nastavení příloh'!X78","v":25},null,6100,"-",6199,{"$f":"'Nastavení příloh'!AD78","v":-13},{"$f":"'Nastavení příloh'!AE78","v":-13},{"$f":"'Nastavení příloh'!AF78","v":-13},{"$f":"'Nastavení příloh'!AG78","v":-13},{"$f":"'Nastavení příloh'!AH78","v":-13},{"$f":"'Nastavení příloh'!AI78","v":-13},{"$f":"'Nastavení příloh'!AJ78","v":-13},{"$f":"'Nastavení příloh'!AK78","v":-13},{"$f":"'Nastavení příloh'!AL78","v":-13},{"$f":"'Nastavení příloh'!AM78","v":-13},{"$f":"'Nastavení příloh'!AN78","v":-13},{"$f":"'Nastavení příloh'!AO78","v":-13},{"$f":"'Nastavení příloh'!AP78","v":-13},{"$f":"'Nastavení příloh'!AQ78","v":-13},{"$f":"'Nastavení příloh'!AR78","v":-13},{"$f":"'Nastavení příloh'!AS78","v":-13},{"$f":"'Nastavení příloh'!AT78","v":-9},{"$f":"'Nastavení příloh'!AU78","v":0},{"$f":"'Nastavení příloh'!AV78","v":0},null,null,null,null,null,null,null,null,null,null,null,null,null,null,null,null,null,null,null,null,null,null,null,null,6100,"-",6199,{"$f":"'Nastavení příloh'!BZ78","v":0},{"$f":"'Nastavení příloh'!CA78","v":0},{"$f":"'Nastavení příloh'!CB78","v":4},{"$f":"'Nastavení příloh'!CC78","v":12},{"$f":"'Nastavení příloh'!CD78","v":12},{"$f":"'Nastavení příloh'!CE78","v":12},{"$f":"'Nastavení příloh'!CF78","v":12},{"$f":"'Nastavení příloh'!CG78","v":12},{"$f":"'Nastavení příloh'!CH78","v":12},{"$f":"'Nastavení příloh'!CI78","v":12},{"$f":"'Nastavení příloh'!CJ78","v":12},{"$f":"'Nastavení příloh'!CK78","v":12},{"$f":"'Nastavení příloh'!CL78","v":12},{"$f":"'Nastavení příloh'!CM78","v":12},{"$f":"'Nastavení příloh'!CN78","v":12},{"$f":"'Nastavení příloh'!CO78","v":12},{"$f":"'Nastavení příloh'!CP78","v":16},{"$f":"'Nastavení příloh'!CQ78","v":25},{"$f":"'Nastavení příloh'!CR78","v":25}]
[null,6200,"-",6299,{"$f":"'Nastavení příloh'!F79","v":0},{"$f":"'Nastavení příloh'!G79","v":7},{"$f":"'Nastavení příloh'!H79","v":18},{"$f":"'Nastavení příloh'!I79","v":25},{"$f":"'Nastavení příloh'!J79","v":25},{"$f":"'Nastavení příloh'!K79","v":25},{"$f":"'Nastavení příloh'!L79","v":25},{"$f":"'Nastavení příloh'!M79","v":25},{"$f":"'Nastavení příloh'!N79","v":25},{"$f":"'Nastavení příloh'!O79","v":25},{"$f":"'Nastavení příloh'!P79","v":25},{"$f":"'Nastavení příloh'!Q79","v":25},{"$f":"'Nastavení příloh'!R79","v":25},{"$f":"'Nastavení příloh'!S79","v":25},{"$f":"'Nastavení příloh'!T79","v":25},{"$f":"'Nastavení příloh'!U79","v":25},{"$f":"'Nastavení příloh'!V79","v":25},{"$f":"'Nastavení příloh'!W79","v":25},{"$f":"'Nastavení příloh'!X79","v":25},null,6200,"-",6299,{"$f":"'Nastavení příloh'!AD79","v":-13},{"$f":"'Nastavení příloh'!AE79","v":-13},{"$f":"'Nastavení příloh'!AF79","v":-13},{"$f":"'Nastavení příloh'!AG79","v":-13},{"$f":"'Nastavení příloh'!AH79","v":-13},{"$f":"'Nastavení příloh'!AI79","v":-13},{"$f":"'Nastavení příloh'!AJ79","v":-13},{"$f":"'Nastavení příloh'!AK79","v":-13},{"$f":"'Nastavení příloh'!AL79","v":-13},{"$f":"'Nastavení příloh'!AM79","v":-13},{"$f":"'Nastavení příloh'!AN79","v":-13},{"$f":"'Nastavení příloh'!AO79","v":-13},{"$f":"'Nastavení příloh'!AP79","v":-13},{"$f":"'Nastavení příloh'!AQ79","v":-13},{"$f":"'Nastavení příloh'!AR79","v":-13},{"$f":"'Nastavení příloh'!AS79","v":-13},{"$f":"'Nastavení příloh'!AT79","v":-9},{"$f":"'Nastavení příloh'!AU79","v":-1},{"$f":"'Nastavení příloh'!AV79","v":0},null,null,null,null,null,null,null,null,null,null,null,null,null,null,null,null,null,null,null,null,null,null,null,null,6200,"-",6299,{"$f":"'Nastavení příloh'!BZ79","v":0},{"$f":"'Nastavení příloh'!CA79","v":0},{"$f":"'Nastavení příloh'!CB79","v":5},{"$f":"'Nastavení příloh'!CC79","v":12},{"$f":"'Nastavení příloh'!CD79","v":12},{"$f":"'Nastavení příloh'!CE79","v":12},{"$f":"'Nastavení příloh'!CF79","v":12},{"$f":"'Nastavení příloh'!CG79","v":12},{"$f":"'Nastavení příloh'!CH79","v":12},{"$f":"'Nastavení příloh'!CI79","v":12},{"$f":"'Nastavení příloh'!CJ79","v":12},{"$f":"'Nastavení příloh'!CK79","v":12},{"$f":"'Nastavení příloh'!CL79","v":12},{"$f":"'Nastavení příloh'!CM79","v":12},{"$f":"'Nastavení příloh'!CN79","v":12},{"$f":"'Nastavení příloh'!CO79","v":12},{"$f":"'Nastavení příloh'!CP79","v":16},{"$f":"'Nastavení příloh'!CQ79","v":24},{"$f":"'Nastavení příloh'!CR79","v":25}]
[null,6300,"-",6399,{"$f":"'Nastavení příloh'!F80","v":0},{"$f":"'Nastavení příloh'!G80","v":7},{"$f":"'Nastavení příloh'!H80","v":18},{"$f":"'Nastavení příloh'!I80","v":25},{"$f":"'Nastavení příloh'!J80","v":25},{"$f":"'Nastavení příloh'!K80","v":25},{"$f":"'Nastavení příloh'!L80","v":25},{"$f":"'Nastavení příloh'!M80","v":25},{"$f":"'Nastavení příloh'!N80","v":25},{"$f":"'Nastavení příloh'!O80","v":25},{"$f":"'Nastavení příloh'!P80","v":25},{"$f":"'Nastavení příloh'!Q80","v":25},{"$f":"'Nastavení příloh'!R80","v":25},{"$f":"'Nastavení příloh'!S80","v":25},{"$f":"'Nastavení příloh'!T80","v":25},{"$f":"'Nastavení příloh'!U80","v":25},{"$f":"'Nastavení příloh'!V80","v":25},{"$f":"'Nastavení příloh'!W80","v":25},{"$f":"'Nastavení příloh'!X80","v":25},null,6300,"-",6399,{"$f":"'Nastavení příloh'!AD80","v":-13},{"$f":"'Nastavení příloh'!AE80","v":-13},{"$f":"'Nastavení příloh'!AF80","v":-13},{"$f":"'Nastavení příloh'!AG80","v":-13},{"$f":"'Nastavení příloh'!AH80","v":-13},{"$f":"'Nastavení příloh'!AI80","v":-13},{"$f":"'Nastavení příloh'!AJ80","v":-13},{"$f":"'Nastavení příloh'!AK80","v":-13},{"$f":"'Nastavení příloh'!AL80","v":-13},{"$f":"'Nastavení příloh'!AM80","v":-13},{"$f":"'Nastavení příloh'!AN80","v":-13},{"$f":"'Nastavení příloh'!AO80","v":-13},{"$f":"'Nastavení příloh'!AP80","v":-13},{"$f":"'Nastavení příloh'!AQ80","v":-13},{"$f":"'Nastavení příloh'!AR80","v":-13},{"$f":"'Nastavení příloh'!AS80","v":-13},{"$f":"'Nastavení příloh'!AT80","v":-10},{"$f":"'Nastavení příloh'!AU80","v":-1},{"$f":"'Nastavení příloh'!AV80","v":0},null,null,null,null,null,null,null,null,null,null,null,null,null,null,null,null,null,null,null,null,null,null,null,null,6300,"-",6399,{"$f":"'Nastavení příloh'!BZ80","v":0},{"$f":"'Nastavení příloh'!CA80","v":0},{"$f":"'Nastavení příloh'!CB80","v":5},{"$f":"'Nastavení příloh'!CC80","v":12},{"$f":"'Nastavení příloh'!CD80","v":12},{"$f":"'Nastavení příloh'!CE80","v":12},{"$f":"'Nastavení příloh'!CF80","v":12},{"$f":"'Nastavení příloh'!CG80","v":12},{"$f":"'Nastavení příloh'!CH80","v":12},{"$f":"'Nastavení příloh'!CI80","v":12},{"$f":"'Nastavení příloh'!CJ80","v":12},{"$f":"'Nastavení příloh'!CK80","v":12},{"$f":"'Nastavení příloh'!CL80","v":12},{"$f":"'Nastavení příloh'!CM80","v":12},{"$f":"'Nastavení příloh'!CN80","v":12},{"$f":"'Nastavení příloh'!CO80","v":12},{"$f":"'Nastavení příloh'!CP80","v":15},{"$f":"'Nastavení příloh'!CQ80","v":24},{"$f":"'Nastavení příloh'!CR80","v":25}]
[null,6400,"-",6499,{"$f":"'Nastavení příloh'!F81","v":0},{"$f":"'Nastavení příloh'!G81","v":7},{"$f":"'Nastavení příloh'!H81","v":18},{"$f":"'Nastavení příloh'!I81","v":25},{"$f":"'Nastavení příloh'!J81","v":25},{"$f":"'Nastavení příloh'!K81","v":25},{"$f":"'Nastavení příloh'!L81","v":25},{"$f":"'Nastavení příloh'!M81","v":25},{"$f":"'Nastavení příloh'!N81","v":25},{"$f":"'Nastavení příloh'!O81","v":25},{"$f":"'Nastavení příloh'!P81","v":25},{"$f":"'Nastavení příloh'!Q81","v":25},{"$f":"'Nastavení příloh'!R81","v":25},{"$f":"'Nastavení příloh'!S81","v":25},{"$f":"'Nastavení příloh'!T81","v":25},{"$f":"'Nastavení příloh'!U81","v":25},{"$f":"'Nastavení příloh'!V81","v":25},{"$f":"'Nastavení příloh'!W81","v":25},{"$f":"'Nastavení příloh'!X81","v":25},null,6400,"-",6499,{"$f":"'Nastavení příloh'!AD81","v":-13},{"$f":"'Nastavení příloh'!AE81","v":-13},{"$f":"'Nastavení příloh'!AF81","v":-13},{"$f":"'Nastavení příloh'!AG81","v":-13},{"$f":"'Nastavení příloh'!AH81","v":-13},{"$f":"'Nastavení příloh'!AI81","v":-13},{"$f":"'Nastavení příloh'!AJ81","v":-13},{"$f":"'Nastavení příloh'!AK81","v":-13},{"$f":"'Nastavení příloh'!AL81","v":-13},{"$f":"'Nastavení příloh'!AM81","v":-13},{"$f":"'Nastavení příloh'!AN81","v":-13},{"$f":"'Nastavení příloh'!AO81","v":-13},{"$f":"'Nastavení příloh'!AP81","v":-13},{"$f":"'Nastavení příloh'!AQ81","v":-13},{"$f":"'Nastavení příloh'!AR81","v":-13},{"$f":"'Nastavení příloh'!AS81","v":-13},{"$f":"'Nastavení příloh'!AT81","v":-11},{"$f":"'Nastavení příloh'!AU81","v":-2},{"$f":"'Nastavení příloh'!AV81","v":0},null,null,null,null,null,null,null,null,null,null,null,null,null,null,null,null,null,null,null,null,null,null,null,null,6400,"-",6499,{"$f":"'Nastavení příloh'!BZ81","v":0},{"$f":"'Nastavení příloh'!CA81","v":0},{"$f":"'Nastavení příloh'!CB81","v":5},{"$f":"'Nastavení příloh'!CC81","v":12},{"$f":"'Nastavení příloh'!CD81","v":12},{"$f":"'Nastavení příloh'!CE81","v":12},{"$f":"'Nastavení příloh'!CF81","v":12},{"$f":"'Nastavení příloh'!CG81","v":12},{"$f":"'Nastavení příloh'!CH81","v":12},{"$f":"'Nastavení příloh'!CI81","v":12},{"$f":"'Nastavení příloh'!CJ81","v":12},{"$f":"'Nastavení příloh'!CK81","v":12},{"$f":"'Nastavení příloh'!CL81","v":12},{"$f":"'Nastavení příloh'!CM81","v":12},{"$f":"'Nastavení příloh'!CN81","v":12},{"$f":"'Nastavení příloh'!CO81","v":12},{"$f":"'Nastavení příloh'!CP81","v":14},{"$f":"'Nastavení příloh'!CQ81","v":23},{"$f":"'Nastavení příloh'!CR81","v":25}]
[null,null,null,null,null,null,null,null,null,null,null,null,null,null,null,null,null,null,null,null,null,null,"Příloha č. 5 k OZV č. …/2013 Název obec/město",null,null,null,null,null,null,null,null,null,null,null,null,null,null,null,null,null,null,null,null,null,null,"Příloha č. 6 k OZV č. …/2013 Název obec/město",null,null,null,null,null,null,null,null,null,null,null,null,null,null,null,null,null,null,null,null,null,null,null,null,null,null,null,null,null,null,null,null,null,null,null,null,null,null,null,null,null,null,null,null,null,"Příloha č. ??? k OZV č. …/2013 Název obec/město"]
["Maximální roční bonusy za třídění odpadů (zkráceně BT) - procentuální úleva na poplatku placeného na následující rok",null,null,null,null,null,null,null,null,null,null,null,null,null,null,null,null,null,null,null,null,null,null,"Maximální roční bonusy za efektivní využívání nádob (BV)-procentuální úleva na poplatku placeného na následující rok",null,null,null,null,null,null,null,null,null,null,null,null,null,null,null,null,null,null,null,null,null,null,null,null,null,null,null,null,null,null,null,null,null,null,null,null,null,null,null,null,null,null,null,null,null,"Součet maximálních ročních bonusů (BT + BV + BS)"]
[]
["Bonus za třídění odpadů je udělen do výše 23% za plast, 20% za papír, 30% za bioodpad, 13% za sklo, 8% za textil, 2% za nápojový karton, 2% za jedlý olej a tuk a 2% za drobné elektrozařízení z hodnoty maximálního bonusu uvedeného v  této tabulce. ",null,null,null,"Procentuální zastoupení objemu obsloužených nádob na plast a na papír v celkovém objemu obsloužených nádob",null,null,null,null,null,null,null,null,null,null,null,null,null,null,null,null,null,null,"Bonus za efektivní využívání sběrných nádob je udělen do výše 100% z hodnoty maximálního bonusu uvedeného v této tabulce.",null,null,null,"Procentuální zastoupení objemu obsloužených nádob na plast a na papír v celkovém objemu obsloužených nádob",null,null,null,null,null,null,null,null,null,null,null,null,null,null,null,null,null,null,null,null,null,null,null,null,null,null,null,null,null,null,null,null,null,null,null,null,null,null,null,null,null,"Záporná hodnota součtu bonusů (BT + BV + BS) je nahrazena nulou.",null,null,null,"Procentuální zastoupení objemu obsloužených nádob na plast a na papír v celkovém objemu obsloužených nádob"]
[null,null,null,null,"0 %","1-5 %","6-10 %","11-15 %","16-20 %","21-25 %","26-30 %","31-35 %","36-40 %","41-45 %","46-50 %","51-55 %","56-60 %","61-65 %","66-70 %","71-75 %","76-80 %","81-85 %","více jak 85 %",null,null,null,null,"0 %","1-5 %","6-10 %","11-15 %","16-20 %","21-25 %","26-30 %","31-35 %","36-40 %","41-45 %","46-50 %","51-55 %","56-60 %","61-65 %","66-70 %","71-75 %","76-80 %","81-85 %","více jak 85 %",null,null,null,null,null,null,null,null,null,null,null,null,null,null,null,null,null,null,null,null,null,null,null,null,null,null,null,"0 %","1-5 %","6-10 %","11-15 %","16-20 %","21-25 %","26-30 %","31-35 %","36-40 %","41-45 %","46-50 %","51-55 %","56-60 %","61-65 %","66-70 %","71-75 %","76-80 %","81-85 %","více jak 85 %"]
[null,null,null,null,"\"Třídí málo\"                                                                                                                                   \"Třídí hodně\"",null,null,null,null,null,null,null,null,null,null,null,null,null,null,null,null,null,null,null,null,null,null,"\"Třídí málo\"                                                                                                                                   \"Třídí hodně\"",null,null,null,null,null,null,null,null,null,null,null,null,null,null,null,null,null,null,null,null,null,null,null,null,null,null,null,null,null,null,null,null,null,null,null,null,null,null,null,null,null,null,null,null,null,"\"Třídí málo\"                                                                                                                                   \"Třídí hodně\""]
["Roční celkový objem obsloužených nádob přepočtený na jednoho účastníka systému užívajícího dané nádoby (litry/účastník systému/rok)",6500,"-",6599,{"$f":"'Nastavení příloh'!F88","v":0},{"$f":"'Nastavení příloh'!G88","v":7},{"$f":"'Nastavení příloh'!H88","v":18},{"$f":"'Nastavení příloh'!I88","v":25},{"$f":"'Nastavení příloh'!J88","v":25},{"$f":"'Nastavení příloh'!K88","v":25},{"$f":"'Nastavení příloh'!L88","v":25},{"$f":"'Nastavení příloh'!M88","v":25},{"$f":"'Nastavení příloh'!N88","v":25},{"$f":"'Nastavení příloh'!O88","v":25},{"$f":"'Nastavení příloh'!P88","v":25},{"$f":"'Nastavení příloh'!Q88","v":25},{"$f":"'Nastavení příloh'!R88","v":25},{"$f":"'Nastavení příloh'!S88","v":25},{"$f":"'Nastavení příloh'!T88","v":25},{"$f":"'Nastavení příloh'!U88","v":25},{"$f":"'Nastavení příloh'!V88","v":25},{"$f":"'Nastavení příloh'!W88","v":25},{"$f":"'Nastavení příloh'!X88","v":25},"Roční celkový objem obsloužených nádob přepočtený na jednoho účastníka systému užívajícího dané nádoby (litry/účastník systému/rok)",6500,"-",6599,{"$f":"'Nastavení příloh'!AD88","v":-13},{"$f":"'Nastavení příloh'!AE88","v":-13},{"$f":"'Nastavení příloh'!AF88","v":-13},{"$f":"'Nastavení příloh'!AG88","v":-13},{"$f":"'Nastavení příloh'!AH88","v":-13},{"$f":"'Nastavení příloh'!AI88","v":-13},{"$f":"'Nastavení příloh'!AJ88","v":-13},{"$f":"'Nastavení příloh'!AK88","v":-13},{"$f":"'Nastavení příloh'!AL88","v":-13},{"$f":"'Nastavení příloh'!AM88","v":-13},{"$f":"'Nastavení příloh'!AN88","v":-13},{"$f":"'Nastavení příloh'!AO88","v":-13},{"$f":"'Nastavení příloh'!AP88","v":-13},{"$f":"'Nastavení příloh'!AQ88","v":-13},{"$f":"'Nastavení příloh'!AR88","v":-13},{"$f":"'Nastavení příloh'!AS88","v":-13},{"$f":"'Nastavení příloh'!AT88","v":-11},{"$f":"'Nastavení příloh'!AU88","v":-2},{"$f":"'Nastavení příloh'!AV88","v":0},null,null,null,null,null,null,null,null,null,null,null,null,null,null,null,null,null,null,null,null,null,null,null,"Roční celkový objem obsloužených nádob přepočtený na jednoho účastníka systému užívajícího dané nádoby (litry/účastník systému/rok)",6500,"-",6599,{"$f":"'Nastavení příloh'!BZ88","v":0},{"$f":"'Nastavení příloh'!CA88","v":0},{"$f":"'Nastavení příloh'!CB88","v":5},{"$f":"'Nastavení příloh'!CC88","v":12},{"$f":"'Nastavení příloh'!CD88","v":12},{"$f":"'Nastavení příloh'!CE88","v":12},{"$f":"'Nastavení příloh'!CF88","v":12},{"$f":"'Nastavení příloh'!CG88","v":12},{"$f":"'Nastavení příloh'!CH88","v":12},{"$f":"'Nastavení příloh'!CI88","v":12},{"$f":"'Nastavení příloh'!CJ88","v":12},{"$f":"'Nastavení příloh'!CK88","v":12},{"$f":"'Nastavení příloh'!CL88","v":12},{"$f":"'Nastavení příloh'!CM88","v":12},{"$f":"'Nastavení příloh'!CN88","v":12},{"$f":"'Nastavení příloh'!CO88","v":12},{"$f":"'Nastavení příloh'!CP88","v":14},{"$f":"'Nastavení příloh'!CQ88","v":23},{"$f":"'Nastavení příloh'!CR88","v":25}]
[null,6600,"-",6699,{"$f":"'Nastavení příloh'!F89","v":0},{"$f":"'Nastavení příloh'!G89","v":7},{"$f":"'Nastavení příloh'!H89","v":19},{"$f":"'Nastavení příloh'!I89","v":25},{"$f":"'Nastavení příloh'!J89","v":25},{"$f":"'Nastavení příloh'!K89","v":25},{"$f":"'Nastavení příloh'!L89","v":25},{"$f":"'Nastavení příloh'!M89","v":25},{"$f":"'Nastavení příloh'!N89","v":25},{"$f":"'Nastavení příloh'!O89","v":25},{"$f":"'Nastavení příloh'!P89","v":25},{"$f":"'Nastavení příloh'!Q89","v":25},{"$f":"'Nastavení příloh'!R89","v":25},{"$f":"'Nastavení příloh'!S89","v":25},{"$f":"'Nastavení příloh'!T89","v":25},{"$f":"'Nastavení příloh'!U89","v":25},{"$f":"'Nastavení příloh'!V89","v":25},{"$f":"'Nastavení příloh'!W89","v":25},{"$f":"'Nastavení příloh'!X89","v":25},null,6600,"-",6699,{"$f":"'Nastavení příloh'!AD89","v":-13},{"$f":"'Nastavení příloh'!AE89","v":-13},{"$f":"'Nastavení příloh'!AF89","v":-13},{"$f":"'Nastavení příloh'!AG89","v":-13},{"$f":"'Nastavení příloh'!AH89","v":-13},{"$f":"'Nastavení příloh'!AI89","v":-13},{"$f":"'Nastavení příloh'!AJ89","v":-13},{"$f":"'Nastavení příloh'!AK89","v":-13},{"$f":"'Nastavení příloh'!AL89","v":-13},{"$f":"'Nastavení příloh'!AM89","v":-13},{"$f":"'Nastavení příloh'!AN89","v":-13},{"$f":"'Nastavení příloh'!AO89","v":-13},{"$f":"'Nastavení příloh'!AP89","v":-13},{"$f":"'Nastavení příloh'!AQ89","v":-13},{"$f":"'Nastavení příloh'!AR89","v":-13},{"$f":"'Nastavení příloh'!AS89","v":-13},{"$f":"'Nastavení příloh'!AT89","v":-12},{"$f":"'Nastavení příloh'!AU89","v":-3},{"$f":"'Nastavení příloh'!AV89","v":0},null,null,null,null,null,null,null,null,null,null,null,null,null,null,null,null,null,null,null,null,null,null,null,null,6600,"-",6699,{"$f":"'Nastavení příloh'!BZ89","v":0},{"$f":"'Nastavení příloh'!CA89","v":0},{"$f":"'Nastavení příloh'!CB89","v":6},{"$f":"'Nastavení příloh'!CC89","v":12},{"$f":"'Nastavení příloh'!CD89","v":12},{"$f":"'Nastavení příloh'!CE89","v":12},{"$f":"'Nastavení příloh'!CF89","v":12},{"$f":"'Nastavení příloh'!CG89","v":12},{"$f":"'Nastavení příloh'!CH89","v":12},{"$f":"'Nastavení příloh'!CI89","v":12},{"$f":"'Nastavení příloh'!CJ89","v":12},{"$f":"'Nastavení příloh'!CK89","v":12},{"$f":"'Nastavení příloh'!CL89","v":12},{"$f":"'Nastavení příloh'!CM89","v":12},{"$f":"'Nastavení příloh'!CN89","v":12},{"$f":"'Nastavení příloh'!CO89","v":12},{"$f":"'Nastavení příloh'!CP89","v":13},{"$f":"'Nastavení příloh'!CQ89","v":22},{"$f":"'Nastavení příloh'!CR89","v":25}]
[null,6700,"-",6799,{"$f":"'Nastavení příloh'!F90","v":0},{"$f":"'Nastavení příloh'!G90","v":7},{"$f":"'Nastavení příloh'!H90","v":19},{"$f":"'Nastavení příloh'!I90","v":25},{"$f":"'Nastavení příloh'!J90","v":25},{"$f":"'Nastavení příloh'!K90","v":25},{"$f":"'Nastavení příloh'!L90","v":25},{"$f":"'Nastavení příloh'!M90","v":25},{"$f":"'Nastavení příloh'!N90","v":25},{"$f":"'Nastavení příloh'!O90","v":25},{"$f":"'Nastavení příloh'!P90","v":25},{"$f":"'Nastavení příloh'!Q90","v":25},{"$f":"'Nastavení příloh'!R90","v":25},{"$f":"'Nastavení příloh'!S90","v":25},{"$f":"'Nastavení příloh'!T90","v":25},{"$f":"'Nastavení příloh'!U90","v":25},{"$f":"'Nastavení příloh'!V90","v":25},{"$f":"'Nastavení příloh'!W90","v":25},{"$f":"'Nastavení příloh'!X90","v":25},null,6700,"-",6799,{"$f":"'Nastavení příloh'!AD90","v":-13},{"$f":"'Nastavení příloh'!AE90","v":-13},{"$f":"'Nastavení příloh'!AF90","v":-13},{"$f":"'Nastavení příloh'!AG90","v":-13},{"$f":"'Nastavení příloh'!AH90","v":-13},{"$f":"'Nastavení příloh'!AI90","v":-13},{"$f":"'Nastavení příloh'!AJ90","v":-13},{"$f":"'Nastavení příloh'!AK90","v":-13},{"$f":"'Nastavení příloh'!AL90","v":-13},{"$f":"'Nastavení příloh'!AM90","v":-13},{"$f":"'Nastavení příloh'!AN90","v":-13},{"$f":"'Nastavení příloh'!AO90","v":-13},{"$f":"'Nastavení příloh'!AP90","v":-13},{"$f":"'Nastavení příloh'!AQ90","v":-13},{"$f":"'Nastavení příloh'!AR90","v":-13},{"$f":"'Nastavení příloh'!AS90","v":-13},{"$f":"'Nastavení příloh'!AT90","v":-13},{"$f":"'Nastavení příloh'!AU90","v":-3},{"$f":"'Nastavení příloh'!AV90","v":0},null,null,null,null,null,null,null,null,null,null,null,null,null,null,null,null,null,null,null,null,null,null,null,null,6700,"-",6799,{"$f":"'Nastavení příloh'!BZ90","v":0},{"$f":"'Nastavení příloh'!CA90","v":0},{"$f":"'Nastavení příloh'!CB90","v":6},{"$f":"'Nastavení příloh'!CC90","v":12},{"$f":"'Nastavení příloh'!CD90","v":12},{"$f":"'Nastavení příloh'!CE90","v":12},{"$f":"'Nastavení příloh'!CF90","v":12},{"$f":"'Nastavení příloh'!CG90","v":12},{"$f":"'Nastavení příloh'!CH90","v":12},{"$f":"'Nastavení příloh'!CI90","v":12},{"$f":"'Nastavení příloh'!CJ90","v":12},{"$f":"'Nastavení příloh'!CK90","v":12},{"$f":"'Nastavení příloh'!CL90","v":12},{"$f":"'Nastavení příloh'!CM90","v":12},{"$f":"'Nastavení příloh'!CN90","v":12},{"$f":"'Nastavení příloh'!CO90","v":12},{"$f":"'Nastavení příloh'!CP90","v":12},{"$f":"'Nastavení příloh'!CQ90","v":22},{"$f":"'Nastavení příloh'!CR90","v":25}]
[null,6800,"-",6899,{"$f":"'Nastavení příloh'!F91","v":0},{"$f":"'Nastavení příloh'!G91","v":7},{"$f":"'Nastavení příloh'!H91","v":19},{"$f":"'Nastavení příloh'!I91","v":25},{"$f":"'Nastavení příloh'!J91","v":25},{"$f":"'Nastavení příloh'!K91","v":25},{"$f":"'Nastavení příloh'!L91","v":25},{"$f":"'Nastavení příloh'!M91","v":25},{"$f":"'Nastavení příloh'!N91","v":25},{"$f":"'Nastavení příloh'!O91","v":25},{"$f":"'Nastavení příloh'!P91","v":25},{"$f":"'Nastavení příloh'!Q91","v":25},{"$f":"'Nastavení příloh'!R91","v":25},{"$f":"'Nastavení příloh'!S91","v":25},{"$f":"'Nastavení příloh'!T91","v":25},{"$f":"'Nastavení příloh'!U91","v":25},{"$f":"'Nastavení příloh'!V91","v":25},{"$f":"'Nastavení příloh'!W91","v":25},{"$f":"'Nastavení příloh'!X91","v":25},null,6800,"-",6899,{"$f":"'Nastavení příloh'!AD91","v":-13},{"$f":"'Nastavení příloh'!AE91","v":-13},{"$f":"'Nastavení příloh'!AF91","v":-13},{"$f":"'Nastavení příloh'!AG91","v":-13},{"$f":"'Nastavení příloh'!AH91","v":-13},{"$f":"'Nastavení příloh'!AI91","v":-13},{"$f":"'Nastavení příloh'!AJ91","v":-13},{"$f":"'Nastavení příloh'!AK91","v":-13},{"$f":"'Nastavení příloh'!AL91","v":-13},{"$f":"'Nastavení příloh'!AM91","v":-13},{"$f":"'Nastavení příloh'!AN91","v":-13},{"$f":"'Nastavení příloh'!AO91","v":-13},{"$f":"'Nastavení příloh'!AP91","v":-13},{"$f":"'Nastavení příloh'!AQ91","v":-13},{"$f":"'Nastavení příloh'!AR91","v":-13},{"$f":"'Nastavení příloh'!AS91","v":-13},{"$f":"'Nastavení příloh'!AT91","v":-13},{"$f":"'Nastavení příloh'!AU91","v":-3},{"$f":"'Nastavení příloh'!AV91","v":0},null,null,null,null,null,null,null,null,null,null,null,null,null,null,null,null,null,null,null,null,null,null,null,null,6800,"-",6899,{"$f":"'Nastavení příloh'!BZ91","v":0},{"$f":"'Nastavení příloh'!CA91","v":0},{"$f":"'Nastavení příloh'!CB91","v":6},{"$f":"'Nastavení příloh'!CC91","v":12},{"$f":"'Nastavení příloh'!CD91","v":12},{"$f":"'Nastavení příloh'!CE91","v":12},{"$f":"'Nastavení příloh'!CF91","v":12},{"$f":"'Nastavení příloh'!CG91","v":12},{"$f":"'Nastavení příloh'!CH91","v":12},{"$f":"'Nastavení příloh'!CI91","v":12},{"$f":"'Nastavení příloh'!CJ91","v":12},{"$f":"'Nastavení příloh'!CK91","v":12},{"$f":"'Nastavení příloh'!CL91","v":12},{"$f":"'Nastavení příloh'!CM91","v":12},{"$f":"'Nastavení příloh'!CN91","v":12},{"$f":"'Nastavení příloh'!CO91","v":12},{"$f":"'Nastavení příloh'!CP91","v":12},{"$f":"'Nastavení příloh'!CQ91","v":22},{"$f":"'Nastavení příloh'!CR91","v":25}]
[null,6900,"-",6999,{"$f":"'Nastavení příloh'!F92","v":0},{"$f":"'Nastavení příloh'!G92","v":7},{"$f":"'Nastavení příloh'!H92","v":19},{"$f":"'Nastavení příloh'!I92","v":25},{"$f":"'Nastavení příloh'!J92","v":25},{"$f":"'Nastavení příloh'!K92","v":25},{"$f":"'Nastavení příloh'!L92","v":25},{"$f":"'Nastavení příloh'!M92","v":25},{"$f":"'Nastavení příloh'!N92","v":25},{"$f":"'Nastavení příloh'!O92","v":25},{"$f":"'Nastavení příloh'!P92","v":25},{"$f":"'Nastavení příloh'!Q92","v":25},{"$f":"'Nastavení příloh'!R92","v":25},{"$f":"'Nastavení příloh'!S92","v":25},{"$f":"'Nastavení příloh'!T92","v":25},{"$f":"'Nastavení příloh'!U92","v":25},{"$f":"'Nastavení příloh'!V92","v":25},{"$f":"'Nastavení příloh'!W92","v":25},{"$f":"'Nastavení příloh'!X92","v":25},null,6900,"-",6999,{"$f":"'Nastavení příloh'!AD92","v":-13},{"$f":"'Nastavení příloh'!AE92","v":-13},{"$f":"'Nastavení příloh'!AF92","v":-13},{"$f":"'Nastavení příloh'!AG92","v":-13},{"$f":"'Nastavení příloh'!AH92","v":-13},{"$f":"'Nastavení příloh'!AI92","v":-13},{"$f":"'Nastavení příloh'!AJ92","v":-13},{"$f":"'Nastavení příloh'!AK92","v":-13},{"$f":"'Nastavení příloh'!AL92","v":-13},{"$f":"'Nastavení příloh'!AM92","v":-13},{"$f":"'Nastavení příloh'!AN92","v":-13},{"$f":"'Nastavení příloh'!AO92","v":-13},{"$f":"'Nastavení příloh'!AP92","v":-13},{"$f":"'Nastavení příloh'!AQ92","v":-13},{"$f":"'Nastavení příloh'!AR92","v":-13},{"$f":"'Nastavení příloh'!AS92","v":-13},{"$f":"'Nastavení příloh'!AT92","v":-13},{"$f":"'Nastavení příloh'!AU92","v":-4},{"$f":"'Nastavení příloh'!AV92","v":0},null,null,null,null,null,null,null,null,null,null,null,null,null,null,null,null,null,null,null,null,null,null,null,null,6900,"-",6999,{"$f":"'Nastavení příloh'!BZ92","v":0},{"$f":"'Nastavení příloh'!CA92","v":0},{"$f":"'Nastavení příloh'!CB92","v":6},{"$f":"'Nastavení příloh'!CC92","v":12},{"$f":"'Nastavení příloh'!CD92","v":12},{"$f":"'Nastavení příloh'!CE92","v":12},{"$f":"'Nastavení příloh'!CF92","v":12},{"$f":"'Nastavení příloh'!CG92","v":12},{"$f":"'Nastavení příloh'!CH92","v":12},{"$f":"'Nastavení příloh'!CI92","v":12},{"$f":"'Nastavení příloh'!CJ92","v":12},{"$f":"'Nastavení příloh'!CK92","v":12},{"$f":"'Nastavení příloh'!CL92","v":12},{"$f":"'Nastavení příloh'!CM92","v":12},{"$f":"'Nastavení příloh'!CN92","v":12},{"$f":"'Nastavení příloh'!CO92","v":12},{"$f":"'Nastavení příloh'!CP92","v":12},{"$f":"'Nastavení příloh'!CQ92","v":21},{"$f":"'Nastavení příloh'!CR92","v":25}]
[null,7000,"-",7099,{"$f":"'Nastavení příloh'!F93","v":0},{"$f":"'Nastavení příloh'!G93","v":7},{"$f":"'Nastavení příloh'!H93","v":20},{"$f":"'Nastavení příloh'!I93","v":25},{"$f":"'Nastavení příloh'!J93","v":25},{"$f":"'Nastavení příloh'!K93","v":25},{"$f":"'Nastavení příloh'!L93","v":25},{"$f":"'Nastavení příloh'!M93","v":25},{"$f":"'Nastavení příloh'!N93","v":25},{"$f":"'Nastavení příloh'!O93","v":25},{"$f":"'Nastavení příloh'!P93","v":25},{"$f":"'Nastavení příloh'!Q93","v":25},{"$f":"'Nastavení příloh'!R93","v":25},{"$f":"'Nastavení příloh'!S93","v":25},{"$f":"'Nastavení příloh'!T93","v":25},{"$f":"'Nastavení příloh'!U93","v":25},{"$f":"'Nastavení příloh'!V93","v":25},{"$f":"'Nastavení příloh'!W93","v":25},{"$f":"'Nastavení příloh'!X93","v":25},null,7000,"-",7099,{"$f":"'Nastavení příloh'!AD93","v":-13},{"$f":"'Nastavení příloh'!AE93","v":-13},{"$f":"'Nastavení příloh'!AF93","v":-13},{"$f":"'Nastavení příloh'!AG93","v":-13},{"$f":"'Nastavení příloh'!AH93","v":-13},{"$f":"'Nastavení příloh'!AI93","v":-13},{"$f":"'Nastavení příloh'!AJ93","v":-13},{"$f":"'Nastavení příloh'!AK93","v":-13},{"$f":"'Nastavení příloh'!AL93","v":-13},{"$f":"'Nastavení příloh'!AM93","v":-13},{"$f":"'Nastavení příloh'!AN93","v":-13},{"$f":"'Nastavení příloh'!AO93","v":-13},{"$f":"'Nastavení příloh'!AP93","v":-13},{"$f":"'Nastavení příloh'!AQ93","v":-13},{"$f":"'Nastavení příloh'!AR93","v":-13},{"$f":"'Nastavení příloh'!AS93","v":-13},{"$f":"'Nastavení příloh'!AT93","v":-13},{"$f":"'Nastavení příloh'!AU93","v":-4},{"$f":"'Nastavení příloh'!AV93","v":0},null,null,null,null,null,null,null,null,null,null,null,null,null,null,null,null,null,null,null,null,null,null,null,null,7000,"-",7099,{"$f":"'Nastavení příloh'!BZ93","v":0},{"$f":"'Nastavení příloh'!CA93","v":0},{"$f":"'Nastavení příloh'!CB93","v":7},{"$f":"'Nastavení příloh'!CC93","v":12},{"$f":"'Nastavení příloh'!CD93","v":12},{"$f":"'Nastavení příloh'!CE93","v":12},{"$f":"'Nastavení příloh'!CF93","v":12},{"$f":"'Nastavení příloh'!CG93","v":12},{"$f":"'Nastavení příloh'!CH93","v":12},{"$f":"'Nastavení příloh'!CI93","v":12},{"$f":"'Nastavení příloh'!CJ93","v":12},{"$f":"'Nastavení příloh'!CK93","v":12},{"$f":"'Nastavení příloh'!CL93","v":12},{"$f":"'Nastavení příloh'!CM93","v":12},{"$f":"'Nastavení příloh'!CN93","v":12},{"$f":"'Nastavení příloh'!CO93","v":12},{"$f":"'Nastavení příloh'!CP93","v":12},{"$f":"'Nastavení příloh'!CQ93","v":21},{"$f":"'Nastavení příloh'!CR93","v":25}]
[null,7100,"-",7199,{"$f":"'Nastavení příloh'!F94","v":0},{"$f":"'Nastavení příloh'!G94","v":8},{"$f":"'Nastavení příloh'!H94","v":20},{"$f":"'Nastavení příloh'!I94","v":25},{"$f":"'Nastavení příloh'!J94","v":25},{"$f":"'Nastavení příloh'!K94","v":25},{"$f":"'Nastavení příloh'!L94","v":25},{"$f":"'Nastavení příloh'!M94","v":25},{"$f":"'Nastavení příloh'!N94","v":25},{"$f":"'Nastavení příloh'!O94","v":25},{"$f":"'Nastavení příloh'!P94","v":25},{"$f":"'Nastavení příloh'!Q94","v":25},{"$f":"'Nastavení příloh'!R94","v":25},{"$f":"'Nastavení příloh'!S94","v":25},{"$f":"'Nastavení příloh'!T94","v":25},{"$f":"'Nastavení příloh'!U94","v":25},{"$f":"'Nastavení příloh'!V94","v":25},{"$f":"'Nastavení příloh'!W94","v":25},{"$f":"'Nastavení příloh'!X94","v":25},null,7100,"-",7199,{"$f":"'Nastavení příloh'!AD94","v":-13},{"$f":"'Nastavení příloh'!AE94","v":-13},{"$f":"'Nastavení příloh'!AF94","v":-13},{"$f":"'Nastavení příloh'!AG94","v":-13},{"$f":"'Nastavení příloh'!AH94","v":-13},{"$f":"'Nastavení příloh'!AI94","v":-13},{"$f":"'Nastavení příloh'!AJ94","v":-13},{"$f":"'Nastavení příloh'!AK94","v":-13},{"$f":"'Nastavení příloh'!AL94","v":-13},{"$f":"'Nastavení příloh'!AM94","v":-13},{"$f":"'Nastavení příloh'!AN94","v":-13},{"$f":"'Nastavení příloh'!AO94","v":-13},{"$f":"'Nastavení příloh'!AP94","v":-13},{"$f":"'Nastavení příloh'!AQ94","v":-13},{"$f":"'Nastavení příloh'!AR94","v":-13},{"$f":"'Nastavení příloh'!AS94","v":-13},{"$f":"'Nastavení příloh'!AT94","v":-13},{"$f":"'Nastavení příloh'!AU94","v":-5},{"$f":"'Nastavení příloh'!AV94","v":0},null,null,null,null,null,null,null,null,null,null,null,null,null,null,null,null,null,null,null,null,null,null,null,null,7100,"-",7199,{"$f":"'Nastavení příloh'!BZ94","v":0},{"$f":"'Nastavení příloh'!CA94","v":0},{"$f":"'Nastavení příloh'!CB94","v":7},{"$f":"'Nastavení příloh'!CC94","v":12},{"$f":"'Nastavení příloh'!CD94","v":12},{"$f":"'Nastavení příloh'!CE94","v":12},{"$f":"'Nastavení příloh'!CF94","v":12},{"$f":"'Nastavení příloh'!CG94","v":12},{"$f":"'Nastavení příloh'!CH94","v":12},{"$f":"'Nastavení příloh'!CI94","v":12},{"$f":"'Nastavení příloh'!CJ94","v":12},{"$f":"'Nastavení příloh'!CK94","v":12},{"$f":"'Nastavení příloh'!CL94","v":12},{"$f":"'Nastavení příloh'!CM94","v":12},{"$f":"'Nastavení příloh'!CN94","v":12},{"$f":"'Nastavení příloh'!CO94","v":12},{"$f":"'Nastavení příloh'!CP94","v":12},{"$f":"'Nastavení příloh'!CQ94","v":20},{"$f":"'Nastavení příloh'!CR94","v":25}]
[null,7200,"-",7299,{"$f":"'Nastavení příloh'!F95","v":0},{"$f":"'Nastavení příloh'!G95","v":8},{"$f":"'Nastavení příloh'!H95","v":20},{"$f":"'Nastavení příloh'!I95","v":25},{"$f":"'Nastavení příloh'!J95","v":25},{"$f":"'Nastavení příloh'!K95","v":25},{"$f":"'Nastavení příloh'!L95","v":25},{"$f":"'Nastavení příloh'!M95","v":25},{"$f":"'Nastavení příloh'!N95","v":25},{"$f":"'Nastavení příloh'!O95","v":25},{"$f":"'Nastavení příloh'!P95","v":25},{"$f":"'Nastavení příloh'!Q95","v":25},{"$f":"'Nastavení příloh'!R95","v":25},{"$f":"'Nastavení příloh'!S95","v":25},{"$f":"'Nastavení příloh'!T95","v":25},{"$f":"'Nastavení příloh'!U95","v":25},{"$f":"'Nastavení příloh'!V95","v":25},{"$f":"'Nastavení příloh'!W95","v":25},{"$f":"'Nastavení příloh'!X95","v":25},null,7200,"-",7299,{"$f":"'Nastavení příloh'!AD95","v":-13},{"$f":"'Nastavení příloh'!AE95","v":-13},{"$f":"'Nastavení příloh'!AF95","v":-13},{"$f":"'Nastavení příloh'!AG95","v":-13},{"$f":"'Nastavení příloh'!AH95","v":-13},{"$f":"'Nastavení příloh'!AI95","v":-13},{"$f":"'Nastavení příloh'!AJ95","v":-13},{"$f":"'Nastavení příloh'!AK95","v":-13},{"$f":"'Nastavení příloh'!AL95","v":-13},{"$f":"'Nastavení příloh'!AM95","v":-13},{"$f":"'Nastavení příloh'!AN95","v":-13},{"$f":"'Nastavení příloh'!AO95","v":-13},{"$f":"'Nastavení příloh'!AP95","v":-13},{"$f":"'Nastavení příloh'!AQ95","v":-13},{"$f":"'Nastavení příloh'!AR95","v":-13},{"$f":"'Nastavení příloh'!AS95","v":-13},{"$f":"'Nastavení příloh'!AT95","v":-13},{"$f":"'Nastavení příloh'!AU95","v":-5},{"$f":"'Nastavení příloh'!AV95","v":0},null,null,null,null,null,null,null,null,null,null,null,null,null,null,null,null,null,null,null,null,null,null,null,null,7200,"-",7299,{"$f":"'Nastavení příloh'!BZ95","v":0},{"$f":"'Nastavení příloh'!CA95","v":0},{"$f":"'Nastavení příloh'!CB95","v":7},{"$f":"'Nastavení příloh'!CC95","v":12},{"$f":"'Nastavení příloh'!CD95","v":12},{"$f":"'Nastavení příloh'!CE95","v":12},{"$f":"'Nastavení příloh'!CF95","v":12},{"$f":"'Nastavení příloh'!CG95","v":12},{"$f":"'Nastavení příloh'!CH95","v":12},{"$f":"'Nastavení příloh'!CI95","v":12},{"$f":"'Nastavení příloh'!CJ95","v":12},{"$f":"'Nastavení příloh'!CK95","v":12},{"$f":"'Nastavení příloh'!CL95","v":12},{"$f":"'Nastavení příloh'!CM95","v":12},{"$f":"'Nastavení příloh'!CN95","v":12},{"$f":"'Nastavení příloh'!CO95","v":12},{"$f":"'Nastavení příloh'!CP95","v":12},{"$f":"'Nastavení příloh'!CQ95","v":20},{"$f":"'Nastavení příloh'!CR95","v":25}]
[null,7300,"-",7399,{"$f":"'Nastavení příloh'!F96","v":0},{"$f":"'Nastavení příloh'!G96","v":8},{"$f":"'Nastavení příloh'!H96","v":21},{"$f":"'Nastavení příloh'!I96","v":25},{"$f":"'Nastavení příloh'!J96","v":25},{"$f":"'Nastavení příloh'!K96","v":25},{"$f":"'Nastavení příloh'!L96","v":25},{"$f":"'Nastavení příloh'!M96","v":25},{"$f":"'Nastavení příloh'!N96","v":25},{"$f":"'Nastavení příloh'!O96","v":25},{"$f":"'Nastavení příloh'!P96","v":25},{"$f":"'Nastavení příloh'!Q96","v":25},{"$f":"'Nastavení příloh'!R96","v":25},{"$f":"'Nastavení příloh'!S96","v":25},{"$f":"'Nastavení příloh'!T96","v":25},{"$f":"'Nastavení příloh'!U96","v":25},{"$f":"'Nastavení příloh'!V96","v":25},{"$f":"'Nastavení příloh'!W96","v":25},{"$f":"'Nastavení příloh'!X96","v":25},null,7300,"-",7399,{"$f":"'Nastavení příloh'!AD96","v":-13},{"$f":"'Nastavení příloh'!AE96","v":-13},{"$f":"'Nastavení příloh'!AF96","v":-13},{"$f":"'Nastavení příloh'!AG96","v":-13},{"$f":"'Nastavení příloh'!AH96","v":-13},{"$f":"'Nastavení příloh'!AI96","v":-13},{"$f":"'Nastavení příloh'!AJ96","v":-13},{"$f":"'Nastavení příloh'!AK96","v":-13},{"$f":"'Nastavení příloh'!AL96","v":-13},{"$f":"'Nastavení příloh'!AM96","v":-13},{"$f":"'Nastavení příloh'!AN96","v":-13},{"$f":"'Nastavení příloh'!AO96","v":-13},{"$f":"'Nastavení příloh'!AP96","v":-13},{"$f":"'Nastavení příloh'!AQ96","v":-13},{"$f":"'Nastavení příloh'!AR96","v":-13},{"$f":"'Nastavení příloh'!AS96","v":-13},{"$f":"'Nastavení příloh'!AT96","v":-13},{"$f":"'Nastavení příloh'!AU96","v":-6},{"$f":"'Nastavení příloh'!AV96","v":0},null,null,null,null,null,null,null,null,null,null,null,null,null,null,null,null,null,null,null,null,null,null,null,null,7300,"-",7399,{"$f":"'Nastavení příloh'!BZ96","v":0},{"$f":"'Nastavení příloh'!CA96","v":0},{"$f":"'Nastavení příloh'!CB96","v":8},{"$f":"'Nastavení příloh'!CC96","v":12},{"$f":"'Nastavení příloh'!CD96","v":12},{"$f":"'Nastavení příloh'!CE96","v":12},{"$f":"'Nastavení příloh'!CF96","v":12},{"$f":"'Nastavení příloh'!CG96","v":12},{"$f":"'Nastavení příloh'!CH96","v":12},{"$f":"'Nastavení příloh'!CI96","v":12},{"$f":"'Nastavení příloh'!CJ96","v":12},{"$f":"'Nastavení příloh'!CK96","v":12},{"$f":"'Nastavení příloh'!CL96","v":12},{"$f":"'Nastavení příloh'!CM96","v":12},{"$f":"'Nastavení příloh'!CN96","v":12},{"$f":"'Nastavení příloh'!CO96","v":12},{"$f":"'Nastavení příloh'!CP96","v":12},{"$f":"'Nastavení příloh'!CQ96","v":19},{"$f":"'Nastavení příloh'!CR96","v":25}]
[null,7400,"-",7499,{"$f":"'Nastavení příloh'!F97","v":0},{"$f":"'Nastavení příloh'!G97","v":8},{"$f":"'Nastavení příloh'!H97","v":21},{"$f":"'Nastavení příloh'!I97","v":25},{"$f":"'Nastavení příloh'!J97","v":25},{"$f":"'Nastavení příloh'!K97","v":25},{"$f":"'Nastavení příloh'!L97","v":25},{"$f":"'Nastavení příloh'!M97","v":25},{"$f":"'Nastavení příloh'!N97","v":25},{"$f":"'Nastavení příloh'!O97","v":25},{"$f":"'Nastavení příloh'!P97","v":25},{"$f":"'Nastavení příloh'!Q97","v":25},{"$f":"'Nastavení příloh'!R97","v":25},{"$f":"'Nastavení příloh'!S97","v":25},{"$f":"'Nastavení příloh'!T97","v":25},{"$f":"'Nastavení příloh'!U97","v":25},{"$f":"'Nastavení příloh'!V97","v":25},{"$f":"'Nastavení příloh'!W97","v":25},{"$f":"'Nastavení příloh'!X97","v":25},null,7400,"-",7499,{"$f":"'Nastavení příloh'!AD97","v":-13},{"$f":"'Nastavení příloh'!AE97","v":-13},{"$f":"'Nastavení příloh'!AF97","v":-13},{"$f":"'Nastavení příloh'!AG97","v":-13},{"$f":"'Nastavení příloh'!AH97","v":-13},{"$f":"'Nastavení příloh'!AI97","v":-13},{"$f":"'Nastavení příloh'!AJ97","v":-13},{"$f":"'Nastavení příloh'!AK97","v":-13},{"$f":"'Nastavení příloh'!AL97","v":-13},{"$f":"'Nastavení příloh'!AM97","v":-13},{"$f":"'Nastavení příloh'!AN97","v":-13},{"$f":"'Nastavení příloh'!AO97","v":-13},{"$f":"'Nastavení příloh'!AP97","v":-13},{"$f":"'Nastavení příloh'!AQ97","v":-13},{"$f":"'Nastavení příloh'!AR97","v":-13},{"$f":"'Nastavení příloh'!AS97","v":-13},{"$f":"'Nastavení příloh'!AT97","v":-13},{"$f":"'Nastavení příloh'!AU97","v":-6},{"$f":"'Nastavení příloh'!AV97","v":0},null,null,null,null,null,null,null,null,null,null,null,null,null,null,null,null,null,null,null,null,null,null,null,null,7400,"-",7499,{"$f":"'Nastavení příloh'!BZ97","v":0},{"$f":"'Nastavení příloh'!CA97","v":0},{"$f":"'Nastavení příloh'!CB97","v":8},{"$f":"'Nastavení příloh'!CC97","v":12},{"$f":"'Nastavení příloh'!CD97","v":12},{"$f":"'Nastavení příloh'!CE97","v":12},{"$f":"'Nastavení příloh'!CF97","v":12},{"$f":"'Nastavení příloh'!CG97","v":12},{"$f":"'Nastavení příloh'!CH97","v":12},{"$f":"'Nastavení příloh'!CI97","v":12},{"$f":"'Nastavení příloh'!CJ97","v":12},{"$f":"'Nastavení příloh'!CK97","v":12},{"$f":"'Nastavení příloh'!CL97","v":12},{"$f":"'Nastavení příloh'!CM97","v":12},{"$f":"'Nastavení příloh'!CN97","v":12},{"$f":"'Nastavení příloh'!CO97","v":12},{"$f":"'Nastavení příloh'!CP97","v":12},{"$f":"'Nastavení příloh'!CQ97","v":19},{"$f":"'Nastavení příloh'!CR97","v":25}]
[null,7500,"-",7599,{"$f":"'Nastavení příloh'!F98","v":0},{"$f":"'Nastavení příloh'!G98","v":8},{"$f":"'Nastavení příloh'!H98","v":21},{"$f":"'Nastavení příloh'!I98","v":25},{"$f":"'Nastavení příloh'!J98","v":25},{"$f":"'Nastavení příloh'!K98","v":25},{"$f":"'Nastavení příloh'!L98","v":25},{"$f":"'Nastavení příloh'!M98","v":25},{"$f":"'Nastavení příloh'!N98","v":25},{"$f":"'Nastavení příloh'!O98","v":25},{"$f":"'Nastavení příloh'!P98","v":25},{"$f":"'Nastavení příloh'!Q98","v":25},{"$f":"'Nastavení příloh'!R98","v":25},{"$f":"'Nastavení příloh'!S98","v":25},{"$f":"'Nastavení příloh'!T98","v":25},{"$f":"'Nastavení příloh'!U98","v":25},{"$f":"'Nastavení příloh'!V98","v":25},{"$f":"'Nastavení příloh'!W98","v":25},{"$f":"'Nastavení příloh'!X98","v":25},null,7500,"-",7599,{"$f":"'Nastavení příloh'!AD98","v":-13},{"$f":"'Nastavení příloh'!AE98","v":-13},{"$f":"'Nastavení příloh'!AF98","v":-13},{"$f":"'Nastavení příloh'!AG98","v":-13},{"$f":"'Nastavení příloh'!AH98","v":-13},{"$f":"'Nastavení příloh'!AI98","v":-13},{"$f":"'Nastavení příloh'!AJ98","v":-13},{"$f":"'Nastavení příloh'!AK98","v":-13},{"$f":"'Nastavení příloh'!AL98","v":-13},{"$f":"'Nastavení příloh'!AM98","v":-13},{"$f":"'Nastavení příloh'!AN98","v":-13},{"$f":"'Nastavení příloh'!AO98","v":-13},{"$f":"'Nastavení příloh'!AP98","v":-13},{"$f":"'Nastavení příloh'!AQ98","v":-13},{"$f":"'Nastavení příloh'!AR98","v":-13},{"$f":"'Nastavení příloh'!AS98","v":-13},{"$f":"'Nastavení příloh'!AT98","v":-13},{"$f":"'Nastavení příloh'!AU98","v":-7},{"$f":"'Nastavení příloh'!AV98","v":0},null,null,null,null,null,null,null,null,null,null,null,null,null,null,null,null,null,null,null,null,null,null,null,null,7500,"-",7599,{"$f":"'Nastavení příloh'!BZ98","v":0},{"$f":"'Nastavení příloh'!CA98","v":0},{"$f":"'Nastavení příloh'!CB98","v":8},{"$f":"'Nastavení příloh'!CC98","v":12},{"$f":"'Nastavení příloh'!CD98","v":12},{"$f":"'Nastavení příloh'!CE98","v":12},{"$f":"'Nastavení příloh'!CF98","v":12},{"$f":"'Nastavení příloh'!CG98","v":12},{"$f":"'Nastavení příloh'!CH98","v":12},{"$f":"'Nastavení příloh'!CI98","v":12},{"$f":"'Nastavení příloh'!CJ98","v":12},{"$f":"'Nastavení příloh'!CK98","v":12},{"$f":"'Nastavení příloh'!CL98","v":12},{"$f":"'Nastavení příloh'!CM98","v":12},{"$f":"'Nastavení příloh'!CN98","v":12},{"$f":"'Nastavení příloh'!CO98","v":12},{"$f":"'Nastavení příloh'!CP98","v":12},{"$f":"'Nastavení příloh'!CQ98","v":18},{"$f":"'Nastavení příloh'!CR98","v":25}]
[null,7600,"-",7699,{"$f":"'Nastavení příloh'!F99","v":0},{"$f":"'Nastavení příloh'!G99","v":8},{"$f":"'Nastavení příloh'!H99","v":21},{"$f":"'Nastavení příloh'!I99","v":25},{"$f":"'Nastavení příloh'!J99","v":25},{"$f":"'Nastavení příloh'!K99","v":25},{"$f":"'Nastavení příloh'!L99","v":25},{"$f":"'Nastavení příloh'!M99","v":25},{"$f":"'Nastavení příloh'!N99","v":25},{"$f":"'Nastavení příloh'!O99","v":25},{"$f":"'Nastavení příloh'!P99","v":25},{"$f":"'Nastavení příloh'!Q99","v":25},{"$f":"'Nastavení příloh'!R99","v":25},{"$f":"'Nastavení příloh'!S99","v":25},{"$f":"'Nastavení příloh'!T99","v":25},{"$f":"'Nastavení příloh'!U99","v":25},{"$f":"'Nastavení příloh'!V99","v":25},{"$f":"'Nastavení příloh'!W99","v":25},{"$f":"'Nastavení příloh'!X99","v":25},null,7600,"-",7699,{"$f":"'Nastavení příloh'!AD99","v":-13},{"$f":"'Nastavení příloh'!AE99","v":-13},{"$f":"'Nastavení příloh'!AF99","v":-13},{"$f":"'Nastavení příloh'!AG99","v":-13},{"$f":"'Nastavení příloh'!AH99","v":-13},{"$f":"'Nastavení příloh'!AI99","v":-13},{"$f":"'Nastavení příloh'!AJ99","v":-13},{"$f":"'Nastavení příloh'!AK99","v":-13},{"$f":"'Nastavení příloh'!AL99","v":-13},{"$f":"'Nastavení příloh'!AM99","v":-13},{"$f":"'Nastavení příloh'!AN99","v":-13},{"$f":"'Nastavení příloh'!AO99","v":-13},{"$f":"'Nastavení příloh'!AP99","v":-13},{"$f":"'Nastavení příloh'!AQ99","v":-13},{"$f":"'Nastavení příloh'!AR99","v":-13},{"$f":"'Nastavení příloh'!AS99","v":-13},{"$f":"'Nastavení příloh'!AT99","v":-13},{"$f":"'Nastavení příloh'!AU99","v":-7},{"$f":"'Nastavení příloh'!AV99","v":-1},null,null,null,null,null,null,null,null,null,null,null,null,null,null,null,null,null,null,null,null,null,null,null,null,7600,"-",7699,{"$f":"'Nastavení příloh'!BZ99","v":0},{"$f":"'Nastavení příloh'!CA99","v":0},{"$f":"'Nastavení příloh'!CB99","v":8},{"$f":"'Nastavení příloh'!CC99","v":12},{"$f":"'Nastavení příloh'!CD99","v":12},{"$f":"'Nastavení příloh'!CE99","v":12},{"$f":"'Nastavení příloh'!CF99","v":12},{"$f":"'Nastavení příloh'!CG99","v":12},{"$f":"'Nastavení příloh'!CH99","v":12},{"$f":"'Nastavení příloh'!CI99","v":12},{"$f":"'Nastavení příloh'!CJ99","v":12},{"$f":"'Nastavení příloh'!CK99","v":12},{"$f":"'Nastavení příloh'!CL99","v":12},{"$f":"'Nastavení příloh'!CM99","v":12},{"$f":"'Nastavení příloh'!CN99","v":12},{"$f":"'Nastavení příloh'!CO99","v":12},{"$f":"'Nastavení příloh'!CP99","v":12},{"$f":"'Nastavení příloh'!CQ99","v":18},{"$f":"'Nastavení příloh'!CR99","v":24}]
[null,7700,"-",7799,{"$f":"'Nastavení příloh'!F100","v":0},{"$f":"'Nastavení příloh'!G100","v":8},{"$f":"'Nastavení příloh'!H100","v":22},{"$f":"'Nastavení příloh'!I100","v":25},{"$f":"'Nastavení příloh'!J100","v":25},{"$f":"'Nastavení příloh'!K100","v":25},{"$f":"'Nastavení příloh'!L100","v":25},{"$f":"'Nastavení příloh'!M100","v":25},{"$f":"'Nastavení příloh'!N100","v":25},{"$f":"'Nastavení příloh'!O100","v":25},{"$f":"'Nastavení příloh'!P100","v":25},{"$f":"'Nastavení příloh'!Q100","v":25},{"$f":"'Nastavení příloh'!R100","v":25},{"$f":"'Nastavení příloh'!S100","v":25},{"$f":"'Nastavení příloh'!T100","v":25},{"$f":"'Nastavení příloh'!U100","v":25},{"$f":"'Nastavení příloh'!V100","v":25},{"$f":"'Nastavení příloh'!W100","v":25},{"$f":"'Nastavení příloh'!X100","v":25},null,7700,"-",7799,{"$f":"'Nastavení příloh'!AD100","v":-13},{"$f":"'Nastavení příloh'!AE100","v":-13},{"$f":"'Nastavení příloh'!AF100","v":-13},{"$f":"'Nastavení příloh'!AG100","v":-13},{"$f":"'Nastavení příloh'!AH100","v":-13},{"$f":"'Nastavení příloh'!AI100","v":-13},{"$f":"'Nastavení příloh'!AJ100","v":-13},{"$f":"'Nastavení příloh'!AK100","v":-13},{"$f":"'Nastavení příloh'!AL100","v":-13},{"$f":"'Nastavení příloh'!AM100","v":-13},{"$f":"'Nastavení příloh'!AN100","v":-13},{"$f":"'Nastavení příloh'!AO100","v":-13},{"$f":"'Nastavení příloh'!AP100","v":-13},{"$f":"'Nastavení příloh'!AQ100","v":-13},{"$f":"'Nastavení příloh'!AR100","v":-13},{"$f":"'Nastavení příloh'!AS100","v":-13},{"$f":"'Nastavení příloh'!AT100","v":-13},{"$f":"'Nastavení příloh'!AU100","v":-8},{"$f":"'Nastavení příloh'!AV100","v":-1},null,null,null,null,null,null,null,null,null,null,null,null,null,null,null,null,null,null,null,null,null,null,null,null,7700,"-",7799,{"$f":"'Nastavení příloh'!BZ100","v":0},{"$f":"'Nastavení příloh'!CA100","v":0},{"$f":"'Nastavení příloh'!CB100","v":9},{"$f":"'Nastavení příloh'!CC100","v":12},{"$f":"'Nastavení příloh'!CD100","v":12},{"$f":"'Nastavení příloh'!CE100","v":12},{"$f":"'Nastavení příloh'!CF100","v":12},{"$f":"'Nastavení příloh'!CG100","v":12},{"$f":"'Nastavení příloh'!CH100","v":12},{"$f":"'Nastavení příloh'!CI100","v":12},{"$f":"'Nastavení příloh'!CJ100","v":12},{"$f":"'Nastavení příloh'!CK100","v":12},{"$f":"'Nastavení příloh'!CL100","v":12},{"$f":"'Nastavení příloh'!CM100","v":12},{"$f":"'Nastavení příloh'!CN100","v":12},{"$f":"'Nastavení příloh'!CO100","v":12},{"$f":"'Nastavení příloh'!CP100","v":12},{"$f":"'Nastavení příloh'!CQ100","v":17},{"$f":"'Nastavení příloh'!CR100","v":24}]
[null,7800,"-",7899,{"$f":"'Nastavení příloh'!F101","v":0},{"$f":"'Nastavení příloh'!G101","v":8},{"$f":"'Nastavení příloh'!H101","v":22},{"$f":"'Nastavení příloh'!I101","v":25},{"$f":"'Nastavení příloh'!J101","v":25},{"$f":"'Nastavení příloh'!K101","v":25},{"$f":"'Nastavení příloh'!L101","v":25},{"$f":"'Nastavení příloh'!M101","v":25},{"$f":"'Nastavení příloh'!N101","v":25},{"$f":"'Nastavení příloh'!O101","v":25},{"$f":"'Nastavení příloh'!P101","v":25},{"$f":"'Nastavení příloh'!Q101","v":25},{"$f":"'Nastavení příloh'!R101","v":25},{"$f":"'Nastavení příloh'!S101","v":25},{"$f":"'Nastavení příloh'!T101","v":25},{"$f":"'Nastavení příloh'!U101","v":25},{"$f":"'Nastavení příloh'!V101","v":25},{"$f":"'Nastavení příloh'!W101","v":25},{"$f":"'Nastavení příloh'!X101","v":25},null,7800,"-",7899,{"$f":"'Nastavení příloh'!AD101","v":-13},{"$f":"'Nastavení příloh'!AE101","v":-13},{"$f":"'Nastavení příloh'!AF101","v":-13},{"$f":"'Nastavení příloh'!AG101","v":-13},{"$f":"'Nastavení příloh'!AH101","v":-13},{"$f":"'Nastavení příloh'!AI101","v":-13},{"$f":"'Nastavení příloh'!AJ101","v":-13},{"$f":"'Nastavení příloh'!AK101","v":-13},{"$f":"'Nastavení příloh'!AL101","v":-13},{"$f":"'Nastavení příloh'!AM101","v":-13},{"$f":"'Nastavení příloh'!AN101","v":-13},{"$f":"'Nastavení příloh'!AO101","v":-13},{"$f":"'Nastavení příloh'!AP101","v":-13},{"$f":"'Nastavení příloh'!AQ101","v":-13},{"$f":"'Nastavení příloh'!AR101","v":-13},{"$f":"'Nastavení příloh'!AS101","v":-13},{"$f":"'Nastavení příloh'!AT101","v":-13},{"$f":"'Nastavení příloh'!AU101","v":-8},{"$f":"'Nastavení příloh'!AV101","v":-2},null,null,null,null,null,null,null,null,null,null,null,null,null,null,null,null,null,null,null,null,null,null,null,null,7800,"-",7899,{"$f":"'Nastavení příloh'!BZ101","v":0},{"$f":"'Nastavení příloh'!CA101","v":0},{"$f":"'Nastavení příloh'!CB101","v":9},{"$f":"'Nastavení příloh'!CC101","v":12},{"$f":"'Nastavení příloh'!CD101","v":12},{"$f":"'Nastavení příloh'!CE101","v":12},{"$f":"'Nastavení příloh'!CF101","v":12},{"$f":"'Nastavení příloh'!CG101","v":12},{"$f":"'Nastavení příloh'!CH101","v":12},{"$f":"'Nastavení příloh'!CI101","v":12},{"$f":"'Nastavení příloh'!CJ101","v":12},{"$f":"'Nastavení příloh'!CK101","v":12},{"$f":"'Nastavení příloh'!CL101","v":12},{"$f":"'Nastavení příloh'!CM101","v":12},{"$f":"'Nastavení příloh'!CN101","v":12},{"$f":"'Nastavení příloh'!CO101","v":12},{"$f":"'Nastavení příloh'!CP101","v":12},{"$f":"'Nastavení příloh'!CQ101","v":17},{"$f":"'Nastavení příloh'!CR101","v":23}]
[null,7900,"-",7999,{"$f":"'Nastavení příloh'!F102","v":0},{"$f":"'Nastavení příloh'!G102","v":8},{"$f":"'Nastavení příloh'!H102","v":22},{"$f":"'Nastavení příloh'!I102","v":25},{"$f":"'Nastavení příloh'!J102","v":25},{"$f":"'Nastavení příloh'!K102","v":25},{"$f":"'Nastavení příloh'!L102","v":25},{"$f":"'Nastavení příloh'!M102","v":25},{"$f":"'Nastavení příloh'!N102","v":25},{"$f":"'Nastavení příloh'!O102","v":25},{"$f":"'Nastavení příloh'!P102","v":25},{"$f":"'Nastavení příloh'!Q102","v":25},{"$f":"'Nastavení příloh'!R102","v":25},{"$f":"'Nastavení příloh'!S102","v":25},{"$f":"'Nastavení příloh'!T102","v":25},{"$f":"'Nastavení příloh'!U102","v":25},{"$f":"'Nastavení příloh'!V102","v":25},{"$f":"'Nastavení příloh'!W102","v":25},{"$f":"'Nastavení příloh'!X102","v":25},null,7900,"-",7999,{"$f":"'Nastavení příloh'!AD102","v":-13},{"$f":"'Nastavení příloh'!AE102","v":-13},{"$f":"'Nastavení příloh'!AF102","v":-13},{"$f":"'Nastavení příloh'!AG102","v":-13},{"$f":"'Nastavení příloh'!AH102","v":-13},{"$f":"'Nastavení příloh'!AI102","v":-13},{"$f":"'Nastavení příloh'!AJ102","v":-13},{"$f":"'Nastavení příloh'!AK102","v":-13},{"$f":"'Nastavení příloh'!AL102","v":-13},{"$f":"'Nastavení příloh'!AM102","v":-13},{"$f":"'Nastavení příloh'!AN102","v":-13},{"$f":"'Nastavení příloh'!AO102","v":-13},{"$f":"'Nastavení příloh'!AP102","v":-13},{"$f":"'Nastavení příloh'!AQ102","v":-13},{"$f":"'Nastavení příloh'!AR102","v":-13},{"$f":"'Nastavení příloh'!AS102","v":-13},{"$f":"'Nastavení příloh'!AT102","v":-13},{"$f":"'Nastavení příloh'!AU102","v":-9},{"$f":"'Nastavení příloh'!AV102","v":-2},null,null,null,null,null,null,null,null,null,null,null,null,null,null,null,null,null,null,null,null,null,null,null,null,7900,"-",7999,{"$f":"'Nastavení příloh'!BZ102","v":0},{"$f":"'Nastavení příloh'!CA102","v":0},{"$f":"'Nastavení příloh'!CB102","v":9},{"$f":"'Nastavení příloh'!CC102","v":12},{"$f":"'Nastavení příloh'!CD102","v":12},{"$f":"'Nastavení příloh'!CE102","v":12},{"$f":"'Nastavení příloh'!CF102","v":12},{"$f":"'Nastavení příloh'!CG102","v":12},{"$f":"'Nastavení příloh'!CH102","v":12},{"$f":"'Nastavení příloh'!CI102","v":12},{"$f":"'Nastavení příloh'!CJ102","v":12},{"$f":"'Nastavení příloh'!CK102","v":12},{"$f":"'Nastavení příloh'!CL102","v":12},{"$f":"'Nastavení příloh'!CM102","v":12},{"$f":"'Nastavení příloh'!CN102","v":12},{"$f":"'Nastavení příloh'!CO102","v":12},{"$f":"'Nastavení příloh'!CP102","v":12},{"$f":"'Nastavení příloh'!CQ102","v":16},{"$f":"'Nastavení příloh'!CR102","v":23}]
[null,8000,"-",8099,{"$f":"'Nastavení příloh'!F103","v":0},{"$f":"'Nastavení příloh'!G103","v":8},{"$f":"'Nastavení příloh'!H103","v":23},{"$f":"'Nastavení příloh'!I103","v":25},{"$f":"'Nastavení příloh'!J103","v":25},{"$f":"'Nastavení příloh'!K103","v":25},{"$f":"'Nastavení příloh'!L103","v":25},{"$f":"'Nastavení příloh'!M103","v":25},{"$f":"'Nastavení příloh'!N103","v":25},{"$f":"'Nastavení příloh'!O103","v":25},{"$f":"'Nastavení příloh'!P103","v":25},{"$f":"'Nastavení příloh'!Q103","v":25},{"$f":"'Nastavení příloh'!R103","v":25},{"$f":"'Nastavení příloh'!S103","v":25},{"$f":"'Nastavení příloh'!T103","v":25},{"$f":"'Nastavení příloh'!U103","v":25},{"$f":"'Nastavení příloh'!V103","v":25},{"$f":"'Nastavení příloh'!W103","v":25},{"$f":"'Nastavení příloh'!X103","v":25},null,8000,"-",8099,{"$f":"'Nastavení příloh'!AD103","v":-13},{"$f":"'Nastavení příloh'!AE103","v":-13},{"$f":"'Nastavení příloh'!AF103","v":-13},{"$f":"'Nastavení příloh'!AG103","v":-13},{"$f":"'Nastavení příloh'!AH103","v":-13},{"$f":"'Nastavení příloh'!AI103","v":-13},{"$f":"'Nastavení příloh'!AJ103","v":-13},{"$f":"'Nastavení příloh'!AK103","v":-13},{"$f":"'Nastavení příloh'!AL103","v":-13},{"$f":"'Nastavení příloh'!AM103","v":-13},{"$f":"'Nastavení příloh'!AN103","v":-13},{"$f":"'Nastavení příloh'!AO103","v":-13},{"$f":"'Nastavení příloh'!AP103","v":-13},{"$f":"'Nastavení příloh'!AQ103","v":-13},{"$f":"'Nastavení příloh'!AR103","v":-13},{"$f":"'Nastavení příloh'!AS103","v":-13},{"$f":"'Nastavení příloh'!AT103","v":-13},{"$f":"'Nastavení příloh'!AU103","v":-9},{"$f":"'Nastavení příloh'!AV103","v":-2},null,null,null,null,null,null,null,null,null,null,null,null,null,null,null,null,null,null,null,null,null,null,null,null,8000,"-",8099,{"$f":"'Nastavení příloh'!BZ103","v":0},{"$f":"'Nastavení příloh'!CA103","v":0},{"$f":"'Nastavení příloh'!CB103","v":10},{"$f":"'Nastavení příloh'!CC103","v":12},{"$f":"'Nastavení příloh'!CD103","v":12},{"$f":"'Nastavení příloh'!CE103","v":12},{"$f":"'Nastavení příloh'!CF103","v":12},{"$f":"'Nastavení příloh'!CG103","v":12},{"$f":"'Nastavení příloh'!CH103","v":12},{"$f":"'Nastavení příloh'!CI103","v":12},{"$f":"'Nastavení příloh'!CJ103","v":12},{"$f":"'Nastavení příloh'!CK103","v":12},{"$f":"'Nastavení příloh'!CL103","v":12},{"$f":"'Nastavení příloh'!CM103","v":12},{"$f":"'Nastavení příloh'!CN103","v":12},{"$f":"'Nastavení příloh'!CO103","v":12},{"$f":"'Nastavení příloh'!CP103","v":12},{"$f":"'Nastavení příloh'!CQ103","v":16},{"$f":"'Nastavení příloh'!CR103","v":23}]
[null,8100,"-",8199,{"$f":"'Nastavení příloh'!F104","v":0},{"$f":"'Nastavení příloh'!G104","v":9},{"$f":"'Nastavení příloh'!H104","v":23},{"$f":"'Nastavení příloh'!I104","v":25},{"$f":"'Nastavení příloh'!J104","v":25},{"$f":"'Nastavení příloh'!K104","v":25},{"$f":"'Nastavení příloh'!L104","v":25},{"$f":"'Nastavení příloh'!M104","v":25},{"$f":"'Nastavení příloh'!N104","v":25},{"$f":"'Nastavení příloh'!O104","v":25},{"$f":"'Nastavení příloh'!P104","v":25},{"$f":"'Nastavení příloh'!Q104","v":25},{"$f":"'Nastavení příloh'!R104","v":25},{"$f":"'Nastavení příloh'!S104","v":25},{"$f":"'Nastavení příloh'!T104","v":25},{"$f":"'Nastavení příloh'!U104","v":25},{"$f":"'Nastavení příloh'!V104","v":25},{"$f":"'Nastavení příloh'!W104","v":25},{"$f":"'Nastavení příloh'!X104","v":25},null,8100,"-",8199,{"$f":"'Nastavení příloh'!AD104","v":-13},{"$f":"'Nastavení příloh'!AE104","v":-13},{"$f":"'Nastavení příloh'!AF104","v":-13},{"$f":"'Nastavení příloh'!AG104","v":-13},{"$f":"'Nastavení příloh'!AH104","v":-13},{"$f":"'Nastavení příloh'!AI104","v":-13},{"$f":"'Nastavení příloh'!AJ104","v":-13},{"$f":"'Nastavení příloh'!AK104","v":-13},{"$f":"'Nastavení příloh'!AL104","v":-13},{"$f":"'Nastavení příloh'!AM104","v":-13},{"$f":"'Nastavení příloh'!AN104","v":-13},{"$f":"'Nastavení příloh'!AO104","v":-13},{"$f":"'Nastavení příloh'!AP104","v":-13},{"$f":"'Nastavení příloh'!AQ104","v":-13},{"$f":"'Nastavení příloh'!AR104","v":-13},{"$f":"'Nastavení příloh'!AS104","v":-13},{"$f":"'Nastavení příloh'!AT104","v":-13},{"$f":"'Nastavení příloh'!AU104","v":-10},{"$f":"'Nastavení příloh'!AV104","v":-3},null,null,null,null,null,null,null,null,null,null,null,null,null,null,null,null,null,null,null,null,null,null,null,null,8100,"-",8199,{"$f":"'Nastavení příloh'!BZ104","v":0},{"$f":"'Nastavení příloh'!CA104","v":0},{"$f":"'Nastavení příloh'!CB104","v":10},{"$f":"'Nastavení příloh'!CC104","v":12},{"$f":"'Nastavení příloh'!CD104","v":12},{"$f":"'Nastavení příloh'!CE104","v":12},{"$f":"'Nastavení příloh'!CF104","v":12},{"$f":"'Nastavení příloh'!CG104","v":12},{"$f":"'Nastavení příloh'!CH104","v":12},{"$f":"'Nastavení příloh'!CI104","v":12},{"$f":"'Nastavení příloh'!CJ104","v":12},{"$f":"'Nastavení příloh'!CK104","v":12},{"$f":"'Nastavení příloh'!CL104","v":12},{"$f":"'Nastavení příloh'!CM104","v":12},{"$f":"'Nastavení příloh'!CN104","v":12},{"$f":"'Nastavení příloh'!CO104","v":12},{"$f":"'Nastavení příloh'!CP104","v":12},{"$f":"'Nastavení příloh'!CQ104","v":15},{"$f":"'Nastavení příloh'!CR104","v":22}]
[null,8200,"-",8299,{"$f":"'Nastavení příloh'!F105","v":0},{"$f":"'Nastavení příloh'!G105","v":9},{"$f":"'Nastavení příloh'!H105","v":23},{"$f":"'Nastavení příloh'!I105","v":25},{"$f":"'Nastavení příloh'!J105","v":25},{"$f":"'Nastavení příloh'!K105","v":25},{"$f":"'Nastavení příloh'!L105","v":25},{"$f":"'Nastavení příloh'!M105","v":25},{"$f":"'Nastavení příloh'!N105","v":25},{"$f":"'Nastavení příloh'!O105","v":25},{"$f":"'Nastavení příloh'!P105","v":25},{"$f":"'Nastavení příloh'!Q105","v":25},{"$f":"'Nastavení příloh'!R105","v":25},{"$f":"'Nastavení příloh'!S105","v":25},{"$f":"'Nastavení příloh'!T105","v":25},{"$f":"'Nastavení příloh'!U105","v":25},{"$f":"'Nastavení příloh'!V105","v":25},{"$f":"'Nastavení příloh'!W105","v":25},{"$f":"'Nastavení příloh'!X105","v":25},null,8200,"-",8299,{"$f":"'Nastavení příloh'!AD105","v":-13},{"$f":"'Nastavení příloh'!AE105","v":-13},{"$f":"'Nastavení příloh'!AF105","v":-13},{"$f":"'Nastavení příloh'!AG105","v":-13},{"$f":"'Nastavení příloh'!AH105","v":-13},{"$f":"'Nastavení příloh'!AI105","v":-13},{"$f":"'Nastavení příloh'!AJ105","v":-13},{"$f":"'Nastavení příloh'!AK105","v":-13},{"$f":"'Nastavení příloh'!AL105","v":-13},{"$f":"'Nastavení příloh'!AM105","v":-13},{"$f":"'Nastavení příloh'!AN105","v":-13},{"$f":"'Nastavení příloh'!AO105","v":-13},{"$f":"'Nastavení příloh'!AP105","v":-13},{"$f":"'Nastavení příloh'!AQ105","v":-13},{"$f":"'Nastavení příloh'!AR105","v":-13},{"$f":"'Nastavení příloh'!AS105","v":-13},{"$f":"'Nastavení příloh'!AT105","v":-13},{"$f":"'Nastavení příloh'!AU105","v":-10},{"$f":"'Nastavení příloh'!AV105","v":-3},null,null,null,null,null,null,null,null,null,null,null,null,null,null,null,null,null,null,null,null,null,null,null,null,8200,"-",8299,{"$f":"'Nastavení příloh'!BZ105","v":0},{"$f":"'Nastavení příloh'!CA105","v":0},{"$f":"'Nastavení příloh'!CB105","v":10},{"$f":"'Nastavení příloh'!CC105","v":12},{"$f":"'Nastavení příloh'!CD105","v":12},{"$f":"'Nastavení příloh'!CE105","v":12},{"$f":"'Nastavení příloh'!CF105","v":12},{"$f":"'Nastavení příloh'!CG105","v":12},{"$f":"'Nastavení příloh'!CH105","v":12},{"$f":"'Nastavení příloh'!CI105","v":12},{"$f":"'Nastavení příloh'!CJ105","v":12},{"$f":"'Nastavení příloh'!CK105","v":12},{"$f":"'Nastavení příloh'!CL105","v":12},{"$f":"'Nastavení příloh'!CM105","v":12},{"$f":"'Nastavení příloh'!CN105","v":12},{"$f":"'Nastavení příloh'!CO105","v":12},{"$f":"'Nastavení příloh'!CP105","v":12},{"$f":"'Nastavení příloh'!CQ105","v":15},{"$f":"'Nastavení příloh'!CR105","v":22}]
[null,8300,"-",8399,{"$f":"'Nastavení příloh'!F106","v":0},{"$f":"'Nastavení příloh'!G106","v":9},{"$f":"'Nastavení příloh'!H106","v":23},{"$f":"'Nastavení příloh'!I106","v":25},{"$f":"'Nastavení příloh'!J106","v":25},{"$f":"'Nastavení příloh'!K106","v":25},{"$f":"'Nastavení příloh'!L106","v":25},{"$f":"'Nastavení příloh'!M106","v":25},{"$f":"'Nastavení příloh'!N106","v":25},{"$f":"'Nastavení příloh'!O106","v":25},{"$f":"'Nastavení příloh'!P106","v":25},{"$f":"'Nastavení příloh'!Q106","v":25},{"$f":"'Nastavení příloh'!R106","v":25},{"$f":"'Nastavení příloh'!S106","v":25},{"$f":"'Nastavení příloh'!T106","v":25},{"$f":"'Nastavení příloh'!U106","v":25},{"$f":"'Nastavení příloh'!V106","v":25},{"$f":"'Nastavení příloh'!W106","v":25},{"$f":"'Nastavení příloh'!X106","v":25},null,8300,"-",8399,{"$f":"'Nastavení příloh'!AD106","v":-13},{"$f":"'Nastavení příloh'!AE106","v":-13},{"$f":"'Nastavení příloh'!AF106","v":-13},{"$f":"'Nastavení příloh'!AG106","v":-13},{"$f":"'Nastavení příloh'!AH106","v":-13},{"$f":"'Nastavení příloh'!AI106","v":-13},{"$f":"'Nastavení příloh'!AJ106","v":-13},{"$f":"'Nastavení příloh'!AK106","v":-13},{"$f":"'Nastavení příloh'!AL106","v":-13},{"$f":"'Nastavení příloh'!AM106","v":-13},{"$f":"'Nastavení příloh'!AN106","v":-13},{"$f":"'Nastavení příloh'!AO106","v":-13},{"$f":"'Nastavení příloh'!AP106","v":-13},{"$f":"'Nastavení příloh'!AQ106","v":-13},{"$f":"'Nastavení příloh'!AR106","v":-13},{"$f":"'Nastavení příloh'!AS106","v":-13},{"$f":"'Nastavení příloh'!AT106","v":-13},{"$f":"'Nastavení příloh'!AU106","v":-11},{"$f":"'Nastavení příloh'!AV106","v":-4},null,null,null,null,null,null,null,null,null,null,null,null,null,null,null,null,null,null,null,null,null,null,null,null,8300,"-",8399,{"$f":"'Nastavení příloh'!BZ106","v":0},{"$f":"'Nastavení příloh'!CA106","v":0},{"$f":"'Nastavení příloh'!CB106","v":10},{"$f":"'Nastavení příloh'!CC106","v":12},{"$f":"'Nastavení příloh'!CD106","v":12},{"$f":"'Nastavení příloh'!CE106","v":12},{"$f":"'Nastavení příloh'!CF106","v":12},{"$f":"'Nastavení příloh'!CG106","v":12},{"$f":"'Nastavení příloh'!CH106","v":12},{"$f":"'Nastavení příloh'!CI106","v":12},{"$f":"'Nastavení příloh'!CJ106","v":12},{"$f":"'Nastavení příloh'!CK106","v":12},{"$f":"'Nastavení příloh'!CL106","v":12},{"$f":"'Nastavení příloh'!CM106","v":12},{"$f":"'Nastavení příloh'!CN106","v":12},{"$f":"'Nastavení příloh'!CO106","v":12},{"$f":"'Nastavení příloh'!CP106","v":12},{"$f":"'Nastavení příloh'!CQ106","v":14},{"$f":"'Nastavení příloh'!CR106","v":21}]
[null,8400,"-",8499,{"$f":"'Nastavení příloh'!F107","v":0},{"$f":"'Nastavení příloh'!G107","v":9},{"$f":"'Nastavení příloh'!H107","v":24},{"$f":"'Nastavení příloh'!I107","v":25},{"$f":"'Nastavení příloh'!J107","v":25},{"$f":"'Nastavení příloh'!K107","v":25},{"$f":"'Nastavení příloh'!L107","v":25},{"$f":"'Nastavení příloh'!M107","v":25},{"$f":"'Nastavení příloh'!N107","v":25},{"$f":"'Nastavení příloh'!O107","v":25},{"$f":"'Nastavení příloh'!P107","v":25},{"$f":"'Nastavení příloh'!Q107","v":25},{"$f":"'Nastavení příloh'!R107","v":25},{"$f":"'Nastavení příloh'!S107","v":25},{"$f":"'Nastavení příloh'!T107","v":25},{"$f":"'Nastavení příloh'!U107","v":25},{"$f":"'Nastavení příloh'!V107","v":25},{"$f":"'Nastavení příloh'!W107","v":25},{"$f":"'Nastavení příloh'!X107","v":25},null,8400,"-",8499,{"$f":"'Nastavení příloh'!AD107","v":-13},{"$f":"'Nastavení příloh'!AE107","v":-13},{"$f":"'Nastavení příloh'!AF107","v":-13},{"$f":"'Nastavení příloh'!AG107","v":-13},{"$f":"'Nastavení příloh'!AH107","v":-13},{"$f":"'Nastavení příloh'!AI107","v":-13},{"$f":"'Nastavení příloh'!AJ107","v":-13},{"$f":"'Nastavení příloh'!AK107","v":-13},{"$f":"'Nastavení příloh'!AL107","v":-13},{"$f":"'Nastavení příloh'!AM107","v":-13},{"$f":"'Nastavení příloh'!AN107","v":-13},{"$f":"'Nastavení příloh'!AO107","v":-13},{"$f":"'Nastavení příloh'!AP107","v":-13},{"$f":"'Nastavení příloh'!AQ107","v":-13},{"$f":"'Nastavení příloh'!AR107","v":-13},{"$f":"'Nastavení příloh'!AS107","v":-13},{"$f":"'Nastavení příloh'!AT107","v":-13},{"$f":"'Nastavení příloh'!AU107","v":-11},{"$f":"'Nastavení příloh'!AV107","v":-4},null,null,null,null,null,null,null,null,null,null,null,null,null,null,null,null,null,null,null,null,null,null,null,null,8400,"-",8499,{"$f":"'Nastavení příloh'!BZ107","v":0},{"$f":"'Nastavení příloh'!CA107","v":0},{"$f":"'Nastavení příloh'!CB107","v":11},{"$f":"'Nastavení příloh'!CC107","v":12},{"$f":"'Nastavení příloh'!CD107","v":12},{"$f":"'Nastavení příloh'!CE107","v":12},{"$f":"'Nastavení příloh'!CF107","v":12},{"$f":"'Nastavení příloh'!CG107","v":12},{"$f":"'Nastavení příloh'!CH107","v":12},{"$f":"'Nastavení příloh'!CI107","v":12},{"$f":"'Nastavení příloh'!CJ107","v":12},{"$f":"'Nastavení příloh'!CK107","v":12},{"$f":"'Nastavení příloh'!CL107","v":12},{"$f":"'Nastavení příloh'!CM107","v":12},{"$f":"'Nastavení příloh'!CN107","v":12},{"$f":"'Nastavení příloh'!CO107","v":12},{"$f":"'Nastavení příloh'!CP107","v":12},{"$f":"'Nastavení příloh'!CQ107","v":14},{"$f":"'Nastavení příloh'!CR107","v":21}]
[null,8500,"-",8599,{"$f":"'Nastavení příloh'!F108","v":0},{"$f":"'Nastavení příloh'!G108","v":9},{"$f":"'Nastavení příloh'!H108","v":24},{"$f":"'Nastavení příloh'!I108","v":25},{"$f":"'Nastavení příloh'!J108","v":25},{"$f":"'Nastavení příloh'!K108","v":25},{"$f":"'Nastavení příloh'!L108","v":25},{"$f":"'Nastavení příloh'!M108","v":25},{"$f":"'Nastavení příloh'!N108","v":25},{"$f":"'Nastavení příloh'!O108","v":25},{"$f":"'Nastavení příloh'!P108","v":25},{"$f":"'Nastavení příloh'!Q108","v":25},{"$f":"'Nastavení příloh'!R108","v":25},{"$f":"'Nastavení příloh'!S108","v":25},{"$f":"'Nastavení příloh'!T108","v":25},{"$f":"'Nastavení příloh'!U108","v":25},{"$f":"'Nastavení příloh'!V108","v":25},{"$f":"'Nastavení příloh'!W108","v":25},{"$f":"'Nastavení příloh'!X108","v":25},null,8500,"-",8599,{"$f":"'Nastavení příloh'!AD108","v":-13},{"$f":"'Nastavení příloh'!AE108","v":-13},{"$f":"'Nastavení příloh'!AF108","v":-13},{"$f":"'Nastavení příloh'!AG108","v":-13},{"$f":"'Nastavení příloh'!AH108","v":-13},{"$f":"'Nastavení příloh'!AI108","v":-13},{"$f":"'Nastavení příloh'!AJ108","v":-13},{"$f":"'Nastavení příloh'!AK108","v":-13},{"$f":"'Nastavení příloh'!AL108","v":-13},{"$f":"'Nastavení příloh'!AM108","v":-13},{"$f":"'Nastavení příloh'!AN108","v":-13},{"$f":"'Nastavení příloh'!AO108","v":-13},{"$f":"'Nastavení příloh'!AP108","v":-13},{"$f":"'Nastavení příloh'!AQ108","v":-13},{"$f":"'Nastavení příloh'!AR108","v":-13},{"$f":"'Nastavení příloh'!AS108","v":-13},{"$f":"'Nastavení příloh'!AT108","v":-13},{"$f":"'Nastavení příloh'!AU108","v":-12},{"$f":"'Nastavení příloh'!AV108","v":-4},null,null,null,null,null,null,null,null,null,null,null,null,null,null,null,null,null,null,null,null,null,null,null,null,8500,"-",8599,{"$f":"'Nastavení příloh'!BZ108","v":0},{"$f":"'Nastavení příloh'!CA108","v":0},{"$f":"'Nastavení příloh'!CB108","v":11},{"$f":"'Nastavení příloh'!CC108","v":12},{"$f":"'Nastavení příloh'!CD108","v":12},{"$f":"'Nastavení příloh'!CE108","v":12},{"$f":"'Nastavení příloh'!CF108","v":12},{"$f":"'Nastavení příloh'!CG108","v":12},{"$f":"'Nastavení příloh'!CH108","v":12},{"$f":"'Nastavení příloh'!CI108","v":12},{"$f":"'Nastavení příloh'!CJ108","v":12},{"$f":"'Nastavení příloh'!CK108","v":12},{"$f":"'Nastavení příloh'!CL108","v":12},{"$f":"'Nastavení příloh'!CM108","v":12},{"$f":"'Nastavení příloh'!CN108","v":12},{"$f":"'Nastavení příloh'!CO108","v":12},{"$f":"'Nastavení příloh'!CP108","v":12},{"$f":"'Nastavení příloh'!CQ108","v":13},{"$f":"'Nastavení příloh'!CR108","v":21}]
[null,8600,"-",8699,{"$f":"'Nastavení příloh'!F109","v":0},{"$f":"'Nastavení příloh'!G109","v":9},{"$f":"'Nastavení příloh'!H109","v":24},{"$f":"'Nastavení příloh'!I109","v":25},{"$f":"'Nastavení příloh'!J109","v":25},{"$f":"'Nastavení příloh'!K109","v":25},{"$f":"'Nastavení příloh'!L109","v":25},{"$f":"'Nastavení příloh'!M109","v":25},{"$f":"'Nastavení příloh'!N109","v":25},{"$f":"'Nastavení příloh'!O109","v":25},{"$f":"'Nastavení příloh'!P109","v":25},{"$f":"'Nastavení příloh'!Q109","v":25},{"$f":"'Nastavení příloh'!R109","v":25},{"$f":"'Nastavení příloh'!S109","v":25},{"$f":"'Nastavení příloh'!T109","v":25},{"$f":"'Nastavení příloh'!U109","v":25},{"$f":"'Nastavení příloh'!V109","v":25},{"$f":"'Nastavení příloh'!W109","v":25},{"$f":"'Nastavení příloh'!X109","v":25},null,8600,"-",8699,{"$f":"'Nastavení příloh'!AD109","v":-13},{"$f":"'Nastavení příloh'!AE109","v":-13},{"$f":"'Nastavení příloh'!AF109","v":-13},{"$f":"'Nastavení příloh'!AG109","v":-13},{"$f":"'Nastavení příloh'!AH109","v":-13},{"$f":"'Nastavení příloh'!AI109","v":-13},{"$f":"'Nastavení příloh'!AJ109","v":-13},{"$f":"'Nastavení příloh'!AK109","v":-13},{"$f":"'Nastavení příloh'!AL109","v":-13},{"$f":"'Nastavení příloh'!AM109","v":-13},{"$f":"'Nastavení příloh'!AN109","v":-13},{"$f":"'Nastavení příloh'!AO109","v":-13},{"$f":"'Nastavení příloh'!AP109","v":-13},{"$f":"'Nastavení příloh'!AQ109","v":-13},{"$f":"'Nastavení příloh'!AR109","v":-13},{"$f":"'Nastavení příloh'!AS109","v":-13},{"$f":"'Nastavení příloh'!AT109","v":-13},{"$f":"'Nastavení příloh'!AU109","v":-12},{"$f":"'Nastavení příloh'!AV109","v":-5},null,null,null,null,null,null,null,null,null,null,null,null,null,null,null,null,null,null,null,null,null,null,null,null,8600,"-",8699,{"$f":"'Nastavení příloh'!BZ109","v":0},{"$f":"'Nastavení příloh'!CA109","v":0},{"$f":"'Nastavení příloh'!CB109","v":11},{"$f":"'Nastavení příloh'!CC109","v":12},{"$f":"'Nastavení příloh'!CD109","v":12},{"$f":"'Nastavení příloh'!CE109","v":12},{"$f":"'Nastavení příloh'!CF109","v":12},{"$f":"'Nastavení příloh'!CG109","v":12},{"$f":"'Nastavení příloh'!CH109","v":12},{"$f":"'Nastavení příloh'!CI109","v":12},{"$f":"'Nastavení příloh'!CJ109","v":12},{"$f":"'Nastavení příloh'!CK109","v":12},{"$f":"'Nastavení příloh'!CL109","v":12},{"$f":"'Nastavení příloh'!CM109","v":12},{"$f":"'Nastavení příloh'!CN109","v":12},{"$f":"'Nastavení příloh'!CO109","v":12},{"$f":"'Nastavení příloh'!CP109","v":12},{"$f":"'Nastavení příloh'!CQ109","v":13},{"$f":"'Nastavení příloh'!CR109","v":20}]
[null,8700,"-",8799,{"$f":"'Nastavení příloh'!F110","v":0},{"$f":"'Nastavení příloh'!G110","v":9},{"$f":"'Nastavení příloh'!H110","v":25},{"$f":"'Nastavení příloh'!I110","v":25},{"$f":"'Nastavení příloh'!J110","v":25},{"$f":"'Nastavení příloh'!K110","v":25},{"$f":"'Nastavení příloh'!L110","v":25},{"$f":"'Nastavení příloh'!M110","v":25},{"$f":"'Nastavení příloh'!N110","v":25},{"$f":"'Nastavení příloh'!O110","v":25},{"$f":"'Nastavení příloh'!P110","v":25},{"$f":"'Nastavení příloh'!Q110","v":25},{"$f":"'Nastavení příloh'!R110","v":25},{"$f":"'Nastavení příloh'!S110","v":25},{"$f":"'Nastavení příloh'!T110","v":25},{"$f":"'Nastavení příloh'!U110","v":25},{"$f":"'Nastavení příloh'!V110","v":25},{"$f":"'Nastavení příloh'!W110","v":25},{"$f":"'Nastavení příloh'!X110","v":25},null,8700,"-",8799,{"$f":"'Nastavení příloh'!AD110","v":-13},{"$f":"'Nastavení příloh'!AE110","v":-13},{"$f":"'Nastavení příloh'!AF110","v":-13},{"$f":"'Nastavení příloh'!AG110","v":-13},{"$f":"'Nastavení příloh'!AH110","v":-13},{"$f":"'Nastavení příloh'!AI110","v":-13},{"$f":"'Nastavení příloh'!AJ110","v":-13},{"$f":"'Nastavení příloh'!AK110","v":-13},{"$f":"'Nastavení příloh'!AL110","v":-13},{"$f":"'Nastavení příloh'!AM110","v":-13},{"$f":"'Nastavení příloh'!AN110","v":-13},{"$f":"'Nastavení příloh'!AO110","v":-13},{"$f":"'Nastavení příloh'!AP110","v":-13},{"$f":"'Nastavení příloh'!AQ110","v":-13},{"$f":"'Nastavení příloh'!AR110","v":-13},{"$f":"'Nastavení příloh'!AS110","v":-13},{"$f":"'Nastavení příloh'!AT110","v":-13},{"$f":"'Nastavení příloh'!AU110","v":-13},{"$f":"'Nastavení příloh'!AV110","v":-5},null,null,null,null,null,null,null,null,null,null,null,null,null,null,null,null,null,null,null,null,null,null,null,null,8700,"-",8799,{"$f":"'Nastavení příloh'!BZ110","v":0},{"$f":"'Nastavení příloh'!CA110","v":0},{"$f":"'Nastavení příloh'!CB110","v":12},{"$f":"'Nastavení příloh'!CC110","v":12},{"$f":"'Nastavení příloh'!CD110","v":12},{"$f":"'Nastavení příloh'!CE110","v":12},{"$f":"'Nastavení příloh'!CF110","v":12},{"$f":"'Nastavení příloh'!CG110","v":12},{"$f":"'Nastavení příloh'!CH110","v":12},{"$f":"'Nastavení příloh'!CI110","v":12},{"$f":"'Nastavení příloh'!CJ110","v":12},{"$f":"'Nastavení příloh'!CK110","v":12},{"$f":"'Nastavení příloh'!CL110","v":12},{"$f":"'Nastavení příloh'!CM110","v":12},{"$f":"'Nastavení příloh'!CN110","v":12},{"$f":"'Nastavení příloh'!CO110","v":12},{"$f":"'Nastavení příloh'!CP110","v":12},{"$f":"'Nastavení příloh'!CQ110","v":12},{"$f":"'Nastavení příloh'!CR110","v":20}]
[null,8800,"-",8899,{"$f":"'Nastavení příloh'!F111","v":0},{"$f":"'Nastavení příloh'!G111","v":9},{"$f":"'Nastavení příloh'!H111","v":25},{"$f":"'Nastavení příloh'!I111","v":25},{"$f":"'Nastavení příloh'!J111","v":25},{"$f":"'Nastavení příloh'!K111","v":25},{"$f":"'Nastavení příloh'!L111","v":25},{"$f":"'Nastavení příloh'!M111","v":25},{"$f":"'Nastavení příloh'!N111","v":25},{"$f":"'Nastavení příloh'!O111","v":25},{"$f":"'Nastavení příloh'!P111","v":25},{"$f":"'Nastavení příloh'!Q111","v":25},{"$f":"'Nastavení příloh'!R111","v":25},{"$f":"'Nastavení příloh'!S111","v":25},{"$f":"'Nastavení příloh'!T111","v":25},{"$f":"'Nastavení příloh'!U111","v":25},{"$f":"'Nastavení příloh'!V111","v":25},{"$f":"'Nastavení příloh'!W111","v":25},{"$f":"'Nastavení příloh'!X111","v":25},null,8800,"-",8899,{"$f":"'Nastavení příloh'!AD111","v":-13},{"$f":"'Nastavení příloh'!AE111","v":-13},{"$f":"'Nastavení příloh'!AF111","v":-13},{"$f":"'Nastavení příloh'!AG111","v":-13},{"$f":"'Nastavení příloh'!AH111","v":-13},{"$f":"'Nastavení příloh'!AI111","v":-13},{"$f":"'Nastavení příloh'!AJ111","v":-13},{"$f":"'Nastavení příloh'!AK111","v":-13},{"$f":"'Nastavení příloh'!AL111","v":-13},{"$f":"'Nastavení příloh'!AM111","v":-13},{"$f":"'Nastavení příloh'!AN111","v":-13},{"$f":"'Nastavení příloh'!AO111","v":-13},{"$f":"'Nastavení příloh'!AP111","v":-13},{"$f":"'Nastavení příloh'!AQ111","v":-13},{"$f":"'Nastavení příloh'!AR111","v":-13},{"$f":"'Nastavení příloh'!AS111","v":-13},{"$f":"'Nastavení příloh'!AT111","v":-13},{"$f":"'Nastavení příloh'!AU111","v":-13},{"$f":"'Nastavení příloh'!AV111","v":-6},null,null,null,null,null,null,null,null,null,null,null,null,null,null,null,null,null,null,null,null,null,null,null,null,8800,"-",8899,{"$f":"'Nastavení příloh'!BZ111","v":0},{"$f":"'Nastavení příloh'!CA111","v":0},{"$f":"'Nastavení příloh'!CB111","v":12},{"$f":"'Nastavení příloh'!CC111","v":12},{"$f":"'Nastavení příloh'!CD111","v":12},{"$f":"'Nastavení příloh'!CE111","v":12},{"$f":"'Nastavení příloh'!CF111","v":12},{"$f":"'Nastavení příloh'!CG111","v":12},{"$f":"'Nastavení příloh'!CH111","v":12},{"$f":"'Nastavení příloh'!CI111","v":12},{"$f":"'Nastavení příloh'!CJ111","v":12},{"$f":"'Nastavení příloh'!CK111","v":12},{"$f":"'Nastavení příloh'!CL111","v":12},{"$f":"'Nastavení příloh'!CM111","v":12},{"$f":"'Nastavení příloh'!CN111","v":12},{"$f":"'Nastavení příloh'!CO111","v":12},{"$f":"'Nastavení příloh'!CP111","v":12},{"$f":"'Nastavení příloh'!CQ111","v":12},{"$f":"'Nastavení příloh'!CR111","v":19}]
[null,8900,"-",8999,{"$f":"'Nastavení příloh'!F112","v":0},{"$f":"'Nastavení příloh'!G112","v":9},{"$f":"'Nastavení příloh'!H112","v":25},{"$f":"'Nastavení příloh'!I112","v":25},{"$f":"'Nastavení příloh'!J112","v":25},{"$f":"'Nastavení příloh'!K112","v":25},{"$f":"'Nastavení příloh'!L112","v":25},{"$f":"'Nastavení příloh'!M112","v":25},{"$f":"'Nastavení příloh'!N112","v":25},{"$f":"'Nastavení příloh'!O112","v":25},{"$f":"'Nastavení příloh'!P112","v":25},{"$f":"'Nastavení příloh'!Q112","v":25},{"$f":"'Nastavení příloh'!R112","v":25},{"$f":"'Nastavení příloh'!S112","v":25},{"$f":"'Nastavení příloh'!T112","v":25},{"$f":"'Nastavení příloh'!U112","v":25},{"$f":"'Nastavení příloh'!V112","v":25},{"$f":"'Nastavení příloh'!W112","v":25},{"$f":"'Nastavení příloh'!X112","v":25},null,8900,"-",8999,{"$f":"'Nastavení příloh'!AD112","v":-13},{"$f":"'Nastavení příloh'!AE112","v":-13},{"$f":"'Nastavení příloh'!AF112","v":-13},{"$f":"'Nastavení příloh'!AG112","v":-13},{"$f":"'Nastavení příloh'!AH112","v":-13},{"$f":"'Nastavení příloh'!AI112","v":-13},{"$f":"'Nastavení příloh'!AJ112","v":-13},{"$f":"'Nastavení příloh'!AK112","v":-13},{"$f":"'Nastavení příloh'!AL112","v":-13},{"$f":"'Nastavení příloh'!AM112","v":-13},{"$f":"'Nastavení příloh'!AN112","v":-13},{"$f":"'Nastavení příloh'!AO112","v":-13},{"$f":"'Nastavení příloh'!AP112","v":-13},{"$f":"'Nastavení příloh'!AQ112","v":-13},{"$f":"'Nastavení příloh'!AR112","v":-13},{"$f":"'Nastavení příloh'!AS112","v":-13},{"$f":"'Nastavení příloh'!AT112","v":-13},{"$f":"'Nastavení příloh'!AU112","v":-13},{"$f":"'Nastavení příloh'!AV112","v":-6},null,null,null,null,null,null,null,null,null,null,null,null,null,null,null,null,null,null,null,null,null,null,null,null,8900,"-",8999,{"$f":"'Nastavení příloh'!BZ112","v":0},{"$f":"'Nastavení příloh'!CA112","v":0},{"$f":"'Nastavení příloh'!CB112","v":12},{"$f":"'Nastavení příloh'!CC112","v":12},{"$f":"'Nastavení příloh'!CD112","v":12},{"$f":"'Nastavení příloh'!CE112","v":12},{"$f":"'Nastavení příloh'!CF112","v":12},{"$f":"'Nastavení příloh'!CG112","v":12},{"$f":"'Nastavení příloh'!CH112","v":12},{"$f":"'Nastavení příloh'!CI112","v":12},{"$f":"'Nastavení příloh'!CJ112","v":12},{"$f":"'Nastavení příloh'!CK112","v":12},{"$f":"'Nastavení příloh'!CL112","v":12},{"$f":"'Nastavení příloh'!CM112","v":12},{"$f":"'Nastavení příloh'!CN112","v":12},{"$f":"'Nastavení příloh'!CO112","v":12},{"$f":"'Nastavení příloh'!CP112","v":12},{"$f":"'Nastavení příloh'!CQ112","v":12},{"$f":"'Nastavení příloh'!CR112","v":19}]
[null,9000,"-",9099,{"$f":"'Nastavení příloh'!F113","v":0},{"$f":"'Nastavení příloh'!G113","v":10},{"$f":"'Nastavení příloh'!H113","v":25},{"$f":"'Nastavení příloh'!I113","v":25},{"$f":"'Nastavení příloh'!J113","v":25},{"$f":"'Nastavení příloh'!K113","v":25},{"$f":"'Nastavení příloh'!L113","v":25},{"$f":"'Nastavení příloh'!M113","v":25},{"$f":"'Nastavení příloh'!N113","v":25},{"$f":"'Nastavení příloh'!O113","v":25},{"$f":"'Nastavení příloh'!P113","v":25},{"$f":"'Nastavení příloh'!Q113","v":25},{"$f":"'Nastavení příloh'!R113","v":25},{"$f":"'Nastavení příloh'!S113","v":25},{"$f":"'Nastavení příloh'!T113","v":25},{"$f":"'Nastavení příloh'!U113","v":25},{"$f":"'Nastavení příloh'!V113","v":25},{"$f":"'Nastavení příloh'!W113","v":25},{"$f":"'Nastavení příloh'!X113","v":25},null,9000,"-",9099,{"$f":"'Nastavení příloh'!AD113","v":-13},{"$f":"'Nastavení příloh'!AE113","v":-13},{"$f":"'Nastavení příloh'!AF113","v":-13},{"$f":"'Nastavení příloh'!AG113","v":-13},{"$f":"'Nastavení příloh'!AH113","v":-13},{"$f":"'Nastavení příloh'!AI113","v":-13},{"$f":"'Nastavení příloh'!AJ113","v":-13},{"$f":"'Nastavení příloh'!AK113","v":-13},{"$f":"'Nastavení příloh'!AL113","v":-13},{"$f":"'Nastavení příloh'!AM113","v":-13},{"$f":"'Nastavení příloh'!AN113","v":-13},{"$f":"'Nastavení příloh'!AO113","v":-13},{"$f":"'Nastavení příloh'!AP113","v":-13},{"$f":"'Nastavení příloh'!AQ113","v":-13},{"$f":"'Nastavení příloh'!AR113","v":-13},{"$f":"'Nastavení příloh'!AS113","v":-13},{"$f":"'Nastavení příloh'!AT113","v":-13},{"$f":"'Nastavení příloh'!AU113","v":-13},{"$f":"'Nastavení příloh'!AV113","v":-6},null,null,null,null,null,null,null,null,null,null,null,null,null,null,null,null,null,null,null,null,null,null,null,null,9000,"-",9099,{"$f":"'Nastavení příloh'!BZ113","v":0},{"$f":"'Nastavení příloh'!CA113","v":0},{"$f":"'Nastavení příloh'!CB113","v":12},{"$f":"'Nastavení příloh'!CC113","v":12},{"$f":"'Nastavení příloh'!CD113","v":12},{"$f":"'Nastavení příloh'!CE113","v":12},{"$f":"'Nastavení příloh'!CF113","v":12},{"$f":"'Nastavení příloh'!CG113","v":12},{"$f":"'Nastavení příloh'!CH113","v":12},{"$f":"'Nastavení příloh'!CI113","v":12},{"$f":"'Nastavení příloh'!CJ113","v":12},{"$f":"'Nastavení příloh'!CK113","v":12},{"$f":"'Nastavení příloh'!CL113","v":12},{"$f":"'Nastavení příloh'!CM113","v":12},{"$f":"'Nastavení příloh'!CN113","v":12},{"$f":"'Nastavení příloh'!CO113","v":12},{"$f":"'Nastavení příloh'!CP113","v":12},{"$f":"'Nastavení příloh'!CQ113","v":12},{"$f":"'Nastavení příloh'!CR113","v":19}]
[null,9100,"-",9199,{"$f":"'Nastavení příloh'!F114","v":0},{"$f":"'Nastavení příloh'!G114","v":10},{"$f":"'Nastavení příloh'!H114","v":25},{"$f":"'Nastavení příloh'!I114","v":25},{"$f":"'Nastavení příloh'!J114","v":25},{"$f":"'Nastavení příloh'!K114","v":25},{"$f":"'Nastavení příloh'!L114","v":25},{"$f":"'Nastavení příloh'!M114","v":25},{"$f":"'Nastavení příloh'!N114","v":25},{"$f":"'Nastavení příloh'!O114","v":25},{"$f":"'Nastavení příloh'!P114","v":25},{"$f":"'Nastavení příloh'!Q114","v":25},{"$f":"'Nastavení příloh'!R114","v":25},{"$f":"'Nastavení příloh'!S114","v":25},{"$f":"'Nastavení příloh'!T114","v":25},{"$f":"'Nastavení příloh'!U114","v":25},{"$f":"'Nastavení příloh'!V114","v":25},{"$f":"'Nastavení příloh'!W114","v":25},{"$f":"'Nastavení příloh'!X114","v":25},null,9100,"-",9199,{"$f":"'Nastavení příloh'!AD114","v":-13},{"$f":"'Nastavení příloh'!AE114","v":-13},{"$f":"'Nastavení příloh'!AF114","v":-13},{"$f":"'Nastavení příloh'!AG114","v":-13},{"$f":"'Nastavení příloh'!AH114","v":-13},{"$f":"'Nastavení příloh'!AI114","v":-13},{"$f":"'Nastavení příloh'!AJ114","v":-13},{"$f":"'Nastavení příloh'!AK114","v":-13},{"$f":"'Nastavení příloh'!AL114","v":-13},{"$f":"'Nastavení příloh'!AM114","v":-13},{"$f":"'Nastavení příloh'!AN114","v":-13},{"$f":"'Nastavení příloh'!AO114","v":-13},{"$f":"'Nastavení příloh'!AP114","v":-13},{"$f":"'Nastavení příloh'!AQ114","v":-13},{"$f":"'Nastavení příloh'!AR114","v":-13},{"$f":"'Nastavení příloh'!AS114","v":-13},{"$f":"'Nastavení příloh'!AT114","v":-13},{"$f":"'Nastavení příloh'!AU114","v":-13},{"$f":"'Nastavení příloh'!AV114","v":-7},null,null,null,null,null,null,null,null,null,null,null,null,null,null,null,null,null,null,null,null,null,null,null,null,9100,"-",9199,{"$f":"'Nastavení příloh'!BZ114","v":0},{"$f":"'Nastavení příloh'!CA114","v":0},{"$f":"'Nastavení příloh'!CB114","v":12},{"$f":"'Nastavení příloh'!CC114","v":12},{"$f":"'Nastavení příloh'!CD114","v":12},{"$f":"'Nastavení příloh'!CE114","v":12},{"$f":"'Nastavení příloh'!CF114","v":12},{"$f":"'Nastavení příloh'!CG114","v":12},{"$f":"'Nastavení příloh'!CH114","v":12},{"$f":"'Nastavení příloh'!CI114","v":12},{"$f":"'Nastavení příloh'!CJ114","v":12},{"$f":"'Nastavení příloh'!CK114","v":12},{"$f":"'Nastavení příloh'!CL114","v":12},{"$f":"'Nastavení příloh'!CM114","v":12},{"$f":"'Nastavení příloh'!CN114","v":12},{"$f":"'Nastavení příloh'!CO114","v":12},{"$f":"'Nastavení příloh'!CP114","v":12},{"$f":"'Nastavení příloh'!CQ114","v":12},{"$f":"'Nastavení příloh'!CR114","v":18}]
[null,9200,"-",9299,{"$f":"'Nastavení příloh'!F115","v":0},{"$f":"'Nastavení příloh'!G115","v":10},{"$f":"'Nastavení příloh'!H115","v":25},{"$f":"'Nastavení příloh'!I115","v":25},{"$f":"'Nastavení příloh'!J115","v":25},{"$f":"'Nastavení příloh'!K115","v":25},{"$f":"'Nastavení příloh'!L115","v":25},{"$f":"'Nastavení příloh'!M115","v":25},{"$f":"'Nastavení příloh'!N115","v":25},{"$f":"'Nastavení příloh'!O115","v":25},{"$f":"'Nastavení příloh'!P115","v":25},{"$f":"'Nastavení příloh'!Q115","v":25},{"$f":"'Nastavení příloh'!R115","v":25},{"$f":"'Nastavení příloh'!S115","v":25},{"$f":"'Nastavení příloh'!T115","v":25},{"$f":"'Nastavení příloh'!U115","v":25},{"$f":"'Nastavení příloh'!V115","v":25},{"$f":"'Nastavení příloh'!W115","v":25},{"$f":"'Nastavení příloh'!X115","v":25},null,9200,"-",9299,{"$f":"'Nastavení příloh'!AD115","v":-13},{"$f":"'Nastavení příloh'!AE115","v":-13},{"$f":"'Nastavení příloh'!AF115","v":-13},{"$f":"'Nastavení příloh'!AG115","v":-13},{"$f":"'Nastavení příloh'!AH115","v":-13},{"$f":"'Nastavení příloh'!AI115","v":-13},{"$f":"'Nastavení příloh'!AJ115","v":-13},{"$f":"'Nastavení příloh'!AK115","v":-13},{"$f":"'Nastavení příloh'!AL115","v":-13},{"$f":"'Nastavení příloh'!AM115","v":-13},{"$f":"'Nastavení příloh'!AN115","v":-13},{"$f":"'Nastavení příloh'!AO115","v":-13},{"$f":"'Nastavení příloh'!AP115","v":-13},{"$f":"'Nastavení příloh'!AQ115","v":-13},{"$f":"'Nastavení příloh'!AR115","v":-13},{"$f":"'Nastavení příloh'!AS115","v":-13},{"$f":"'Nastavení příloh'!AT115","v":-13},{"$f":"'Nastavení příloh'!AU115","v":-13},{"$f":"'Nastavení příloh'!AV115","v":-7},null,null,null,null,null,null,null,null,null,null,null,null,null,null,null,null,null,null,null,null,null,null,null,null,9200,"-",9299,{"$f":"'Nastavení příloh'!BZ115","v":0},{"$f":"'Nastavení příloh'!CA115","v":0},{"$f":"'Nastavení příloh'!CB115","v":12},{"$f":"'Nastavení příloh'!CC115","v":12},{"$f":"'Nastavení příloh'!CD115","v":12},{"$f":"'Nastavení příloh'!CE115","v":12},{"$f":"'Nastavení příloh'!CF115","v":12},{"$f":"'Nastavení příloh'!CG115","v":12},{"$f":"'Nastavení příloh'!CH115","v":12},{"$f":"'Nastavení příloh'!CI115","v":12},{"$f":"'Nastavení příloh'!CJ115","v":12},{"$f":"'Nastavení příloh'!CK115","v":12},{"$f":"'Nastavení příloh'!CL115","v":12},{"$f":"'Nastavení příloh'!CM115","v":12},{"$f":"'Nastavení příloh'!CN115","v":12},{"$f":"'Nastavení příloh'!CO115","v":12},{"$f":"'Nastavení příloh'!CP115","v":12},{"$f":"'Nastavení příloh'!CQ115","v":12},{"$f":"'Nastavení příloh'!CR115","v":18}]
[null,9300,"-",9399,{"$f":"'Nastavení příloh'!F116","v":0},{"$f":"'Nastavení příloh'!G116","v":10},{"$f":"'Nastavení příloh'!H116","v":25},{"$f":"'Nastavení příloh'!I116","v":25},{"$f":"'Nastavení příloh'!J116","v":25},{"$f":"'Nastavení příloh'!K116","v":25},{"$f":"'Nastavení příloh'!L116","v":25},{"$f":"'Nastavení příloh'!M116","v":25},{"$f":"'Nastavení příloh'!N116","v":25},{"$f":"'Nastavení příloh'!O116","v":25},{"$f":"'Nastavení příloh'!P116","v":25},{"$f":"'Nastavení příloh'!Q116","v":25},{"$f":"'Nastavení příloh'!R116","v":25},{"$f":"'Nastavení příloh'!S116","v":25},{"$f":"'Nastavení příloh'!T116","v":25},{"$f":"'Nastavení příloh'!U116","v":25},{"$f":"'Nastavení příloh'!V116","v":25},{"$f":"'Nastavení příloh'!W116","v":25},{"$f":"'Nastavení příloh'!X116","v":25},null,9300,"-",9399,{"$f":"'Nastavení příloh'!AD116","v":-13},{"$f":"'Nastavení příloh'!AE116","v":-13},{"$f":"'Nastavení příloh'!AF116","v":-13},{"$f":"'Nastavení příloh'!AG116","v":-13},{"$f":"'Nastavení příloh'!AH116","v":-13},{"$f":"'Nastavení příloh'!AI116","v":-13},{"$f":"'Nastavení příloh'!AJ116","v":-13},{"$f":"'Nastavení příloh'!AK116","v":-13},{"$f":"'Nastavení příloh'!AL116","v":-13},{"$f":"'Nastavení příloh'!AM116","v":-13},{"$f":"'Nastavení příloh'!AN116","v":-13},{"$f":"'Nastavení příloh'!AO116","v":-13},{"$f":"'Nastavení příloh'!AP116","v":-13},{"$f":"'Nastavení příloh'!AQ116","v":-13},{"$f":"'Nastavení příloh'!AR116","v":-13},{"$f":"'Nastavení příloh'!AS116","v":-13},{"$f":"'Nastavení příloh'!AT116","v":-13},{"$f":"'Nastavení příloh'!AU116","v":-13},{"$f":"'Nastavení příloh'!AV116","v":-8},null,null,null,null,null,null,null,null,null,null,null,null,null,null,null,null,null,null,null,null,null,null,null,null,9300,"-",9399,{"$f":"'Nastavení příloh'!BZ116","v":0},{"$f":"'Nastavení příloh'!CA116","v":0},{"$f":"'Nastavení příloh'!CB116","v":12},{"$f":"'Nastavení příloh'!CC116","v":12},{"$f":"'Nastavení příloh'!CD116","v":12},{"$f":"'Nastavení příloh'!CE116","v":12},{"$f":"'Nastavení příloh'!CF116","v":12},{"$f":"'Nastavení příloh'!CG116","v":12},{"$f":"'Nastavení příloh'!CH116","v":12},{"$f":"'Nastavení příloh'!CI116","v":12},{"$f":"'Nastavení příloh'!CJ116","v":12},{"$f":"'Nastavení příloh'!CK116","v":12},{"$f":"'Nastavení příloh'!CL116","v":12},{"$f":"'Nastavení příloh'!CM116","v":12},{"$f":"'Nastavení příloh'!CN116","v":12},{"$f":"'Nastavení příloh'!CO116","v":12},{"$f":"'Nastavení příloh'!CP116","v":12},{"$f":"'Nastavení příloh'!CQ116","v":12},{"$f":"'Nastavení příloh'!CR116","v":17}]
[null,"více jak 9400",null,null,{"$f":"'Nastavení příloh'!F117","v":0},{"$f":"'Nastavení příloh'!G117","v":10},{"$f":"'Nastavení příloh'!H117","v":25},{"$f":"'Nastavení příloh'!I117","v":25},{"$f":"'Nastavení příloh'!J117","v":25},{"$f":"'Nastavení příloh'!K117","v":25},{"$f":"'Nastavení příloh'!L117","v":25},{"$f":"'Nastavení příloh'!M117","v":25},{"$f":"'Nastavení příloh'!N117","v":25},{"$f":"'Nastavení příloh'!O117","v":25},{"$f":"'Nastavení příloh'!P117","v":25},{"$f":"'Nastavení příloh'!Q117","v":25},{"$f":"'Nastavení příloh'!R117","v":25},{"$f":"'Nastavení příloh'!S117","v":25},{"$f":"'Nastavení příloh'!T117","v":25},{"$f":"'Nastavení příloh'!U117","v":25},{"$f":"'Nastavení příloh'!V117","v":25},{"$f":"'Nastavení příloh'!W117","v":25},{"$f":"'Nastavení příloh'!X117","v":25},null,"více jak 9400",null,null,{"$f":"'Nastavení příloh'!AD117","v":-13},{"$f":"'Nastavení příloh'!AE117","v":-13},{"$f":"'Nastavení příloh'!AF117","v":-13},{"$f":"'Nastavení příloh'!AG117","v":-13},{"$f":"'Nastavení příloh'!AH117","v":-13},{"$f":"'Nastavení příloh'!AI117","v":-13},{"$f":"'Nastavení příloh'!AJ117","v":-13},{"$f":"'Nastavení příloh'!AK117","v":-13},{"$f":"'Nastavení příloh'!AL117","v":-13},{"$f":"'Nastavení příloh'!AM117","v":-13},{"$f":"'Nastavení příloh'!AN117","v":-13},{"$f":"'Nastavení příloh'!AO117","v":-13},{"$f":"'Nastavení příloh'!AP117","v":-13},{"$f":"'Nastavení příloh'!AQ117","v":-13},{"$f":"'Nastavení příloh'!AR117","v":-13},{"$f":"'Nastavení příloh'!AS117","v":-13},{"$f":"'Nastavení příloh'!AT117","v":-13},{"$f":"'Nastavení příloh'!AU117","v":-13},{"$f":"'Nastavení příloh'!AV117","v":-8},null,null,null,null,null,null,null,null,null,null,null,null,null,null,null,null,null,null,null,null,null,null,null,null,"více jak 9400",null,null,{"$f":"'Nastavení příloh'!BZ117","v":0},{"$f":"'Nastavení příloh'!CA117","v":0},{"$f":"'Nastavení příloh'!CB117","v":12},{"$f":"'Nastavení příloh'!CC117","v":12},{"$f":"'Nastavení příloh'!CD117","v":12},{"$f":"'Nastavení příloh'!CE117","v":12},{"$f":"'Nastavení příloh'!CF117","v":12},{"$f":"'Nastavení příloh'!CG117","v":12},{"$f":"'Nastavení příloh'!CH117","v":12},{"$f":"'Nastavení příloh'!CI117","v":12},{"$f":"'Nastavení příloh'!CJ117","v":12},{"$f":"'Nastavení příloh'!CK117","v":12},{"$f":"'Nastavení příloh'!CL117","v":12},{"$f":"'Nastavení příloh'!CM117","v":12},{"$f":"'Nastavení příloh'!CN117","v":12},{"$f":"'Nastavení příloh'!CO117","v":12},{"$f":"'Nastavení příloh'!CP117","v":12},{"$f":"'Nastavení příloh'!CQ117","v":12},{"$f":"'Nastavení příloh'!CR117","v":17}]

{"sheet":"šablona bt","index":5,"n_rows":91,"n_cols":22,"rows_kept":91,"cut":false,"hidden":true,"merged":[]}
["objem","objem_min","objem_max",{"$f":"'Bonusy bez procent'!E5","v":"0 %"},{"$f":"'Bonusy bez procent'!F5","v":"1-5 %"},{"$f":"'Bonusy bez procent'!G5","v":"6-10 %"},{"$f":"'Bonusy bez procent'!H5","v":"11-15 %"},{"$f":"'Bonusy bez procent'!I5","v":"16-20 %"},{"$f":"'Bonusy bez procent'!J5","v":"21-25 %"},{"$f":"'Bonusy bez procent'!K5","v":"26-30 %"},{"$f":"'Bonusy bez procent'!L5","v":"31-35 %"},{"$f":"'Bonusy bez procent'!M5","v":"36-40 %"},{"$f":"'Bonusy bez procent'!N5","v":"41-45 %"},{"$f":"'Bonusy bez procent'!O5","v":"46-50 %"},{"$f":"'Bonusy bez procent'!P5","v":"51-55 %"},{"$f":"'Bonusy bez procent'!Q5","v":"56-60 %"},{"$f":"'Bonusy bez procent'!R5","v":"61-65 %"},{"$f":"'Bonusy bez procent'!S5","v":"66-70 %"},{"$f":"'Bonusy bez procent'!T5","v":"71-75 %"},{"$f":"'Bonusy bez procent'!U5","v":"76-80 %"},{"$f":"'Bonusy bez procent'!V5","v":"81-85 %"},{"$f":"'Bonusy bez procent'!W5","v":"více jak 85 %"}]
[{"$f":"'Nastavení příloh'!E16","v":550},{"$f":"'Bonusy bez procent'!B7","v":500},{"$f":"'Bonusy bez procent'!D7","v":599},{"$f":"'Bonusy bez procent'!E7","v":0},{"$f":"'Bonusy bez procent'!F7","v":1},{"$f":"'Bonusy bez procent'!G7","v":2},{"$f":"'Bonusy bez procent'!H7","v":3},{"$f":"'Bonusy bez procent'!I7","v":3},{"$f":"'Bonusy bez procent'!J7","v":4},{"$f":"'Bonusy bez procent'!K7","v":5},{"$f":"'Bonusy bez procent'!L7","v":6},{"$f":"'Bonusy bez procent'!M7","v":7},{"$f":"'Bonusy bez procent'!N7","v":8},{"$f":"'Bonusy bez procent'!O7","v":9},{"$f":"'Bonusy bez procent'!P7","v":10},{"$f":"'Bonusy bez procent'!Q7","v":11},{"$f":"'Bonusy bez procent'!R7","v":12},{"$f":"'Bonusy bez procent'!S7","v":13},{"$f":"'Bonusy bez procent'!T7","v":14},{"$f":"'Bonusy bez procent'!U7","v":15},{"$f":"'Bonusy bez procent'!V7","v":16},{"$f":"'Bonusy bez procent'!W7","v":17}]
[{"$f":"'Nastavení příloh'!E17","v":650},{"$f":"'Bonusy bez procent'!B8","v":600},{"$f":"'Bonusy bez procent'!D8","v":699},{"$f":"'Bonusy bez procent'!E8","v":0},{"$f":"'Bonusy bez procent'!F8","v":1},{"$f":"'Bonusy bez procent'!G8","v":2},{"$f":"'Bonusy bez procent'!H8","v":3},{"$f":"'Bonusy bez procent'!I8","v":4},{"$f":"'Bonusy bez procent'!J8","v":5},{"$f":"'Bonusy bez procent'!K8","v":6},{"$f":"'Bonusy bez procent'!L8","v":8},{"$f":"'Bonusy bez procent'!M8","v":9},{"$f":"'Bonusy bez procent'!N8","v":10},{"$f":"'Bonusy bez procent'!O8","v":11},{"$f":"'Bonusy bez procent'!P8","v":12},{"$f":"'Bonusy bez procent'!Q8","v":13},{"$f":"'Bonusy bez procent'!R8","v":14},{"$f":"'Bonusy bez procent'!S8","v":15},{"$f":"'Bonusy bez procent'!T8","v":17},{"$f":"'Bonusy bez procent'!U8","v":18},{"$f":"'Bonusy bez procent'!V8","v":19},{"$f":"'Bonusy bez procent'!W8","v":20}]
[{"$f":"'Nastavení příloh'!E18","v":750},{"$f":"'Bonusy bez procent'!B9","v":700},{"$f":"'Bonusy bez procent'!D9","v":799},{"$f":"'Bonusy bez procent'!E9","v":0},{"$f":"'Bonusy bez procent'!F9","v":1},{"$f":"'Bonusy bez procent'!G9","v":2},{"$f":"'Bonusy bez procent'!H9","v":3},{"$f":"'Bonusy bez procent'!I9","v":5},{"$f":"'Bonusy bez procent'!J9","v":6},{"$f":"'Bonusy bez procent'!K9","v":7},{"$f":"'Bonusy bez procent'!L9","v":9},{"$f":"'Bonusy bez procent'!M9","v":10},{"$f":"'Bonusy bez procent'!N9","v":11},{"$f":"'Bonusy bez procent'!O9","v":13},{"$f":"'Bonusy bez procent'!P9","v":14},{"$f":"'Bonusy bez procent'!Q9","v":15},{"$f":"'Bonusy bez procent'!R9","v":17},{"$f":"'Bonusy bez procent'!S9","v":18},{"$f":"'Bonusy bez procent'!T9","v":19},{"$f":"'Bonusy bez procent'!U9","v":20},{"$f":"'Bonusy bez procent'!V9","v":22},{"$f":"'Bonusy bez procent'!W9","v":23}]
[{"$f":"'Nastavení příloh'!E19","v":850},{"$f":"'Bonusy bez procent'!B10","v":800},{"$f":"'Bonusy bez procent'!D10","v":899},{"$f":"'Bonusy bez procent'!E10","v":0},{"$f":"'Bonusy bez procent'!F10","v":1},{"$f":"'Bonusy bez procent'!G10","v":2},{"$f":"'Bonusy bez procent'!H10","v":4},{"$f":"'Bonusy bez procent'!I10","v":5},{"$f":"'Bonusy bez procent'!J10","v":7},{"$f":"'Bonusy bez procent'!K10","v":8},{"$f":"'Bonusy bez procent'!L10","v":10},{"$f":"'Bonusy bez procent'!M10","v":11},{"$f":"'Bonusy bez procent'!N10","v":13},{"$f":"'Bonusy bez procent'!O10","v":14},{"$f":"'Bonusy bez procent'!P10","v":16},{"$f":"'Bonusy bez procent'!Q10","v":17},{"$f":"'Bonusy bez procent'!R10","v":19},{"$f":"'Bonusy bez procent'!S10","v":20},{"$f":"'Bonusy bez procent'!T10","v":22},{"$f":"'Bonusy bez procent'!U10","v":23},{"$f":"'Bonusy bez procent'!V10","v":25},{"$f":"'Bonusy bez procent'!W10","v":25}]
[{"$f":"'Nastavení příloh'!E20","v":950},{"$f":"'Bonusy bez procent'!B11","v":900},{"$f":"'Bonusy bez procent'!D11","v":999},{"$f":"'Bonusy bez procent'!E11","v":0},{"$f":"'Bonusy bez procent'!F11","v":1},{"$f":"'Bonusy bez procent'!G11","v":3},{"$f":"'Bonusy bez procent'!H11","v":4},{"$f":"'Bonusy bez procent'!I11","v":6},{"$f":"'Bonusy bez procent'!J11","v":8},{"$f":"'Bonusy bez procent'!K11","v":9},{"$f":"'Bonusy bez procent'!L11","v":11},{"$f":"'Bonusy bez procent'!M11","v":13},{"$f":"'Bonusy bez procent'!N11","v":14},{"$f":"'Bonusy bez procent'!O11","v":16},{"$f":"'Bonusy bez procent'!P11","v":18},{"$f":"'Bonusy bez procent'!Q11","v":19},{"$f":"'Bonusy bez procent'!R11","v":21},{"$f":"'Bonusy bez procent'!S11","v":23},{"$f":"'Bonusy bez procent'!T11","v":24},{"$f":"'Bonusy bez procent'!U11","v":25},{"$f":"'Bonusy bez procent'!V11","v":25},{"$f":"'Bonusy bez procent'!W11","v":25}]
[{"$f":"'Nastavení příloh'!E21","v":1050},{"$f":"'Bonusy bez procent'!B12","v":1000},{"$f":"'Bonusy bez procent'!D12","v":1099},{"$f":"'Bonusy bez procent'!E12","v":0},{"$f":"'Bonusy bez procent'!F12","v":1},{"$f":"'Bonusy bez procent'!G12","v":3},{"$f":"'Bonusy bez procent'!H12","v":5},{"$f":"'Bonusy bez procent'!I12","v":7},{"$f":"'Bonusy bez procent'!J12","v":8},{"$f":"'Bonusy bez procent'!K12","v":10},{"$f":"'Bonusy bez procent'!L12","v":12},{"$f":"'Bonusy bez procent'!M12","v":14},{"$f":"'Bonusy bez procent'!N12","v":16},{"$f":"'Bonusy bez procent'!O12","v":18},{"$f":"'Bonusy bez procent'!P12","v":19},{"$f":"'Bonusy bez procent'!Q12","v":21},{"$f":"'Bonusy bez procent'!R12","v":23},{"$f":"'Bonusy bez procent'!S12","v":25},{"$f":"'Bonusy bez procent'!T12","v":25},{"$f":"'Bonusy bez procent'!U12","v":25},{"$f":"'Bonusy bez procent'!V12","v":25},{"$f":"'Bonusy bez procent'!W12","v":25}]
[{"$f":"'Nastavení příloh'!E22","v":1150},{"$f":"'Bonusy bez procent'!B13","v":1100},{"$f":"'Bonusy bez procent'!D13","v":1199},{"$f":"'Bonusy bez procent'!E13","v":0},{"$f":"'Bonusy bez procent'!F13","v":1},{"$f":"'Bonusy bez procent'!G13","v":3},{"$f":"'Bonusy bez procent'!H13","v":5},{"$f":"'Bonusy bez procent'!I13","v":7},{"$f":"'Bonusy bez procent'!J13","v":9},{"$f":"'Bonusy bez procent'!K13","v":11},{"$f":"'Bonusy bez procent'!L13","v":13},{"$f":"'Bonusy bez procent'!M13","v":15},{"$f":"'Bonusy bez procent'!N13","v":17},{"$f":"'Bonusy bez procent'!O13","v":19},{"$f":"'Bonusy bez procent'!P13","v":21},{"$f":"'Bonusy bez procent'!Q13","v":23},{"$f":"'Bonusy bez procent'!R13","v":25},{"$f":"'Bonusy bez procent'!S13","v":25},{"$f":"'Bonusy bez procent'!T13","v":25},{"$f":"'Bonusy bez procent'!U13","v":25},{"$f":"'Bonusy bez procent'!V13","v":25},{"$f":"'Bonusy bez procent'!W13","v":25}]
[{"$f":"'Nastavení příloh'!E23","v":1250},{"$f":"'Bonusy bez procent'!B14","v":1200},{"$f":"'Bonusy bez procent'!D14","v":1299},{"$f":"'Bonusy bez procent'!E14","v":0},{"$f":"'Bonusy bez procent'!F14","v":1},{"$f":"'Bonusy bez procent'!G14","v":4},{"$f":"'Bonusy bez procent'!H14","v":6},{"$f":"'Bonusy bez procent'!I14","v":8},{"$f":"'Bonusy bez procent'!J14","v":10},{"$f":"'Bonusy bez procent'!K14","v":12},{"$f":"'Bonusy bez procent'!L14","v":14},{"$f":"'Bonusy bez procent'!M14","v":17},{"$f":"'Bonusy bez procent'!N14","v":19},{"$f":"'Bonusy bez procent'!O14","v":21},{"$f":"'Bonusy bez procent'!P14","v":23},{"$f":"'Bonusy bez procent'!Q14","v":25},{"$f":"'Bonusy bez procent'!R14","v":25},{"$f":"'Bonusy bez procent'!S14","v":25},{"$f":"'Bonusy bez procent'!T14","v":25},{"$f":"'Bonusy bez procent'!U14","v":25},{"$f":"'Bonusy bez procent'!V14","v":25},{"$f":"'Bonusy bez procent'!W14","v":25}]
[{"$f":"'Nastavení příloh'!E24","v":1350},{"$f":"'Bonusy bez procent'!B15","v":1300},{"$f":"'Bonusy bez procent'!D15","v":1399},{"$f":"'Bonusy bez procent'!E15","v":0},{"$f":"'Bonusy bez procent'!F15","v":1},{"$f":"'Bonusy bez procent'!G15","v":4},{"$f":"'Bonusy bez procent'!H15","v":6},{"$f":"'Bonusy bez procent'!I15","v":9},{"$f":"'Bonusy bez procent'!J15","v":11},{"$f":"'Bonusy bez procent'!K15","v":13},{"$f":"'Bonusy bez procent'!L15","v":16},{"$f":"'Bonusy bez procent'!M15","v":18},{"$f":"'Bonusy bez procent'!N15","v":20},{"$f":"'Bonusy bez procent'!O15","v":23},{"$f":"'Bonusy bez procent'!P15","v":25},{"$f":"'Bonusy bez procent'!Q15","v":25},{"$f":"'Bonusy bez procent'!R15","v":25},{"$f":"'Bonusy bez procent'!S15","v":25},{"$f":"'Bonusy bez procent'!T15","v":25},{"$f":"'Bonusy bez procent'!U15","v":25},{"$f":"'Bonusy bez procent'!V15","v":25},{"$f":"'Bonusy bez procent'!W15","v":25}]
[{"$f":"'Nastavení příloh'!E25","v":1450},{"$f":"'Bonusy bez procent'!B16","v":1400},{"$f":"'Bonusy bez procent'!D16","v":1499},{"$f":"'Bonusy bez procent'!E16","v":0},{"$f":"'Bonusy bez procent'!F16","v":2},{"$f":"'Bonusy bez procent'!G16","v":4},{"$f":"'Bonusy bez procent'!H16","v":7},{"$f":"'Bonusy bez procent'!I16","v":9},{"$f":"'Bonusy bez procent'!J16","v":12},{"$f":"'Bonusy bez procent'!K16","v":14},{"$f":"'Bonusy bez procent'!L16","v":17},{"$f":"'Bonusy bez procent'!M16","v":19},{"$f":"'Bonusy bez procent'!N16","v":22},{"$f":"'Bonusy bez procent'!O16","v":24},{"$f":"'Bonusy bez procent'!P16","v":25},{"$f":"'Bonusy bez procent'!Q16","v":25},{"$f":"'Bonusy bez procent'!R16","v":25},{"$f":"'Bonusy bez procent'!S16","v":25},{"$f":"'Bonusy bez procent'!T16","v":25},{"$f":"'Bonusy bez procent'!U16","v":25},{"$f":"'Bonusy bez procent'!V16","v":25},{"$f":"'Bonusy bez procent'!W16","v":25}]
[{"$f":"'Nastavení příloh'!E26","v":1550},{"$f":"'Bonusy bez procent'!B17","v":1500},{"$f":"'Bonusy bez procent'!D17","v":1599},{"$f":"'Bonusy bez procent'!E17","v":0},{"$f":"'Bonusy bez procent'!F17","v":2},{"$f":"'Bonusy bez procent'!G17","v":4},{"$f":"'Bonusy bez procent'!H17","v":7},{"$f":"'Bonusy bez procent'!I17","v":10},{"$f":"'Bonusy bez procent'!J17","v":12},{"$f":"'Bonusy bez procent'!K17","v":15},{"$f":"'Bonusy bez procent'!L17","v":18},{"$f":"'Bonusy bez procent'!M17","v":21},{"$f":"'Bonusy bez procent'!N17","v":23},{"$f":"'Bonusy bez procent'!O17","v":25},{"$f":"'Bonusy bez procent'!P17","v":25},{"$f":"'Bonusy bez procent'!Q17","v":25},{"$f":"'Bonusy bez procent'!R17","v":25},{"$f":"'Bonusy bez procent'!S17","v":25},{"$f":"'Bonusy bez procent'!T17","v":25},{"$f":"'Bonusy bez procent'!U17","v":25},{"$f":"'Bonusy bez procent'!V17","v":25},{"$f":"'Bonusy bez procent'!W17","v":25}]
[{"$f":"'Nastavení příloh'!E27","v":1650},{"$f":"'Bonusy bez procent'!B18","v":1600},{"$f":"'Bonusy bez procent'!D18","v":1699},{"$f":"'Bonusy bez procent'!E18","v":0},{"$f":"'Bonusy bez procent'!F18","v":2},{"$f":"'Bonusy bez procent'!G18","v":5},{"$f":"'Bonusy bez procent'!H18","v":8},{"$f":"'Bonusy bez procent'!I18","v":10},{"$f":"'Bonusy bez procent'!J18","v":13},{"$f":"'Bonusy bez procent'!K18","v":16},{"$f":"'Bonusy bez procent'!L18","v":19},{"$f":"'Bonusy bez procent'!M18","v":22},{"$f":"'Bonusy bez procent'!N18","v":25},{"$f":"'Bonusy bez procent'!O18","v":25},{"$f":"'Bonusy bez procent'!P18","v":25},{"$f":"'Bonusy bez procent'!Q18","v":25},{"$f":"'Bonusy bez procent'!R18","v":25},{"$f":"'Bonusy bez procent'!S18","v":25},{"$f":"'Bonusy bez procent'!T18","v":25},{"$f":"'Bonusy bez procent'!U18","v":25},{"$f":"'Bonusy bez procent'!V18","v":25},{"$f":"'Bonusy bez procent'!W18","v":25}]
[{"$f":"'Nastavení příloh'!E28","v":1750},{"$f":"'Bonusy bez procent'!B19","v":1700},{"$f":"'Bonusy bez procent'!D19","v":1799},{"$f":"'Bonusy bez procent'!E19","v":0},{"$f":"'Bonusy bez procent'!F19","v":2},{"$f":"'Bonusy bez procent'!G19","v":5},{"$f":"'Bonusy bez procent'!H19","v":8},{"$f":"'Bonusy bez procent'!I19","v":11},{"$f":"'Bonusy bez procent'!J19","v":14},{"$f":"'Bonusy bez procent'!K19","v":17},{"$f":"'Bonusy bez procent'!L19","v":20},{"$f":"'Bonusy bez procent'!M19","v":23},{"$f":"'Bonusy bez procent'!N19","v":25},{"$f":"'Bonusy bez procent'!O19","v":25},{"$f":"'Bonusy bez procent'!P19","v":25},{"$f":"'Bonusy bez procent'!Q19","v":25},{"$f":"'Bonusy bez procent'!R19","v":25},{"$f":"'Bonusy bez procent'!S19","v":25},{"$f":"'Bonusy bez procent'!T19","v":25},{"$f":"'Bonusy bez procent'!U19","v":25},{"$f":"'Bonusy bez procent'!V19","v":25},{"$f":"'Bonusy bez procent'!W19","v":25}]
[{"$f":"'Nastavení příloh'!E29","v":1850},{"$f":"'Bonusy bez procent'!B20","v":1800},{"$f":"'Bonusy bez procent'!D20","v":1899},{"$f":"'Bonusy bez procent'!E20","v":0},{"$f":"'Bonusy bez procent'!F20","v":2},{"$f":"'Bonusy bez procent'!G20","v":5},{"$f":"'Bonusy bez procent'!H20","v":8},{"$f":"'Bonusy bez procent'!I20","v":12},{"$f":"'Bonusy bez procent'!J20","v":15},{"$f":"'Bonusy bez procent'!K20","v":18},{"$f":"'Bonusy bez procent'!L20","v":21},{"$f":"'Bonusy bez procent'!M20","v":25},{"$f":"'Bonusy bez procent'!N20","v":25},{"$f":"'Bonusy bez procent'!O20","v":25},{"$f":"'Bonusy bez procent'!P20","v":25},{"$f":"'Bonusy bez procent'!Q20","v":25},{"$f":"'Bonusy bez procent'!R20","v":25},{"$f":"'Bonusy bez procent'!S20","v":25},{"$f":"'Bonusy bez procent'!T20","v":25},{"$f":"'Bonusy bez procent'!U20","v":25},{"$f":"'Bonusy bez procent'!V20","v":25},{"$f":"'Bonusy bez procent'!W20","v":25}]
[{"$f":"'Nastavení příloh'!E30","v":1950},{"$f":"'Bonusy bez procent'!B21","v":1900},{"$f":"'Bonusy bez procent'!D21","v":1999},{"$f":"'Bonusy bez procent'!E21","v":0},{"$f":"'Bonusy bez procent'!F21","v":2},{"$f":"'Bonusy bez procent'!G21","v":5},{"$f":"'Bonusy bez procent'!H21","v":9},{"$f":"'Bonusy bez procent'!I21","v":12},{"$f":"'Bonusy bez procent'!J21","v":16},{"$f":"'Bonusy bez procent'!K21","v":19},{"$f":"'Bonusy bez procent'!L21","v":23},{"$f":"'Bonusy bez procent'!M21","v":25},{"$f":"'Bonusy bez procent'!N21","v":25},{"$f":"'Bonusy bez procent'!O21","v":25},{"$f":"'Bonusy bez procent'!P21","v":25},{"$f":"'Bonusy bez procent'!Q21","v":25},{"$f":"'Bonusy bez procent'!R21","v":25},{"$f":"'Bonusy bez procent'!S21","v":25},{"$f":"'Bonusy bez procent'!T21","v":25},{"$f":"'Bonusy bez procent'!U21","v":25},{"$f":"'Bonusy bez procent'!V21","v":25},{"$f":"'Bonusy bez procent'!W21","v":25}]
[{"$f":"'Nastavení příloh'!E31","v":2050},{"$f":"'Bonusy bez procent'!B22","v":2000},{"$f":"'Bonusy bez procent'!D22","v":2099},{"$f":"'Bonusy bez procent'!E22","v":0},{"$f":"'Bonusy bez procent'!F22","v":2},{"$f":"'Bonusy bez procent'!G22","v":6},{"$f":"'Bonusy bez procent'!H22","v":9},{"$f":"'Bonusy bez procent'!I22","v":13},{"$f":"'Bonusy bez procent'!J22","v":17},{"$f":"'Bonusy bez procent'!K22","v":20},{"$f":"'Bonusy bez procent'!L22","v":24},{"$f":"'Bonusy bez procent'!M22","v":25},{"$f":"'Bonusy bez procent'!N22","v":25},{"$f":"'Bonusy bez procent'!O22","v":25},{"$f":"'Bonusy bez procent'!P22","v":25},{"$f":"'Bonusy bez procent'!Q22","v":25},{"$f":"'Bonusy bez procent'!R22","v":25},{"$f":"'Bonusy bez procent'!S22","v":25},{"$f":"'Bonusy bez procent'!T22","v":25},{"$f":"'Bonusy bez procent'!U22","v":25},{"$f":"'Bonusy bez procent'!V22","v":25},{"$f":"'Bonusy bez procent'!W22","v":25}]
[{"$f":"'Nastavení příloh'!E32","v":2150},{"$f":"'Bonusy bez procent'!B23","v":2100},{"$f":"'Bonusy bez procent'!D23","v":2199},{"$f":"'Bonusy bez procent'!E23","v":0},{"$f":"'Bonusy bez procent'!F23","v":2},{"$f":"'Bonusy bez procent'!G23","v":6},{"$f":"'Bonusy bez procent'!H23","v":10},{"$f":"'Bonusy bez procent'!I23","v":14},{"$f":"'Bonusy bez procent'!J23","v":17},{"$f":"'Bonusy bez procent'!K23","v":21},{"$f":"'Bonusy bez procent'!L23","v":25},{"$f":"'Bonusy bez procent'!M23","v":25},{"$f":"'Bonusy bez procent'!N23","v":25},{"$f":"'Bonusy bez procent'!O23","v":25},{"$f":"'Bonusy bez procent'!P23","v":25},{"$f":"'Bonusy bez procent'!Q23","v":25},{"$f":"'Bonusy bez procent'!R23","v":25},{"$f":"'Bonusy bez procent'!S23","v":25},{"$f":"'Bonusy bez procent'!T23","v":25},{"$f":"'Bonusy bez procent'!U23","v":25},{"$f":"'Bonusy bez procent'!V23","v":25},{"$f":"'Bonusy bez procent'!W23","v":25}]
[{"$f":"'Nastavení příloh'!E33","v":2250},{"$f":"'Bonusy bez procent'!B24","v":2200},{"$f":"'Bonusy bez procent'!D24","v":2299},{"$f":"'Bonusy bez procent'!E24","v":0},{"$f":"'Bonusy bez procent'!F24","v":2},{"$f":"'Bonusy bez procent'!G24","v":6},{"$f":"'Bonusy bez procent'!H24","v":10},{"$f":"'Bonusy bez procent'!I24","v":14},{"$f":"'Bonusy bez procent'!J24","v":18},{"$f":"'Bonusy bez procent'!K24","v":22},{"$f":"'Bonusy bez procent'!L24","v":25},{"$f":"'Bonusy bez procent'!M24","v":25},{"$f":"'Bonusy bez procent'!N24","v":25},{"$f":"'Bonusy bez procent'!O24","v":25},{"$f":"'Bonusy bez procent'!P24","v":25},{"$f":"'Bonusy bez procent'!Q24","v":25},{"$f":"'Bonusy bez procent'!R24","v":25},{"$f":"'Bonusy bez procent'!S24","v":25},{"$f":"'Bonusy bez procent'!T24","v":25},{"$f":"'Bonusy bez procent'!U24","v":25},{"$f":"'Bonusy bez procent'!V24","v":25},{"$f":"'Bonusy bez procent'!W24","v":25}]
[{"$f":"'Nastavení příloh'!E34","v":2350},{"$f":"'Bonusy bez procent'!B25","v":2300},{"$f":"'Bonusy bez procent'!D25","v":2399},{"$f":"'Bonusy bez procent'!E25","v":0},{"$f":"'Bonusy bez procent'!F25","v":2},{"$f":"'Bonusy bez procent'!G25","v":7},{"$f":"'Bonusy bez procent'!H25","v":11},{"$f":"'Bonusy bez procent'!I25","v":15},{"$f":"'Bonusy bez procent'!J25","v":19},{"$f":"'Bonusy bez procent'!K25","v":23},{"$f":"'Bonusy bez procent'!L25","v":25},{"$f":"'Bonusy bez procent'!M25","v":25},{"$f":"'Bonusy bez procent'!N25","v":25},{"$f":"'Bonusy bez procent'!O25","v":25},{"$f":"'Bonusy bez procent'!P25","v":25},{"$f":"'Bonusy bez procent'!Q25","v":25},{"$f":"'Bonusy bez procent'!R25","v":25},{"$f":"'Bonusy bez procent'!S25","v":25},{"$f":"'Bonusy bez procent'!T25","v":25},{"$f":"'Bonusy bez procent'!U25","v":25},{"$f":"'Bonusy bez procent'!V25","v":25},{"$f":"'Bonusy bez procent'!W25","v":25}]
[{"$f":"'Nastavení příloh'!E35","v":2450},{"$f":"'Bonusy bez procent'!B26","v":2400},{"$f":"'Bonusy bez procent'!D26","v":2499},{"$f":"'Bonusy bez procent'!E26","v":0},{"$f":"'Bonusy bez procent'!F26","v":3},{"$f":"'Bonusy bez procent'!G26","v":7},{"$f":"'Bonusy bez procent'!H26","v":11},{"$f":"'Bonusy bez procent'!I26","v":15},{"$f":"'Bonusy bez procent'!J26","v":20},{"$f":"'Bonusy bez procent'!K26","v":24},{"$f":"'Bonusy bez procent'!L26","v":25},{"$f":"'Bonusy bez procent'!M26","v":25},{"$f":"'Bonusy bez procent'!N26","v":25},{"$f":"'Bonusy bez procent'!O26","v":25},{"$f":"'Bonusy bez procent'!P26","v":25},{"$f":"'Bonusy bez procent'!Q26","v":25},{"$f":"'Bonusy bez procent'!R26","v":25},{"$f":"'Bonusy bez procent'!S26","v":25},{"$f":"'Bonusy bez procent'!T26","v":25},{"$f":"'Bonusy bez procent'!U26","v":25},{"$f":"'Bonusy bez procent'!V26","v":25},{"$f":"'Bonusy bez procent'!W26","v":25}]
[{"$f":"'Nastavení příloh'!E36","v":2550},{"$f":"'Bonusy bez procent'!B27","v":2500},{"$f":"'Bonusy bez procent'!D27","v":2599},{"$f":"'Bonusy bez procent'!E27","v":0},{"$f":"'Bonusy bez procent'!F27","v":3},{"$f":"'Bonusy bez procent'!G27","v":7},{"$f":"'Bonusy bez procent'!H27","v":12},{"$f":"'Bonusy bez procent'!I27","v":16},{"$f":"'Bonusy bez procent'!J27","v":21},{"$f":"'Bonusy bez procent'!K27","v":25},{"$f":"'Bonusy bez procent'!L27","v":25},{"$f":"'Bonusy bez procent'!M27","v":25},{"$f":"'Bonusy bez procent'!N27","v":25},{"$f":"'Bonusy bez procent'!O27","v":25},{"$f":"'Bonusy bez procent'!P27","v":25},{"$f":"'Bonusy bez procent'!Q27","v":25},{"$f":"'Bonusy bez procent'!R27","v":25},{"$f":"'Bonusy bez procent'!S27","v":25},{"$f":"'Bonusy bez procent'!T27","v":25},{"$f":"'Bonusy bez procent'!U27","v":25},{"$f":"'Bonusy bez procent'!V27","v":25},{"$f":"'Bonusy bez procent'!W27","v":25}]
[{"$f":"'Nastavení příloh'!E37","v":2650},{"$f":"'Bonusy bez procent'!B28","v":2600},{"$f":"'Bonusy bez procent'!D28","v":2699},{"$f":"'Bonusy bez procent'!E28","v":0},{"$f":"'Bonusy bez procent'!F28","v":3},{"$f":"'Bonusy bez procent'!G28","v":7},{"$f":"'Bonusy bez procent'!H28","v":12},{"$f":"'Bonusy bez procent'!I28","v":17},{"$f":"'Bonusy bez procent'!J28","v":21},{"$f":"'Bonusy bez procent'!K28","v":25},{"$f":"'Bonusy bez procent'!L28","v":25},{"$f":"'Bonusy bez procent'!M28","v":25},{"$f":"'Bonusy bez procent'!N28","v":25},{"$f":"'Bonusy bez procent'!O28","v":25},{"$f":"'Bonusy bez procent'!P28","v":25},{"$f":"'Bonusy bez procent'!Q28","v":25},{"$f":"'Bonusy bez procent'!R28","v":25},{"$f":"'Bonusy bez procent'!S28","v":25},{"$f":"'Bonusy bez procent'!T28","v":25},{"$f":"'Bonusy bez procent'!U28","v":25},{"$f":"'Bonusy bez procent'!V28","v":25},{"$f":"'Bonusy bez procent'!W28","v":25}]
[{"$f":"'Nastavení příloh'!E38","v":2750},{"$f":"'Bonusy bez procent'!B29","v":2700},{"$f":"'Bonusy bez procent'!D29","v":2799},{"$f":"'Bonusy bez procent'!E29","v":0},{"$f":"'Bonusy bez procent'!F29","v":3},{"$f":"'Bonusy bez procent'!G29","v":8},{"$f":"'Bonusy bez procent'!H29","v":13},{"$f":"'Bonusy bez procent'!I29","v":17},{"$f":"'Bonusy bez procent'!J29","v":22},{"$f":"'Bonusy bez procent'!K29","v":25},{"$f":"'Bonusy bez procent'!L29","v":25},{"$f":"'Bonusy bez procent'!M29","v":25},{"$f":"'Bonusy bez procent'!N29","v":25},{"$f":"'Bonusy bez procent'!O29","v":25},{"$f":"'Bonusy bez procent'!P29","v":25},{"$f":"'Bonusy bez procent'!Q29","v":25},{"$f":"'Bonusy bez procent'!R29","v":25},{"$f":"'Bonusy bez procent'!S29","v":25},{"$f":"'Bonusy bez procent'!T29","v":25},{"$f":"'Bonusy bez procent'!U29","v":25},{"$f":"'Bonusy bez procent'!V29","v":25},{"$f":"'Bonusy bez procent'!W29","v":25}]
[{"$f":"'Nastavení příloh'!E39","v":2850},{"$f":"'Bonusy bez procent'!B30","v":2800},{"$f":"'Bonusy bez procent'!D30","v":2899},{"$f":"'Bonusy bez procent'!E30","v":0},{"$f":"'Bonusy bez procent'!F30","v":3},{"$f":"'Bonusy bez procent'!G30","v":8},{"$f":"'Bonusy bez procent'!H30","v":13},{"$f":"'Bonusy bez procent'!I30","v":18},{"$f":"'Bonusy bez procent'!J30","v":23},{"$f":"'Bonusy bez procent'!K30","v":25},{"$f":"'Bonusy bez procent'!L30","v":25},{"$f":"'Bonusy bez procent'!M30","v":25},{"$f":"'Bonusy bez procent'!N30","v":25},{"$f":"'Bonusy bez procent'!O30","v":25},{"$f":"'Bonusy bez procent'!P30","v":25},{"$f":"'Bonusy bez procent'!Q30","v":25},{"$f":"'Bonusy bez procent'!R30","v":25},{"$f":"'Bonusy bez procent'!S30","v":25},{"$f":"'Bonusy bez procent'!T30","v":25},{"$f":"'Bonusy bez procent'!U30","v":25},{"$f":"'Bonusy bez procent'!V30","v":25},{"$f":"'Bonusy bez procent'!W30","v":25}]
[{"$f":"'Nastavení příloh'!E40","v":2950},{"$f":"'Bonusy bez procent'!B31","v":2900},{"$f":"'Bonusy bez procent'!D31","v":2999},{"$f":"'Bonusy bez procent'!E31","v":0},{"$f":"'Bonusy bez procent'!F31","v":3},{"$f":"'Bonusy bez procent'!G31","v":8},{"$f":"'Bonusy bez procent'!H31","v":13},{"$f":"'Bonusy bez procent'!I31","v":19},{"$f":"'Bonusy bez procent'!J31","v":24},{"$f":"'Bonusy bez procent'!K31","v":25},{"$f":"'Bonusy bez procent'!L31","v":25},{"$f":"'Bonusy bez procent'!M31","v":25},{"$f":"'Bonusy bez procent'!N31","v":25},{"$f":"'Bonusy bez procent'!O31","v":25},{"$f":"'Bonusy bez procent'!P31","v":25},{"$f":"'Bonusy bez procent'!Q31","v":25},{"$f":"'Bonusy bez procent'!R31","v":25},{"$f":"'Bonusy bez procent'!S31","v":25},{"$f":"'Bonusy bez procent'!T31","v":25},{"$f":"'Bonusy bez procent'!U31","v":25},{"$f":"'Bonusy bez procent'!V31","v":25},{"$f":"'Bonusy bez procent'!W31","v":25}]
[{"$f":"'Nastavení příloh'!E41","v":3050},{"$f":"'Bonusy bez procent'!B32","v":3000},{"$f":"'Bonusy bez procent'!D32","v":3099},{"$f":"'Bonusy bez procent'!E32","v":0},{"$f":"'Bonusy bez procent'!F32","v":3},{"$f":"'Bonusy bez procent'!G32","v":9},{"$f":"'Bonusy bez procent'!H32","v":14},{"$f":"'Bonusy bez procent'!I32","v":19},{"$f":"'Bonusy bez procent'!J32","v":25},{"$f":"'Bonusy bez procent'!K32","v":25},{"$f":"'Bonusy bez procent'!L32","v":25},{"$f":"'Bonusy bez procent'!M32","v":25},{"$f":"'Bonusy bez procent'!N32","v":25},{"$f":"'Bonusy bez procent'!O32","v":25},{"$f":"'Bonusy bez procent'!P32","v":25},{"$f":"'Bonusy bez procent'!Q32","v":25},{"$f":"'Bonusy bez procent'!R32","v":25},{"$f":"'Bonusy bez procent'!S32","v":25},{"$f":"'Bonusy bez procent'!T32","v":25},{"$f":"'Bonusy bez procent'!U32","v":25},{"$f":"'Bonusy bez procent'!V32","v":25},{"$f":"'Bonusy bez procent'!W32","v":25}]
[{"$f":"'Nastavení příloh'!E42","v":3150},{"$f":"'Bonusy bez procent'!B33","v":3100},{"$f":"'Bonusy bez procent'!D33","v":3199},{"$f":"'Bonusy bez procent'!E33","v":0},{"$f":"'Bonusy bez procent'!F33","v":3},{"$f":"'Bonusy bez procent'!G33","v":9},{"$f":"'Bonusy bez procent'!H33","v":14},{"$f":"'Bonusy bez procent'!I33","v":20},{"$f":"'Bonusy bez procent'!J33","v":25},{"$f":"'Bonusy bez procent'!K33","v":25},{"$f":"'Bonusy bez procent'!L33","v":25},{"$f":"'Bonusy bez procent'!M33","v":25},{"$f":"'Bonusy bez procent'!N33","v":25},{"$f":"'Bonusy bez procent'!O33","v":25},{"$f":"'Bonusy bez procent'!P33","v":25},{"$f":"'Bonusy bez procent'!Q33","v":25},{"$f":"'Bonusy bez procent'!R33","v":25},{"$f":"'Bonusy bez procent'!S33","v":25},{"$f":"'Bonusy bez procent'!T33","v":25},{"$f":"'Bonusy bez procent'!U33","v":25},{"$f":"'Bonusy bez procent'!V33","v":25},{"$f":"'Bonusy bez procent'!W33","v":25}]
[{"$f":"'Nastavení příloh'!E43","v":3250},{"$f":"'Bonusy bez procent'!B34","v":3200},{"$f":"'Bonusy bez procent'!D34","v":3299},{"$f":"'Bonusy bez procent'!E34","v":0},{"$f":"'Bonusy bez procent'!F34","v":3},{"$f":"'Bonusy bez procent'!G34","v":9},{"$f":"'Bonusy bez procent'!H34","v":15},{"$f":"'Bonusy bez procent'!I34","v":20},{"$f":"'Bonusy bez procent'!J34","v":25},{"$f":"'Bonusy bez procent'!K34","v":25},{"$f":"'Bonusy bez procent'!L34","v":25},{"$f":"'Bonusy bez procent'!M34","v":25},{"$f":"'Bonusy bez procent'!N34","v":25},{"$f":"'Bonusy bez procent'!O34","v":25},{"$f":"'Bonusy bez procent'!P34","v":25},{"$f":"'Bonusy bez procent'!Q34","v":25},{"$f":"'Bonusy bez procent'!R34","v":25},{"$f":"'Bonusy bez procent'!S34","v":25},{"$f":"'Bonusy bez procent'!T34","v":25},{"$f":"'Bonusy bez procent'!U34","v":25},{"$f":"'Bonusy bez procent'!V34","v":25},{"$f":"'Bonusy bez procent'!W34","v":25}]
[{"$f":"'Nastavení příloh'!E44","v":3350},{"$f":"'Bonusy bez procent'!B35","v":3300},{"$f":"'Bonusy bez procent'!D35","v":3399},{"$f":"'Bonusy bez procent'!E35","v":0},{"$f":"'Bonusy bez procent'!F35","v":4},{"$f":"'Bonusy bez procent'!G35","v":9},{"$f":"'Bonusy bez procent'!H35","v":15},{"$f":"'Bonusy bez procent'!I35","v":21},{"$f":"'Bonusy bez procent'!J35","v":25},{"$f":"'Bonusy bez procent'!K35","v":25},{"$f":"'Bonusy bez procent'!L35","v":25},{"$f":"'Bonusy bez procent'!M35","v":25},{"$f":"'Bonusy bez procent'!N35","v":25},{"$f":"'Bonusy bez procent'!O35","v":25},{"$f":"'Bonusy bez procent'!P35","v":25},{"$f":"'Bonusy bez procent'!Q35","v":25},{"$f":"'Bonusy bez procent'!R35","v":25},{"$f":"'Bonusy bez procent'!S35","v":25},{"$f":"'Bonusy bez procent'!T35","v":25},{"$f":"'Bonusy bez procent'!U35","v":25},{"$f":"'Bonusy bez procent'!V35","v":25},{"$f":"'Bonusy bez procent'!W35","v":25}]
[{"$f":"'Nastavení příloh'!E45","v":3450},{"$f":"'Bonusy bez procent'!B36","v":3400},{"$f":"'Bonusy bez procent'!D36","v":3499},{"$f":"'Bonusy bez procent'!E36","v":0},{"$f":"'Bonusy bez procent'!F36","v":4},{"$f":"'Bonusy bez procent'!G36","v":10},{"$f":"'Bonusy bez procent'!H36","v":16},{"$f":"'Bonusy bez procent'!I36","v":22},{"$f":"'Bonusy bez procent'!J36","v":25},{"$f":"'Bonusy bez procent'!K36","v":25},{"$f":"'Bonusy bez procent'!L36","v":25},{"$f":"'Bonusy bez procent'!M36","v":25},{"$f":"'Bonusy bez procent'!N36","v":25},{"$f":"'Bonusy bez procent'!O36","v":25},{"$f":"'Bonusy bez procent'!P36","v":25},{"$f":"'Bonusy bez procent'!Q36","v":25},{"$f":"'Bonusy bez procent'!R36","v":25},{"$f":"'Bonusy bez procent'!S36","v":25},{"$f":"'Bonusy bez procent'!T36","v":25},{"$f":"'Bonusy bez procent'!U36","v":25},{"$f":"'Bonusy bez procent'!V36","v":25},{"$f":"'Bonusy bez procent'!W36","v":25}]
[{"$f":"'Nastavení příloh'!E52","v":3550},{"$f":"'Bonusy bez procent'!B43","v":3500},{"$f":"'Bonusy bez procent'!D43","v":3599},{"$f":"'Bonusy bez procent'!E43","v":0},{"$f":"'Bonusy bez procent'!F43","v":4},{"$f":"'Bonusy bez procent'!G43","v":10},{"$f":"'Bonusy bez procent'!H43","v":16},{"$f":"'Bonusy bez procent'!I43","v":22},{"$f":"'Bonusy bez procent'!J43","v":25},{"$f":"'Bonusy bez procent'!K43","v":25},{"$f":"'Bonusy bez procent'!L43","v":25},{"$f":"'Bonusy bez procent'!M43","v":25},{"$f":"'Bonusy bez procent'!N43","v":25},{"$f":"'Bonusy bez procent'!O43","v":25},{"$f":"'Bonusy bez procent'!P43","v":25},{"$f":"'Bonusy bez procent'!Q43","v":25},{"$f":"'Bonusy bez procent'!R43","v":25},{"$f":"'Bonusy bez procent'!S43","v":25},{"$f":"'Bonusy bez procent'!T43","v":25},{"$f":"'Bonusy bez procent'!U43","v":25},{"$f":"'Bonusy bez procent'!V43","v":25},{"$f":"'Bonusy bez procent'!W43","v":25}]
[{"$f":"'Nastavení příloh'!E53","v":3650},{"$f":"'Bonusy bez procent'!B44","v":3600},{"$f":"'Bonusy bez procent'!D44","v":3699},{"$f":"'Bonusy bez procent'!E44","v":0},{"$f":"'Bonusy bez procent'!F44","v":4},{"$f":"'Bonusy bez procent'!G44","v":10},{"$f":"'Bonusy bez procent'!H44","v":17},{"$f":"'Bonusy bez procent'!I44","v":23},{"$f":"'Bonusy bez procent'!J44","v":25},{"$f":"'Bonusy bez procent'!K44","v":25},{"$f":"'Bonusy bez procent'!L44","v":25},{"$f":"'Bonusy bez procent'!M44","v":25},{"$f":"'Bonusy bez procent'!N44","v":25},{"$f":"'Bonusy bez procent'!O44","v":25},{"$f":"'Bonusy bez procent'!P44","v":25},{"$f":"'Bonusy bez procent'!Q44","v":25},{"$f":"'Bonusy bez procent'!R44","v":25},{"$f":"'Bonusy bez procent'!S44","v":25},{"$f":"'Bonusy bez procent'!T44","v":25},{"$f":"'Bonusy bez procent'!U44","v":25},{"$f":"'Bonusy bez procent'!V44","v":25},{"$f":"'Bonusy bez procent'!W44","v":25}]
[{"$f":"'Nastavení příloh'!E54","v":3750},{"$f":"'Bonusy bez procent'!B45","v":3700},{"$f":"'Bonusy bez procent'!D45","v":3799},{"$f":"'Bonusy bez procent'!E45","v":0},{"$f":"'Bonusy bez procent'!F45","v":4},{"$f":"'Bonusy bez procent'!G45","v":11},{"$f":"'Bonusy bez procent'!H45","v":17},{"$f":"'Bonusy bez procent'!I45","v":24},{"$f":"'Bonusy bez procent'!J45","v":25},{"$f":"'Bonusy bez procent'!K45","v":25},{"$f":"'Bonusy bez procent'!L45","v":25},{"$f":"'Bonusy bez procent'!M45","v":25},{"$f":"'Bonusy bez procent'!N45","v":25},{"$f":"'Bonusy bez procent'!O45","v":25},{"$f":"'Bonusy bez procent'!P45","v":25},{"$f":"'Bonusy bez procent'!Q45","v":25},{"$f":"'Bonusy bez procent'!R45","v":25},{"$f":"'Bonusy bez procent'!S45","v":25},{"$f":"'Bonusy bez procent'!T45","v":25},{"$f":"'Bonusy bez procent'!U45","v":25},{"$f":"'Bonusy bez procent'!V45","v":25},{"$f":"'Bonusy bez procent'!W45","v":25}]
[{"$f":"'Nastavení příloh'!E55","v":3850},{"$f":"'Bonusy bez procent'!B46","v":3800},{"$f":"'Bonusy bez procent'!D46","v":3899},{"$f":"'Bonusy bez procent'!E46","v":0},{"$f":"'Bonusy bez procent'!F46","v":4},{"$f":"'Bonusy bez procent'!G46","v":11},{"$f":"'Bonusy bez procent'!H46","v":18},{"$f":"'Bonusy bez procent'!I46","v":24},{"$f":"'Bonusy bez procent'!J46","v":25},{"$f":"'Bonusy bez procent'!K46","v":25},{"$f":"'Bonusy bez procent'!L46","v":25},{"$f":"'Bonusy bez procent'!M46","v":25},{"$f":"'Bonusy bez procent'!N46","v":25},{"$f":"'Bonusy bez procent'!O46","v":25},{"$f":"'Bonusy bez procent'!P46","v":25},{"$f":"'Bonusy bez procent'!Q46","v":25},{"$f":"'Bonusy bez procent'!R46","v":25},{"$f":"'Bonusy bez procent'!S46","v":25},{"$f":"'Bonusy bez procent'!T46","v":25},{"$f":"'Bonusy bez procent'!U46","v":25},{"$f":"'Bonusy bez procent'!V46","v":25},{"$f":"'Bonusy bez procent'!W46","v":25}]
[{"$f":"'Nastavení příloh'!E56","v":3950},{"$f":"'Bonusy bez procent'!B47","v":3900},{"$f":"'Bonusy bez procent'!D47","v":3999},{"$f":"'Bonusy bez procent'!E47","v":0},{"$f":"'Bonusy bez procent'!F47","v":4},{"$f":"'Bonusy bez procent'!G47","v":11},{"$f":"'Bonusy bez procent'!H47","v":18},{"$f":"'Bonusy bez procent'!I47","v":25},{"$f":"'Bonusy bez procent'!J47","v":25},{"$f":"'Bonusy bez procent'!K47","v":25},{"$f":"'Bonusy bez procent'!L47","v":25},{"$f":"'Bonusy bez procent'!M47","v":25},{"$f":"'Bonusy bez procent'!N47","v":25},{"$f":"'Bonusy bez procent'!O47","v":25},{"$f":"'Bonusy bez procent'!P47","v":25},{"$f":"'Bonusy bez procent'!Q47","v":25},{"$f":"'Bonusy bez procent'!R47","v":25},{"$f":"'Bonusy bez procent'!S47","v":25},{"$f":"'Bonusy bez procent'!T47","v":25},{"$f":"'Bonusy bez procent'!U47","v":25},{"$f":"'Bonusy bez procent'!V47","v":25},{"$f":"'Bonusy bez procent'!W47","v":25}]
[{"$f":"'Nastavení příloh'!E57","v":4050},{"$f":"'Bonusy bez procent'!B48","v":4000},{"$f":"'Bonusy bez procent'!D48","v":4099},{"$f":"'Bonusy bez procent'!E48","v":0},{"$f":"'Bonusy bez procent'!F48","v":4},{"$f":"'Bonusy bez procent'!G48","v":11},{"$f":"'Bonusy bez procent'!H48","v":18},{"$f":"'Bonusy bez procent'!I48","v":25},{"$f":"'Bonusy bez procent'!J48","v":25},{"$f":"'Bonusy bez procent'!K48","v":25},{"$f":"'Bonusy bez procent'!L48","v":25},{"$f":"'Bonusy bez procent'!M48","v":25},{"$f":"'Bonusy bez procent'!N48","v":25},{"$f":"'Bonusy bez procent'!O48","v":25},{"$f":"'Bonusy bez procent'!P48","v":25},{"$f":"'Bonusy bez procent'!Q48","v":25},{"$f":"'Bonusy bez procent'!R48","v":25},{"$f":"'Bonusy bez procent'!S48","v":25},{"$f":"'Bonusy bez procent'!T48","v":25},{"$f":"'Bonusy bez procent'!U48","v":25},{"$f":"'Bonusy bez procent'!V48","v":25},{"$f":"'Bonusy bez procent'!W48","v":25}]
[{"$f":"'Nastavení příloh'!E58","v":4150},{"$f":"'Bonusy bez procent'!B49","v":4100},{"$f":"'Bonusy bez procent'!D49","v":4199},{"$f":"'Bonusy bez procent'!E49","v":0},{"$f":"'Bonusy bez procent'!F49","v":4},{"$f":"'Bonusy bez procent'!G49","v":12},{"$f":"'Bonusy bez procent'!H49","v":19},{"$f":"'Bonusy bez procent'!I49","v":25},{"$f":"'Bonusy bez procent'!J49","v":25},{"$f":"'Bonusy bez procent'!K49","v":25},{"$f":"'Bonusy bez procent'!L49","v":25},{"$f":"'Bonusy bez procent'!M49","v":25},{"$f":"'Bonusy bez procent'!N49","v":25},{"$f":"'Bonusy bez procent'!O49","v":25},{"$f":"'Bonusy bez procent'!P49","v":25},{"$f":"'Bonusy bez procent'!Q49","v":25},{"$f":"'Bonusy bez procent'!R49","v":25},{"$f":"'Bonusy bez procent'!S49","v":25},{"$f":"'Bonusy bez procent'!T49","v":25},{"$f":"'Bonusy bez procent'!U49","v":25},{"$f":"'Bonusy bez procent'!V49","v":25},{"$f":"'Bonusy bez procent'!W49","v":25}]
[{"$f":"'Nastavení příloh'!E59","v":4250},{"$f":"'Bonusy bez procent'!B50","v":4200},{"$f":"'Bonusy bez procent'!D50","v":4299},{"$f":"'Bonusy bez procent'!E50","v":0},{"$f":"'Bonusy bez procent'!F50","v":4},{"$f":"'Bonusy bez procent'!G50","v":12},{"$f":"'Bonusy bez procent'!H50","v":19},{"$f":"'Bonusy bez procent'!I50","v":25},{"$f":"'Bonusy bez procent'!J50","v":25},{"$f":"'Bonusy bez procent'!K50","v":25},{"$f":"'Bonusy bez procent'!L50","v":25},{"$f":"'Bonusy bez procent'!M50","v":25},{"$f":"'Bonusy bez procent'!N50","v":25},{"$f":"'Bonusy bez procent'!O50","v":25},{"$f":"'Bonusy bez procent'!P50","v":25},{"$f":"'Bonusy bez procent'!Q50","v":25},{"$f":"'Bonusy bez procent'!R50","v":25},{"$f":"'Bonusy bez procent'!S50","v":25},{"$f":"'Bonusy bez procent'!T50","v":25},{"$f":"'Bonusy bez procent'!U50","v":25},{"$f":"'Bonusy bez procent'!V50","v":25},{"$f":"'Bonusy bez procent'!W50","v":25}]
[{"$f":"'Nastavení příloh'!E60","v":4350},{"$f":"'Bonusy bez procent'!B51","v":4300},{"$f":"'Bonusy bez procent'!D51","v":4399},{"$f":"'Bonusy bez procent'!E51","v":0},{"$f":"'Bonusy bez procent'!F51","v":5},{"$f":"'Bonusy bez procent'!G51","v":12},{"$f":"'Bonusy bez procent'!H51","v":20},{"$f":"'Bonusy bez procent'!I51","v":25},{"$f":"'Bonusy bez procent'!J51","v":25},{"$f":"'Bonusy bez procent'!K51","v":25},{"$f":"'Bonusy bez procent'!L51","v":25},{"$f":"'Bonusy bez procent'!M51","v":25},{"$f":"'Bonusy bez procent'!N51","v":25},{"$f":"'Bonusy bez procent'!O51","v":25},{"$f":"'Bonusy bez procent'!P51","v":25},{"$f":"'Bonusy bez procent'!Q51","v":25},{"$f":"'Bonusy bez procent'!R51","v":25},{"$f":"'Bonusy bez procent'!S51","v":25},{"$f":"'Bonusy bez procent'!T51","v":25},{"$f":"'Bonusy bez procent'!U51","v":25},{"$f":"'Bonusy bez procent'!V51","v":25},{"$f":"'Bonusy bez procent'!W51","v":25}]
[{"$f":"'Nastavení příloh'!E61","v":4450},{"$f":"'Bonusy bez procent'!B52","v":4400},{"$f":"'Bonusy bez procent'!D52","v":4499},{"$f":"'Bonusy bez procent'!E52","v":0},{"$f":"'Bonusy bez procent'!F52","v":5},{"$f":"'Bonusy bez procent'!G52","v":12},{"$f":"'Bonusy bez procent'!H52","v":20},{"$f":"'Bonusy bez procent'!I52","v":25},{"$f":"'Bonusy bez procent'!J52","v":25},{"$f":"'Bonusy bez procent'!K52","v":25},{"$f":"'Bonusy bez procent'!L52","v":25},{"$f":"'Bonusy bez procent'!M52","v":25},{"$f":"'Bonusy bez procent'!N52","v":25},{"$f":"'Bonusy bez procent'!O52","v":25},{"$f":"'Bonusy bez procent'!P52","v":25},{"$f":"'Bonusy bez procent'!Q52","v":25},{"$f":"'Bonusy bez procent'!R52","v":25},{"$f":"'Bonusy bez procent'!S52","v":25},{"$f":"'Bonusy bez procent'!T52","v":25},{"$f":"'Bonusy bez procent'!U52","v":25},{"$f":"'Bonusy bez procent'!V52","v":25},{"$f":"'Bonusy bez procent'!W52","v":25}]
[{"$f":"'Nastavení příloh'!E62","v":4550},{"$f":"'Bonusy bez procent'!B53","v":4500},{"$f":"'Bonusy bez procent'!D53","v":4599},{"$f":"'Bonusy bez procent'!E53","v":0},{"$f":"'Bonusy bez procent'!F53","v":5},{"$f":"'Bonusy bez procent'!G53","v":13},{"$f":"'Bonusy bez procent'!H53","v":21},{"$f":"'Bonusy bez procent'!I53","v":25},{"$f":"'Bonusy bez procent'!J53","v":25},{"$f":"'Bonusy bez procent'!K53","v":25},{"$f":"'Bonusy bez procent'!L53","v":25},{"$f":"'Bonusy bez procent'!M53","v":25},{"$f":"'Bonusy bez procent'!N53","v":25},{"$f":"'Bonusy bez procent'!O53","v":25},{"$f":"'Bonusy bez procent'!P53","v":25},{"$f":"'Bonusy bez procent'!Q53","v":25},{"$f":"'Bonusy bez procent'!R53","v":25},{"$f":"'Bonusy bez procent'!S53","v":25},{"$f":"'Bonusy bez procent'!T53","v":25},{"$f":"'Bonusy bez procent'!U53","v":25},{"$f":"'Bonusy bez procent'!V53","v":25},{"$f":"'Bonusy bez procent'!W53","v":25}]
[{"$f":"'Nastavení příloh'!E63","v":4650},{"$f":"'Bonusy bez procent'!B54","v":4600},{"$f":"'Bonusy bez procent'!D54","v":4699},{"$f":"'Bonusy bez procent'!E54","v":0},{"$f":"'Bonusy bez procent'!F54","v":5},{"$f":"'Bonusy bez procent'!G54","v":13},{"$f":"'Bonusy bez procent'!H54","v":21},{"$f":"'Bonusy bez procent'!I54","v":25},{"$f":"'Bonusy bez procent'!J54","v":25},{"$f":"'Bonusy bez procent'!K54","v":25},{"$f":"'Bonusy bez procent'!L54","v":25},{"$f":"'Bonusy bez procent'!M54","v":25},{"$f":"'Bonusy bez procent'!N54","v":25},{"$f":"'Bonusy bez procent'!O54","v":25},{"$f":"'Bonusy bez procent'!P54","v":25},{"$f":"'Bonusy bez procent'!Q54","v":25},{"$f":"'Bonusy bez procent'!R54","v":25},{"$f":"'Bonusy bez procent'!S54","v":25},{"$f":"'Bonusy bez procent'!T54","v":25},{"$f":"'Bonusy bez procent'!U54","v":25},{"$f":"'Bonusy bez procent'!V54","v":25},{"$f":"'Bonusy bez procent'!W54","v":25}]
[{"$f":"'Nastavení příloh'!E64","v":4750},{"$f":"'Bonusy bez procent'!B55","v":4700},{"$f":"'Bonusy bez procent'!D55","v":4799},{"$f":"'Bonusy bez procent'!E55","v":0},{"$f":"'Bonusy bez procent'!F55","v":5},{"$f":"'Bonusy bez procent'!G55","v":13},{"$f":"'Bonusy bez procent'!H55","v":22},{"$f":"'Bonusy bez procent'!I55","v":25},{"$f":"'Bonusy bez procent'!J55","v":25},{"$f":"'Bonusy bez procent'!K55","v":25},{"$f":"'Bonusy bez procent'!L55","v":25},{"$f":"'Bonusy bez procent'!M55","v":25},{"$f":"'Bonusy bez procent'!N55","v":25},{"$f":"'Bonusy bez procent'!O55","v":25},{"$f":"'Bonusy bez procent'!P55","v":25},{"$f":"'Bonusy bez procent'!Q55","v":25},{"$f":"'Bonusy bez procent'!R55","v":25},{"$f":"'Bonusy bez procent'!S55","v":25},{"$f":"'Bonusy bez procent'!T55","v":25},{"$f":"'Bonusy bez procent'!U55","v":25},{"$f":"'Bonusy bez procent'!V55","v":25},{"$f":"'Bonusy bez procent'!W55","v":25}]
[{"$f":"'Nastavení příloh'!E65","v":4850},{"$f":"'Bonusy bez procent'!B56","v":4800},{"$f":"'Bonusy bez procent'!D56","v":4899},{"$f":"'Bonusy bez procent'!E56","v":0},{"$f":"'Bonusy bez procent'!F56","v":5},{"$f":"'Bonusy bez procent'!G56","v":14},{"$f":"'Bonusy bez procent'!H56","v":22},{"$f":"'Bonusy bez procent'!I56","v":25},{"$f":"'Bonusy bez procent'!J56","v":25},{"$f":"'Bonusy bez procent'!K56","v":25},{"$f":"'Bonusy bez procent'!L56","v":25},{"$f":"'Bonusy bez procent'!M56","v":25},{"$f":"'Bonusy bez procent'!N56","v":25},{"$f":"'Bonusy bez procent'!O56","v":25},{"$f":"'Bonusy bez procent'!P56","v":25},{"$f":"'Bonusy bez procent'!Q56","v":25},{"$f":"'Bonusy bez procent'!R56","v":25},{"$f":"'Bonusy bez procent'!S56","v":25},{"$f":"'Bonusy bez procent'!T56","v":25},{"$f":"'Bonusy bez procent'!U56","v":25},{"$f":"'Bonusy bez procent'!V56","v":25},{"$f":"'Bonusy bez procent'!W56","v":25}]
[{"$f":"'Nastavení příloh'!E66","v":4950},{"$f":"'Bonusy bez procent'!B57","v":4900},{"$f":"'Bonusy bez procent'!D57","v":4999},{"$f":"'Bonusy bez procent'!E57","v":0},{"$f":"'Bonusy bez procent'!F57","v":5},{"$f":"'Bonusy bez procent'!G57","v":14},{"$f":"'Bonusy bez procent'!H57","v":23},{"$f":"'Bonusy bez procent'!I57","v":25},{"$f":"'Bonusy bez procent'!J57","v":25},{"$f":"'Bonusy bez procent'!K57","v":25},{"$f":"'Bonusy bez procent'!L57","v":25},{"$f":"'Bonusy bez procent'!M57","v":25},{"$f":"'Bonusy bez procent'!N57","v":25},{"$f":"'Bonusy bez procent'!O57","v":25},{"$f":"'Bonusy bez procent'!P57","v":25},{"$f":"'Bonusy bez procent'!Q57","v":25},{"$f":"'Bonusy bez procent'!R57","v":25},{"$f":"'Bonusy bez procent'!S57","v":25},{"$f":"'Bonusy bez procent'!T57","v":25},{"$f":"'Bonusy bez procent'!U57","v":25},{"$f":"'Bonusy bez procent'!V57","v":25},{"$f":"'Bonusy bez procent'!W57","v":25}]
[{"$f":"'Nastavení příloh'!E67","v":5050},{"$f":"'Bonusy bez procent'!B58","v":5000},{"$f":"'Bonusy bez procent'!D58","v":5099},{"$f":"'Bonusy bez procent'!E58","v":0},{"$f":"'Bonusy bez procent'!F58","v":5},{"$f":"'Bonusy bez procent'!G58","v":14},{"$f":"'Bonusy bez procent'!H58","v":23},{"$f":"'Bonusy bez procent'!I58","v":25},{"$f":"'Bonusy bez procent'!J58","v":25},{"$f":"'Bonusy bez procent'!K58","v":25},{"$f":"'Bonusy bez procent'!L58","v":25},{"$f":"'Bonusy bez procent'!M58","v":25},{"$f":"'Bonusy bez procent'!N58","v":25},{"$f":"'Bonusy bez procent'!O58","v":25},{"$f":"'Bonusy bez procent'!P58","v":25},{"$f":"'Bonusy bez procent'!Q58","v":25},{"$f":"'Bonusy bez procent'!R58","v":25},{"$f":"'Bonusy bez procent'!S58","v":25},{"$f":"'Bonusy bez procent'!T58","v":25},{"$f":"'Bonusy bez procent'!U58","v":25},{"$f":"'Bonusy bez procent'!V58","v":25},{"$f":"'Bonusy bez procent'!W58","v":25}]
[{"$f":"'Nastavení příloh'!E68","v":5150},{"$f":"'Bonusy bez procent'!B59","v":5100},{"$f":"'Bonusy bez procent'!D59","v":5199},{"$f":"'Bonusy bez procent'!E59","v":0},{"$f":"'Bonusy bez procent'!F59","v":5},{"$f":"'Bonusy bez procent'!G59","v":14},{"$f":"'Bonusy bez procent'!H59","v":23},{"$f":"'Bonusy bez procent'!I59","v":25},{"$f":"'Bonusy bez procent'!J59","v":25},{"$f":"'Bonusy bez procent'!K59","v":25},{"$f":"'Bonusy bez procent'!L59","v":25},{"$f":"'Bonusy bez procent'!M59","v":25},{"$f":"'Bonusy bez procent'!N59","v":25},{"$f":"'Bonusy bez procent'!O59","v":25},{"$f":"'Bonusy bez procent'!P59","v":25},{"$f":"'Bonusy bez procent'!Q59","v":25},{"$f":"'Bonusy bez procent'!R59","v":25},{"$f":"'Bonusy bez procent'!S59","v":25},{"$f":"'Bonusy bez procent'!T59","v":25},{"$f":"'Bonusy bez procent'!U59","v":25},{"$f":"'Bonusy bez procent'!V59","v":25},{"$f":"'Bonusy bez procent'!W59","v":25}]
[{"$f":"'Nastavení příloh'!E69","v":5250},{"$f":"'Bonusy bez procent'!B60","v":5200},{"$f":"'Bonusy bez procent'!D60","v":5299},{"$f":"'Bonusy bez procent'!E60","v":0},{"$f":"'Bonusy bez procent'!F60","v":6},{"$f":"'Bonusy bez procent'!G60","v":15},{"$f":"'Bonusy bez procent'!H60","v":24},{"$f":"'Bonusy bez procent'!I60","v":25},{"$f":"'Bonusy bez procent'!J60","v":25},{"$f":"'Bonusy bez procent'!K60","v":25},{"$f":"'Bonusy bez procent'!L60","v":25},{"$f":"'Bonusy bez procent'!M60","v":25},{"$f":"'Bonusy bez procent'!N60","v":25},{"$f":"'Bonusy bez procent'!O60","v":25},{"$f":"'Bonusy bez procent'!P60","v":25},{"$f":"'Bonusy bez procent'!Q60","v":25},{"$f":"'Bonusy bez procent'!R60","v":25},{"$f":"'Bonusy bez procent'!S60","v":25},{"$f":"'Bonusy bez procent'!T60","v":25},{"$f":"'Bonusy bez procent'!U60","v":25},{"$f":"'Bonusy bez procent'!V60","v":25},{"$f":"'Bonusy bez procent'!W60","v":25}]
[{"$f":"'Nastavení příloh'!E70","v":5350},{"$f":"'Bonusy bez procent'!B61","v":5300},{"$f":"'Bonusy bez procent'!D61","v":5399},{"$f":"'Bonusy bez procent'!E61","v":0},{"$f":"'Bonusy bez procent'!F61","v":6},{"$f":"'Bonusy bez procent'!G61","v":15},{"$f":"'Bonusy bez procent'!H61","v":24},{"$f":"'Bonusy bez procent'!I61","v":25},{"$f":"'Bonusy bez procent'!J61","v":25},{"$f":"'Bonusy bez procent'!K61","v":25},{"$f":"'Bonusy bez procent'!L61","v":25},{"$f":"'Bonusy bez procent'!M61","v":25},{"$f":"'Bonusy bez procent'!N61","v":25},{"$f":"'Bonusy bez procent'!O61","v":25},{"$f":"'Bonusy bez procent'!P61","v":25},{"$f":"'Bonusy bez procent'!Q61","v":25},{"$f":"'Bonusy bez procent'!R61","v":25},{"$f":"'Bonusy bez procent'!S61","v":25},{"$f":"'Bonusy bez procent'!T61","v":25},{"$f":"'Bonusy bez procent'!U61","v":25},{"$f":"'Bonusy bez procent'!V61","v":25},{"$f":"'Bonusy bez procent'!W61","v":25}]
[{"$f":"'Nastavení příloh'!E71","v":5450},{"$f":"'Bonusy bez procent'!B62","v":5400},{"$f":"'Bonusy bez procent'!D62","v":5499},{"$f":"'Bonusy bez procent'!E62","v":0},{"$f":"'Bonusy bez procent'!F62","v":6},{"$f":"'Bonusy bez procent'!G62","v":15},{"$f":"'Bonusy bez procent'!H62","v":25},{"$f":"'Bonusy bez procent'!I62","v":25},{"$f":"'Bonusy bez procent'!J62","v":25},{"$f":"'Bonusy bez procent'!K62","v":25},{"$f":"'Bonusy bez procent'!L62","v":25},{"$f":"'Bonusy bez procent'!M62","v":25},{"$f":"'Bonusy bez procent'!N62","v":25},{"$f":"'Bonusy bez procent'!O62","v":25},{"$f":"'Bonusy bez procent'!P62","v":25},{"$f":"'Bonusy bez procent'!Q62","v":25},{"$f":"'Bonusy bez procent'!R62","v":25},{"$f":"'Bonusy bez procent'!S62","v":25},{"$f":"'Bonusy bez procent'!T62","v":25},{"$f":"'Bonusy bez procent'!U62","v":25},{"$f":"'Bonusy bez procent'!V62","v":25},{"$f":"'Bonusy bez procent'!W62","v":25}]
[{"$f":"'Nastavení příloh'!E72","v":5550},{"$f":"'Bonusy bez procent'!B63","v":5500},{"$f":"'Bonusy bez procent'!D63","v":5599},{"$f":"'Bonusy bez procent'!E63","v":0},{"$f":"'Bonusy bez procent'!F63","v":6},{"$f":"'Bonusy bez procent'!G63","v":16},{"$f":"'Bonusy bez procent'!H63","v":25},{"$f":"'Bonusy bez procent'!I63","v":25},{"$f":"'Bonusy bez procent'!J63","v":25},{"$f":"'Bonusy bez procent'!K63","v":25},{"$f":"'Bonusy bez procent'!L63","v":25},{"$f":"'Bonusy bez procent'!M63","v":25},{"$f":"'Bonusy bez procent'!N63","v":25},{"$f":"'Bonusy bez procent'!O63","v":25},{"$f":"'Bonusy bez procent'!P63","v":25},{"$f":"'Bonusy bez procent'!Q63","v":25},{"$f":"'Bonusy bez procent'!R63","v":25},{"$f":"'Bonusy bez procent'!S63","v":25},{"$f":"'Bonusy bez procent'!T63","v":25},{"$f":"'Bonusy bez procent'!U63","v":25},{"$f":"'Bonusy bez procent'!V63","v":25},{"$f":"'Bonusy bez procent'!W63","v":25}]
[{"$f":"'Nastavení příloh'!E73","v":5650},{"$f":"'Bonusy bez procent'!B64","v":5600},{"$f":"'Bonusy bez procent'!D64","v":5699},{"$f":"'Bonusy bez procent'!E64","v":0},{"$f":"'Bonusy bez procent'!F64","v":6},{"$f":"'Bonusy bez procent'!G64","v":16},{"$f":"'Bonusy bez procent'!H64","v":25},{"$f":"'Bonusy bez procent'!I64","v":25},{"$f":"'Bonusy bez procent'!J64","v":25},{"$f":"'Bonusy bez procent'!K64","v":25},{"$f":"'Bonusy bez procent'!L64","v":25},{"$f":"'Bonusy bez procent'!M64","v":25},{"$f":"'Bonusy bez procent'!N64","v":25},{"$f":"'Bonusy bez procent'!O64","v":25},{"$f":"'Bonusy bez procent'!P64","v":25},{"$f":"'Bonusy bez procent'!Q64","v":25},{"$f":"'Bonusy bez procent'!R64","v":25},{"$f":"'Bonusy bez procent'!S64","v":25},{"$f":"'Bonusy bez procent'!T64","v":25},{"$f":"'Bonusy bez procent'!U64","v":25},{"$f":"'Bonusy bez procent'!V64","v":25},{"$f":"'Bonusy bez procent'!W64","v":25}]
[{"$f":"'Nastavení příloh'!E74","v":5750},{"$f":"'Bonusy bez procent'!B65","v":5700},{"$f":"'Bonusy bez procent'!D65","v":5799},{"$f":"'Bonusy bez procent'!E65","v":0},{"$f":"'Bonusy bez procent'!F65","v":6},{"$f":"'Bonusy bez procent'!G65","v":16},{"$f":"'Bonusy bez procent'!H65","v":25},{"$f":"'Bonusy bez procent'!I65","v":25},{"$f":"'Bonusy bez procent'!J65","v":25},{"$f":"'Bonusy bez procent'!K65","v":25},{"$f":"'Bonusy bez procent'!L65","v":25},{"$f":"'Bonusy bez procent'!M65","v":25},{"$f":"'Bonusy bez procent'!N65","v":25},{"$f":"'Bonusy bez procent'!O65","v":25},{"$f":"'Bonusy bez procent'!P65","v":25},{"$f":"'Bonusy bez procent'!Q65","v":25},{"$f":"'Bonusy bez procent'!R65","v":25},{"$f":"'Bonusy bez procent'!S65","v":25},{"$f":"'Bonusy bez procent'!T65","v":25},{"$f":"'Bonusy bez procent'!U65","v":25},{"$f":"'Bonusy bez procent'!V65","v":25},{"$f":"'Bonusy bez procent'!W65","v":25}]
[{"$f":"'Nastavení příloh'!E75","v":5850},{"$f":"'Bonusy bez procent'!B66","v":5800},{"$f":"'Bonusy bez procent'!D66","v":5899},{"$f":"'Bonusy bez procent'!E66","v":0},{"$f":"'Bonusy bez procent'!F66","v":6},{"$f":"'Bonusy bez procent'!G66","v":16},{"$f":"'Bonusy bez procent'!H66","v":25},{"$f":"'Bonusy bez procent'!I66","v":25},{"$f":"'Bonusy bez procent'!J66","v":25},{"$f":"'Bonusy bez procent'!K66","v":25},{"$f":"'Bonusy bez procent'!L66","v":25},{"$f":"'Bonusy bez procent'!M66","v":25},{"$f":"'Bonusy bez procent'!N66","v":25},{"$f":"'Bonusy bez procent'!O66","v":25},{"$f":"'Bonusy bez procent'!P66","v":25},{"$f":"'Bonusy bez procent'!Q66","v":25},{"$f":"'Bonusy bez procent'!R66","v":25},{"$f":"'Bonusy bez procent'!S66","v":25},{"$f":"'Bonusy bez procent'!T66","v":25},{"$f":"'Bonusy bez procent'!U66","v":25},{"$f":"'Bonusy bez procent'!V66","v":25},{"$f":"'Bonusy bez procent'!W66","v":25}]
[{"$f":"'Nastavení příloh'!E76","v":5950},{"$f":"'Bonusy bez procent'!B67","v":5900},{"$f":"'Bonusy bez procent'!D67","v":5999},{"$f":"'Bonusy bez procent'!E67","v":0},{"$f":"'Bonusy bez procent'!F67","v":6},{"$f":"'Bonusy bez procent'!G67","v":17},{"$f":"'Bonusy bez procent'!H67","v":25},{"$f":"'Bonusy bez procent'!I67","v":25},{"$f":"'Bonusy bez procent'!J67","v":25},{"$f":"'Bonusy bez procent'!K67","v":25},{"$f":"'Bonusy bez procent'!L67","v":25},{"$f":"'Bonusy bez procent'!M67","v":25},{"$f":"'Bonusy bez procent'!N67","v":25},{"$f":"'Bonusy bez procent'!O67","v":25},{"$f":"'Bonusy bez procent'!P67","v":25},{"$f":"'Bonusy bez procent'!Q67","v":25},{"$f":"'Bonusy bez procent'!R67","v":25},{"$f":"'Bonusy bez procent'!S67","v":25},{"$f":"'Bonusy bez procent'!T67","v":25},{"$f":"'Bonusy bez procent'!U67","v":25},{"$f":"'Bonusy bez procent'!V67","v":25},{"$f":"'Bonusy bez procent'!W67","v":25}]
[{"$f":"'Nastavení příloh'!E77","v":6050},{"$f":"'Bonusy bez procent'!B68","v":6000},{"$f":"'Bonusy bez procent'!D68","v":6099},{"$f":"'Bonusy bez procent'!E68","v":0},{"$f":"'Bonusy bez procent'!F68","v":6},{"$f":"'Bonusy bez procent'!G68","v":17},{"$f":"'Bonusy bez procent'!H68","v":25},{"$f":"'Bonusy bez procent'!I68","v":25},{"$f":"'Bonusy bez procent'!J68","v":25},{"$f":"'Bonusy bez procent'!K68","v":25},{"$f":"'Bonusy bez procent'!L68","v":25},{"$f":"'Bonusy bez procent'!M68","v":25},{"$f":"'Bonusy bez procent'!N68","v":25},{"$f":"'Bonusy bez procent'!O68","v":25},{"$f":"'Bonusy bez procent'!P68","v":25},{"$f":"'Bonusy bez procent'!Q68","v":25},{"$f":"'Bonusy bez procent'!R68","v":25},{"$f":"'Bonusy bez procent'!S68","v":25},{"$f":"'Bonusy bez procent'!T68","v":25},{"$f":"'Bonusy bez procent'!U68","v":25},{"$f":"'Bonusy bez procent'!V68","v":25},{"$f":"'Bonusy bez procent'!W68","v":25}]
[{"$f":"'Nastavení příloh'!E78","v":6150},{"$f":"'Bonusy bez procent'!B69","v":6100},{"$f":"'Bonusy bez procent'!D69","v":6199},{"$f":"'Bonusy bez procent'!E69","v":0},{"$f":"'Bonusy bez procent'!F69","v":6},{"$f":"'Bonusy bez procent'!G69","v":17},{"$f":"'Bonusy bez procent'!H69","v":25},{"$f":"'Bonusy bez procent'!I69","v":25},{"$f":"'Bonusy bez procent'!J69","v":25},{"$f":"'Bonusy bez procent'!K69","v":25},{"$f":"'Bonusy bez procent'!L69","v":25},{"$f":"'Bonusy bez procent'!M69","v":25},{"$f":"'Bonusy bez procent'!N69","v":25},{"$f":"'Bonusy bez procent'!O69","v":25},{"$f":"'Bonusy bez procent'!P69","v":25},{"$f":"'Bonusy bez procent'!Q69","v":25},{"$f":"'Bonusy bez procent'!R69","v":25},{"$f":"'Bonusy bez procent'!S69","v":25},{"$f":"'Bonusy bez procent'!T69","v":25},{"$f":"'Bonusy bez procent'!U69","v":25},{"$f":"'Bonusy bez procent'!V69","v":25},{"$f":"'Bonusy bez procent'!W69","v":25}]
[{"$f":"'Nastavení příloh'!E79","v":6250},{"$f":"'Bonusy bez procent'!B70","v":6200},{"$f":"'Bonusy bez procent'!D70","v":6299},{"$f":"'Bonusy bez procent'!E70","v":0},{"$f":"'Bonusy bez procent'!F70","v":7},{"$f":"'Bonusy bez procent'!G70","v":18},{"$f":"'Bonusy bez procent'!H70","v":25},{"$f":"'Bonusy bez procent'!I70","v":25},{"$f":"'Bonusy bez procent'!J70","v":25},{"$f":"'Bonusy bez procent'!K70","v":25},{"$f":"'Bonusy bez procent'!L70","v":25},{"$f":"'Bonusy bez procent'!M70","v":25},{"$f":"'Bonusy bez procent'!N70","v":25},{"$f":"'Bonusy bez procent'!O70","v":25},{"$f":"'Bonusy bez procent'!P70","v":25},{"$f":"'Bonusy bez procent'!Q70","v":25},{"$f":"'Bonusy bez procent'!R70","v":25},{"$f":"'Bonusy bez procent'!S70","v":25},{"$f":"'Bonusy bez procent'!T70","v":25},{"$f":"'Bonusy bez procent'!U70","v":25},{"$f":"'Bonusy bez procent'!V70","v":25},{"$f":"'Bonusy bez procent'!W70","v":25}]
[{"$f":"'Nastavení příloh'!E80","v":6350},{"$f":"'Bonusy bez procent'!B71","v":6300},{"$f":"'Bonusy bez procent'!D71","v":6399},{"$f":"'Bonusy bez procent'!E71","v":0},{"$f":"'Bonusy bez procent'!F71","v":7},{"$f":"'Bonusy bez procent'!G71","v":18},{"$f":"'Bonusy bez procent'!H71","v":25},{"$f":"'Bonusy bez procent'!I71","v":25},{"$f":"'Bonusy bez procent'!J71","v":25},{"$f":"'Bonusy bez procent'!K71","v":25},{"$f":"'Bonusy bez procent'!L71","v":25},{"$f":"'Bonusy bez procent'!M71","v":25},{"$f":"'Bonusy bez procent'!N71","v":25},{"$f":"'Bonusy bez procent'!O71","v":25},{"$f":"'Bonusy bez procent'!P71","v":25},{"$f":"'Bonusy bez procent'!Q71","v":25},{"$f":"'Bonusy bez procent'!R71","v":25},{"$f":"'Bonusy bez procent'!S71","v":25},{"$f":"'Bonusy bez procent'!T71","v":25},{"$f":"'Bonusy bez procent'!U71","v":25},{"$f":"'Bonusy bez procent'!V71","v":25},{"$f":"'Bonusy bez procent'!W71","v":25}]
[{"$f":"'Nastavení příloh'!E81","v":6450},{"$f":"'Bonusy bez procent'!B72","v":6400},{"$f":"'Bonusy bez procent'!D72","v":6499},{"$f":"'Bonusy bez procent'!E72","v":0},{"$f":"'Bonusy bez procent'!F72","v":7},{"$f":"'Bonusy bez procent'!G72","v":18},{"$f":"'Bonusy bez procent'!H72","v":25},{"$f":"'Bonusy bez procent'!I72","v":25},{"$f":"'Bonusy bez procent'!J72","v":25},{"$f":"'Bonusy bez procent'!K72","v":25},{"$f":"'Bonusy bez procent'!L72","v":25},{"$f":"'Bonusy bez procent'!M72","v":25},{"$f":"'Bonusy bez procent'!N72","v":25},{"$f":"'Bonusy bez procent'!O72","v":25},{"$f":"'Bonusy bez procent'!P72","v":25},{"$f":"'Bonusy bez procent'!Q72","v":25},{"$f":"'Bonusy bez procent'!R72","v":25},{"$f":"'Bonusy bez procent'!S72","v":25},{"$f":"'Bonusy bez procent'!T72","v":25},{"$f":"'Bonusy bez procent'!U72","v":25},{"$f":"'Bonusy bez procent'!V72","v":25},{"$f":"'Bonusy bez procent'!W72","v":25}]
[{"$f":"'Nastavení příloh'!E88","v":6550},{"$f":"'Bonusy bez procent'!B79","v":6500},{"$f":"'Bonusy bez procent'!D79","v":6599},{"$f":"'Bonusy bez procent'!E79","v":0},{"$f":"'Bonusy bez procent'!F79","v":7},{"$f":"'Bonusy bez procent'!G79","v":18},{"$f":"'Bonusy bez procent'!H79","v":25},{"$f":"'Bonusy bez procent'!I79","v":25},{"$f":"'Bonusy bez procent'!J79","v":25},{"$f":"'Bonusy bez procent'!K79","v":25},{"$f":"'Bonusy bez procent'!L79","v":25},{"$f":"'Bonusy bez procent'!M79","v":25},{"$f":"'Bonusy bez procent'!N79","v":25},{"$f":"'Bonusy bez procent'!O79","v":25},{"$f":"'Bonusy bez procent'!P79","v":25},{"$f":"'Bonusy bez procent'!Q79","v":25},{"$f":"'Bonusy bez procent'!R79","v":25},{"$f":"'Bonusy bez procent'!S79","v":25},{"$f":"'Bonusy bez procent'!T79","v":25},{"$f":"'Bonusy bez procent'!U79","v":25},{"$f":"'Bonusy bez procent'!V79","v":25},{"$f":"'Bonusy bez procent'!W79","v":25}]
[{"$f":"'Nastavení příloh'!E89","v":6650},{"$f":"'Bonusy bez procent'!B80","v":6600},{"$f":"'Bonusy bez procent'!D80","v":6699},{"$f":"'Bonusy bez procent'!E80","v":0},{"$f":"'Bonusy bez procent'!F80","v":7},{"$f":"'Bonusy bez procent'!G80","v":19},{"$f":"'Bonusy bez procent'!H80","v":25},{"$f":"'Bonusy bez procent'!I80","v":25},{"$f":"'Bonusy bez procent'!J80","v":25},{"$f":"'Bonusy bez procent'!K80","v":25},{"$f":"'Bonusy bez procent'!L80","v":25},{"$f":"'Bonusy bez procent'!M80","v":25},{"$f":"'Bonusy bez procent'!N80","v":25},{"$f":"'Bonusy bez procent'!O80","v":25},{"$f":"'Bonusy bez procent'!P80","v":25},{"$f":"'Bonusy bez procent'!Q80","v":25},{"$f":"'Bonusy bez procent'!R80","v":25},{"$f":"'Bonusy bez procent'!S80","v":25},{"$f":"'Bonusy bez procent'!T80","v":25},{"$f":"'Bonusy bez procent'!U80","v":25},{"$f":"'Bonusy bez procent'!V80","v":25},{"$f":"'Bonusy bez procent'!W80","v":25}]
[{"$f":"'Nastavení příloh'!E90","v":6750},{"$f":"'Bonusy bez procent'!B81","v":6700},{"$f":"'Bonusy bez procent'!D81","v":6799},{"$f":"'Bonusy bez procent'!E81","v":0},{"$f":"'Bonusy bez procent'!F81","v":7},{"$f":"'Bonusy bez procent'!G81","v":19},{"$f":"'Bonusy bez procent'!H81","v":25},{"$f":"'Bonusy bez procent'!I81","v":25},{"$f":"'Bonusy bez procent'!J81","v":25},{"$f":"'Bonusy bez procent'!K81","v":25},{"$f":"'Bonusy bez procent'!L81","v":25},{"$f":"'Bonusy bez procent'!M81","v":25},{"$f":"'Bonusy bez procent'!N81","v":25},{"$f":"'Bonusy bez procent'!O81","v":25},{"$f":"'Bonusy bez procent'!P81","v":25},{"$f":"'Bonusy bez procent'!Q81","v":25},{"$f":"'Bonusy bez procent'!R81","v":25},{"$f":"'Bonusy bez procent'!S81","v":25},{"$f":"'Bonusy bez procent'!T81","v":25},{"$f":"'Bonusy bez procent'!U81","v":25},{"$f":"'Bonusy bez procent'!V81","v":25},{"$f":"'Bonusy bez procent'!W81","v":25}]
[{"$f":"'Nastavení příloh'!E91","v":6850},{"$f":"'Bonusy bez procent'!B82","v":6800},{"$f":"'Bonusy bez procent'!D82","v":6899},{"$f":"'Bonusy bez procent'!E82","v":0},{"$f":"'Bonusy bez procent'!F82","v":7},{"$f":"'Bonusy bez procent'!G82","v":19},{"$f":"'Bonusy bez procent'!H82","v":25},{"$f":"'Bonusy bez procent'!I82","v":25},{"$f":"'Bonusy bez procent'!J82","v":25},{"$f":"'Bonusy bez procent'!K82","v":25},{"$f":"'Bonusy bez procent'!L82","v":25},{"$f":"'Bonusy bez procent'!M82","v":25},{"$f":"'Bonusy bez procent'!N82","v":25},{"$f":"'Bonusy bez procent'!O82","v":25},{"$f":"'Bonusy bez procent'!P82","v":25},{"$f":"'Bonusy bez procent'!Q82","v":25},{"$f":"'Bonusy bez procent'!R82","v":25},{"$f":"'Bonusy bez procent'!S82","v":25},{"$f":"'Bonusy bez procent'!T82","v":25},{"$f":"'Bonusy bez procent'!U82","v":25},{"$f":"'Bonusy bez procent'!V82","v":25},{"$f":"'Bonusy bez procent'!W82","v":25}]
[{"$f":"'Nastavení příloh'!E92","v":6950},{"$f":"'Bonusy bez procent'!B83","v":6900},{"$f":"'Bonusy bez procent'!D83","v":6999},{"$f":"'Bonusy bez procent'!E83","v":0},{"$f":"'Bonusy bez procent'!F83","v":7},{"$f":"'Bonusy bez procent'!G83","v":19},{"$f":"'Bonusy bez procent'!H83","v":25},{"$f":"'Bonusy bez procent'!I83","v":25},{"$f":"'Bonusy bez procent'!J83","v":25},{"$f":"'Bonusy bez procent'!K83","v":25},{"$f":"'Bonusy bez procent'!L83","v":25},{"$f":"'Bonusy bez procent'!M83","v":25},{"$f":"'Bonusy bez procent'!N83","v":25},{"$f":"'Bonusy bez procent'!O83","v":25},{"$f":"'Bonusy bez procent'!P83","v":25},{"$f":"'Bonusy bez procent'!Q83","v":25},{"$f":"'Bonusy bez procent'!R83","v":25},{"$f":"'Bonusy bez procent'!S83","v":25},{"$f":"'Bonusy bez procent'!T83","v":25},{"$f":"'Bonusy bez procent'!U83","v":25},{"$f":"'Bonusy bez procent'!V83","v":25},{"$f":"'Bonusy bez procent'!W83","v":25}]
[{"$f":"'Nastavení příloh'!E93","v":7050},{"$f":"'Bonusy bez procent'!B84","v":7000},{"$f":"'Bonusy bez procent'!D84","v":7099},{"$f":"'Bonusy bez procent'!E84","v":0},{"$f":"'Bonusy bez procent'!F84","v":7},{"$f":"'Bonusy bez procent'!G84","v":20},{"$f":"'Bonusy bez procent'!H84","v":25},{"$f":"'Bonusy bez procent'!I84","v":25},{"$f":"'Bonusy bez procent'!J84","v":25},{"$f":"'Bonusy bez procent'!K84","v":25},{"$f":"'Bonusy bez procent'!L84","v":25},{"$f":"'Bonusy bez procent'!M84","v":25},{"$f":"'Bonusy bez procent'!N84","v":25},{"$f":"'Bonusy bez procent'!O84","v":25},{"$f":"'Bonusy bez procent'!P84","v":25},{"$f":"'Bonusy bez procent'!Q84","v":25},{"$f":"'Bonusy bez procent'!R84","v":25},{"$f":"'Bonusy bez procent'!S84","v":25},{"$f":"'Bonusy bez procent'!T84","v":25},{"$f":"'Bonusy bez procent'!U84","v":25},{"$f":"'Bonusy bez procent'!V84","v":25},{"$f":"'Bonusy bez procent'!W84","v":25}]
[{"$f":"'Nastavení příloh'!E94","v":7150},{"$f":"'Bonusy bez procent'!B85","v":7100},{"$f":"'Bonusy bez procent'!D85","v":7199},{"$f":"'Bonusy bez procent'!E85","v":0},{"$f":"'Bonusy bez procent'!F85","v":8},{"$f":"'Bonusy bez procent'!G85","v":20},{"$f":"'Bonusy bez procent'!H85","v":25},{"$f":"'Bonusy bez procent'!I85","v":25},{"$f":"'Bonusy bez procent'!J85","v":25},{"$f":"'Bonusy bez procent'!K85","v":25},{"$f":"'Bonusy bez procent'!L85","v":25},{"$f":"'Bonusy bez procent'!M85","v":25},{"$f":"'Bonusy bez procent'!N85","v":25},{"$f":"'Bonusy bez procent'!O85","v":25},{"$f":"'Bonusy bez procent'!P85","v":25},{"$f":"'Bonusy bez procent'!Q85","v":25},{"$f":"'Bonusy bez procent'!R85","v":25},{"$f":"'Bonusy bez procent'!S85","v":25},{"$f":"'Bonusy bez procent'!T85","v":25},{"$f":"'Bonusy bez procent'!U85","v":25},{"$f":"'Bonusy bez procent'!V85","v":25},{"$f":"'Bonusy bez procent'!W85","v":25}]
[{"$f":"'Nastavení příloh'!E95","v":7250},{"$f":"'Bonusy bez procent'!B86","v":7200},{"$f":"'Bonusy bez procent'!D86","v":7299},{"$f":"'Bonusy bez procent'!E86","v":0},{"$f":"'Bonusy bez procent'!F86","v":8},{"$f":"'Bonusy bez procent'!G86","v":20},{"$f":"'Bonusy bez procent'!H86","v":25},{"$f":"'Bonusy bez procent'!I86","v":25},{"$f":"'Bonusy bez procent'!J86","v":25},{"$f":"'Bonusy bez procent'!K86","v":25},{"$f":"'Bonusy bez procent'!L86","v":25},{"$f":"'Bonusy bez procent'!M86","v":25},{"$f":"'Bonusy bez procent'!N86","v":25},{"$f":"'Bonusy bez procent'!O86","v":25},{"$f":"'Bonusy bez procent'!P86","v":25},{"$f":"'Bonusy bez procent'!Q86","v":25},{"$f":"'Bonusy bez procent'!R86","v":25},{"$f":"'Bonusy bez procent'!S86","v":25},{"$f":"'Bonusy bez procent'!T86","v":25},{"$f":"'Bonusy bez procent'!U86","v":25},{"$f":"'Bonusy bez procent'!V86","v":25},{"$f":"'Bonusy bez procent'!W86","v":25}]
[{"$f":"'Nastavení příloh'!E96","v":7350},{"$f":"'Bonusy bez procent'!B87","v":7300},{"$f":"'Bonusy bez procent'!D87","v":7399},{"$f":"'Bonusy bez procent'!E87","v":0},{"$f":"'Bonusy bez procent'!F87","v":8},{"$f":"'Bonusy bez procent'!G87","v":21},{"$f":"'Bonusy bez procent'!H87","v":25},{"$f":"'Bonusy bez procent'!I87","v":25},{"$f":"'Bonusy bez procent'!J87","v":25},{"$f":"'Bonusy bez procent'!K87","v":25},{"$f":"'Bonusy bez procent'!L87","v":25},{"$f":"'Bonusy bez procent'!M87","v":25},{"$f":"'Bonusy bez procent'!N87","v":25},{"$f":"'Bonusy bez procent'!O87","v":25},{"$f":"'Bonusy bez procent'!P87","v":25},{"$f":"'Bonusy bez procent'!Q87","v":25},{"$f":"'Bonusy bez procent'!R87","v":25},{"$f":"'Bonusy bez procent'!S87","v":25},{"$f":"'Bonusy bez procent'!T87","v":25},{"$f":"'Bonusy bez procent'!U87","v":25},{"$f":"'Bonusy bez procent'!V87","v":25},{"$f":"'Bonusy bez procent'!W87","v":25}]
[{"$f":"'Nastavení příloh'!E97","v":7450},{"$f":"'Bonusy bez procent'!B88","v":7400},{"$f":"'Bonusy bez procent'!D88","v":7499},{"$f":"'Bonusy bez procent'!E88","v":0},{"$f":"'Bonusy bez procent'!F88","v":8},{"$f":"'Bonusy bez procent'!G88","v":21},{"$f":"'Bonusy bez procent'!H88","v":25},{"$f":"'Bonusy bez procent'!I88","v":25},{"$f":"'Bonusy bez procent'!J88","v":25},{"$f":"'Bonusy bez procent'!K88","v":25},{"$f":"'Bonusy bez procent'!L88","v":25},{"$f":"'Bonusy bez procent'!M88","v":25},{"$f":"'Bonusy bez procent'!N88","v":25},{"$f":"'Bonusy bez procent'!O88","v":25},{"$f":"'Bonusy bez procent'!P88","v":25},{"$f":"'Bonusy bez procent'!Q88","v":25},{"$f":"'Bonusy bez procent'!R88","v":25},{"$f":"'Bonusy bez procent'!S88","v":25},{"$f":"'Bonusy bez procent'!T88","v":25},{"$f":"'Bonusy bez procent'!U88","v":25},{"$f":"'Bonusy bez procent'!V88","v":25},{"$f":"'Bonusy bez procent'!W88","v":25}]
[{"$f":"'Nastavení příloh'!E98","v":7550},{"$f":"'Bonusy bez procent'!B89","v":7500},{"$f":"'Bonusy bez procent'!D89","v":7599},{"$f":"'Bonusy bez procent'!E89","v":0},{"$f":"'Bonusy bez procent'!F89","v":8},{"$f":"'Bonusy bez procent'!G89","v":21},{"$f":"'Bonusy bez procent'!H89","v":25},{"$f":"'Bonusy bez procent'!I89","v":25},{"$f":"'Bonusy bez procent'!J89","v":25},{"$f":"'Bonusy bez procent'!K89","v":25},{"$f":"'Bonusy bez procent'!L89","v":25},{"$f":"'Bonusy bez procent'!M89","v":25},{"$f":"'Bonusy bez procent'!N89","v":25},{"$f":"'Bonusy bez procent'!O89","v":25},{"$f":"'Bonusy bez procent'!P89","v":25},{"$f":"'Bonusy bez procent'!Q89","v":25},{"$f":"'Bonusy bez procent'!R89","v":25},{"$f":"'Bonusy bez procent'!S89","v":25},{"$f":"'Bonusy bez procent'!T89","v":25},{"$f":"'Bonusy bez procent'!U89","v":25},{"$f":"'Bonusy bez procent'!V89","v":25},{"$f":"'Bonusy bez procent'!W89","v":25}]
[{"$f":"'Nastavení příloh'!E99","v":7650},{"$f":"'Bonusy bez procent'!B90","v":7600},{"$f":"'Bonusy bez procent'!D90","v":7699},{"$f":"'Bonusy bez procent'!E90","v":0},{"$f":"'Bonusy bez procent'!F90","v":8},{"$f":"'Bonusy bez procent'!G90","v":21},{"$f":"'Bonusy bez procent'!H90","v":25},{"$f":"'Bonusy bez procent'!I90","v":25},{"$f":"'Bonusy bez procent'!J90","v":25},{"$f":"'Bonusy bez procent'!K90","v":25},{"$f":"'Bonusy bez procent'!L90","v":25},{"$f":"'Bonusy bez procent'!M90","v":25},{"$f":"'Bonusy bez procent'!N90","v":25},{"$f":"'Bonusy bez procent'!O90","v":25},{"$f":"'Bonusy bez procent'!P90","v":25},{"$f":"'Bonusy bez procent'!Q90","v":25},{"$f":"'Bonusy bez procent'!R90","v":25},{"$f":"'Bonusy bez procent'!S90","v":25},{"$f":"'Bonusy bez procent'!T90","v":25},{"$f":"'Bonusy bez procent'!U90","v":25},{"$f":"'Bonusy bez procent'!V90","v":25},{"$f":"'Bonusy bez procent'!W90","v":25}]
[{"$f":"'Nastavení příloh'!E100","v":7750},{"$f":"'Bonusy bez procent'!B91","v":7700},{"$f":"'Bonusy bez procent'!D91","v":7799},{"$f":"'Bonusy bez procent'!E91","v":0},{"$f":"'Bonusy bez procent'!F91","v":8},{"$f":"'Bonusy bez procent'!G91","v":22},{"$f":"'Bonusy bez procent'!H91","v":25},{"$f":"'Bonusy bez procent'!I91","v":25},{"$f":"'Bonusy bez procent'!J91","v":25},{"$f":"'Bonusy bez procent'!K91","v":25},{"$f":"'Bonusy bez procent'!L91","v":25},{"$f":"'Bonusy bez procent'!M91","v":25},{"$f":"'Bonusy bez procent'!N91","v":25},{"$f":"'Bonusy bez procent'!O91","v":25},{"$f":"'Bonusy bez procent'!P91","v":25},{"$f":"'Bonusy bez procent'!Q91","v":25},{"$f":"'Bonusy bez procent'!R91","v":25},{"$f":"'Bonusy bez procent'!S91","v":25},{"$f":"'Bonusy bez procent'!T91","v":25},{"$f":"'Bonusy bez procent'!U91","v":25},{"$f":"'Bonusy bez procent'!V91","v":25},{"$f":"'Bonusy bez procent'!W91","v":25}]
[{"$f":"'Nastavení příloh'!E101","v":7850},{"$f":"'Bonusy bez procent'!B92","v":7800},{"$f":"'Bonusy bez procent'!D92","v":7899},{"$f":"'Bonusy bez procent'!E92","v":0},{"$f":"'Bonusy bez procent'!F92","v":8},{"$f":"'Bonusy bez procent'!G92","v":22},{"$f":"'Bonusy bez procent'!H92","v":25},{"$f":"'Bonusy bez procent'!I92","v":25},{"$f":"'Bonusy bez procent'!J92","v":25},{"$f":"'Bonusy bez procent'!K92","v":25},{"$f":"'Bonusy bez procent'!L92","v":25},{"$f":"'Bonusy bez procent'!M92","v":25},{"$f":"'Bonusy bez procent'!N92","v":25},{"$f":"'Bonusy bez procent'!O92","v":25},{"$f":"'Bonusy bez procent'!P92","v":25},{"$f":"'Bonusy bez procent'!Q92","v":25},{"$f":"'Bonusy bez procent'!R92","v":25},{"$f":"'Bonusy bez procent'!S92","v":25},{"$f":"'Bonusy bez procent'!T92","v":25},{"$f":"'Bonusy bez procent'!U92","v":25},{"$f":"'Bonusy bez procent'!V92","v":25},{"$f":"'Bonusy bez procent'!W92","v":25}]
[{"$f":"'Nastavení příloh'!E102","v":7950},{"$f":"'Bonusy bez procent'!B93","v":7900},{"$f":"'Bonusy bez procent'!D93","v":7999},{"$f":"'Bonusy bez procent'!E93","v":0},{"$f":"'Bonusy bez procent'!F93","v":8},{"$f":"'Bonusy bez procent'!G93","v":22},{"$f":"'Bonusy bez procent'!H93","v":25},{"$f":"'Bonusy bez procent'!I93","v":25},{"$f":"'Bonusy bez procent'!J93","v":25},{"$f":"'Bonusy bez procent'!K93","v":25},{"$f":"'Bonusy bez procent'!L93","v":25},{"$f":"'Bonusy bez procent'!M93","v":25},{"$f":"'Bonusy bez procent'!N93","v":25},{"$f":"'Bonusy bez procent'!O93","v":25},{"$f":"'Bonusy bez procent'!P93","v":25},{"$f":"'Bonusy bez procent'!Q93","v":25},{"$f":"'Bonusy bez procent'!R93","v":25},{"$f":"'Bonusy bez procent'!S93","v":25},{"$f":"'Bonusy bez procent'!T93","v":25},{"$f":"'Bonusy bez procent'!U93","v":25},{"$f":"'Bonusy bez procent'!V93","v":25},{"$f":"'Bonusy bez procent'!W93","v":25}]
[{"$f":"'Nastavení příloh'!E103","v":8050},{"$f":"'Bonusy bez procent'!B94","v":8000},{"$f":"'Bonusy bez procent'!D94","v":8099},{"$f":"'Bonusy bez procent'!E94","v":0},{"$f":"'Bonusy bez procent'!F94","v":8},{"$f":"'Bonusy bez procent'!G94","v":23},{"$f":"'Bonusy bez procent'!H94","v":25},{"$f":"'Bonusy bez procent'!I94","v":25},{"$f":"'Bonusy bez procent'!J94","v":25},{"$f":"'Bonusy bez procent'!K94","v":25},{"$f":"'Bonusy bez procent'!L94","v":25},{"$f":"'Bonusy bez procent'!M94","v":25},{"$f":"'Bonusy bez procent'!N94","v":25},{"$f":"'Bonusy bez procent'!O94","v":25},{"$f":"'Bonusy bez procent'!P94","v":25},{"$f":"'Bonusy bez procent'!Q94","v":25},{"$f":"'Bonusy bez procent'!R94","v":25},{"$f":"'Bonusy bez procent'!S94","v":25},{"$f":"'Bonusy bez procent'!T94","v":25},{"$f":"'Bonusy bez procent'!U94","v":25},{"$f":"'Bonusy bez procent'!V94","v":25},{"$f":"'Bonusy bez procent'!W94","v":25}]
[{"$f":"'Nastavení příloh'!E104","v":8150},{"$f":"'Bonusy bez procent'!B95","v":8100},{"$f":"'Bonusy bez procent'!D95","v":8199},{"$f":"'Bonusy bez procent'!E95","v":0},{"$f":"'Bonusy bez procent'!F95","v":9},{"$f":"'Bonusy bez procent'!G95","v":23},{"$f":"'Bonusy bez procent'!H95","v":25},{"$f":"'Bonusy bez procent'!I95","v":25},{"$f":"'Bonusy bez procent'!J95","v":25},{"$f":"'Bonusy bez procent'!K95","v":25},{"$f":"'Bonusy bez procent'!L95","v":25},{"$f":"'Bonusy bez procent'!M95","v":25},{"$f":"'Bonusy bez procent'!N95","v":25},{"$f":"'Bonusy bez procent'!O95","v":25},{"$f":"'Bonusy bez procent'!P95","v":25},{"$f":"'Bonusy bez procent'!Q95","v":25},{"$f":"'Bonusy bez procent'!R95","v":25},{"$f":"'Bonusy bez procent'!S95","v":25},{"$f":"'Bonusy bez procent'!T95","v":25},{"$f":"'Bonusy bez procent'!U95","v":25},{"$f":"'Bonusy bez procent'!V95","v":25},{"$f":"'Bonusy bez procent'!W95","v":25}]
[{"$f":"'Nastavení příloh'!E105","v":8250},{"$f":"'Bonusy bez procent'!B96","v":8200},{"$f":"'Bonusy bez procent'!D96","v":8299},{"$f":"'Bonusy bez procent'!E96","v":0},{"$f":"'Bonusy bez procent'!F96","v":9},{"$f":"'Bonusy bez procent'!G96","v":23},{"$f":"'Bonusy bez procent'!H96","v":25},{"$f":"'Bonusy bez procent'!I96","v":25},{"$f":"'Bonusy bez procent'!J96","v":25},{"$f":"'Bonusy bez procent'!K96","v":25},{"$f":"'Bonusy bez procent'!L96","v":25},{"$f":"'Bonusy bez procent'!M96","v":25},{"$f":"'Bonusy bez procent'!N96","v":25},{"$f":"'Bonusy bez procent'!O96","v":25},{"$f":"'Bonusy bez procent'!P96","v":25},{"$f":"'Bonusy bez procent'!Q96","v":25},{"$f":"'Bonusy bez procent'!R96","v":25},{"$f":"'Bonusy bez procent'!S96","v":25},{"$f":"'Bonusy bez procent'!T96","v":25},{"$f":"'Bonusy bez procent'!U96","v":25},{"$f":"'Bonusy bez procent'!V96","v":25},{"$f":"'Bonusy bez procent'!W96","v":25}]
[{"$f":"'Nastavení příloh'!E106","v":8350},{"$f":"'Bonusy bez procent'!B97","v":8300},{"$f":"'Bonusy bez procent'!D97","v":8399},{"$f":"'Bonusy bez procent'!E97","v":0},{"$f":"'Bonusy bez procent'!F97","v":9},{"$f":"'Bonusy bez procent'!G97","v":23},{"$f":"'Bonusy bez procent'!H97","v":25},{"$f":"'Bonusy bez procent'!I97","v":25},{"$f":"'Bonusy bez procent'!J97","v":25},{"$f":"'Bonusy bez procent'!K97","v":25},{"$f":"'Bonusy bez procent'!L97","v":25},{"$f":"'Bonusy bez procent'!M97","v":25},{"$f":"'Bonusy bez procent'!N97","v":25},{"$f":"'Bonusy bez procent'!O97","v":25},{"$f":"'Bonusy bez procent'!P97","v":25},{"$f":"'Bonusy bez procent'!Q97","v":25},{"$f":"'Bonusy bez procent'!R97","v":25},{"$f":"'Bonusy bez procent'!S97","v":25},{"$f":"'Bonusy bez procent'!T97","v":25},{"$f":"'Bonusy bez procent'!U97","v":25},{"$f":"'Bonusy bez procent'!V97","v":25},{"$f":"'Bonusy bez procent'!W97","v":25}]
[{"$f":"'Nastavení příloh'!E107","v":8450},{"$f":"'Bonusy bez procent'!B98","v":8400},{"$f":"'Bonusy bez procent'!D98","v":8499},{"$f":"'Bonusy bez procent'!E98","v":0},{"$f":"'Bonusy bez procent'!F98","v":9},{"$f":"'Bonusy bez procent'!G98","v":24},{"$f":"'Bonusy bez procent'!H98","v":25},{"$f":"'Bonusy bez procent'!I98","v":25},{"$f":"'Bonusy bez procent'!J98","v":25},{"$f":"'Bonusy bez procent'!K98","v":25},{"$f":"'Bonusy bez procent'!L98","v":25},{"$f":"'Bonusy bez procent'!M98","v":25},{"$f":"'Bonusy bez procent'!N98","v":25},{"$f":"'Bonusy bez procent'!O98","v":25},{"$f":"'Bonusy bez procent'!P98","v":25},{"$f":"'Bonusy bez procent'!Q98","v":25},{"$f":"'Bonusy bez procent'!R98","v":25},{"$f":"'Bonusy bez procent'!S98","v":25},{"$f":"'Bonusy bez procent'!T98","v":25},{"$f":"'Bonusy bez procent'!U98","v":25},{"$f":"'Bonusy bez procent'!V98","v":25},{"$f":"'Bonusy bez procent'!W98","v":25}]
[{"$f":"'Nastavení příloh'!E108","v":8550},{"$f":"'Bonusy bez procent'!B99","v":8500},{"$f":"'Bonusy bez procent'!D99","v":8599},{"$f":"'Bonusy bez procent'!E99","v":0},{"$f":"'Bonusy bez procent'!F99","v":9},{"$f":"'Bonusy bez procent'!G99","v":24},{"$f":"'Bonusy bez procent'!H99","v":25},{"$f":"'Bonusy bez procent'!I99","v":25},{"$f":"'Bonusy bez procent'!J99","v":25},{"$f":"'Bonusy bez procent'!K99","v":25},{"$f":"'Bonusy bez procent'!L99","v":25},{"$f":"'Bonusy bez procent'!M99","v":25},{"$f":"'Bonusy bez procent'!N99","v":25},{"$f":"'Bonusy bez procent'!O99","v":25},{"$f":"'Bonusy bez procent'!P99","v":25},{"$f":"'Bonusy bez procent'!Q99","v":25},{"$f":"'Bonusy bez procent'!R99","v":25},{"$f":"'Bonusy bez procent'!S99","v":25},{"$f":"'Bonusy bez procent'!T99","v":25},{"$f":"'Bonusy bez procent'!U99","v":25},{"$f":"'Bonusy bez procent'!V99","v":25},{"$f":"'Bonusy bez procent'!W99","v":25}]
[{"$f":"'Nastavení příloh'!E109","v":8650},{"$f":"'Bonusy bez procent'!B100","v":8600},{"$f":"'Bonusy bez procent'!D100","v":8699},{"$f":"'Bonusy bez procent'!E100","v":0},{"$f":"'Bonusy bez procent'!F100","v":9},{"$f":"'Bonusy bez procent'!G100","v":24},{"$f":"'Bonusy bez procent'!H100","v":25},{"$f":"'Bonusy bez procent'!I100","v":25},{"$f":"'Bonusy bez procent'!J100","v":25},{"$f":"'Bonusy bez procent'!K100","v":25},{"$f":"'Bonusy bez procent'!L100","v":25},{"$f":"'Bonusy bez procent'!M100","v":25},{"$f":"'Bonusy bez procent'!N100","v":25},{"$f":"'Bonusy bez procent'!O100","v":25},{"$f":"'Bonusy bez procent'!P100","v":25},{"$f":"'Bonusy bez procent'!Q100","v":25},{"$f":"'Bonusy bez procent'!R100","v":25},{"$f":"'Bonusy bez procent'!S100","v":25},{"$f":"'Bonusy bez procent'!T100","v":25},{"$f":"'Bonusy bez procent'!U100","v":25},{"$f":"'Bonusy bez procent'!V100","v":25},{"$f":"'Bonusy bez procent'!W100","v":25}]
[{"$f":"'Nastavení příloh'!E110","v":8750},{"$f":"'Bonusy bez procent'!B101","v":8700},{"$f":"'Bonusy bez procent'!D101","v":8799},{"$f":"'Bonusy bez procent'!E101","v":0},{"$f":"'Bonusy bez procent'!F101","v":9},{"$f":"'Bonusy bez procent'!G101","v":25},{"$f":"'Bonusy bez procent'!H101","v":25},{"$f":"'Bonusy bez procent'!I101","v":25},{"$f":"'Bonusy bez procent'!J101","v":25},{"$f":"'Bonusy bez procent'!K101","v":25},{"$f":"'Bonusy bez procent'!L101","v":25},{"$f":"'Bonusy bez procent'!M101","v":25},{"$f":"'Bonusy bez procent'!N101","v":25},{"$f":"'Bonusy bez procent'!O101","v":25},{"$f":"'Bonusy bez procent'!P101","v":25},{"$f":"'Bonusy bez procent'!Q101","v":25},{"$f":"'Bonusy bez procent'!R101","v":25},{"$f":"'Bonusy bez procent'!S101","v":25},{"$f":"'Bonusy bez procent'!T101","v":25},{"$f":"'Bonusy bez procent'!U101","v":25},{"$f":"'Bonusy bez procent'!V101","v":25},{"$f":"'Bonusy bez procent'!W101","v":25}]
[{"$f":"'Nastavení příloh'!E111","v":8850},{"$f":"'Bonusy bez procent'!B102","v":8800},{"$f":"'Bonusy bez procent'!D102","v":8899},{"$f":"'Bonusy bez procent'!E102","v":0},{"$f":"'Bonusy bez procent'!F102","v":9},{"$f":"'Bonusy bez procent'!G102","v":25},{"$f":"'Bonusy bez procent'!H102","v":25},{"$f":"'Bonusy bez procent'!I102","v":25},{"$f":"'Bonusy bez procent'!J102","v":25},{"$f":"'Bonusy bez procent'!K102","v":25},{"$f":"'Bonusy bez procent'!L102","v":25},{"$f":"'Bonusy bez procent'!M102","v":25},{"$f":"'Bonusy bez procent'!N102","v":25},{"$f":"'Bonusy bez procent'!O102","v":25},{"$f":"'Bonusy bez procent'!P102","v":25},{"$f":"'Bonusy bez procent'!Q102","v":25},{"$f":"'Bonusy bez procent'!R102","v":25},{"$f":"'Bonusy bez procent'!S102","v":25},{"$f":"'Bonusy bez procent'!T102","v":25},{"$f":"'Bonusy bez procent'!U102","v":25},{"$f":"'Bonusy bez procent'!V102","v":25},{"$f":"'Bonusy bez procent'!W102","v":25}]
[{"$f":"'Nastavení příloh'!E112","v":8950},{"$f":"'Bonusy bez procent'!B103","v":8900},{"$f":"'Bonusy bez procent'!D103","v":8999},{"$f":"'Bonusy bez procent'!E103","v":0},{"$f":"'Bonusy bez procent'!F103","v":9},{"$f":"'Bonusy bez procent'!G103","v":25},{"$f":"'Bonusy bez procent'!H103","v":25},{"$f":"'Bonusy bez procent'!I103","v":25},{"$f":"'Bonusy bez procent'!J103","v":25},{"$f":"'Bonusy bez procent'!K103","v":25},{"$f":"'Bonusy bez procent'!L103","v":25},{"$f":"'Bonusy bez procent'!M103","v":25},{"$f":"'Bonusy bez procent'!N103","v":25},{"$f":"'Bonusy bez procent'!O103","v":25},{"$f":"'Bonusy bez procent'!P103","v":25},{"$f":"'Bonusy bez procent'!Q103","v":25},{"$f":"'Bonusy bez procent'!R103","v":25},{"$f":"'Bonusy bez procent'!S103","v":25},{"$f":"'Bonusy bez procent'!T103","v":25},{"$f":"'Bonusy bez procent'!U103","v":25},{"$f":"'Bonusy bez procent'!V103","v":25},{"$f":"'Bonusy bez procent'!W103","v":25}]
[{"$f":"'Nastavení příloh'!E113","v":9050},{"$f":"'Bonusy bez procent'!B104","v":9000},{"$f":"'Bonusy bez procent'!D104","v":9099},{"$f":"'Bonusy bez procent'!E104","v":0},{"$f":"'Bonusy bez procent'!F104","v":10},{"$f":"'Bonusy bez procent'!G104","v":25},{"$f":"'Bonusy bez procent'!H104","v":25},{"$f":"'Bonusy bez procent'!I104","v":25},{"$f":"'Bonusy bez procent'!J104","v":25},{"$f":"'Bonusy bez procent'!K104","v":25},{"$f":"'Bonusy bez procent'!L104","v":25},{"$f":"'Bonusy bez procent'!M104","v":25},{"$f":"'Bonusy bez procent'!N104","v":25},{"$f":"'Bonusy bez procent'!O104","v":25},{"$f":"'Bonusy bez procent'!P104","v":25},{"$f":"'Bonusy bez procent'!Q104","v":25},{"$f":"'Bonusy bez procent'!R104","v":25},{"$f":"'Bonusy bez procent'!S104","v":25},{"$f":"'Bonusy bez procent'!T104","v":25},{"$f":"'Bonusy bez procent'!U104","v":25},{"$f":"'Bonusy bez procent'!V104","v":25},{"$f":"'Bonusy bez procent'!W104","v":25}]
[{"$f":"'Nastavení příloh'!E114","v":9150},{"$f":"'Bonusy bez procent'!B105","v":9100},{"$f":"'Bonusy bez procent'!D105","v":9199},{"$f":"'Bonusy bez procent'!E105","v":0},{"$f":"'Bonusy bez procent'!F105","v":10},{"$f":"'Bonusy bez procent'!G105","v":25},{"$f":"'Bonusy bez procent'!H105","v":25},{"$f":"'Bonusy bez procent'!I105","v":25},{"$f":"'Bonusy bez procent'!J105","v":25},{"$f":"'Bonusy bez procent'!K105","v":25},{"$f":"'Bonusy bez procent'!L105","v":25},{"$f":"'Bonusy bez procent'!M105","v":25},{"$f":"'Bonusy bez procent'!N105","v":25},{"$f":"'Bonusy bez procent'!O105","v":25},{"$f":"'Bonusy bez procent'!P105","v":25},{"$f":"'Bonusy bez procent'!Q105","v":25},{"$f":"'Bonusy bez procent'!R105","v":25},{"$f":"'Bonusy bez procent'!S105","v":25},{"$f":"'Bonusy bez procent'!T105","v":25},{"$f":"'Bonusy bez procent'!U105","v":25},{"$f":"'Bonusy bez procent'!V105","v":25},{"$f":"'Bonusy bez procent'!W105","v":25}]
[{"$f":"'Nastavení příloh'!E115","v":9250},{"$f":"'Bonusy bez procent'!B106","v":9200},{"$f":"'Bonusy bez procent'!D106","v":9299},{"$f":"'Bonusy bez procent'!E106","v":0},{"$f":"'Bonusy bez procent'!F106","v":10},{"$f":"'Bonusy bez procent'!G106","v":25},{"$f":"'Bonusy bez procent'!H106","v":25},{"$f":"'Bonusy bez procent'!I106","v":25},{"$f":"'Bonusy bez procent'!J106","v":25},{"$f":"'Bonusy bez procent'!K106","v":25},{"$f":"'Bonusy bez procent'!L106","v":25},{"$f":"'Bonusy bez procent'!M106","v":25},{"$f":"'Bonusy bez procent'!N106","v":25},{"$f":"'Bonusy bez procent'!O106","v":25},{"$f":"'Bonusy bez procent'!P106","v":25},{"$f":"'Bonusy bez procent'!Q106","v":25},{"$f":"'Bonusy bez procent'!R106","v":25},{"$f":"'Bonusy bez procent'!S106","v":25},{"$f":"'Bonusy bez procent'!T106","v":25},{"$f":"'Bonusy bez procent'!U106","v":25},{"$f":"'Bonusy bez procent'!V106","v":25},{"$f":"'Bonusy bez procent'!W106","v":25}]
[{"$f":"'Nastavení příloh'!E116","v":9350},{"$f":"'Bonusy bez procent'!B107","v":9300},{"$f":"'Bonusy bez procent'!D107","v":9399},{"$f":"'Bonusy bez procent'!E107","v":0},{"$f":"'Bonusy bez procent'!F107","v":10},{"$f":"'Bonusy bez procent'!G107","v":25},{"$f":"'Bonusy bez procent'!H107","v":25},{"$f":"'Bonusy bez procent'!I107","v":25},{"$f":"'Bonusy bez procent'!J107","v":25},{"$f":"'Bonusy bez procent'!K107","v":25},{"$f":"'Bonusy bez procent'!L107","v":25},{"$f":"'Bonusy bez procent'!M107","v":25},{"$f":"'Bonusy bez procent'!N107","v":25},{"$f":"'Bonusy bez procent'!O107","v":25},{"$f":"'Bonusy bez procent'!P107","v":25},{"$f":"'Bonusy bez procent'!Q107","v":25},{"$f":"'Bonusy bez procent'!R107","v":25},{"$f":"'Bonusy bez procent'!S107","v":25},{"$f":"'Bonusy bez procent'!T107","v":25},{"$f":"'Bonusy bez procent'!U107","v":25},{"$f":"'Bonusy bez procent'!V107","v":25},{"$f":"'Bonusy bez procent'!W107","v":25}]
[{"$f":"'Nastavení příloh'!E117","v":9450},9400,9999,{"$f":"'Bonusy bez procent'!E108","v":0},{"$f":"'Bonusy bez procent'!F108","v":10},{"$f":"'Bonusy bez procent'!G108","v":25},{"$f":"'Bonusy bez procent'!H108","v":25},{"$f":"'Bonusy bez procent'!I108","v":25},{"$f":"'Bonusy bez procent'!J108","v":25},{"$f":"'Bonusy bez procent'!K108","v":25},{"$f":"'Bonusy bez procent'!L108","v":25},{"$f":"'Bonusy bez procent'!M108","v":25},{"$f":"'Bonusy bez procent'!N108","v":25},{"$f":"'Bonusy bez procent'!O108","v":25},{"$f":"'Bonusy bez procent'!P108","v":25},{"$f":"'Bonusy bez procent'!Q108","v":25},{"$f":"'Bonusy bez procent'!R108","v":25},{"$f":"'Bonusy bez procent'!S108","v":25},{"$f":"'Bonusy bez procent'!T108","v":25},{"$f":"'Bonusy bez procent'!U108","v":25},{"$f":"'Bonusy bez procent'!V108","v":25},{"$f":"'Bonusy bez procent'!W108","v":25}]

{"sheet":"šablona bv","index":6,"n_rows":91,"n_cols":22,"rows_kept":91,"cut":false,"hidden":true,"merged":[]}
["objem","objem_min","objem_max",{"$f":"'Bonusy bez procent'!AB5","v":"0 %"},{"$f":"'Bonusy bez procent'!AC5","v":"1-5 %"},{"$f":"'Bonusy bez procent'!AD5","v":"6-10 %"},{"$f":"'Bonusy bez procent'!AE5","v":"11-15 %"},{"$f":"'Bonusy bez procent'!AF5","v":"16-20 %"},{"$f":"'Bonusy bez procent'!AG5","v":"21-25 %"},{"$f":"'Bonusy bez procent'!AH5","v":"26-30 %"},{"$f":"'Bonusy bez procent'!AI5","v":"31-35 %"},{"$f":"'Bonusy bez procent'!AJ5","v":"36-40 %"},{"$f":"'Bonusy bez procent'!AK5","v":"41-45 %"},{"$f":"'Bonusy bez procent'!AL5","v":"46-50 %"},{"$f":"'Bonusy bez procent'!AM5","v":"51-55 %"},{"$f":"'Bonusy bez procent'!AN5","v":"56-60 %"},{"$f":"'Bonusy bez procent'!AO5","v":"61-65 %"},{"$f":"'Bonusy bez procent'!AP5","v":"66-70 %"},{"$f":"'Bonusy bez procent'!AQ5","v":"71-75 %"},{"$f":"'Bonusy bez procent'!AR5","v":"76-80 %"},{"$f":"'Bonusy bez procent'!AS5","v":"81-85 %"},{"$f":"'Bonusy bez procent'!AT5","v":"více jak 85 %"}]
[{"$f":"'Nastavení příloh'!E16","v":550},{"$f":"'Bonusy bez procent'!Y7","v":500},{"$f":"'Bonusy bez procent'!AA7","v":599},{"$f":"'Bonusy bez procent'!AB7","v":0},{"$f":"'Bonusy bez procent'!AC7","v":9},{"$f":"'Bonusy bez procent'!AD7","v":10},{"$f":"'Bonusy bez procent'!AE7","v":12},{"$f":"'Bonusy bez procent'!AF7","v":13},{"$f":"'Bonusy bez procent'!AG7","v":15},{"$f":"'Bonusy bez procent'!AH7","v":17},{"$f":"'Bonusy bez procent'!AI7","v":18},{"$f":"'Bonusy bez procent'!AJ7","v":20},{"$f":"'Bonusy bez procent'!AK7","v":21},{"$f":"'Bonusy bez procent'!AL7","v":23},{"$f":"'Bonusy bez procent'!AM7","v":24},{"$f":"'Bonusy bez procent'!AN7","v":25},{"$f":"'Bonusy bez procent'!AO7","v":25},{"$f":"'Bonusy bez procent'!AP7","v":25},{"$f":"'Bonusy bez procent'!AQ7","v":25},{"$f":"'Bonusy bez procent'!AR7","v":25},{"$f":"'Bonusy bez procent'!AS7","v":25},{"$f":"'Bonusy bez procent'!AT7","v":25}]
[{"$f":"'Nastavení příloh'!E17","v":650},{"$f":"'Bonusy bez procent'!Y8","v":600},{"$f":"'Bonusy bez procent'!AA8","v":699},{"$f":"'Bonusy bez procent'!AB8","v":0},{"$f":"'Bonusy bez procent'!AC8","v":3},{"$f":"'Bonusy bez procent'!AD8","v":5},{"$f":"'Bonusy bez procent'!AE8","v":7},{"$f":"'Bonusy bez procent'!AF8","v":9},{"$f":"'Bonusy bez procent'!AG8","v":11},{"$f":"'Bonusy bez procent'!AH8","v":12},{"$f":"'Bonusy bez procent'!AI8","v":14},{"$f":"'Bonusy bez procent'!AJ8","v":16},{"$f":"'Bonusy bez procent'!AK8","v":18},{"$f":"'Bonusy bez procent'!AL8","v":20},{"$f":"'Bonusy bez procent'!AM8","v":22},{"$f":"'Bonusy bez procent'!AN8","v":24},{"$f":"'Bonusy bez procent'!AO8","v":25},{"$f":"'Bonusy bez procent'!AP8","v":25},{"$f":"'Bonusy bez procent'!AQ8","v":25},{"$f":"'Bonusy bez procent'!AR8","v":25},{"$f":"'Bonusy bez procent'!AS8","v":25},{"$f":"'Bonusy bez procent'!AT8","v":25}]
[{"$f":"'Nastavení příloh'!E18","v":750},{"$f":"'Bonusy bez procent'!Y9","v":700},{"$f":"'Bonusy bez procent'!AA9","v":799},{"$f":"'Bonusy bez procent'!AB9","v":0},{"$f":"'Bonusy bez procent'!AC9","v":0},{"$f":"'Bonusy bez procent'!AD9","v":0},{"$f":"'Bonusy bez procent'!AE9","v":2},{"$f":"'Bonusy bez procent'!AF9","v":4},{"$f":"'Bonusy bez procent'!AG9","v":6},{"$f":"'Bonusy bez procent'!AH9","v":8},{"$f":"'Bonusy bez procent'!AI9","v":11},{"$f":"'Bonusy bez procent'!AJ9","v":13},{"$f":"'Bonusy bez procent'!AK9","v":15},{"$f":"'Bonusy bez procent'!AL9","v":17},{"$f":"'Bonusy bez procent'!AM9","v":19},{"$f":"'Bonusy bez procent'!AN9","v":21},{"$f":"'Bonusy bez procent'!AO9","v":23},{"$f":"'Bonusy bez procent'!AP9","v":25},{"$f":"'Bonusy bez procent'!AQ9","v":25},{"$f":"'Bonusy bez procent'!AR9","v":25},{"$f":"'Bonusy bez procent'!AS9","v":25},{"$f":"'Bonusy bez procent'!AT9","v":25}]
[{"$f":"'Nastavení příloh'!E19","v":850},{"$f":"'Bonusy bez procent'!Y10","v":800},{"$f":"'Bonusy bez procent'!AA10","v":899},{"$f":"'Bonusy bez procent'!AB10","v":0},{"$f":"'Bonusy bez procent'!AC10","v":0},{"$f":"'Bonusy bez procent'!AD10","v":0},{"$f":"'Bonusy bez procent'!AE10","v":0},{"$f":"'Bonusy bez procent'!AF10","v":0},{"$f":"'Bonusy bez procent'!AG10","v":2},{"$f":"'Bonusy bez procent'!AH10","v":4},{"$f":"'Bonusy bez procent'!AI10","v":7},{"$f":"'Bonusy bez procent'!AJ10","v":9},{"$f":"'Bonusy bez procent'!AK10","v":12},{"$f":"'Bonusy bez procent'!AL10","v":14},{"$f":"'Bonusy bez procent'!AM10","v":16},{"$f":"'Bonusy bez procent'!AN10","v":19},{"$f":"'Bonusy bez procent'!AO10","v":21},{"$f":"'Bonusy bez procent'!AP10","v":24},{"$f":"'Bonusy bez procent'!AQ10","v":25},{"$f":"'Bonusy bez procent'!AR10","v":25},{"$f":"'Bonusy bez procent'!AS10","v":25},{"$f":"'Bonusy bez procent'!AT10","v":24}]
[{"$f":"'Nastavení příloh'!E20","v":950},{"$f":"'Bonusy bez procent'!Y11","v":900},{"$f":"'Bonusy bez procent'!AA11","v":999},{"$f":"'Bonusy bez procent'!AB11","v":0},{"$f":"'Bonusy bez procent'!AC11","v":0},{"$f":"'Bonusy bez procent'!AD11","v":0},{"$f":"'Bonusy bez procent'!AE11","v":0},{"$f":"'Bonusy bez procent'!AF11","v":0},{"$f":"'Bonusy bez procent'!AG11","v":0},{"$f":"'Bonusy bez procent'!AH11","v":0},{"$f":"'Bonusy bez procent'!AI11","v":3},{"$f":"'Bonusy bez procent'!AJ11","v":6},{"$f":"'Bonusy bez procent'!AK11","v":8},{"$f":"'Bonusy bez procent'!AL11","v":11},{"$f":"'Bonusy bez procent'!AM11","v":14},{"$f":"'Bonusy bez procent'!AN11","v":16},{"$f":"'Bonusy bez procent'!AO11","v":19},{"$f":"'Bonusy bez procent'!AP11","v":22},{"$f":"'Bonusy bez procent'!AQ11","v":25},{"$f":"'Bonusy bez procent'!AR11","v":25},{"$f":"'Bonusy bez procent'!AS11","v":24},{"$f":"'Bonusy bez procent'!AT11","v":22}]
[{"$f":"'Nastavení příloh'!E21","v":1050},{"$f":"'Bonusy bez procent'!Y12","v":1000},{"$f":"'Bonusy bez procent'!AA12","v":1099},{"$f":"'Bonusy bez procent'!AB12","v":0},{"$f":"'Bonusy bez procent'!AC12","v":0},{"$f":"'Bonusy bez procent'!AD12","v":0},{"$f":"'Bonusy bez procent'!AE12","v":0},{"$f":"'Bonusy bez procent'!AF12","v":0},{"$f":"'Bonusy bez procent'!AG12","v":0},{"$f":"'Bonusy bez procent'!AH12","v":0},{"$f":"'Bonusy bez procent'!AI12","v":0},{"$f":"'Bonusy bez procent'!AJ12","v":2},{"$f":"'Bonusy bez procent'!AK12","v":5},{"$f":"'Bonusy bez procent'!AL12","v":8},{"$f":"'Bonusy bez procent'!AM12","v":11},{"$f":"'Bonusy bez procent'!AN12","v":14},{"$f":"'Bonusy bez procent'!AO12","v":17},{"$f":"'Bonusy bez procent'!AP12","v":20},{"$f":"'Bonusy bez procent'!AQ12","v":23},{"$f":"'Bonusy bez procent'!AR12","v":25},{"$f":"'Bonusy bez procent'!AS12","v":23},{"$f":"'Bonusy bez procent'!AT12","v":20}]
[{"$f":"'Nastavení příloh'!E22","v":1150},{"$f":"'Bonusy bez procent'!Y13","v":1100},{"$f":"'Bonusy bez procent'!AA13","v":1199},{"$f":"'Bonusy bez procent'!AB13","v":-3},{"$f":"'Bonusy bez procent'!AC13","v":-2},{"$f":"'Bonusy bez procent'!AD13","v":0},{"$f":"'Bonusy bez procent'!AE13","v":0},{"$f":"'Bonusy bez procent'!AF13","v":0},{"$f":"'Bonusy bez procent'!AG13","v":0},{"$f":"'Bonusy bez procent'!AH13","v":0},{"$f":"'Bonusy bez procent'!AI13","v":0},{"$f":"'Bonusy bez procent'!AJ13","v":0},{"$f":"'Bonusy bez procent'!AK13","v":2},{"$f":"'Bonusy bez procent'!AL13","v":5},{"$f":"'Bonusy bez procent'!AM13","v":8},{"$f":"'Bonusy bez procent'!AN13","v":12},{"$f":"'Bonusy bez procent'!AO13","v":15},{"$f":"'Bonusy bez procent'!AP13","v":18},{"$f":"'Bonusy bez procent'!AQ13","v":21},{"$f":"'Bonusy bez procent'!AR13","v":25},{"$f":"'Bonusy bez procent'!AS13","v":21},{"$f":"'Bonusy bez procent'!AT13","v":18}]
[{"$f":"'Nastavení příloh'!E23","v":1250},{"$f":"'Bonusy bez procent'!Y14","v":1200},{"$f":"'Bonusy bez procent'!AA14","v":1299},{"$f":"'Bonusy bez procent'!AB14","v":-6},{"$f":"'Bonusy bez procent'!AC14","v":-5},{"$f":"'Bonusy bez procent'!AD14","v":-3},{"$f":"'Bonusy bez procent'!AE14","v":-1},{"$f":"'Bonusy bez procent'!AF14","v":0},{"$f":"'Bonusy bez procent'!AG14","v":0},{"$f":"'Bonusy bez procent'!AH14","v":0},{"$f":"'Bonusy bez procent'!AI14","v":0},{"$f":"'Bonusy bez procent'!AJ14","v":0},{"$f":"'Bonusy bez procent'!AK14","v":0},{"$f":"'Bonusy bez procent'!AL14","v":2},{"$f":"'Bonusy bez procent'!AM14","v":6},{"$f":"'Bonusy bez procent'!AN14","v":9},{"$f":"'Bonusy bez procent'!AO14","v":13},{"$f":"'Bonusy bez procent'!AP14","v":16},{"$f":"'Bonusy bez procent'!AQ14","v":20},{"$f":"'Bonusy bez procent'!AR14","v":23},{"$f":"'Bonusy bez procent'!AS14","v":20},{"$f":"'Bonusy bez procent'!AT14","v":16}]
[{"$f":"'Nastavení příloh'!E24","v":1350},{"$f":"'Bonusy bez procent'!Y15","v":1300},{"$f":"'Bonusy bez procent'!AA15","v":1399},{"$f":"'Bonusy bez procent'!AB15","v":-9},{"$f":"'Bonusy bez procent'!AC15","v":-8},{"$f":"'Bonusy bez procent'!AD15","v":-6},{"$f":"'Bonusy bez procent'!AE15","v":-4},{"$f":"'Bonusy bez procent'!AF15","v":-2},{"$f":"'Bonusy bez procent'!AG15","v":0},{"$f":"'Bonusy bez procent'!AH15","v":0},{"$f":"'Bonusy bez procent'!AI15","v":0},{"$f":"'Bonusy bez procent'!AJ15","v":0},{"$f":"'Bonusy bez procent'!AK15","v":0},{"$f":"'Bonusy bez procent'!AL15","v":0},{"$f":"'Bonusy bez procent'!AM15","v":3},{"$f":"'Bonusy bez procent'!AN15","v":7},{"$f":"'Bonusy bez procent'!AO15","v":11},{"$f":"'Bonusy bez procent'!AP15","v":15},{"$f":"'Bonusy bez procent'!AQ15","v":18},{"$f":"'Bonusy bez procent'!AR15","v":22},{"$f":"'Bonusy bez procent'!AS15","v":18},{"$f":"'Bonusy bez procent'!AT15","v":15}]
[{"$f":"'Nastavení příloh'!E25","v":1450},{"$f":"'Bonusy bez procent'!Y16","v":1400},{"$f":"'Bonusy bez procent'!AA16","v":1499},{"$f":"'Bonusy bez procent'!AB16","v":-12},{"$f":"'Bonusy bez procent'!AC16","v":-10},{"$f":"'Bonusy bez procent'!AD16","v":-8},{"$f":"'Bonusy bez procent'!AE16","v":-6},{"$f":"'Bonusy bez procent'!AF16","v":-4},{"$f":"'Bonusy bez procent'!AG16","v":-2},{"$f":"'Bonusy bez procent'!AH16","v":0},{"$f":"'Bonusy bez procent'!AI16","v":0},{"$f":"'Bonusy bez procent'!AJ16","v":0},{"$f":"'Bonusy bez procent'!AK16","v":0},{"$f":"'Bonusy bez procent'!AL16","v":0},{"$f":"'Bonusy bez procent'!AM16","v":0},{"$f":"'Bonusy bez procent'!AN16","v":4},{"$f":"'Bonusy bez procent'!AO16","v":9},{"$f":"'Bonusy bez procent'!AP16","v":13},{"$f":"'Bonusy bez procent'!AQ16","v":17},{"$f":"'Bonusy bez procent'!AR16","v":21},{"$f":"'Bonusy bez procent'!AS16","v":17},{"$f":"'Bonusy bez procent'!AT16","v":13}]
[{"$f":"'Nastavení příloh'!E26","v":1550},{"$f":"'Bonusy bez procent'!Y17","v":1500},{"$f":"'Bonusy bez procent'!AA17","v":1599},{"$f":"'Bonusy bez procent'!AB17","v":-13},{"$f":"'Bonusy bez procent'!AC17","v":-13},{"$f":"'Bonusy bez procent'!AD17","v":-11},{"$f":"'Bonusy bez procent'!AE17","v":-9},{"$f":"'Bonusy bez procent'!AF17","v":-7},{"$f":"'Bonusy bez procent'!AG17","v":-4},{"$f":"'Bonusy bez procent'!AH17","v":-2},{"$f":"'Bonusy bez procent'!AI17","v":0},{"$f":"'Bonusy bez procent'!AJ17","v":0},{"$f":"'Bonusy bez procent'!AK17","v":0},{"$f":"'Bonusy bez procent'!AL17","v":0},{"$f":"'Bonusy bez procent'!AM17","v":0},{"$f":"'Bonusy bez procent'!AN17","v":2},{"$f":"'Bonusy bez procent'!AO17","v":7},{"$f":"'Bonusy bez procent'!AP17","v":11},{"$f":"'Bonusy bez procent'!AQ17","v":15},{"$f":"'Bonusy bez procent'!AR17","v":20},{"$f":"'Bonusy bez procent'!AS17","v":15},{"$f":"'Bonusy bez procent'!AT17","v":11}]
[{"$f":"'Nastavení příloh'!E27","v":1650},{"$f":"'Bonusy bez procent'!Y18","v":1600},{"$f":"'Bonusy bez procent'!AA18","v":1699},{"$f":"'Bonusy bez procent'!AB18","v":-13},{"$f":"'Bonusy bez procent'!AC18","v":-13},{"$f":"'Bonusy bez procent'!AD18","v":-13},{"$f":"'Bonusy bez procent'!AE18","v":-11},{"$f":"'Bonusy bez procent'!AF18","v":-9},{"$f":"'Bonusy bez procent'!AG18","v":-6},{"$f":"'Bonusy bez procent'!AH18","v":-4},{"$f":"'Bonusy bez procent'!AI18","v":-2},{"$f":"'Bonusy bez procent'!AJ18","v":0},{"$f":"'Bonusy bez procent'!AK18","v":0},{"$f":"'Bonusy bez procent'!AL18","v":0},{"$f":"'Bonusy bez procent'!AM18","v":0},{"$f":"'Bonusy bez procent'!AN18","v":0},{"$f":"'Bonusy bez procent'!AO18","v":4},{"$f":"'Bonusy bez procent'!AP18","v":9},{"$f":"'Bonusy bez procent'!AQ18","v":14},{"$f":"'Bonusy bez procent'!AR18","v":18},{"$f":"'Bonusy bez procent'!AS18","v":14},{"$f":"'Bonusy bez procent'!AT18","v":9}]
[{"$f":"'Nastavení příloh'!E28","v":1750},{"$f":"'Bonusy bez procent'!Y19","v":1700},{"$f":"'Bonusy bez procent'!AA19","v":1799},{"$f":"'Bonusy bez procent'!AB19","v":-13},{"$f":"'Bonusy bez procent'!AC19","v":-13},{"$f":"'Bonusy bez procent'!AD19","v":-13},{"$f":"'Bonusy bez procent'!AE19","v":-13},{"$f":"'Bonusy bez procent'!AF19","v":-11},{"$f":"'Bonusy bez procent'!AG19","v":-9},{"$f":"'Bonusy bez procent'!AH19","v":-6},{"$f":"'Bonusy bez procent'!AI19","v":-4},{"$f":"'Bonusy bez procent'!AJ19","v":-1},{"$f":"'Bonusy bez procent'!AK19","v":0},{"$f":"'Bonusy bez procent'!AL19","v":0},{"$f":"'Bonusy bez procent'!AM19","v":0},{"$f":"'Bonusy bez procent'!AN19","v":0},{"$f":"'Bonusy bez procent'!AO19","v":2},{"$f":"'Bonusy bez procent'!AP19","v":7},{"$f":"'Bonusy bez procent'!AQ19","v":12},{"$f":"'Bonusy bez procent'!AR19","v":17},{"$f":"'Bonusy bez procent'!AS19","v":12},{"$f":"'Bonusy bez procent'!AT19","v":7}]
[{"$f":"'Nastavení příloh'!E29","v":1850},{"$f":"'Bonusy bez procent'!Y20","v":1800},{"$f":"'Bonusy bez procent'!AA20","v":1899},{"$f":"'Bonusy bez procent'!AB20","v":-13},{"$f":"'Bonusy bez procent'!AC20","v":-13},{"$f":"'Bonusy bez procent'!AD20","v":-13},{"$f":"'Bonusy bez procent'!AE20","v":-13},{"$f":"'Bonusy bez procent'!AF20","v":-13},{"$f":"'Bonusy bez procent'!AG20","v":-11},{"$f":"'Bonusy bez procent'!AH20","v":-8},{"$f":"'Bonusy bez procent'!AI20","v":-6},{"$f":"'Bonusy bez procent'!AJ20","v":-3},{"$f":"'Bonusy bez procent'!AK20","v":0},{"$f":"'Bonusy bez procent'!AL20","v":0},{"$f":"'Bonusy bez procent'!AM20","v":0},{"$f":"'Bonusy bez procent'!AN20","v":0},{"$f":"'Bonusy bez procent'!AO20","v":0},{"$f":"'Bonusy bez procent'!AP20","v":5},{"$f":"'Bonusy bez procent'!AQ20","v":11},{"$f":"'Bonusy bez procent'!AR20","v":16},{"$f":"'Bonusy bez procent'!AS20","v":11},{"$f":"'Bonusy bez procent'!AT20","v":5}]
[{"$f":"'Nastavení příloh'!E30","v":1950},{"$f":"'Bonusy bez procent'!Y21","v":1900},{"$f":"'Bonusy bez procent'!AA21","v":1999},{"$f":"'Bonusy bez procent'!AB21","v":-13},{"$f":"'Bonusy bez procent'!AC21","v":-13},{"$f":"'Bonusy bez procent'!AD21","v":-13},{"$f":"'Bonusy bez procent'!AE21","v":-13},{"$f":"'Bonusy bez procent'!AF21","v":-13},{"$f":"'Bonusy bez procent'!AG21","v":-13},{"$f":"'Bonusy bez procent'!AH21","v":-10},{"$f":"'Bonusy bez procent'!AI21","v":-8},{"$f":"'Bonusy bez procent'!AJ21","v":-5},{"$f":"'Bonusy bez procent'!AK21","v":-2},{"$f":"'Bonusy bez procent'!AL21","v":0},{"$f":"'Bonusy bez procent'!AM21","v":0},{"$f":"'Bonusy bez procent'!AN21","v":0},{"$f":"'Bonusy bez procent'!AO21","v":0},{"$f":"'Bonusy bez procent'!AP21","v":4},{"$f":"'Bonusy bez procent'!AQ21","v":9},{"$f":"'Bonusy bez procent'!AR21","v":15},{"$f":"'Bonusy bez procent'!AS21","v":9},{"$f":"'Bonusy bez procent'!AT21","v":4}]
[{"$f":"'Nastavení příloh'!E31","v":2050},{"$f":"'Bonusy bez procent'!Y22","v":2000},{"$f":"'Bonusy bez procent'!AA22","v":2099},{"$f":"'Bonusy bez procent'!AB22","v":-13},{"$f":"'Bonusy bez procent'!AC22","v":-13},{"$f":"'Bonusy bez procent'!AD22","v":-13},{"$f":"'Bonusy bez procent'!AE22","v":-13},{"$f":"'Bonusy bez procent'!AF22","v":-13},{"$f":"'Bonusy bez procent'!AG22","v":-13},{"$f":"'Bonusy bez procent'!AH22","v":-12},{"$f":"'Bonusy bez procent'!AI22","v":-9},{"$f":"'Bonusy bez procent'!AJ22","v":-7},{"$f":"'Bonusy bez procent'!AK22","v":-4},{"$f":"'Bonusy bez procent'!AL22","v":-1},{"$f":"'Bonusy bez procent'!AM22","v":0},{"$f":"'Bonusy bez procent'!AN22","v":0},{"$f":"'Bonusy bez procent'!AO22","v":0},{"$f":"'Bonusy bez procent'!AP22","v":2},{"$f":"'Bonusy bez procent'!AQ22","v":8},{"$f":"'Bonusy bez procent'!AR22","v":13},{"$f":"'Bonusy bez procent'!AS22","v":8},{"$f":"'Bonusy bez procent'!AT22","v":2}]
[{"$f":"'Nastavení příloh'!E32","v":2150},{"$f":"'Bonusy bez procent'!Y23","v":2100},{"$f":"'Bonusy bez procent'!AA23","v":2199},{"$f":"'Bonusy bez procent'!AB23","v":-13},{"$f":"'Bonusy bez procent'!AC23","v":-13},{"$f":"'Bonusy bez procent'!AD23","v":-13},{"$f":"'Bonusy bez procent'!AE23","v":-13},{"$f":"'Bonusy bez procent'!AF23","v":-13},{"$f":"'Bonusy bez procent'!AG23","v":-13},{"$f":"'Bonusy bez procent'!AH23","v":-13},{"$f":"'Bonusy bez procent'!AI23","v":-11},{"$f":"'Bonusy bez procent'!AJ23","v":-8},{"$f":"'Bonusy bez procent'!AK23","v":-5},{"$f":"'Bonusy bez procent'!AL23","v":-2},{"$f":"'Bonusy bez procent'!AM23","v":0},{"$f":"'Bonusy bez procent'!AN23","v":0},{"$f":"'Bonusy bez procent'!AO23","v":0},{"$f":"'Bonusy bez procent'!AP23","v":0},{"$f":"'Bonusy bez procent'!AQ23","v":6},{"$f":"'Bonusy bez procent'!AR23","v":12},{"$f":"'Bonusy bez procent'!AS23","v":6},{"$f":"'Bonusy bez procent'!AT23","v":0}]
[{"$f":"'Nastavení příloh'!E33","v":2250},{"$f":"'Bonusy bez procent'!Y24","v":2200},{"$f":"'Bonusy bez procent'!AA24","v":2299},{"$f":"'Bonusy bez procent'!AB24","v":-13},{"$f":"'Bonusy bez procent'!AC24","v":-13},{"$f":"'Bonusy bez procent'!AD24","v":-13},{"$f":"'Bonusy bez procent'!AE24","v":-13},{"$f":"'Bonusy bez procent'!AF24","v":-13},{"$f":"'Bonusy bez procent'!AG24","v":-13},{"$f":"'Bonusy bez procent'!AH24","v":-13},{"$f":"'Bonusy bez procent'!AI24","v":-13},{"$f":"'Bonusy bez procent'!AJ24","v":-10},{"$f":"'Bonusy bez procent'!AK24","v":-7},{"$f":"'Bonusy bez procent'!AL24","v":-4},{"$f":"'Bonusy bez procent'!AM24","v":0},{"$f":"'Bonusy bez procent'!AN24","v":0},{"$f":"'Bonusy bez procent'!AO24","v":0},{"$f":"'Bonusy bez procent'!AP24","v":0},{"$f":"'Bonusy bez procent'!AQ24","v":5},{"$f":"'Bonusy bez procent'!AR24","v":11},{"$f":"'Bonusy bez procent'!AS24","v":5},{"$f":"'Bonusy bez procent'!AT24","v":0}]
[{"$f":"'Nastavení příloh'!E34","v":2350},{"$f":"'Bonusy bez procent'!Y25","v":2300},{"$f":"'Bonusy bez procent'!AA25","v":2399},{"$f":"'Bonusy bez procent'!AB25","v":-13},{"$f":"'Bonusy bez procent'!AC25","v":-13},{"$f":"'Bonusy bez procent'!AD25","v":-13},{"$f":"'Bonusy bez procent'!AE25","v":-13},{"$f":"'Bonusy bez procent'!AF25","v":-13},{"$f":"'Bonusy bez procent'!AG25","v":-13},{"$f":"'Bonusy bez procent'!AH25","v":-13},{"$f":"'Bonusy bez procent'!AI25","v":-13},{"$f":"'Bonusy bez procent'!AJ25","v":-12},{"$f":"'Bonusy bez procent'!AK25","v":-8},{"$f":"'Bonusy bez procent'!AL25","v":-5},{"$f":"'Bonusy bez procent'!AM25","v":-2},{"$f":"'Bonusy bez procent'!AN25","v":0},{"$f":"'Bonusy bez procent'!AO25","v":0},{"$f":"'Bonusy bez procent'!AP25","v":0},{"$f":"'Bonusy bez procent'!AQ25","v":3},{"$f":"'Bonusy bez procent'!AR25","v":10},{"$f":"'Bonusy bez procent'!AS25","v":3},{"$f":"'Bonusy bez procent'!AT25","v":0}]
[{"$f":"'Nastavení příloh'!E35","v":2450},{"$f":"'Bonusy bez procent'!Y26","v":2400},{"$f":"'Bonusy bez procent'!AA26","v":2499},{"$f":"'Bonusy bez procent'!AB26","v":-13},{"$f":"'Bonusy bez procent'!AC26","v":-13},{"$f":"'Bonusy bez procent'!AD26","v":-13},{"$f":"'Bonusy bez procent'!AE26","v":-13},{"$f":"'Bonusy bez procent'!AF26","v":-13},{"$f":"'Bonusy bez procent'!AG26","v":-13},{"$f":"'Bonusy bez procent'!AH26","v":-13},{"$f":"'Bonusy bez procent'!AI26","v":-13},{"$f":"'Bonusy bez procent'!AJ26","v":-13},{"$f":"'Bonusy bez procent'!AK26","v":-10},{"$f":"'Bonusy bez procent'!AL26","v":-7},{"$f":"'Bonusy bez procent'!AM26","v":-3},{"$f":"'Bonusy bez procent'!AN26","v":0},{"$f":"'Bonusy bez procent'!AO26","v":0},{"$f":"'Bonusy bez procent'!AP26","v":0},{"$f":"'Bonusy bez procent'!AQ26","v":2},{"$f":"'Bonusy bez procent'!AR26","v":8},{"$f":"'Bonusy bez procent'!AS26","v":2},{"$f":"'Bonusy bez procent'!AT26","v":0}]
[{"$f":"'Nastavení příloh'!E36","v":2550},{"$f":"'Bonusy bez procent'!Y27","v":2500},{"$f":"'Bonusy bez procent'!AA27","v":2599},{"$f":"'Bonusy bez procent'!AB27","v":-13},{"$f":"'Bonusy bez procent'!AC27","v":-13},{"$f":"'Bonusy bez procent'!AD27","v":-13},{"$f":"'Bonusy bez procent'!AE27","v":-13},{"$f":"'Bonusy bez procent'!AF27","v":-13},{"$f":"'Bonusy bez procent'!AG27","v":-13},{"$f":"'Bonusy bez procent'!AH27","v":-13},{"$f":"'Bonusy bez procent'!AI27","v":-13},{"$f":"'Bonusy bez procent'!AJ27","v":-13},{"$f":"'Bonusy bez procent'!AK27","v":-12},{"$f":"'Bonusy bez procent'!AL27","v":-8},{"$f":"'Bonusy bez procent'!AM27","v":-4},{"$f":"'Bonusy bez procent'!AN27","v":-1},{"$f":"'Bonusy bez procent'!AO27","v":0},{"$f":"'Bonusy bez procent'!AP27","v":0},{"$f":"'Bonusy bez procent'!AQ27","v":0},{"$f":"'Bonusy bez procent'!AR27","v":7},{"$f":"'Bonusy bez procent'!AS27","v":0},{"$f":"'Bonusy bez procent'!AT27","v":0}]
[{"$f":"'Nastavení příloh'!E37","v":2650},{"$f":"'Bonusy bez procent'!Y28","v":2600},{"$f":"'Bonusy bez procent'!AA28","v":2699},{"$f":"'Bonusy bez procent'!AB28","v":-13},{"$f":"'Bonusy bez procent'!AC28","v":-13},{"$f":"'Bonusy bez procent'!AD28","v":-13},{"$f":"'Bonusy bez procent'!AE28","v":-13},{"$f":"'Bonusy bez procent'!AF28","v":-13},{"$f":"'Bonusy bez procent'!AG28","v":-13},{"$f":"'Bonusy bez procent'!AH28","v":-13},{"$f":"'Bonusy bez procent'!AI28","v":-13},{"$f":"'Bonusy bez procent'!AJ28","v":-13},{"$f":"'Bonusy bez procent'!AK28","v":-13},{"$f":"'Bonusy bez procent'!AL28","v":-10},{"$f":"'Bonusy bez procent'!AM28","v":-6},{"$f":"'Bonusy bez procent'!AN28","v":-2},{"$f":"'Bonusy bez procent'!AO28","v":0},{"$f":"'Bonusy bez procent'!AP28","v":0},{"$f":"'Bonusy bez procent'!AQ28","v":0},{"$f":"'Bonusy bez procent'!AR28","v":6},{"$f":"'Bonusy bez procent'!AS28","v":0},{"$f":"'Bonusy bez procent'!AT28","v":0}]
[{"$f":"'Nastavení příloh'!E38","v":2750},{"$f":"'Bonusy bez procent'!Y29","v":2700},{"$f":"'Bonusy bez procent'!AA29","v":2799},{"$f":"'Bonusy bez procent'!AB29","v":-13},{"$f":"'Bonusy bez procent'!AC29","v":-13},{"$f":"'Bonusy bez procent'!AD29","v":-13},{"$f":"'Bonusy bez procent'!AE29","v":-13},{"$f":"'Bonusy bez procent'!AF29","v":-13},{"$f":"'Bonusy bez procent'!AG29","v":-13},{"$f":"'Bonusy bez procent'!AH29","v":-13},{"$f":"'Bonusy bez procent'!AI29","v":-13},{"$f":"'Bonusy bez procent'!AJ29","v":-13},{"$f":"'Bonusy bez procent'!AK29","v":-13},{"$f":"'Bonusy bez procent'!AL29","v":-11},{"$f":"'Bonusy bez procent'!AM29","v":-7},{"$f":"'Bonusy bez procent'!AN29","v":-3},{"$f":"'Bonusy bez procent'!AO29","v":0},{"$f":"'Bonusy bez procent'!AP29","v":0},{"$f":"'Bonusy bez procent'!AQ29","v":0},{"$f":"'Bonusy bez procent'!AR29","v":5},{"$f":"'Bonusy bez procent'!AS29","v":0},{"$f":"'Bonusy bez procent'!AT29","v":0}]
[{"$f":"'Nastavení příloh'!E39","v":2850},{"$f":"'Bonusy bez procent'!Y30","v":2800},{"$f":"'Bonusy bez procent'!AA30","v":2899},{"$f":"'Bonusy bez procent'!AB30","v":-13},{"$f":"'Bonusy bez procent'!AC30","v":-13},{"$f":"'Bonusy bez procent'!AD30","v":-13},{"$f":"'Bonusy bez procent'!AE30","v":-13},{"$f":"'Bonusy bez procent'!AF30","v":-13},{"$f":"'Bonusy bez procent'!AG30","v":-13},{"$f":"'Bonusy bez procent'!AH30","v":-13},{"$f":"'Bonusy bez procent'!AI30","v":-13},{"$f":"'Bonusy bez procent'!AJ30","v":-13},{"$f":"'Bonusy bez procent'!AK30","v":-13},{"$f":"'Bonusy bez procent'!AL30","v":-12},{"$f":"'Bonusy bez procent'!AM30","v":-8},{"$f":"'Bonusy bez procent'!AN30","v":-4},{"$f":"'Bonusy bez procent'!AO30","v":0},{"$f":"'Bonusy bez procent'!AP30","v":0},{"$f":"'Bonusy bez procent'!AQ30","v":0},{"$f":"'Bonusy bez procent'!AR30","v":0},{"$f":"'Bonusy bez procent'!AS30","v":0},{"$f":"'Bonusy bez procent'!AT30","v":0}]
[{"$f":"'Nastavení příloh'!E40","v":2950},{"$f":"'Bonusy bez procent'!Y31","v":2900},{"$f":"'Bonusy bez procent'!AA31","v":2999},{"$f":"'Bonusy bez procent'!AB31","v":-13},{"$f":"'Bonusy bez procent'!AC31","v":-13},{"$f":"'Bonusy bez procent'!AD31","v":-13},{"$f":"'Bonusy bez procent'!AE31","v":-13},{"$f":"'Bonusy bez procent'!AF31","v":-13},{"$f":"'Bonusy bez procent'!AG31","v":-13},{"$f":"'Bonusy bez procent'!AH31","v":-13},{"$f":"'Bonusy bez procent'!AI31","v":-13},{"$f":"'Bonusy bez procent'!AJ31","v":-13},{"$f":"'Bonusy bez procent'!AK31","v":-13},{"$f":"'Bonusy bez procent'!AL31","v":-13},{"$f":"'Bonusy bez procent'!AM31","v":-10},{"$f":"'Bonusy bez procent'!AN31","v":-6},{"$f":"'Bonusy bez procent'!AO31","v":-1},{"$f":"'Bonusy bez procent'!AP31","v":0},{"$f":"'Bonusy bez procent'!AQ31","v":0},{"$f":"'Bonusy bez procent'!AR31","v":0},{"$f":"'Bonusy bez procent'!AS31","v":0},{"$f":"'Bonusy bez procent'!AT31","v":0}]
[{"$f":"'Nastavení příloh'!E41","v":3050},{"$f":"'Bonusy bez procent'!Y32","v":3000},{"$f":"'Bonusy bez procent'!AA32","v":3099},{"$f":"'Bonusy bez procent'!AB32","v":-13},{"$f":"'Bonusy bez procent'!AC32","v":-13},{"$f":"'Bonusy bez procent'!AD32","v":-13},{"$f":"'Bonusy bez procent'!AE32","v":-13},{"$f":"'Bonusy bez procent'!AF32","v":-13},{"$f":"'Bonusy bez procent'!AG32","v":-13},{"$f":"'Bonusy bez procent'!AH32","v":-13},{"$f":"'Bonusy bez procent'!AI32","v":-13},{"$f":"'Bonusy bez procent'!AJ32","v":-13},{"$f":"'Bonusy bez procent'!AK32","v":-13},{"$f":"'Bonusy bez procent'!AL32","v":-13},{"$f":"'Bonusy bez procent'!AM32","v":-11},{"$f":"'Bonusy bez procent'!AN32","v":-7},{"$f":"'Bonusy bez procent'!AO32","v":-2},{"$f":"'Bonusy bez procent'!AP32","v":0},{"$f":"'Bonusy bez procent'!AQ32","v":0},{"$f":"'Bonusy bez procent'!AR32","v":0},{"$f":"'Bonusy bez procent'!AS32","v":0},{"$f":"'Bonusy bez procent'!AT32","v":0}]
[{"$f":"'Nastavení příloh'!E42","v":3150},{"$f":"'Bonusy bez procent'!Y33","v":3100},{"$f":"'Bonusy bez procent'!AA33","v":3199},{"$f":"'Bonusy bez procent'!AB33","v":-13},{"$f":"'Bonusy bez procent'!AC33","v":-13},{"$f":"'Bonusy bez procent'!AD33","v":-13},{"$f":"'Bonusy bez procent'!AE33","v":-13},{"$f":"'Bonusy bez procent'!AF33","v":-13},{"$f":"'Bonusy bez procent'!AG33","v":-13},{"$f":"'Bonusy bez procent'!AH33","v":-13},{"$f":"'Bonusy bez procent'!AI33","v":-13},{"$f":"'Bonusy bez procent'!AJ33","v":-13},{"$f":"'Bonusy bez procent'!AK33","v":-13},{"$f":"'Bonusy bez procent'!AL33","v":-13},{"$f":"'Bonusy bez procent'!AM33","v":-12},{"$f":"'Bonusy bez procent'!AN33","v":-8},{"$f":"'Bonusy bez procent'!AO33","v":-4},{"$f":"'Bonusy bez procent'!AP33","v":0},{"$f":"'Bonusy bez procent'!AQ33","v":0},{"$f":"'Bonusy bez procent'!AR33","v":0},{"$f":"'Bonusy bez procent'!AS33","v":0},{"$f":"'Bonusy bez procent'!AT33","v":0}]
[{"$f":"'Nastavení příloh'!E43","v":3250},{"$f":"'Bonusy bez procent'!Y34","v":3200},{"$f":"'Bonusy bez procent'!AA34","v":3299},{"$f":"'Bonusy bez procent'!AB34","v":-13},{"$f":"'Bonusy bez procent'!AC34","v":-13},{"$f":"'Bonusy bez procent'!AD34","v":-13},{"$f":"'Bonusy bez procent'!AE34","v":-13},{"$f":"'Bonusy bez procent'!AF34","v":-13},{"$f":"'Bonusy bez procent'!AG34","v":-13},{"$f":"'Bonusy bez procent'!AH34","v":-13},{"$f":"'Bonusy bez procent'!AI34","v":-13},{"$f":"'Bonusy bez procent'!AJ34","v":-13},{"$f":"'Bonusy bez procent'!AK34","v":-13},{"$f":"'Bonusy bez procent'!AL34","v":-13},{"$f":"'Bonusy bez procent'!AM34","v":-13},{"$f":"'Bonusy bez procent'!AN34","v":-9},{"$f":"'Bonusy bez procent'!AO34","v":-5},{"$f":"'Bonusy bez procent'!AP34","v":0},{"$f":"'Bonusy bez procent'!AQ34","v":0},{"$f":"'Bonusy bez procent'!AR34","v":0},{"$f":"'Bonusy bez procent'!AS34","v":0},{"$f":"'Bonusy bez procent'!AT34","v":0}]
[{"$f":"'Nastavení příloh'!E44","v":3350},{"$f":"'Bonusy bez procent'!Y35","v":3300},{"$f":"'Bonusy bez procent'!AA35","v":3399},{"$f":"'Bonusy bez procent'!AB35","v":-13},{"$f":"'Bonusy bez procent'!AC35","v":-13},{"$f":"'Bonusy bez procent'!AD35","v":-13},{"$f":"'Bonusy bez procent'!AE35","v":-13},{"$f":"'Bonusy bez procent'!AF35","v":-13},{"$f":"'Bonusy bez procent'!AG35","v":-13},{"$f":"'Bonusy bez procent'!AH35","v":-13},{"$f":"'Bonusy bez procent'!AI35","v":-13},{"$f":"'Bonusy bez procent'!AJ35","v":-13},{"$f":"'Bonusy bez procent'!AK35","v":-13},{"$f":"'Bonusy bez procent'!AL35","v":-13},{"$f":"'Bonusy bez procent'!AM35","v":-13},{"$f":"'Bonusy bez procent'!AN35","v":-10},{"$f":"'Bonusy bez procent'!AO35","v":-6},{"$f":"'Bonusy bez procent'!AP35","v":-1},{"$f":"'Bonusy bez procent'!AQ35","v":0},{"$f":"'Bonusy bez procent'!AR35","v":0},{"$f":"'Bonusy bez procent'!AS35","v":0},{"$f":"'Bonusy bez procent'!AT35","v":0}]
[{"$f":"'Nastavení příloh'!E45","v":3450},{"$f":"'Bonusy bez procent'!Y36","v":3400},{"$f":"'Bonusy bez procent'!AA36","v":3499},{"$f":"'Bonusy bez procent'!AB36","v":-13},{"$f":"'Bonusy bez procent'!AC36","v":-13},{"$f":"'Bonusy bez procent'!AD36","v":-13},{"$f":"'Bonusy bez procent'!AE36","v":-13},{"$f":"'Bonusy bez procent'!AF36","v":-13},{"$f":"'Bonusy bez procent'!AG36","v":-13},{"$f":"'Bonusy bez procent'!AH36","v":-13},{"$f":"'Bonusy bez procent'!AI36","v":-13},{"$f":"'Bonusy bez procent'!AJ36","v":-13},{"$f":"'Bonusy bez procent'!AK36","v":-13},{"$f":"'Bonusy bez procent'!AL36","v":-13},{"$f":"'Bonusy bez procent'!AM36","v":-13},{"$f":"'Bonusy bez procent'!AN36","v":-12},{"$f":"'Bonusy bez procent'!AO36","v":-7},{"$f":"'Bonusy bez procent'!AP36","v":-2},{"$f":"'Bonusy bez procent'!AQ36","v":0},{"$f":"'Bonusy bez procent'!AR36","v":0},{"$f":"'Bonusy bez procent'!AS36","v":0},{"$f":"'Bonusy bez procent'!AT36","v":0}]
[{"$f":"'Nastavení příloh'!E52","v":3550},{"$f":"'Bonusy bez procent'!Y43","v":3500},{"$f":"'Bonusy bez procent'!AA43","v":3599},{"$f":"'Bonusy bez procent'!AB43","v":-13},{"$f":"'Bonusy bez procent'!AC43","v":-13},{"$f":"'Bonusy bez procent'!AD43","v":-13},{"$f":"'Bonusy bez procent'!AE43","v":-13},{"$f":"'Bonusy bez procent'!AF43","v":-13},{"$f":"'Bonusy bez procent'!AG43","v":-13},{"$f":"'Bonusy bez procent'!AH43","v":-13},{"$f":"'Bonusy bez procent'!AI43","v":-13},{"$f":"'Bonusy bez procent'!AJ43","v":-13},{"$f":"'Bonusy bez procent'!AK43","v":-13},{"$f":"'Bonusy bez procent'!AL43","v":-13},{"$f":"'Bonusy bez procent'!AM43","v":-13},{"$f":"'Bonusy bez procent'!AN43","v":-13},{"$f":"'Bonusy bez procent'!AO43","v":-8},{"$f":"'Bonusy bez procent'!AP43","v":-3},{"$f":"'Bonusy bez procent'!AQ43","v":0},{"$f":"'Bonusy bez procent'!AR43","v":0},{"$f":"'Bonusy bez procent'!AS43","v":0},{"$f":"'Bonusy bez procent'!AT43","v":0}]
[{"$f":"'Nastavení příloh'!E53","v":3650},{"$f":"'Bonusy bez procent'!Y44","v":3600},{"$f":"'Bonusy bez procent'!AA44","v":3699},{"$f":"'Bonusy bez procent'!AB44","v":-13},{"$f":"'Bonusy bez procent'!AC44","v":-13},{"$f":"'Bonusy bez procent'!AD44","v":-13},{"$f":"'Bonusy bez procent'!AE44","v":-13},{"$f":"'Bonusy bez procent'!AF44","v":-13},{"$f":"'Bonusy bez procent'!AG44","v":-13},{"$f":"'Bonusy bez procent'!AH44","v":-13},{"$f":"'Bonusy bez procent'!AI44","v":-13},{"$f":"'Bonusy bez procent'!AJ44","v":-13},{"$f":"'Bonusy bez procent'!AK44","v":-13},{"$f":"'Bonusy bez procent'!AL44","v":-13},{"$f":"'Bonusy bez procent'!AM44","v":-13},{"$f":"'Bonusy bez procent'!AN44","v":-13},{"$f":"'Bonusy bez procent'!AO44","v":-9},{"$f":"'Bonusy bez procent'!AP44","v":-4},{"$f":"'Bonusy bez procent'!AQ44","v":0},{"$f":"'Bonusy bez procent'!AR44","v":0},{"$f":"'Bonusy bez procent'!AS44","v":0},{"$f":"'Bonusy bez procent'!AT44","v":0}]
[{"$f":"'Nastavení příloh'!E54","v":3750},{"$f":"'Bonusy bez procent'!Y45","v":3700},{"$f":"'Bonusy bez procent'!AA45","v":3799},{"$f":"'Bonusy bez procent'!AB45","v":-13},{"$f":"'Bonusy bez procent'!AC45","v":-13},{"$f":"'Bonusy bez procent'!AD45","v":-13},{"$f":"'Bonusy bez procent'!AE45","v":-13},{"$f":"'Bonusy bez procent'!AF45","v":-13},{"$f":"'Bonusy bez procent'!AG45","v":-13},{"$f":"'Bonusy bez procent'!AH45","v":-13},{"$f":"'Bonusy bez procent'!AI45","v":-13},{"$f":"'Bonusy bez procent'!AJ45","v":-13},{"$f":"'Bonusy bez procent'!AK45","v":-13},{"$f":"'Bonusy bez procent'!AL45","v":-13},{"$f":"'Bonusy bez procent'!AM45","v":-13},{"$f":"'Bonusy bez procent'!AN45","v":-13},{"$f":"'Bonusy bez procent'!AO45","v":-10},{"$f":"'Bonusy bez procent'!AP45","v":-5},{"$f":"'Bonusy bez procent'!AQ45","v":0},{"$f":"'Bonusy bez procent'!AR45","v":0},{"$f":"'Bonusy bez procent'!AS45","v":0},{"$f":"'Bonusy bez procent'!AT45","v":0}]
[{"$f":"'Nastavení příloh'!E55","v":3850},{"$f":"'Bonusy bez procent'!Y46","v":3800},{"$f":"'Bonusy bez procent'!AA46","v":3899},{"$f":"'Bonusy bez procent'!AB46","v":-13},{"$f":"'Bonusy bez procent'!AC46","v":-13},{"$f":"'Bonusy bez procent'!AD46","v":-13},{"$f":"'Bonusy bez procent'!AE46","v":-13},{"$f":"'Bonusy bez procent'!AF46","v":-13},{"$f":"'Bonusy bez procent'!AG46","v":-13},{"$f":"'Bonusy bez procent'!AH46","v":-13},{"$f":"'Bonusy bez procent'!AI46","v":-13},{"$f":"'Bonusy bez procent'!AJ46","v":-13},{"$f":"'Bonusy bez procent'!AK46","v":-13},{"$f":"'Bonusy bez procent'!AL46","v":-13},{"$f":"'Bonusy bez procent'!AM46","v":-13},{"$f":"'Bonusy bez procent'!AN46","v":-13},{"$f":"'Bonusy bez procent'!AO46","v":-11},{"$f":"'Bonusy bez procent'!AP46","v":-5},{"$f":"'Bonusy bez procent'!AQ46","v":0},{"$f":"'Bonusy bez procent'!AR46","v":0},{"$f":"'Bonusy bez procent'!AS46","v":0},{"$f":"'Bonusy bez procent'!AT46","v":0}]
[{"$f":"'Nastavení příloh'!E56","v":3950},{"$f":"'Bonusy bez procent'!Y47","v":3900},{"$f":"'Bonusy bez procent'!AA47","v":3999},{"$f":"'Bonusy bez procent'!AB47","v":-13},{"$f":"'Bonusy bez procent'!AC47","v":-13},{"$f":"'Bonusy bez procent'!AD47","v":-13},{"$f":"'Bonusy bez procent'!AE47","v":-13},{"$f":"'Bonusy bez procent'!AF47","v":-13},{"$f":"'Bonusy bez procent'!AG47","v":-13},{"$f":"'Bonusy bez procent'!AH47","v":-13},{"$f":"'Bonusy bez procent'!AI47","v":-13},{"$f":"'Bonusy bez procent'!AJ47","v":-13},{"$f":"'Bonusy bez procent'!AK47","v":-13},{"$f":"'Bonusy bez procent'!AL47","v":-13},{"$f":"'Bonusy bez procent'!AM47","v":-13},{"$f":"'Bonusy bez procent'!AN47","v":-13},{"$f":"'Bonusy bez procent'!AO47","v":-12},{"$f":"'Bonusy bez procent'!AP47","v":-6},{"$f":"'Bonusy bez procent'!AQ47","v":-1},{"$f":"'Bonusy bez procent'!AR47","v":0},{"$f":"'Bonusy bez procent'!AS47","v":0},{"$f":"'Bonusy bez procent'!AT47","v":0}]
[{"$f":"'Nastavení příloh'!E57","v":4050},{"$f":"'Bonusy bez procent'!Y48","v":4000},{"$f":"'Bonusy bez procent'!AA48","v":4099},{"$f":"'Bonusy bez procent'!AB48","v":-13},{"$f":"'Bonusy bez procent'!AC48","v":-13},{"$f":"'Bonusy bez procent'!AD48","v":-13},{"$f":"'Bonusy bez procent'!AE48","v":-13},{"$f":"'Bonusy bez procent'!AF48","v":-13},{"$f":"'Bonusy bez procent'!AG48","v":-13},{"$f":"'Bonusy bez procent'!AH48","v":-13},{"$f":"'Bonusy bez procent'!AI48","v":-13},{"$f":"'Bonusy bez procent'!AJ48","v":-13},{"$f":"'Bonusy bez procent'!AK48","v":-13},{"$f":"'Bonusy bez procent'!AL48","v":-13},{"$f":"'Bonusy bez procent'!AM48","v":-13},{"$f":"'Bonusy bez procent'!AN48","v":-13},{"$f":"'Bonusy bez procent'!AO48","v":-13},{"$f":"'Bonusy bez procent'!AP48","v":-7},{"$f":"'Bonusy bez procent'!AQ48","v":-1},{"$f":"'Bonusy bez procent'!AR48","v":0},{"$f":"'Bonusy bez procent'!AS48","v":0},{"$f":"'Bonusy bez procent'!AT48","v":0}]
[{"$f":"'Nastavení příloh'!E58","v":4150},{"$f":"'Bonusy bez procent'!Y49","v":4100},{"$f":"'Bonusy bez procent'!AA49","v":4199},{"$f":"'Bonusy bez procent'!AB49","v":-13},{"$f":"'Bonusy bez procent'!AC49","v":-13},{"$f":"'Bonusy bez procent'!AD49","v":-13},{"$f":"'Bonusy bez procent'!AE49","v":-13},{"$f":"'Bonusy bez procent'!AF49","v":-13},{"$f":"'Bonusy bez procent'!AG49","v":-13},{"$f":"'Bonusy bez procent'!AH49","v":-13},{"$f":"'Bonusy bez procent'!AI49","v":-13},{"$f":"'Bonusy bez procent'!AJ49","v":-13},{"$f":"'Bonusy bez procent'!AK49","v":-13},{"$f":"'Bonusy bez procent'!AL49","v":-13},{"$f":"'Bonusy bez procent'!AM49","v":-13},{"$f":"'Bonusy bez procent'!AN49","v":-13},{"$f":"'Bonusy bez procent'!AO49","v":-13},{"$f":"'Bonusy bez procent'!AP49","v":-8},{"$f":"'Bonusy bez procent'!AQ49","v":-2},{"$f":"'Bonusy bez procent'!AR49","v":0},{"$f":"'Bonusy bez procent'!AS49","v":0},{"$f":"'Bonusy bez procent'!AT49","v":0}]
[{"$f":"'Nastavení příloh'!E59","v":4250},{"$f":"'Bonusy bez procent'!Y50","v":4200},{"$f":"'Bonusy bez procent'!AA50","v":4299},{"$f":"'Bonusy bez procent'!AB50","v":-13},{"$f":"'Bonusy bez procent'!AC50","v":-13},{"$f":"'Bonusy bez procent'!AD50","v":-13},{"$f":"'Bonusy bez procent'!AE50","v":-13},{"$f":"'Bonusy bez procent'!AF50","v":-13},{"$f":"'Bonusy bez procent'!AG50","v":-13},{"$f":"'Bonusy bez procent'!AH50","v":-13},{"$f":"'Bonusy bez procent'!AI50","v":-13},{"$f":"'Bonusy bez procent'!AJ50","v":-13},{"$f":"'Bonusy bez procent'!AK50","v":-13},{"$f":"'Bonusy bez procent'!AL50","v":-13},{"$f":"'Bonusy bez procent'!AM50","v":-13},{"$f":"'Bonusy bez procent'!AN50","v":-13},{"$f":"'Bonusy bez procent'!AO50","v":-13},{"$f":"'Bonusy bez procent'!AP50","v":-9},{"$f":"'Bonusy bez procent'!AQ50","v":-3},{"$f":"'Bonusy bez procent'!AR50","v":0},{"$f":"'Bonusy bez procent'!AS50","v":0},{"$f":"'Bonusy bez procent'!AT50","v":0}]
[{"$f":"'Nastavení příloh'!E60","v":4350},{"$f":"'Bonusy bez procent'!Y51","v":4300},{"$f":"'Bonusy bez procent'!AA51","v":4399},{"$f":"'Bonusy bez procent'!AB51","v":-13},{"$f":"'Bonusy bez procent'!AC51","v":-13},{"$f":"'Bonusy bez procent'!AD51","v":-13},{"$f":"'Bonusy bez procent'!AE51","v":-13},{"$f":"'Bonusy bez procent'!AF51","v":-13},{"$f":"'Bonusy bez procent'!AG51","v":-13},{"$f":"'Bonusy bez procent'!AH51","v":-13},{"$f":"'Bonusy bez procent'!AI51","v":-13},{"$f":"'Bonusy bez procent'!AJ51","v":-13},{"$f":"'Bonusy bez procent'!AK51","v":-13},{"$f":"'Bonusy bez procent'!AL51","v":-13},{"$f":"'Bonusy bez procent'!AM51","v":-13},{"$f":"'Bonusy bez procent'!AN51","v":-13},{"$f":"'Bonusy bez procent'!AO51","v":-13},{"$f":"'Bonusy bez procent'!AP51","v":-10},{"$f":"'Bonusy bez procent'!AQ51","v":-4},{"$f":"'Bonusy bez procent'!AR51","v":0},{"$f":"'Bonusy bez procent'!AS51","v":0},{"$f":"'Bonusy bez procent'!AT51","v":0}]
[{"$f":"'Nastavení příloh'!E61","v":4450},{"$f":"'Bonusy bez procent'!Y52","v":4400},{"$f":"'Bonusy bez procent'!AA52","v":4499},{"$f":"'Bonusy bez procent'!AB52","v":-13},{"$f":"'Bonusy bez procent'!AC52","v":-13},{"$f":"'Bonusy bez procent'!AD52","v":-13},{"$f":"'Bonusy bez procent'!AE52","v":-13},{"$f":"'Bonusy bez procent'!AF52","v":-13},{"$f":"'Bonusy bez procent'!AG52","v":-13},{"$f":"'Bonusy bez procent'!AH52","v":-13},{"$f":"'Bonusy bez procent'!AI52","v":-13},{"$f":"'Bonusy bez procent'!AJ52","v":-13},{"$f":"'Bonusy bez procent'!AK52","v":-13},{"$f":"'Bonusy bez procent'!AL52","v":-13},{"$f":"'Bonusy bez procent'!AM52","v":-13},{"$f":"'Bonusy bez procent'!AN52","v":-13},{"$f":"'Bonusy bez procent'!AO52","v":-13},{"$f":"'Bonusy bez procent'!AP52","v":-11},{"$f":"'Bonusy bez procent'!AQ52","v":-5},{"$f":"'Bonusy bez procent'!AR52","v":0},{"$f":"'Bonusy bez procent'!AS52","v":0},{"$f":"'Bonusy bez procent'!AT52","v":0}]
[{"$f":"'Nastavení příloh'!E62","v":4550},{"$f":"'Bonusy bez procent'!Y53","v":4500},{"$f":"'Bonusy bez procent'!AA53","v":4599},{"$f":"'Bonusy bez procent'!AB53","v":-13},{"$f":"'Bonusy bez procent'!AC53","v":-13},{"$f":"'Bonusy bez procent'!AD53","v":-13},{"$f":"'Bonusy bez procent'!AE53","v":-13},{"$f":"'Bonusy bez procent'!AF53","v":-13},{"$f":"'Bonusy bez procent'!AG53","v":-13},{"$f":"'Bonusy bez procent'!AH53","v":-13},{"$f":"'Bonusy bez procent'!AI53","v":-13},{"$f":"'Bonusy bez procent'!AJ53","v":-13},{"$f":"'Bonusy bez procent'!AK53","v":-13},{"$f":"'Bonusy bez procent'!AL53","v":-13},{"$f":"'Bonusy bez procent'!AM53","v":-13},{"$f":"'Bonusy bez procent'!AN53","v":-13},{"$f":"'Bonusy bez procent'!AO53","v":-13},{"$f":"'Bonusy bez procent'!AP53","v":-12},{"$f":"'Bonusy bez procent'!AQ53","v":-5},{"$f":"'Bonusy bez procent'!AR53","v":0},{"$f":"'Bonusy bez procent'!AS53","v":0},{"$f":"'Bonusy bez procent'!AT53","v":0}]
[{"$f":"'Nastavení příloh'!E63","v":4650},{"$f":"'Bonusy bez procent'!Y54","v":4600},{"$f":"'Bonusy bez procent'!AA54","v":4699},{"$f":"'Bonusy bez procent'!AB54","v":-13},{"$f":"'Bonusy bez procent'!AC54","v":-13},{"$f":"'Bonusy bez procent'!AD54","v":-13},{"$f":"'Bonusy bez procent'!AE54","v":-13},{"$f":"'Bonusy bez procent'!AF54","v":-13},{"$f":"'Bonusy bez procent'!AG54","v":-13},{"$f":"'Bonusy bez procent'!AH54","v":-13},{"$f":"'Bonusy bez procent'!AI54","v":-13},{"$f":"'Bonusy bez procent'!AJ54","v":-13},{"$f":"'Bonusy bez procent'!AK54","v":-13},{"$f":"'Bonusy bez procent'!AL54","v":-13},{"$f":"'Bonusy bez procent'!AM54","v":-13},{"$f":"'Bonusy bez procent'!AN54","v":-13},{"$f":"'Bonusy bez procent'!AO54","v":-13},{"$f":"'Bonusy bez procent'!AP54","v":-13},{"$f":"'Bonusy bez procent'!AQ54","v":-6},{"$f":"'Bonusy bez procent'!AR54","v":0},{"$f":"'Bonusy bez procent'!AS54","v":0},{"$f":"'Bonusy bez procent'!AT54","v":0}]
[{"$f":"'Nastavení příloh'!E64","v":4750},{"$f":"'Bonusy bez procent'!Y55","v":4700},{"$f":"'Bonusy bez procent'!AA55","v":4799},{"$f":"'Bonusy bez procent'!AB55","v":-13},{"$f":"'Bonusy bez procent'!AC55","v":-13},{"$f":"'Bonusy bez procent'!AD55","v":-13},{"$f":"'Bonusy bez procent'!AE55","v":-13},{"$f":"'Bonusy bez procent'!AF55","v":-13},{"$f":"'Bonusy bez procent'!AG55","v":-13},{"$f":"'Bonusy bez procent'!AH55","v":-13},{"$f":"'Bonusy bez procent'!AI55","v":-13},{"$f":"'Bonusy bez procent'!AJ55","v":-13},{"$f":"'Bonusy bez procent'!AK55","v":-13},{"$f":"'Bonusy bez procent'!AL55","v":-13},{"$f":"'Bonusy bez procent'!AM55","v":-13},{"$f":"'Bonusy bez procent'!AN55","v":-13},{"$f":"'Bonusy bez procent'!AO55","v":-13},{"$f":"'Bonusy bez procent'!AP55","v":-13},{"$f":"'Bonusy bez procent'!AQ55","v":-7},{"$f":"'Bonusy bez procent'!AR55","v":0},{"$f":"'Bonusy bez procent'!AS55","v":0},{"$f":"'Bonusy bez procent'!AT55","v":0}]
[{"$f":"'Nastavení příloh'!E65","v":4850},{"$f":"'Bonusy bez procent'!Y56","v":4800},{"$f":"'Bonusy bez procent'!AA56","v":4899},{"$f":"'Bonusy bez procent'!AB56","v":-13},{"$f":"'Bonusy bez procent'!AC56","v":-13},{"$f":"'Bonusy bez procent'!AD56","v":-13},{"$f":"'Bonusy bez procent'!AE56","v":-13},{"$f":"'Bonusy bez procent'!AF56","v":-13},{"$f":"'Bonusy bez procent'!AG56","v":-13},{"$f":"'Bonusy bez procent'!AH56","v":-13},{"$f":"'Bonusy bez procent'!AI56","v":-13},{"$f":"'Bonusy bez procent'!AJ56","v":-13},{"$f":"'Bonusy bez procent'!AK56","v":-13},{"$f":"'Bonusy bez procent'!AL56","v":-13},{"$f":"'Bonusy bez procent'!AM56","v":-13},{"$f":"'Bonusy bez procent'!AN56","v":-13},{"$f":"'Bonusy bez procent'!AO56","v":-13},{"$f":"'Bonusy bez procent'!AP56","v":-13},{"$f":"'Bonusy bez procent'!AQ56","v":-8},{"$f":"'Bonusy bez procent'!AR56","v":-1},{"$f":"'Bonusy bez procent'!AS56","v":0},{"$f":"'Bonusy bez procent'!AT56","v":0}]
[{"$f":"'Nastavení příloh'!E66","v":4950},{"$f":"'Bonusy bez procent'!Y57","v":4900},{"$f":"'Bonusy bez procent'!AA57","v":4999},{"$f":"'Bonusy bez procent'!AB57","v":-13},{"$f":"'Bonusy bez procent'!AC57","v":-13},{"$f":"'Bonusy bez procent'!AD57","v":-13},{"$f":"'Bonusy bez procent'!AE57","v":-13},{"$f":"'Bonusy bez procent'!AF57","v":-13},{"$f":"'Bonusy bez procent'!AG57","v":-13},{"$f":"'Bonusy bez procent'!AH57","v":-13},{"$f":"'Bonusy bez procent'!AI57","v":-13},{"$f":"'Bonusy bez procent'!AJ57","v":-13},{"$f":"'Bonusy bez procent'!AK57","v":-13},{"$f":"'Bonusy bez procent'!AL57","v":-13},{"$f":"'Bonusy bez procent'!AM57","v":-13},{"$f":"'Bonusy bez procent'!AN57","v":-13},{"$f":"'Bonusy bez procent'!AO57","v":-13},{"$f":"'Bonusy bez procent'!AP57","v":-13},{"$f":"'Bonusy bez procent'!AQ57","v":-8},{"$f":"'Bonusy bez procent'!AR57","v":-1},{"$f":"'Bonusy bez procent'!AS57","v":0},{"$f":"'Bonusy bez procent'!AT57","v":0}]
[{"$f":"'Nastavení příloh'!E67","v":5050},{"$f":"'Bonusy bez procent'!Y58","v":5000},{"$f":"'Bonusy bez procent'!AA58","v":5099},{"$f":"'Bonusy bez procent'!AB58","v":-13},{"$f":"'Bonusy bez procent'!AC58","v":-13},{"$f":"'Bonusy bez procent'!AD58","v":-13},{"$f":"'Bonusy bez procent'!AE58","v":-13},{"$f":"'Bonusy bez procent'!AF58","v":-13},{"$f":"'Bonusy bez procent'!AG58","v":-13},{"$f":"'Bonusy bez procent'!AH58","v":-13},{"$f":"'Bonusy bez procent'!AI58","v":-13},{"$f":"'Bonusy bez procent'!AJ58","v":-13},{"$f":"'Bonusy bez procent'!AK58","v":-13},{"$f":"'Bonusy bez procent'!AL58","v":-13},{"$f":"'Bonusy bez procent'!AM58","v":-13},{"$f":"'Bonusy bez procent'!AN58","v":-13},{"$f":"'Bonusy bez procent'!AO58","v":-13},{"$f":"'Bonusy bez procent'!AP58","v":-13},{"$f":"'Bonusy bez procent'!AQ58","v":-9},{"$f":"'Bonusy bez procent'!AR58","v":-2},{"$f":"'Bonusy bez procent'!AS58","v":0},{"$f":"'Bonusy bez procent'!AT58","v":0}]
[{"$f":"'Nastavení příloh'!E68","v":5150},{"$f":"'Bonusy bez procent'!Y59","v":5100},{"$f":"'Bonusy bez procent'!AA59","v":5199},{"$f":"'Bonusy bez procent'!AB59","v":-13},{"$f":"'Bonusy bez procent'!AC59","v":-13},{"$f":"'Bonusy bez procent'!AD59","v":-13},{"$f":"'Bonusy bez procent'!AE59","v":-13},{"$f":"'Bonusy bez procent'!AF59","v":-13},{"$f":"'Bonusy bez procent'!AG59","v":-13},{"$f":"'Bonusy bez procent'!AH59","v":-13},{"$f":"'Bonusy bez procent'!AI59","v":-13},{"$f":"'Bonusy bez procent'!AJ59","v":-13},{"$f":"'Bonusy bez procent'!AK59","v":-13},{"$f":"'Bonusy bez procent'!AL59","v":-13},{"$f":"'Bonusy bez procent'!AM59","v":-13},{"$f":"'Bonusy bez procent'!AN59","v":-13},{"$f":"'Bonusy bez procent'!AO59","v":-13},{"$f":"'Bonusy bez procent'!AP59","v":-13},{"$f":"'Bonusy bez procent'!AQ59","v":-10},{"$f":"'Bonusy bez procent'!AR59","v":-3},{"$f":"'Bonusy bez procent'!AS59","v":0},{"$f":"'Bonusy bez procent'!AT59","v":0}]
[{"$f":"'Nastavení příloh'!E69","v":5250},{"$f":"'Bonusy bez procent'!Y60","v":5200},{"$f":"'Bonusy bez procent'!AA60","v":5299},{"$f":"'Bonusy bez procent'!AB60","v":-13},{"$f":"'Bonusy bez procent'!AC60","v":-13},{"$f":"'Bonusy bez procent'!AD60","v":-13},{"$f":"'Bonusy bez procent'!AE60","v":-13},{"$f":"'Bonusy bez procent'!AF60","v":-13},{"$f":"'Bonusy bez procent'!AG60","v":-13},{"$f":"'Bonusy bez procent'!AH60","v":-13},{"$f":"'Bonusy bez procent'!AI60","v":-13},{"$f":"'Bonusy bez procent'!AJ60","v":-13},{"$f":"'Bonusy bez procent'!AK60","v":-13},{"$f":"'Bonusy bez procent'!AL60","v":-13},{"$f":"'Bonusy bez procent'!AM60","v":-13},{"$f":"'Bonusy bez procent'!AN60","v":-13},{"$f":"'Bonusy bez procent'!AO60","v":-13},{"$f":"'Bonusy bez procent'!AP60","v":-13},{"$f":"'Bonusy bez procent'!AQ60","v":-11},{"$f":"'Bonusy bez procent'!AR60","v":-3},{"$f":"'Bonusy bez procent'!AS60","v":0},{"$f":"'Bonusy bez procent'!AT60","v":0}]
[{"$f":"'Nastavení příloh'!E70","v":5350},{"$f":"'Bonusy bez procent'!Y61","v":5300},{"$f":"'Bonusy bez procent'!AA61","v":5399},{"$f":"'Bonusy bez procent'!AB61","v":-13},{"$f":"'Bonusy bez procent'!AC61","v":-13},{"$f":"'Bonusy bez procent'!AD61","v":-13},{"$f":"'Bonusy bez procent'!AE61","v":-13},{"$f":"'Bonusy bez procent'!AF61","v":-13},{"$f":"'Bonusy bez procent'!AG61","v":-13},{"$f":"'Bonusy bez procent'!AH61","v":-13},{"$f":"'Bonusy bez procent'!AI61","v":-13},{"$f":"'Bonusy bez procent'!AJ61","v":-13},{"$f":"'Bonusy bez procent'!AK61","v":-13},{"$f":"'Bonusy bez procent'!AL61","v":-13},{"$f":"'Bonusy bez procent'!AM61","v":-13},{"$f":"'Bonusy bez procent'!AN61","v":-13},{"$f":"'Bonusy bez procent'!AO61","v":-13},{"$f":"'Bonusy bez procent'!AP61","v":-13},{"$f":"'Bonusy bez procent'!AQ61","v":-11},{"$f":"'Bonusy bez procent'!AR61","v":-4},{"$f":"'Bonusy bez procent'!AS61","v":0},{"$f":"'Bonusy bez procent'!AT61","v":0}]
[{"$f":"'Nastavení příloh'!E71","v":5450},{"$f":"'Bonusy bez procent'!Y62","v":5400},{"$f":"'Bonusy bez procent'!AA62","v":5499},{"$f":"'Bonusy bez procent'!AB62","v":-13},{"$f":"'Bonusy bez procent'!AC62","v":-13},{"$f":"'Bonusy bez procent'!AD62","v":-13},{"$f":"'Bonusy bez procent'!AE62","v":-13},{"$f":"'Bonusy bez procent'!AF62","v":-13},{"$f":"'Bonusy bez procent'!AG62","v":-13},{"$f":"'Bonusy bez procent'!AH62","v":-13},{"$f":"'Bonusy bez procent'!AI62","v":-13},{"$f":"'Bonusy bez procent'!AJ62","v":-13},{"$f":"'Bonusy bez procent'!AK62","v":-13},{"$f":"'Bonusy bez procent'!AL62","v":-13},{"$f":"'Bonusy bez procent'!AM62","v":-13},{"$f":"'Bonusy bez procent'!AN62","v":-13},{"$f":"'Bonusy bez procent'!AO62","v":-13},{"$f":"'Bonusy bez procent'!AP62","v":-13},{"$f":"'Bonusy bez procent'!AQ62","v":-12},{"$f":"'Bonusy bez procent'!AR62","v":-4},{"$f":"'Bonusy bez procent'!AS62","v":0},{"$f":"'Bonusy bez procent'!AT62","v":0}]
[{"$f":"'Nastavení příloh'!E72","v":5550},{"$f":"'Bonusy bez procent'!Y63","v":5500},{"$f":"'Bonusy bez procent'!AA63","v":5599},{"$f":"'Bonusy bez procent'!AB63","v":-13},{"$f":"'Bonusy bez procent'!AC63","v":-13},{"$f":"'Bonusy bez procent'!AD63","v":-13},{"$f":"'Bonusy bez procent'!AE63","v":-13},{"$f":"'Bonusy bez procent'!AF63","v":-13},{"$f":"'Bonusy bez procent'!AG63","v":-13},{"$f":"'Bonusy bez procent'!AH63","v":-13},{"$f":"'Bonusy bez procent'!AI63","v":-13},{"$f":"'Bonusy bez procent'!AJ63","v":-13},{"$f":"'Bonusy bez procent'!AK63","v":-13},{"$f":"'Bonusy bez procent'!AL63","v":-13},{"$f":"'Bonusy bez procent'!AM63","v":-13},{"$f":"'Bonusy bez procent'!AN63","v":-13},{"$f":"'Bonusy bez procent'!AO63","v":-13},{"$f":"'Bonusy bez procent'!AP63","v":-13},{"$f":"'Bonusy bez procent'!AQ63","v":-13},{"$f":"'Bonusy bez procent'!AR63","v":-5},{"$f":"'Bonusy bez procent'!AS63","v":0},{"$f":"'Bonusy bez procent'!AT63","v":0}]
[{"$f":"'Nastavení příloh'!E73","v":5650},{"$f":"'Bonusy bez procent'!Y64","v":5600},{"$f":"'Bonusy bez procent'!AA64","v":5699},{"$f":"'Bonusy bez procent'!AB64","v":-13},{"$f":"'Bonusy bez procent'!AC64","v":-13},{"$f":"'Bonusy bez procent'!AD64","v":-13},{"$f":"'Bonusy bez procent'!AE64","v":-13},{"$f":"'Bonusy bez procent'!AF64","v":-13},{"$f":"'Bonusy bez procent'!AG64","v":-13},{"$f":"'Bonusy bez procent'!AH64","v":-13},{"$f":"'Bonusy bez procent'!AI64","v":-13},{"$f":"'Bonusy bez procent'!AJ64","v":-13},{"$f":"'Bonusy bez procent'!AK64","v":-13},{"$f":"'Bonusy bez procent'!AL64","v":-13},{"$f":"'Bonusy bez procent'!AM64","v":-13},{"$f":"'Bonusy bez procent'!AN64","v":-13},{"$f":"'Bonusy bez procent'!AO64","v":-13},{"$f":"'Bonusy bez procent'!AP64","v":-13},{"$f":"'Bonusy bez procent'!AQ64","v":-13},{"$f":"'Bonusy bez procent'!AR64","v":-6},{"$f":"'Bonusy bez procent'!AS64","v":0},{"$f":"'Bonusy bez procent'!AT64","v":0}]
[{"$f":"'Nastavení příloh'!E74","v":5750},{"$f":"'Bonusy bez procent'!Y65","v":5700},{"$f":"'Bonusy bez procent'!AA65","v":5799},{"$f":"'Bonusy bez procent'!AB65","v":-13},{"$f":"'Bonusy bez procent'!AC65","v":-13},{"$f":"'Bonusy bez procent'!AD65","v":-13},{"$f":"'Bonusy bez procent'!AE65","v":-13},{"$f":"'Bonusy bez procent'!AF65","v":-13},{"$f":"'Bonusy bez procent'!AG65","v":-13},{"$f":"'Bonusy bez procent'!AH65","v":-13},{"$f":"'Bonusy bez procent'!AI65","v":-13},{"$f":"'Bonusy bez procent'!AJ65","v":-13},{"$f":"'Bonusy bez procent'!AK65","v":-13},{"$f":"'Bonusy bez procent'!AL65","v":-13},{"$f":"'Bonusy bez procent'!AM65","v":-13},{"$f":"'Bonusy bez procent'!AN65","v":-13},{"$f":"'Bonusy bez procent'!AO65","v":-13},{"$f":"'Bonusy bez procent'!AP65","v":-13},{"$f":"'Bonusy bez procent'!AQ65","v":-13},{"$f":"'Bonusy bez procent'!AR65","v":-6},{"$f":"'Bonusy bez procent'!AS65","v":0},{"$f":"'Bonusy bez procent'!AT65","v":0}]
[{"$f":"'Nastavení příloh'!E75","v":5850},{"$f":"'Bonusy bez procent'!Y66","v":5800},{"$f":"'Bonusy bez procent'!AA66","v":5899},{"$f":"'Bonusy bez procent'!AB66","v":-13},{"$f":"'Bonusy bez procent'!AC66","v":-13},{"$f":"'Bonusy bez procent'!AD66","v":-13},{"$f":"'Bonusy bez procent'!AE66","v":-13},{"$f":"'Bonusy bez procent'!AF66","v":-13},{"$f":"'Bonusy bez procent'!AG66","v":-13},{"$f":"'Bonusy bez procent'!AH66","v":-13},{"$f":"'Bonusy bez procent'!AI66","v":-13},{"$f":"'Bonusy bez procent'!AJ66","v":-13},{"$f":"'Bonusy bez procent'!AK66","v":-13},{"$f":"'Bonusy bez procent'!AL66","v":-13},{"$f":"'Bonusy bez procent'!AM66","v":-13},{"$f":"'Bonusy bez procent'!AN66","v":-13},{"$f":"'Bonusy bez procent'!AO66","v":-13},{"$f":"'Bonusy bez procent'!AP66","v":-13},{"$f":"'Bonusy bez procent'!AQ66","v":-13},{"$f":"'Bonusy bez procent'!AR66","v":-7},{"$f":"'Bonusy bez procent'!AS66","v":0},{"$f":"'Bonusy bez procent'!AT66","v":0}]
[{"$f":"'Nastavení příloh'!E76","v":5950},{"$f":"'Bonusy bez procent'!Y67","v":5900},{"$f":"'Bonusy bez procent'!AA67","v":5999},{"$f":"'Bonusy bez procent'!AB67","v":-13},{"$f":"'Bonusy bez procent'!AC67","v":-13},{"$f":"'Bonusy bez procent'!AD67","v":-13},{"$f":"'Bonusy bez procent'!AE67","v":-13},{"$f":"'Bonusy bez procent'!AF67","v":-13},{"$f":"'Bonusy bez procent'!AG67","v":-13},{"$f":"'Bonusy bez procent'!AH67","v":-13},{"$f":"'Bonusy bez procent'!AI67","v":-13},{"$f":"'Bonusy bez procent'!AJ67","v":-13},{"$f":"'Bonusy bez procent'!AK67","v":-13},{"$f":"'Bonusy bez procent'!AL67","v":-13},{"$f":"'Bonusy bez procent'!AM67","v":-13},{"$f":"'Bonusy bez procent'!AN67","v":-13},{"$f":"'Bonusy bez procent'!AO67","v":-13},{"$f":"'Bonusy bez procent'!AP67","v":-13},{"$f":"'Bonusy bez procent'!AQ67","v":-13},{"$f":"'Bonusy bez procent'!AR67","v":-8},{"$f":"'Bonusy bez procent'!AS67","v":0},{"$f":"'Bonusy bez procent'!AT67","v":0}]
[{"$f":"'Nastavení příloh'!E77","v":6050},{"$f":"'Bonusy bez procent'!Y68","v":6000},{"$f":"'Bonusy bez procent'!AA68","v":6099},{"$f":"'Bonusy bez procent'!AB68","v":-13},{"$f":"'Bonusy bez procent'!AC68","v":-13},{"$f":"'Bonusy bez procent'!AD68","v":-13},{"$f":"'Bonusy bez procent'!AE68","v":-13},{"$f":"'Bonusy bez procent'!AF68","v":-13},{"$f":"'Bonusy bez procent'!AG68","v":-13},{"$f":"'Bonusy bez procent'!AH68","v":-13},{"$f":"'Bonusy bez procent'!AI68","v":-13},{"$f":"'Bonusy bez procent'!AJ68","v":-13},{"$f":"'Bonusy bez procent'!AK68","v":-13},{"$f":"'Bonusy bez procent'!AL68","v":-13},{"$f":"'Bonusy bez procent'!AM68","v":-13},{"$f":"'Bonusy bez procent'!AN68","v":-13},{"$f":"'Bonusy bez procent'!AO68","v":-13},{"$f":"'Bonusy bez procent'!AP68","v":-13},{"$f":"'Bonusy bez procent'!AQ68","v":-13},{"$f":"'Bonusy bez procent'!AR68","v":-8},{"$f":"'Bonusy bez procent'!AS68","v":0},{"$f":"'Bonusy bez procent'!AT68","v":0}]
[{"$f":"'Nastavení příloh'!E78","v":6150},{"$f":"'Bonusy bez procent'!Y69","v":6100},{"$f":"'Bonusy bez procent'!AA69","v":6199},{"$f":"'Bonusy bez procent'!AB69","v":-13},{"$f":"'Bonusy bez procent'!AC69","v":-13},{"$f":"'Bonusy bez procent'!AD69","v":-13},{"$f":"'Bonusy bez procent'!AE69","v":-13},{"$f":"'Bonusy bez procent'!AF69","v":-13},{"$f":"'Bonusy bez procent'!AG69","v":-13},{"$f":"'Bonusy bez procent'!AH69","v":-13},{"$f":"'Bonusy bez procent'!AI69","v":-13},{"$f":"'Bonusy bez procent'!AJ69","v":-13},{"$f":"'Bonusy bez procent'!AK69","v":-13},{"$f":"'Bonusy bez procent'!AL69","v":-13},{"$f":"'Bonusy bez procent'!AM69","v":-13},{"$f":"'Bonusy bez procent'!AN69","v":-13},{"$f":"'Bonusy bez procent'!AO69","v":-13},{"$f":"'Bonusy bez procent'!AP69","v":-13},{"$f":"'Bonusy bez procent'!AQ69","v":-13},{"$f":"'Bonusy bez procent'!AR69","v":-9},{"$f":"'Bonusy bez procent'!AS69","v":0},{"$f":"'Bonusy bez procent'!AT69","v":0}]
[{"$f":"'Nastavení příloh'!E79","v":6250},{"$f":"'Bonusy bez procent'!Y70","v":6200},{"$f":"'Bonusy bez procent'!AA70","v":6299},{"$f":"'Bonusy bez procent'!AB70","v":-13},{"$f":"'Bonusy bez procent'!AC70","v":-13},{"$f":"'Bonusy bez procent'!AD70","v":-13},{"$f":"'Bonusy bez procent'!AE70","v":-13},{"$f":"'Bonusy bez procent'!AF70","v":-13},{"$f":"'Bonusy bez procent'!AG70","v":-13},{"$f":"'Bonusy bez procent'!AH70","v":-13},{"$f":"'Bonusy bez procent'!AI70","v":-13},{"$f":"'Bonusy bez procent'!AJ70","v":-13},{"$f":"'Bonusy bez procent'!AK70","v":-13},{"$f":"'Bonusy bez procent'!AL70","v":-13},{"$f":"'Bonusy bez procent'!AM70","v":-13},{"$f":"'Bonusy bez procent'!AN70","v":-13},{"$f":"'Bonusy bez procent'!AO70","v":-13},{"$f":"'Bonusy bez procent'!AP70","v":-13},{"$f":"'Bonusy bez procent'!AQ70","v":-13},{"$f":"'Bonusy bez procent'!AR70","v":-9},{"$f":"'Bonusy bez procent'!AS70","v":-1},{"$f":"'Bonusy bez procent'!AT70","v":0}]
[{"$f":"'Nastavení příloh'!E80","v":6350},{"$f":"'Bonusy bez procent'!Y71","v":6300},{"$f":"'Bonusy bez procent'!AA71","v":6399},{"$f":"'Bonusy bez procent'!AB71","v":-13},{"$f":"'Bonusy bez procent'!AC71","v":-13},{"$f":"'Bonusy bez procent'!AD71","v":-13},{"$f":"'Bonusy bez procent'!AE71","v":-13},{"$f":"'Bonusy bez procent'!AF71","v":-13},{"$f":"'Bonusy bez procent'!AG71","v":-13},{"$f":"'Bonusy bez procent'!AH71","v":-13},{"$f":"'Bonusy bez procent'!AI71","v":-13},{"$f":"'Bonusy bez procent'!AJ71","v":-13},{"$f":"'Bonusy bez procent'!AK71","v":-13},{"$f":"'Bonusy bez procent'!AL71","v":-13},{"$f":"'Bonusy bez procent'!AM71","v":-13},{"$f":"'Bonusy bez procent'!AN71","v":-13},{"$f":"'Bonusy bez procent'!AO71","v":-13},{"$f":"'Bonusy bez procent'!AP71","v":-13},{"$f":"'Bonusy bez procent'!AQ71","v":-13},{"$f":"'Bonusy bez procent'!AR71","v":-10},{"$f":"'Bonusy bez procent'!AS71","v":-1},{"$f":"'Bonusy bez procent'!AT71","v":0}]
[{"$f":"'Nastavení příloh'!E81","v":6450},{"$f":"'Bonusy bez procent'!Y72","v":6400},{"$f":"'Bonusy bez procent'!AA72","v":6499},{"$f":"'Bonusy bez procent'!AB72","v":-13},{"$f":"'Bonusy bez procent'!AC72","v":-13},{"$f":"'Bonusy bez procent'!AD72","v":-13},{"$f":"'Bonusy bez procent'!AE72","v":-13},{"$f":"'Bonusy bez procent'!AF72","v":-13},{"$f":"'Bonusy bez procent'!AG72","v":-13},{"$f":"'Bonusy bez procent'!AH72","v":-13},{"$f":"'Bonusy bez procent'!AI72","v":-13},{"$f":"'Bonusy bez procent'!AJ72","v":-13},{"$f":"'Bonusy bez procent'!AK72","v":-13},{"$f":"'Bonusy bez procent'!AL72","v":-13},{"$f":"'Bonusy bez procent'!AM72","v":-13},{"$f":"'Bonusy bez procent'!AN72","v":-13},{"$f":"'Bonusy bez procent'!AO72","v":-13},{"$f":"'Bonusy bez procent'!AP72","v":-13},{"$f":"'Bonusy bez procent'!AQ72","v":-13},{"$f":"'Bonusy bez procent'!AR72","v":-11},{"$f":"'Bonusy bez procent'!AS72","v":-2},{"$f":"'Bonusy bez procent'!AT72","v":0}]
[{"$f":"'Nastavení příloh'!E88","v":6550},{"$f":"'Bonusy bez procent'!Y79","v":6500},{"$f":"'Bonusy bez procent'!AA79","v":6599},{"$f":"'Bonusy bez procent'!AB79","v":-13},{"$f":"'Bonusy bez procent'!AC79","v":-13},{"$f":"'Bonusy bez procent'!AD79","v":-13},{"$f":"'Bonusy bez procent'!AE79","v":-13},{"$f":"'Bonusy bez procent'!AF79","v":-13},{"$f":"'Bonusy bez procent'!AG79","v":-13},{"$f":"'Bonusy bez procent'!AH79","v":-13},{"$f":"'Bonusy bez procent'!AI79","v":-13},{"$f":"'Bonusy bez procent'!AJ79","v":-13},{"$f":"'Bonusy bez procent'!AK79","v":-13},{"$f":"'Bonusy bez procent'!AL79","v":-13},{"$f":"'Bonusy bez procent'!AM79","v":-13},{"$f":"'Bonusy bez procent'!AN79","v":-13},{"$f":"'Bonusy bez procent'!AO79","v":-13},{"$f":"'Bonusy bez procent'!AP79","v":-13},{"$f":"'Bonusy bez procent'!AQ79","v":-13},{"$f":"'Bonusy bez procent'!AR79","v":-11},{"$f":"'Bonusy bez procent'!AS79","v":-2},{"$f":"'Bonusy bez procent'!AT79","v":0}]
[{"$f":"'Nastavení příloh'!E89","v":6650},{"$f":"'Bonusy bez procent'!Y80","v":6600},{"$f":"'Bonusy bez procent'!AA80","v":6699},{"$f":"'Bonusy bez procent'!AB80","v":-13},{"$f":"'Bonusy bez procent'!AC80","v":-13},{"$f":"'Bonusy bez procent'!AD80","v":-13},{"$f":"'Bonusy bez procent'!AE80","v":-13},{"$f":"'Bonusy bez procent'!AF80","v":-13},{"$f":"'Bonusy bez procent'!AG80","v":-13},{"$f":"'Bonusy bez procent'!AH80","v":-13},{"$f":"'Bonusy bez procent'!AI80","v":-13},{"$f":"'Bonusy bez procent'!AJ80","v":-13},{"$f":"'Bonusy bez procent'!AK80","v":-13},{"$f":"'Bonusy bez procent'!AL80","v":-13},{"$f":"'Bonusy bez procent'!AM80","v":-13},{"$f":"'Bonusy bez procent'!AN80","v":-13},{"$f":"'Bonusy bez procent'!AO80","v":-13},{"$f":"'Bonusy bez procent'!AP80","v":-13},{"$f":"'Bonusy bez procent'!AQ80","v":-13},{"$f":"'Bonusy bez procent'!AR80","v":-12},{"$f":"'Bonusy bez procent'!AS80","v":-3},{"$f":"'Bonusy bez procent'!AT80","v":0}]
[{"$f":"'Nastavení příloh'!E90","v":6750},{"$f":"'Bonusy bez procent'!Y81","v":6700},{"$f":"'Bonusy bez procent'!AA81","v":6799},{"$f":"'Bonusy bez procent'!AB81","v":-13},{"$f":"'Bonusy bez procent'!AC81","v":-13},{"$f":"'Bonusy bez procent'!AD81","v":-13},{"$f":"'Bonusy bez procent'!AE81","v":-13},{"$f":"'Bonusy bez procent'!AF81","v":-13},{"$f":"'Bonusy bez procent'!AG81","v":-13},{"$f":"'Bonusy bez procent'!AH81","v":-13},{"$f":"'Bonusy bez procent'!AI81","v":-13},{"$f":"'Bonusy bez procent'!AJ81","v":-13},{"$f":"'Bonusy bez procent'!AK81","v":-13},{"$f":"'Bonusy bez procent'!AL81","v":-13},{"$f":"'Bonusy bez procent'!AM81","v":-13},{"$f":"'Bonusy bez procent'!AN81","v":-13},{"$f":"'Bonusy bez procent'!AO81","v":-13},{"$f":"'Bonusy bez procent'!AP81","v":-13},{"$f":"'Bonusy bez procent'!AQ81","v":-13},{"$f":"'Bonusy bez procent'!AR81","v":-13},{"$f":"'Bonusy bez procent'!AS81","v":-3},{"$f":"'Bonusy bez procent'!AT81","v":0}]
[{"$f":"'Nastavení příloh'!E91","v":6850},{"$f":"'Bonusy bez procent'!Y82","v":6800},{"$f":"'Bonusy bez procent'!AA82","v":6899},{"$f":"'Bonusy bez procent'!AB82","v":-13},{"$f":"'Bonusy bez procent'!AC82","v":-13},{"$f":"'Bonusy bez procent'!AD82","v":-13},{"$f":"'Bonusy bez procent'!AE82","v":-13},{"$f":"'Bonusy bez procent'!AF82","v":-13},{"$f":"'Bonusy bez procent'!AG82","v":-13},{"$f":"'Bonusy bez procent'!AH82","v":-13},{"$f":"'Bonusy bez procent'!AI82","v":-13},{"$f":"'Bonusy bez procent'!AJ82","v":-13},{"$f":"'Bonusy bez procent'!AK82","v":-13},{"$f":"'Bonusy bez procent'!AL82","v":-13},{"$f":"'Bonusy bez procent'!AM82","v":-13},{"$f":"'Bonusy bez procent'!AN82","v":-13},{"$f":"'Bonusy bez procent'!AO82","v":-13},{"$f":"'Bonusy bez procent'!AP82","v":-13},{"$f":"'Bonusy bez procent'!AQ82","v":-13},{"$f":"'Bonusy bez procent'!AR82","v":-13},{"$f":"'Bonusy bez procent'!AS82","v":-3},{"$f":"'Bonusy bez procent'!AT82","v":0}]
[{"$f":"'Nastavení příloh'!E92","v":6950},{"$f":"'Bonusy bez procent'!Y83","v":6900},{"$f":"'Bonusy bez procent'!AA83","v":6999},{"$f":"'Bonusy bez procent'!AB83","v":-13},{"$f":"'Bonusy bez procent'!AC83","v":-13},{"$f":"'Bonusy bez procent'!AD83","v":-13},{"$f":"'Bonusy bez procent'!AE83","v":-13},{"$f":"'Bonusy bez procent'!AF83","v":-13},{"$f":"'Bonusy bez procent'!AG83","v":-13},{"$f":"'Bonusy bez procent'!AH83","v":-13},{"$f":"'Bonusy bez procent'!AI83","v":-13},{"$f":"'Bonusy bez procent'!AJ83","v":-13},{"$f":"'Bonusy bez procent'!AK83","v":-13},{"$f":"'Bonusy bez procent'!AL83","v":-13},{"$f":"'Bonusy bez procent'!AM83","v":-13},{"$f":"'Bonusy bez procent'!AN83","v":-13},{"$f":"'Bonusy bez procent'!AO83","v":-13},{"$f":"'Bonusy bez procent'!AP83","v":-13},{"$f":"'Bonusy bez procent'!AQ83","v":-13},{"$f":"'Bonusy bez procent'!AR83","v":-13},{"$f":"'Bonusy bez procent'!AS83","v":-4},{"$f":"'Bonusy bez procent'!AT83","v":0}]
[{"$f":"'Nastavení příloh'!E93","v":7050},{"$f":"'Bonusy bez procent'!Y84","v":7000},{"$f":"'Bonusy bez procent'!AA84","v":7099},{"$f":"'Bonusy bez procent'!AB84","v":-13},{"$f":"'Bonusy bez procent'!AC84","v":-13},{"$f":"'Bonusy bez procent'!AD84","v":-13},{"$f":"'Bonusy bez procent'!AE84","v":-13},{"$f":"'Bonusy bez procent'!AF84","v":-13},{"$f":"'Bonusy bez procent'!AG84","v":-13},{"$f":"'Bonusy bez procent'!AH84","v":-13},{"$f":"'Bonusy bez procent'!AI84","v":-13},{"$f":"'Bonusy bez procent'!AJ84","v":-13},{"$f":"'Bonusy bez procent'!AK84","v":-13},{"$f":"'Bonusy bez procent'!AL84","v":-13},{"$f":"'Bonusy bez procent'!AM84","v":-13},{"$f":"'Bonusy bez procent'!AN84","v":-13},{"$f":"'Bonusy bez procent'!AO84","v":-13},{"$f":"'Bonusy bez procent'!AP84","v":-13},{"$f":"'Bonusy bez procent'!AQ84","v":-13},{"$f":"'Bonusy bez procent'!AR84","v":-13},{"$f":"'Bonusy bez procent'!AS84","v":-4},{"$f":"'Bonusy bez procent'!AT84","v":0}]
[{"$f":"'Nastavení příloh'!E94","v":7150},{"$f":"'Bonusy bez procent'!Y85","v":7100},{"$f":"'Bonusy bez procent'!AA85","v":7199},{"$f":"'Bonusy bez procent'!AB85","v":-13},{"$f":"'Bonusy bez procent'!AC85","v":-13},{"$f":"'Bonusy bez procent'!AD85","v":-13},{"$f":"'Bonusy bez procent'!AE85","v":-13},{"$f":"'Bonusy bez procent'!AF85","v":-13},{"$f":"'Bonusy bez procent'!AG85","v":-13},{"$f":"'Bonusy bez procent'!AH85","v":-13},{"$f":"'Bonusy bez procent'!AI85","v":-13},{"$f":"'Bonusy bez procent'!AJ85","v":-13},{"$f":"'Bonusy bez procent'!AK85","v":-13},{"$f":"'Bonusy bez procent'!AL85","v":-13},{"$f":"'Bonusy bez procent'!AM85","v":-13},{"$f":"'Bonusy bez procent'!AN85","v":-13},{"$f":"'Bonusy bez procent'!AO85","v":-13},{"$f":"'Bonusy bez procent'!AP85","v":-13},{"$f":"'Bonusy bez procent'!AQ85","v":-13},{"$f":"'Bonusy bez procent'!AR85","v":-13},{"$f":"'Bonusy bez procent'!AS85","v":-5},{"$f":"'Bonusy bez procent'!AT85","v":0}]
[{"$f":"'Nastavení příloh'!E95","v":7250},{"$f":"'Bonusy bez procent'!Y86","v":7200},{"$f":"'Bonusy bez procent'!AA86","v":7299},{"$f":"'Bonusy bez procent'!AB86","v":-13},{"$f":"'Bonusy bez procent'!AC86","v":-13},{"$f":"'Bonusy bez procent'!AD86","v":-13},{"$f":"'Bonusy bez procent'!AE86","v":-13},{"$f":"'Bonusy bez procent'!AF86","v":-13},{"$f":"'Bonusy bez procent'!AG86","v":-13},{"$f":"'Bonusy bez procent'!AH86","v":-13},{"$f":"'Bonusy bez procent'!AI86","v":-13},{"$f":"'Bonusy bez procent'!AJ86","v":-13},{"$f":"'Bonusy bez procent'!AK86","v":-13},{"$f":"'Bonusy bez procent'!AL86","v":-13},{"$f":"'Bonusy bez procent'!AM86","v":-13},{"$f":"'Bonusy bez procent'!AN86","v":-13},{"$f":"'Bonusy bez procent'!AO86","v":-13},{"$f":"'Bonusy bez procent'!AP86","v":-13},{"$f":"'Bonusy bez procent'!AQ86","v":-13},{"$f":"'Bonusy bez procent'!AR86","v":-13},{"$f":"'Bonusy bez procent'!AS86","v":-5},{"$f":"'Bonusy bez procent'!AT86","v":0}]
[{"$f":"'Nastavení příloh'!E96","v":7350},{"$f":"'Bonusy bez procent'!Y87","v":7300},{"$f":"'Bonusy bez procent'!AA87","v":7399},{"$f":"'Bonusy bez procent'!AB87","v":-13},{"$f":"'Bonusy bez procent'!AC87","v":-13},{"$f":"'Bonusy bez procent'!AD87","v":-13},{"$f":"'Bonusy bez procent'!AE87","v":-13},{"$f":"'Bonusy bez procent'!AF87","v":-13},{"$f":"'Bonusy bez procent'!AG87","v":-13},{"$f":"'Bonusy bez procent'!AH87","v":-13},{"$f":"'Bonusy bez procent'!AI87","v":-13},{"$f":"'Bonusy bez procent'!AJ87","v":-13},{"$f":"'Bonusy bez procent'!AK87","v":-13},{"$f":"'Bonusy bez procent'!AL87","v":-13},{"$f":"'Bonusy bez procent'!AM87","v":-13},{"$f":"'Bonusy bez procent'!AN87","v":-13},{"$f":"'Bonusy bez procent'!AO87","v":-13},{"$f":"'Bonusy bez procent'!AP87","v":-13},{"$f":"'Bonusy bez procent'!AQ87","v":-13},{"$f":"'Bonusy bez procent'!AR87","v":-13},{"$f":"'Bonusy bez procent'!AS87","v":-6},{"$f":"'Bonusy bez procent'!AT87","v":0}]
[{"$f":"'Nastavení příloh'!E97","v":7450},{"$f":"'Bonusy bez procent'!Y88","v":7400},{"$f":"'Bonusy bez procent'!AA88","v":7499},{"$f":"'Bonusy bez procent'!AB88","v":-13},{"$f":"'Bonusy bez procent'!AC88","v":-13},{"$f":"'Bonusy bez procent'!AD88","v":-13},{"$f":"'Bonusy bez procent'!AE88","v":-13},{"$f":"'Bonusy bez procent'!AF88","v":-13},{"$f":"'Bonusy bez procent'!AG88","v":-13},{"$f":"'Bonusy bez procent'!AH88","v":-13},{"$f":"'Bonusy bez procent'!AI88","v":-13},{"$f":"'Bonusy bez procent'!AJ88","v":-13},{"$f":"'Bonusy bez procent'!AK88","v":-13},{"$f":"'Bonusy bez procent'!AL88","v":-13},{"$f":"'Bonusy bez procent'!AM88","v":-13},{"$f":"'Bonusy bez procent'!AN88","v":-13},{"$f":"'Bonusy bez procent'!AO88","v":-13},{"$f":"'Bonusy bez procent'!AP88","v":-13},{"$f":"'Bonusy bez procent'!AQ88","v":-13},{"$f":"'Bonusy bez procent'!AR88","v":-13},{"$f":"'Bonusy bez procent'!AS88","v":-6},{"$f":"'Bonusy bez procent'!AT88","v":0}]
[{"$f":"'Nastavení příloh'!E98","v":7550},{"$f":"'Bonusy bez procent'!Y89","v":7500},{"$f":"'Bonusy bez procent'!AA89","v":7599},{"$f":"'Bonusy bez procent'!AB89","v":-13},{"$f":"'Bonusy bez procent'!AC89","v":-13},{"$f":"'Bonusy bez procent'!AD89","v":-13},{"$f":"'Bonusy bez procent'!AE89","v":-13},{"$f":"'Bonusy bez procent'!AF89","v":-13},{"$f":"'Bonusy bez procent'!AG89","v":-13},{"$f":"'Bonusy bez procent'!AH89","v":-13},{"$f":"'Bonusy bez procent'!AI89","v":-13},{"$f":"'Bonusy bez procent'!AJ89","v":-13},{"$f":"'Bonusy bez procent'!AK89","v":-13},{"$f":"'Bonusy bez procent'!AL89","v":-13},{"$f":"'Bonusy bez procent'!AM89","v":-13},{"$f":"'Bonusy bez procent'!AN89","v":-13},{"$f":"'Bonusy bez procent'!AO89","v":-13},{"$f":"'Bonusy bez procent'!AP89","v":-13},{"$f":"'Bonusy bez procent'!AQ89","v":-13},{"$f":"'Bonusy bez procent'!AR89","v":-13},{"$f":"'Bonusy bez procent'!AS89","v":-7},{"$f":"'Bonusy bez procent'!AT89","v":0}]
[{"$f":"'Nastavení příloh'!E99","v":7650},{"$f":"'Bonusy bez procent'!Y90","v":7600},{"$f":"'Bonusy bez procent'!AA90","v":7699},{"$f":"'Bonusy bez procent'!AB90","v":-13},{"$f":"'Bonusy bez procent'!AC90","v":-13},{"$f":"'Bonusy bez procent'!AD90","v":-13},{"$f":"'Bonusy bez procent'!AE90","v":-13},{"$f":"'Bonusy bez procent'!AF90","v":-13},{"$f":"'Bonusy bez procent'!AG90","v":-13},{"$f":"'Bonusy bez procent'!AH90","v":-13},{"$f":"'Bonusy bez procent'!AI90","v":-13},{"$f":"'Bonusy bez procent'!AJ90","v":-13},{"$f":"'Bonusy bez procent'!AK90","v":-13},{"$f":"'Bonusy bez procent'!AL90","v":-13},{"$f":"'Bonusy bez procent'!AM90","v":-13},{"$f":"'Bonusy bez procent'!AN90","v":-13},{"$f":"'Bonusy bez procent'!AO90","v":-13},{"$f":"'Bonusy bez procent'!AP90","v":-13},{"$f":"'Bonusy bez procent'!AQ90","v":-13},{"$f":"'Bonusy bez procent'!AR90","v":-13},{"$f":"'Bonusy bez procent'!AS90","v":-7},{"$f":"'Bonusy bez procent'!AT90","v":-1}]
[{"$f":"'Nastavení příloh'!E100","v":7750},{"$f":"'Bonusy bez procent'!Y91","v":7700},{"$f":"'Bonusy bez procent'!AA91","v":7799},{"$f":"'Bonusy bez procent'!AB91","v":-13},{"$f":"'Bonusy bez procent'!AC91","v":-13},{"$f":"'Bonusy bez procent'!AD91","v":-13},{"$f":"'Bonusy bez procent'!AE91","v":-13},{"$f":"'Bonusy bez procent'!AF91","v":-13},{"$f":"'Bonusy bez procent'!AG91","v":-13},{"$f":"'Bonusy bez procent'!AH91","v":-13},{"$f":"'Bonusy bez procent'!AI91","v":-13},{"$f":"'Bonusy bez procent'!AJ91","v":-13},{"$f":"'Bonusy bez procent'!AK91","v":-13},{"$f":"'Bonusy bez procent'!AL91","v":-13},{"$f":"'Bonusy bez procent'!AM91","v":-13},{"$f":"'Bonusy bez procent'!AN91","v":-13},{"$f":"'Bonusy bez procent'!AO91","v":-13},{"$f":"'Bonusy bez procent'!AP91","v":-13},{"$f":"'Bonusy bez procent'!AQ91","v":-13},{"$f":"'Bonusy bez procent'!AR91","v":-13},{"$f":"'Bonusy bez procent'!AS91","v":-8},{"$f":"'Bonusy bez procent'!AT91","v":-1}]
[{"$f":"'Nastavení příloh'!E101","v":7850},{"$f":"'Bonusy bez procent'!Y92","v":7800},{"$f":"'Bonusy bez procent'!AA92","v":7899},{"$f":"'Bonusy bez procent'!AB92","v":-13},{"$f":"'Bonusy bez procent'!AC92","v":-13},{"$f":"'Bonusy bez procent'!AD92","v":-13},{"$f":"'Bonusy bez procent'!AE92","v":-13},{"$f":"'Bonusy bez procent'!AF92","v":-13},{"$f":"'Bonusy bez procent'!AG92","v":-13},{"$f":"'Bonusy bez procent'!AH92","v":-13},{"$f":"'Bonusy bez procent'!AI92","v":-13},{"$f":"'Bonusy bez procent'!AJ92","v":-13},{"$f":"'Bonusy bez procent'!AK92","v":-13},{"$f":"'Bonusy bez procent'!AL92","v":-13},{"$f":"'Bonusy bez procent'!AM92","v":-13},{"$f":"'Bonusy bez procent'!AN92","v":-13},{"$f":"'Bonusy bez procent'!AO92","v":-13},{"$f":"'Bonusy bez procent'!AP92","v":-13},{"$f":"'Bonusy bez procent'!AQ92","v":-13},{"$f":"'Bonusy bez procent'!AR92","v":-13},{"$f":"'Bonusy bez procent'!AS92","v":-8},{"$f":"'Bonusy bez procent'!AT92","v":-2}]
[{"$f":"'Nastavení příloh'!E102","v":7950},{"$f":"'Bonusy bez procent'!Y93","v":7900},{"$f":"'Bonusy bez procent'!AA93","v":7999},{"$f":"'Bonusy bez procent'!AB93","v":-13},{"$f":"'Bonusy bez procent'!AC93","v":-13},{"$f":"'Bonusy bez procent'!AD93","v":-13},{"$f":"'Bonusy bez procent'!AE93","v":-13},{"$f":"'Bonusy bez procent'!AF93","v":-13},{"$f":"'Bonusy bez procent'!AG93","v":-13},{"$f":"'Bonusy bez procent'!AH93","v":-13},{"$f":"'Bonusy bez procent'!AI93","v":-13},{"$f":"'Bonusy bez procent'!AJ93","v":-13},{"$f":"'Bonusy bez procent'!AK93","v":-13},{"$f":"'Bonusy bez procent'!AL93","v":-13},{"$f":"'Bonusy bez procent'!AM93","v":-13},{"$f":"'Bonusy bez procent'!AN93","v":-13},{"$f":"'Bonusy bez procent'!AO93","v":-13},{"$f":"'Bonusy bez procent'!AP93","v":-13},{"$f":"'Bonusy bez procent'!AQ93","v":-13},{"$f":"'Bonusy bez procent'!AR93","v":-13},{"$f":"'Bonusy bez procent'!AS93","v":-9},{"$f":"'Bonusy bez procent'!AT93","v":-2}]
[{"$f":"'Nastavení příloh'!E103","v":8050},{"$f":"'Bonusy bez procent'!Y94","v":8000},{"$f":"'Bonusy bez procent'!AA94","v":8099},{"$f":"'Bonusy bez procent'!AB94","v":-13},{"$f":"'Bonusy bez procent'!AC94","v":-13},{"$f":"'Bonusy bez procent'!AD94","v":-13},{"$f":"'Bonusy bez procent'!AE94","v":-13},{"$f":"'Bonusy bez procent'!AF94","v":-13},{"$f":"'Bonusy bez procent'!AG94","v":-13},{"$f":"'Bonusy bez procent'!AH94","v":-13},{"$f":"'Bonusy bez procent'!AI94","v":-13},{"$f":"'Bonusy bez procent'!AJ94","v":-13},{"$f":"'Bonusy bez procent'!AK94","v":-13},{"$f":"'Bonusy bez procent'!AL94","v":-13},{"$f":"'Bonusy bez procent'!AM94","v":-13},{"$f":"'Bonusy bez procent'!AN94","v":-13},{"$f":"'Bonusy bez procent'!AO94","v":-13},{"$f":"'Bonusy bez procent'!AP94","v":-13},{"$f":"'Bonusy bez procent'!AQ94","v":-13},{"$f":"'Bonusy bez procent'!AR94","v":-13},{"$f":"'Bonusy bez procent'!AS94","v":-9},{"$f":"'Bonusy bez procent'!AT94","v":-2}]
[{"$f":"'Nastavení příloh'!E104","v":8150},{"$f":"'Bonusy bez procent'!Y95","v":8100},{"$f":"'Bonusy bez procent'!AA95","v":8199},{"$f":"'Bonusy bez procent'!AB95","v":-13},{"$f":"'Bonusy bez procent'!AC95","v":-13},{"$f":"'Bonusy bez procent'!AD95","v":-13},{"$f":"'Bonusy bez procent'!AE95","v":-13},{"$f":"'Bonusy bez procent'!AF95","v":-13},{"$f":"'Bonusy bez procent'!AG95","v":-13},{"$f":"'Bonusy bez procent'!AH95","v":-13},{"$f":"'Bonusy bez procent'!AI95","v":-13},{"$f":"'Bonusy bez procent'!AJ95","v":-13},{"$f":"'Bonusy bez procent'!AK95","v":-13},{"$f":"'Bonusy bez procent'!AL95","v":-13},{"$f":"'Bonusy bez procent'!AM95","v":-13},{"$f":"'Bonusy bez procent'!AN95","v":-13},{"$f":"'Bonusy bez procent'!AO95","v":-13},{"$f":"'Bonusy bez procent'!AP95","v":-13},{"$f":"'Bonusy bez procent'!AQ95","v":-13},{"$f":"'Bonusy bez procent'!AR95","v":-13},{"$f":"'Bonusy bez procent'!AS95","v":-10},{"$f":"'Bonusy bez procent'!AT95","v":-3}]
[{"$f":"'Nastavení příloh'!E105","v":8250},{"$f":"'Bonusy bez procent'!Y96","v":8200},{"$f":"'Bonusy bez procent'!AA96","v":8299},{"$f":"'Bonusy bez procent'!AB96","v":-13},{"$f":"'Bonusy bez procent'!AC96","v":-13},{"$f":"'Bonusy bez procent'!AD96","v":-13},{"$f":"'Bonusy bez procent'!AE96","v":-13},{"$f":"'Bonusy bez procent'!AF96","v":-13},{"$f":"'Bonusy bez procent'!AG96","v":-13},{"$f":"'Bonusy bez procent'!AH96","v":-13},{"$f":"'Bonusy bez procent'!AI96","v":-13},{"$f":"'Bonusy bez procent'!AJ96","v":-13},{"$f":"'Bonusy bez procent'!AK96","v":-13},{"$f":"'Bonusy bez procent'!AL96","v":-13},{"$f":"'Bonusy bez procent'!AM96","v":-13},{"$f":"'Bonusy bez procent'!AN96","v":-13},{"$f":"'Bonusy bez procent'!AO96","v":-13},{"$f":"'Bonusy bez procent'!AP96","v":-13},{"$f":"'Bonusy bez procent'!AQ96","v":-13},{"$f":"'Bonusy bez procent'!AR96","v":-13},{"$f":"'Bonusy bez procent'!AS96","v":-10},{"$f":"'Bonusy bez procent'!AT96","v":-3}]
[{"$f":"'Nastavení příloh'!E106","v":8350},{"$f":"'Bonusy bez procent'!Y97","v":8300},{"$f":"'Bonusy bez procent'!AA97","v":8399},{"$f":"'Bonusy bez procent'!AB97","v":-13},{"$f":"'Bonusy bez procent'!AC97","v":-13},{"$f":"'Bonusy bez procent'!AD97","v":-13},{"$f":"'Bonusy bez procent'!AE97","v":-13},{"$f":"'Bonusy bez procent'!AF97","v":-13},{"$f":"'Bonusy bez procent'!AG97","v":-13},{"$f":"'Bonusy bez procent'!AH97","v":-13},{"$f":"'Bonusy bez procent'!AI97","v":-13},{"$f":"'Bonusy bez procent'!AJ97","v":-13},{"$f":"'Bonusy bez procent'!AK97","v":-13},{"$f":"'Bonusy bez procent'!AL97","v":-13},{"$f":"'Bonusy bez procent'!AM97","v":-13},{"$f":"'Bonusy bez procent'!AN97","v":-13},{"$f":"'Bonusy bez procent'!AO97","v":-13},{"$f":"'Bonusy bez procent'!AP97","v":-13},{"$f":"'Bonusy bez procent'!AQ97","v":-13},{"$f":"'Bonusy bez procent'!AR97","v":-13},{"$f":"'Bonusy bez procent'!AS97","v":-11},{"$f":"'Bonusy bez procent'!AT97","v":-4}]
[{"$f":"'Nastavení příloh'!E107","v":8450},{"$f":"'Bonusy bez procent'!Y98","v":8400},{"$f":"'Bonusy bez procent'!AA98","v":8499},{"$f":"'Bonusy bez procent'!AB98","v":-13},{"$f":"'Bonusy bez procent'!AC98","v":-13},{"$f":"'Bonusy bez procent'!AD98","v":-13},{"$f":"'Bonusy bez procent'!AE98","v":-13},{"$f":"'Bonusy bez procent'!AF98","v":-13},{"$f":"'Bonusy bez procent'!AG98","v":-13},{"$f":"'Bonusy bez procent'!AH98","v":-13},{"$f":"'Bonusy bez procent'!AI98","v":-13},{"$f":"'Bonusy bez procent'!AJ98","v":-13},{"$f":"'Bonusy bez procent'!AK98","v":-13},{"$f":"'Bonusy bez procent'!AL98","v":-13},{"$f":"'Bonusy bez procent'!AM98","v":-13},{"$f":"'Bonusy bez procent'!AN98","v":-13},{"$f":"'Bonusy bez procent'!AO98","v":-13},{"$f":"'Bonusy bez procent'!AP98","v":-13},{"$f":"'Bonusy bez procent'!AQ98","v":-13},{"$f":"'Bonusy bez procent'!AR98","v":-13},{"$f":"'Bonusy bez procent'!AS98","v":-11},{"$f":"'Bonusy bez procent'!AT98","v":-4}]
[{"$f":"'Nastavení příloh'!E108","v":8550},{"$f":"'Bonusy bez procent'!Y99","v":8500},{"$f":"'Bonusy bez procent'!AA99","v":8599},{"$f":"'Bonusy bez procent'!AB99","v":-13},{"$f":"'Bonusy bez procent'!AC99","v":-13},{"$f":"'Bonusy bez procent'!AD99","v":-13},{"$f":"'Bonusy bez procent'!AE99","v":-13},{"$f":"'Bonusy bez procent'!AF99","v":-13},{"$f":"'Bonusy bez procent'!AG99","v":-13},{"$f":"'Bonusy bez procent'!AH99","v":-13},{"$f":"'Bonusy bez procent'!AI99","v":-13},{"$f":"'Bonusy bez procent'!AJ99","v":-13},{"$f":"'Bonusy bez procent'!AK99","v":-13},{"$f":"'Bonusy bez procent'!AL99","v":-13},{"$f":"'Bonusy bez procent'!AM99","v":-13},{"$f":"'Bonusy bez procent'!AN99","v":-13},{"$f":"'Bonusy bez procent'!AO99","v":-13},{"$f":"'Bonusy bez procent'!AP99","v":-13},{"$f":"'Bonusy bez procent'!AQ99","v":-13},{"$f":"'Bonusy bez procent'!AR99","v":-13},{"$f":"'Bonusy bez procent'!AS99","v":-12},{"$f":"'Bonusy bez procent'!AT99","v":-4}]
[{"$f":"'Nastavení příloh'!E109","v":8650},{"$f":"'Bonusy bez procent'!Y100","v":8600},{"$f":"'Bonusy bez procent'!AA100","v":8699},{"$f":"'Bonusy bez procent'!AB100","v":-13},{"$f":"'Bonusy bez procent'!AC100","v":-13},{"$f":"'Bonusy bez procent'!AD100","v":-13},{"$f":"'Bonusy bez procent'!AE100","v":-13},{"$f":"'Bonusy bez procent'!AF100","v":-13},{"$f":"'Bonusy bez procent'!AG100","v":-13},{"$f":"'Bonusy bez procent'!AH100","v":-13},{"$f":"'Bonusy bez procent'!AI100","v":-13},{"$f":"'Bonusy bez procent'!AJ100","v":-13},{"$f":"'Bonusy bez procent'!AK100","v":-13},{"$f":"'Bonusy bez procent'!AL100","v":-13},{"$f":"'Bonusy bez procent'!AM100","v":-13},{"$f":"'Bonusy bez procent'!AN100","v":-13},{"$f":"'Bonusy bez procent'!AO100","v":-13},{"$f":"'Bonusy bez procent'!AP100","v":-13},{"$f":"'Bonusy bez procent'!AQ100","v":-13},{"$f":"'Bonusy bez procent'!AR100","v":-13},{"$f":"'Bonusy bez procent'!AS100","v":-12},{"$f":"'Bonusy bez procent'!AT100","v":-5}]
[{"$f":"'Nastavení příloh'!E110","v":8750},{"$f":"'Bonusy bez procent'!Y101","v":8700},{"$f":"'Bonusy bez procent'!AA101","v":8799},{"$f":"'Bonusy bez procent'!AB101","v":-13},{"$f":"'Bonusy bez procent'!AC101","v":-13},{"$f":"'Bonusy bez procent'!AD101","v":-13},{"$f":"'Bonusy bez procent'!AE101","v":-13},{"$f":"'Bonusy bez procent'!AF101","v":-13},{"$f":"'Bonusy bez procent'!AG101","v":-13},{"$f":"'Bonusy bez procent'!AH101","v":-13},{"$f":"'Bonusy bez procent'!AI101","v":-13},{"$f":"'Bonusy bez procent'!AJ101","v":-13},{"$f":"'Bonusy bez procent'!AK101","v":-13},{"$f":"'Bonusy bez procent'!AL101","v":-13},{"$f":"'Bonusy bez procent'!AM101","v":-13},{"$f":"'Bonusy bez procent'!AN101","v":-13},{"$f":"'Bonusy bez procent'!AO101","v":-13},{"$f":"'Bonusy bez procent'!AP101","v":-13},{"$f":"'Bonusy bez procent'!AQ101","v":-13},{"$f":"'Bonusy bez procent'!AR101","v":-13},{"$f":"'Bonusy bez procent'!AS101","v":-13},{"$f":"'Bonusy bez procent'!AT101","v":-5}]
[{"$f":"'Nastavení příloh'!E111","v":8850},{"$f":"'Bonusy bez procent'!Y102","v":8800},{"$f":"'Bonusy bez procent'!AA102","v":8899},{"$f":"'Bonusy bez procent'!AB102","v":-13},{"$f":"'Bonusy bez procent'!AC102","v":-13},{"$f":"'Bonusy bez procent'!AD102","v":-13},{"$f":"'Bonusy bez procent'!AE102","v":-13},{"$f":"'Bonusy bez procent'!AF102","v":-13},{"$f":"'Bonusy bez procent'!AG102","v":-13},{"$f":"'Bonusy bez procent'!AH102","v":-13},{"$f":"'Bonusy bez procent'!AI102","v":-13},{"$f":"'Bonusy bez procent'!AJ102","v":-13},{"$f":"'Bonusy bez procent'!AK102","v":-13},{"$f":"'Bonusy bez procent'!AL102","v":-13},{"$f":"'Bonusy bez procent'!AM102","v":-13},{"$f":"'Bonusy bez procent'!AN102","v":-13},{"$f":"'Bonusy bez procent'!AO102","v":-13},{"$f":"'Bonusy bez procent'!AP102","v":-13},{"$f":"'Bonusy bez procent'!AQ102","v":-13},{"$f":"'Bonusy bez procent'!AR102","v":-13},{"$f":"'Bonusy bez procent'!AS102","v":-13},{"$f":"'Bonusy bez procent'!AT102","v":-6}]
[{"$f":"'Nastavení příloh'!E112","v":8950},{"$f":"'Bonusy bez procent'!Y103","v":8900},{"$f":"'Bonusy bez procent'!AA103","v":8999},{"$f":"'Bonusy bez procent'!AB103","v":-13},{"$f":"'Bonusy bez procent'!AC103","v":-13},{"$f":"'Bonusy bez procent'!AD103","v":-13},{"$f":"'Bonusy bez procent'!AE103","v":-13},{"$f":"'Bonusy bez procent'!AF103","v":-13},{"$f":"'Bonusy bez procent'!AG103","v":-13},{"$f":"'Bonusy bez procent'!AH103","v":-13},{"$f":"'Bonusy bez procent'!AI103","v":-13},{"$f":"'Bonusy bez procent'!AJ103","v":-13},{"$f":"'Bonusy bez procent'!AK103","v":-13},{"$f":"'Bonusy bez procent'!AL103","v":-13},{"$f":"'Bonusy bez procent'!AM103","v":-13},{"$f":"'Bonusy bez procent'!AN103","v":-13},{"$f":"'Bonusy bez procent'!AO103","v":-13},{"$f":"'Bonusy bez procent'!AP103","v":-13},{"$f":"'Bonusy bez procent'!AQ103","v":-13},{"$f":"'Bonusy bez procent'!AR103","v":-13},{"$f":"'Bonusy bez procent'!AS103","v":-13},{"$f":"'Bonusy bez procent'!AT103","v":-6}]
[{"$f":"'Nastavení příloh'!E113","v":9050},{"$f":"'Bonusy bez procent'!Y104","v":9000},{"$f":"'Bonusy bez procent'!AA104","v":9099},{"$f":"'Bonusy bez procent'!AB104","v":-13},{"$f":"'Bonusy bez procent'!AC104","v":-13},{"$f":"'Bonusy bez procent'!AD104","v":-13},{"$f":"'Bonusy bez procent'!AE104","v":-13},{"$f":"'Bonusy bez procent'!AF104","v":-13},{"$f":"'Bonusy bez procent'!AG104","v":-13},{"$f":"'Bonusy bez procent'!AH104","v":-13},{"$f":"'Bonusy bez procent'!AI104","v":-13},{"$f":"'Bonusy bez procent'!AJ104","v":-13},{"$f":"'Bonusy bez procent'!AK104","v":-13},{"$f":"'Bonusy bez procent'!AL104","v":-13},{"$f":"'Bonusy bez procent'!AM104","v":-13},{"$f":"'Bonusy bez procent'!AN104","v":-13},{"$f":"'Bonusy bez procent'!AO104","v":-13},{"$f":"'Bonusy bez procent'!AP104","v":-13},{"$f":"'Bonusy bez procent'!AQ104","v":-13},{"$f":"'Bonusy bez procent'!AR104","v":-13},{"$f":"'Bonusy bez procent'!AS104","v":-13},{"$f":"'Bonusy bez procent'!AT104","v":-6}]
[{"$f":"'Nastavení příloh'!E114","v":9150},{"$f":"'Bonusy bez procent'!Y105","v":9100},{"$f":"'Bonusy bez procent'!AA105","v":9199},{"$f":"'Bonusy bez procent'!AB105","v":-13},{"$f":"'Bonusy bez procent'!AC105","v":-13},{"$f":"'Bonusy bez procent'!AD105","v":-13},{"$f":"'Bonusy bez procent'!AE105","v":-13},{"$f":"'Bonusy bez procent'!AF105","v":-13},{"$f":"'Bonusy bez procent'!AG105","v":-13},{"$f":"'Bonusy bez procent'!AH105","v":-13},{"$f":"'Bonusy bez procent'!AI105","v":-13},{"$f":"'Bonusy bez procent'!AJ105","v":-13},{"$f":"'Bonusy bez procent'!AK105","v":-13},{"$f":"'Bonusy bez procent'!AL105","v":-13},{"$f":"'Bonusy bez procent'!AM105","v":-13},{"$f":"'Bonusy bez procent'!AN105","v":-13},{"$f":"'Bonusy bez procent'!AO105","v":-13},{"$f":"'Bonusy bez procent'!AP105","v":-13},{"$f":"'Bonusy bez procent'!AQ105","v":-13},{"$f":"'Bonusy bez procent'!AR105","v":-13},{"$f":"'Bonusy bez procent'!AS105","v":-13},{"$f":"'Bonusy bez procent'!AT105","v":-7}]
[{"$f":"'Nastavení příloh'!E115","v":9250},{"$f":"'Bonusy bez procent'!Y106","v":9200},{"$f":"'Bonusy bez procent'!AA106","v":9299},{"$f":"'Bonusy bez procent'!AB106","v":-13},{"$f":"'Bonusy bez procent'!AC106","v":-13},{"$f":"'Bonusy bez procent'!AD106","v":-13},{"$f":"'Bonusy bez procent'!AE106","v":-13},{"$f":"'Bonusy bez procent'!AF106","v":-13},{"$f":"'Bonusy bez procent'!AG106","v":-13},{"$f":"'Bonusy bez procent'!AH106","v":-13},{"$f":"'Bonusy bez procent'!AI106","v":-13},{"$f":"'Bonusy bez procent'!AJ106","v":-13},{"$f":"'Bonusy bez procent'!AK106","v":-13},{"$f":"'Bonusy bez procent'!AL106","v":-13},{"$f":"'Bonusy bez procent'!AM106","v":-13},{"$f":"'Bonusy bez procent'!AN106","v":-13},{"$f":"'Bonusy bez procent'!AO106","v":-13},{"$f":"'Bonusy bez procent'!AP106","v":-13},{"$f":"'Bonusy bez procent'!AQ106","v":-13},{"$f":"'Bonusy bez procent'!AR106","v":-13},{"$f":"'Bonusy bez procent'!AS106","v":-13},{"$f":"'Bonusy bez procent'!AT106","v":-7}]
[{"$f":"'Nastavení příloh'!E116","v":9350},{"$f":"'Bonusy bez procent'!Y107","v":9300},{"$f":"'Bonusy bez procent'!AA107","v":9399},{"$f":"'Bonusy bez procent'!AB107","v":-13},{"$f":"'Bonusy bez procent'!AC107","v":-13},{"$f":"'Bonusy bez procent'!AD107","v":-13},{"$f":"'Bonusy bez procent'!AE107","v":-13},{"$f":"'Bonusy bez procent'!AF107","v":-13},{"$f":"'Bonusy bez procent'!AG107","v":-13},{"$f":"'Bonusy bez procent'!AH107","v":-13},{"$f":"'Bonusy bez procent'!AI107","v":-13},{"$f":"'Bonusy bez procent'!AJ107","v":-13},{"$f":"'Bonusy bez procent'!AK107","v":-13},{"$f":"'Bonusy bez procent'!AL107","v":-13},{"$f":"'Bonusy bez procent'!AM107","v":-13},{"$f":"'Bonusy bez procent'!AN107","v":-13},{"$f":"'Bonusy bez procent'!AO107","v":-13},{"$f":"'Bonusy bez procent'!AP107","v":-13},{"$f":"'Bonusy bez procent'!AQ107","v":-13},{"$f":"'Bonusy bez procent'!AR107","v":-13},{"$f":"'Bonusy bez procent'!AS107","v":-13},{"$f":"'Bonusy bez procent'!AT107","v":-8}]
[{"$f":"'Nastavení příloh'!E117","v":9450},9400,9999,{"$f":"'Bonusy bez procent'!AB108","v":-13},{"$f":"'Bonusy bez procent'!AC108","v":-13},{"$f":"'Bonusy bez procent'!AD108","v":-13},{"$f":"'Bonusy bez procent'!AE108","v":-13},{"$f":"'Bonusy bez procent'!AF108","v":-13},{"$f":"'Bonusy bez procent'!AG108","v":-13},{"$f":"'Bonusy bez procent'!AH108","v":-13},{"$f":"'Bonusy bez procent'!AI108","v":-13},{"$f":"'Bonusy bez procent'!AJ108","v":-13},{"$f":"'Bonusy bez procent'!AK108","v":-13},{"$f":"'Bonusy bez procent'!AL108","v":-13},{"$f":"'Bonusy bez procent'!AM108","v":-13},{"$f":"'Bonusy bez procent'!AN108","v":-13},{"$f":"'Bonusy bez procent'!AO108","v":-13},{"$f":"'Bonusy bez procent'!AP108","v":-13},{"$f":"'Bonusy bez procent'!AQ108","v":-13},{"$f":"'Bonusy bez procent'!AR108","v":-13},{"$f":"'Bonusy bez procent'!AS108","v":-13},{"$f":"'Bonusy bez procent'!AT108","v":-8}]

{"sheet":"šablona bs","index":7,"n_rows":31,"n_cols":22,"rows_kept":31,"cut":false,"hidden":true,"merged":[]}
["objem","objem_min","objem_max",{"$f":"'Bonusy bez procent'!AY5","v":"0 %"},{"$f":"'Bonusy bez procent'!AZ5","v":"1-5 %"},{"$f":"'Bonusy bez procent'!BA5","v":"6-10 %"},{"$f":"'Bonusy bez procent'!BB5","v":"11-15 %"},{"$f":"'Bonusy bez procent'!BC5","v":"16-20 %"},{"$f":"'Bonusy bez procent'!BD5","v":"21-25 %"},{"$f":"'Bonusy bez procent'!BE5","v":"26-30 %"},{"$f":"'Bonusy bez procent'!BF5","v":"31-35 %"},{"$f":"'Bonusy bez procent'!BG5","v":"36-40 %"},{"$f":"'Bonusy bez procent'!BH5","v":"41-45 %"},{"$f":"'Bonusy bez procent'!BI5","v":"46-50 %"},{"$f":"'Bonusy bez procent'!BJ5","v":"51-55 %"},{"$f":"'Bonusy bez procent'!BK5","v":"56-60 %"},{"$f":"'Bonusy bez procent'!BL5","v":"61-65 %"},{"$f":"'Bonusy bez procent'!BM5","v":"66-70 %"},{"$f":"'Bonusy bez procent'!BN5","v":"71-75 %"},{"$f":"'Bonusy bez procent'!BO5","v":"76-80 %"},{"$f":"'Bonusy bez procent'!BP5","v":"81-85 %"},{"$f":"'Bonusy bez procent'!BQ5","v":"více jak 85 %"}]
[{"$f":"'Nastavení příloh'!E16","v":550},{"$f":"'Bonusy bez procent'!AV7","v":500},{"$f":"'Bonusy bez procent'!AX7","v":599},{"$f":"'Bonusy bez procent'!AY7","v":0},{"$f":"'Bonusy bez procent'!AZ7","v":0},{"$f":"'Bonusy bez procent'!BA7","v":0},{"$f":"'Bonusy bez procent'!BB7","v":0},{"$f":"'Bonusy bez procent'!BC7","v":0},{"$f":"'Bonusy bez procent'!BD7","v":0},{"$f":"'Bonusy bez procent'!BE7","v":0},{"$f":"'Bonusy bez procent'!BF7","v":0},{"$f":"'Bonusy bez procent'!BG7","v":20},{"$f":"'Bonusy bez procent'!BH7","v":20},{"$f":"'Bonusy bez procent'!BI7","v":20},{"$f":"'Bonusy bez procent'!BJ7","v":20},{"$f":"'Bonusy bez procent'!BK7","v":20},{"$f":"'Bonusy bez procent'!BL7","v":20},{"$f":"'Bonusy bez procent'!BM7","v":20},{"$f":"'Bonusy bez procent'!BN7","v":20},{"$f":"'Bonusy bez procent'!BO7","v":20},{"$f":"'Bonusy bez procent'!BP7","v":20},{"$f":"'Bonusy bez procent'!BQ7","v":0}]
[{"$f":"'Nastavení příloh'!E17","v":650},{"$f":"'Bonusy bez procent'!AV8","v":600},{"$f":"'Bonusy bez procent'!AX8","v":699},{"$f":"'Bonusy bez procent'!AY8","v":0},{"$f":"'Bonusy bez procent'!AZ8","v":0},{"$f":"'Bonusy bez procent'!BA8","v":0},{"$f":"'Bonusy bez procent'!BB8","v":0},{"$f":"'Bonusy bez procent'!BC8","v":0},{"$f":"'Bonusy bez procent'!BD8","v":0},{"$f":"'Bonusy bez procent'!BE8","v":0},{"$f":"'Bonusy bez procent'!BF8","v":0},{"$f":"'Bonusy bez procent'!BG8","v":20},{"$f":"'Bonusy bez procent'!BH8","v":20},{"$f":"'Bonusy bez procent'!BI8","v":20},{"$f":"'Bonusy bez procent'!BJ8","v":20},{"$f":"'Bonusy bez procent'!BK8","v":20},{"$f":"'Bonusy bez procent'!BL8","v":20},{"$f":"'Bonusy bez procent'!BM8","v":20},{"$f":"'Bonusy bez procent'!BN8","v":20},{"$f":"'Bonusy bez procent'!BO8","v":20},{"$f":"'Bonusy bez procent'!BP8","v":20},{"$f":"'Bonusy bez procent'!BQ8","v":0}]
[{"$f":"'Nastavení příloh'!E18","v":750},{"$f":"'Bonusy bez procent'!AV9","v":700},{"$f":"'Bonusy bez procent'!AX9","v":799},{"$f":"'Bonusy bez procent'!AY9","v":0},{"$f":"'Bonusy bez procent'!AZ9","v":0},{"$f":"'Bonusy bez procent'!BA9","v":0},{"$f":"'Bonusy bez procent'!BB9","v":0},{"$f":"'Bonusy bez procent'!BC9","v":0},{"$f":"'Bonusy bez procent'!BD9","v":0},{"$f":"'Bonusy bez procent'!BE9","v":0},{"$f":"'Bonusy bez procent'!BF9","v":0},{"$f":"'Bonusy bez procent'!BG9","v":20},{"$f":"'Bonusy bez procent'!BH9","v":20},{"$f":"'Bonusy bez procent'!BI9","v":20},{"$f":"'Bonusy bez procent'!BJ9","v":20},{"$f":"'Bonusy bez procent'!BK9","v":20},{"$f":"'Bonusy bez procent'!BL9","v":20},{"$f":"'Bonusy bez procent'!BM9","v":20},{"$f":"'Bonusy bez procent'!BN9","v":20},{"$f":"'Bonusy bez procent'!BO9","v":20},{"$f":"'Bonusy bez procent'!BP9","v":20},{"$f":"'Bonusy bez procent'!BQ9","v":0}]
[{"$f":"'Nastavení příloh'!E19","v":850},{"$f":"'Bonusy bez procent'!AV10","v":800},{"$f":"'Bonusy bez procent'!AX10","v":899},{"$f":"'Bonusy bez procent'!AY10","v":0},{"$f":"'Bonusy bez procent'!AZ10","v":0},{"$f":"'Bonusy bez procent'!BA10","v":0},{"$f":"'Bonusy bez procent'!BB10","v":0},{"$f":"'Bonusy bez procent'!BC10","v":0},{"$f":"'Bonusy bez procent'!BD10","v":0},{"$f":"'Bonusy bez procent'!BE10","v":0},{"$f":"'Bonusy bez procent'!BF10","v":0},{"$f":"'Bonusy bez procent'!BG10","v":20},{"$f":"'Bonusy bez procent'!BH10","v":20},{"$f":"'Bonusy bez procent'!BI10","v":20},{"$f":"'Bonusy bez procent'!BJ10","v":20},{"$f":"'Bonusy bez procent'!BK10","v":20},{"$f":"'Bonusy bez procent'!BL10","v":20},{"$f":"'Bonusy bez procent'!BM10","v":20},{"$f":"'Bonusy bez procent'!BN10","v":20},{"$f":"'Bonusy bez procent'!BO10","v":20},{"$f":"'Bonusy bez procent'!BP10","v":20},{"$f":"'Bonusy bez procent'!BQ10","v":0}]
[{"$f":"'Nastavení příloh'!E20","v":950},{"$f":"'Bonusy bez procent'!AV11","v":900},{"$f":"'Bonusy bez procent'!AX11","v":999},{"$f":"'Bonusy bez procent'!AY11","v":0},{"$f":"'Bonusy bez procent'!AZ11","v":0},{"$f":"'Bonusy bez procent'!BA11","v":0},{"$f":"'Bonusy bez procent'!BB11","v":0},{"$f":"'Bonusy bez procent'!BC11","v":0},{"$f":"'Bonusy bez procent'!BD11","v":0},{"$f":"'Bonusy bez procent'!BE11","v":0},{"$f":"'Bonusy bez procent'!BF11","v":0},{"$f":"'Bonusy bez procent'!BG11","v":20},{"$f":"'Bonusy bez procent'!BH11","v":20},{"$f":"'Bonusy bez procent'!BI11","v":20},{"$f":"'Bonusy bez procent'!BJ11","v":20},{"$f":"'Bonusy bez procent'!BK11","v":20},{"$f":"'Bonusy bez procent'!BL11","v":20},{"$f":"'Bonusy bez procent'!BM11","v":20},{"$f":"'Bonusy bez procent'!BN11","v":20},{"$f":"'Bonusy bez procent'!BO11","v":20},{"$f":"'Bonusy bez procent'!BP11","v":20},{"$f":"'Bonusy bez procent'!BQ11","v":0}]
[{"$f":"'Nastavení příloh'!E21","v":1050},{"$f":"'Bonusy bez procent'!AV12","v":1000},{"$f":"'Bonusy bez procent'!AX12","v":1099},{"$f":"'Bonusy bez procent'!AY12","v":0},{"$f":"'Bonusy bez procent'!AZ12","v":0},{"$f":"'Bonusy bez procent'!BA12","v":0},{"$f":"'Bonusy bez procent'!BB12","v":0},{"$f":"'Bonusy bez procent'!BC12","v":0},{"$f":"'Bonusy bez procent'!BD12","v":0},{"$f":"'Bonusy bez procent'!BE12","v":0},{"$f":"'Bonusy bez procent'!BF12","v":0},{"$f":"'Bonusy bez procent'!BG12","v":20},{"$f":"'Bonusy bez procent'!BH12","v":20},{"$f":"'Bonusy bez procent'!BI12","v":20},{"$f":"'Bonusy bez procent'!BJ12","v":20},{"$f":"'Bonusy bez procent'!BK12","v":20},{"$f":"'Bonusy bez procent'!BL12","v":20},{"$f":"'Bonusy bez procent'!BM12","v":20},{"$f":"'Bonusy bez procent'!BN12","v":20},{"$f":"'Bonusy bez procent'!BO12","v":20},{"$f":"'Bonusy bez procent'!BP12","v":20},{"$f":"'Bonusy bez procent'!BQ12","v":0}]
[{"$f":"'Nastavení příloh'!E22","v":1150},{"$f":"'Bonusy bez procent'!AV13","v":1100},{"$f":"'Bonusy bez procent'!AX13","v":1199},{"$f":"'Bonusy bez procent'!AY13","v":0},{"$f":"'Bonusy bez procent'!AZ13","v":0},{"$f":"'Bonusy bez procent'!BA13","v":0},{"$f":"'Bonusy bez procent'!BB13","v":0},{"$f":"'Bonusy bez procent'!BC13","v":0},{"$f":"'Bonusy bez procent'!BD13","v":0},{"$f":"'Bonusy bez procent'!BE13","v":0},{"$f":"'Bonusy bez procent'!BF13","v":0},{"$f":"'Bonusy bez procent'!BG13","v":0},{"$f":"'Bonusy bez procent'!BH13","v":20},{"$f":"'Bonusy bez procent'!BI13","v":20},{"$f":"'Bonusy bez procent'!BJ13","v":20},{"$f":"'Bonusy bez procent'!BK13","v":20},{"$f":"'Bonusy bez procent'!BL13","v":20},{"$f":"'Bonusy bez procent'!BM13","v":20},{"$f":"'Bonusy bez procent'!BN13","v":20},{"$f":"'Bonusy bez procent'!BO13","v":20},{"$f":"'Bonusy bez procent'!BP13","v":20},{"$f":"'Bonusy bez procent'!BQ13","v":0}]
[{"$f":"'Nastavení příloh'!E23","v":1250},{"$f":"'Bonusy bez procent'!AV14","v":1200},{"$f":"'Bonusy bez procent'!AX14","v":1299},{"$f":"'Bonusy bez procent'!AY14","v":0},{"$f":"'Bonusy bez procent'!AZ14","v":0},{"$f":"'Bonusy bez procent'!BA14","v":0},{"$f":"'Bonusy bez procent'!BB14","v":0},{"$f":"'Bonusy bez procent'!BC14","v":0},{"$f":"'Bonusy bez procent'!BD14","v":0},{"$f":"'Bonusy bez procent'!BE14","v":0},{"$f":"'Bonusy bez procent'!BF14","v":0},{"$f":"'Bonusy bez procent'!BG14","v":0},{"$f":"'Bonusy bez procent'!BH14","v":19},{"$f":"'Bonusy bez procent'!BI14","v":20},{"$f":"'Bonusy bez procent'!BJ14","v":20},{"$f":"'Bonusy bez procent'!BK14","v":20},{"$f":"'Bonusy bez procent'!BL14","v":20},{"$f":"'Bonusy bez procent'!BM14","v":20},{"$f":"'Bonusy bez procent'!BN14","v":20},{"$f":"'Bonusy bez procent'!BO14","v":20},{"$f":"'Bonusy bez procent'!BP14","v":20},{"$f":"'Bonusy bez procent'!BQ14","v":0}]
[{"$f":"'Nastavení příloh'!E24","v":1350},{"$f":"'Bonusy bez procent'!AV15","v":1300},{"$f":"'Bonusy bez procent'!AX15","v":1399},{"$f":"'Bonusy bez procent'!AY15","v":0},{"$f":"'Bonusy bez procent'!AZ15","v":0},{"$f":"'Bonusy bez procent'!BA15","v":0},{"$f":"'Bonusy bez procent'!BB15","v":0},{"$f":"'Bonusy bez procent'!BC15","v":0},{"$f":"'Bonusy bez procent'!BD15","v":0},{"$f":"'Bonusy bez procent'!BE15","v":0},{"$f":"'Bonusy bez procent'!BF15","v":0},{"$f":"'Bonusy bez procent'!BG15","v":0},{"$f":"'Bonusy bez procent'!BH15","v":0},{"$f":"'Bonusy bez procent'!BI15","v":19},{"$f":"'Bonusy bez procent'!BJ15","v":20},{"$f":"'Bonusy bez procent'!BK15","v":20},{"$f":"'Bonusy bez procent'!BL15","v":20},{"$f":"'Bonusy bez procent'!BM15","v":20},{"$f":"'Bonusy bez procent'!BN15","v":20},{"$f":"'Bonusy bez procent'!BO15","v":20},{"$f":"'Bonusy bez procent'!BP15","v":19},{"$f":"'Bonusy bez procent'!BQ15","v":0}]
[{"$f":"'Nastavení příloh'!E25","v":1450},{"$f":"'Bonusy bez procent'!AV16","v":1400},{"$f":"'Bonusy bez procent'!AX16","v":1499},{"$f":"'Bonusy bez procent'!AY16","v":0},{"$f":"'Bonusy bez procent'!AZ16","v":0},{"$f":"'Bonusy bez procent'!BA16","v":0},{"$f":"'Bonusy bez procent'!BB16","v":0},{"$f":"'Bonusy bez procent'!BC16","v":0},{"$f":"'Bonusy bez procent'!BD16","v":0},{"$f":"'Bonusy bez procent'!BE16","v":0},{"$f":"'Bonusy bez procent'!BF16","v":0},{"$f":"'Bonusy bez procent'!BG16","v":0},{"$f":"'Bonusy bez procent'!BH16","v":0},{"$f":"'Bonusy bez procent'!BI16","v":16},{"$f":"'Bonusy bez procent'!BJ16","v":20},{"$f":"'Bonusy bez procent'!BK16","v":20},{"$f":"'Bonusy bez procent'!BL16","v":20},{"$f":"'Bonusy bez procent'!BM16","v":20},{"$f":"'Bonusy bez procent'!BN16","v":20},{"$f":"'Bonusy bez procent'!BO16","v":19},{"$f":"'Bonusy bez procent'!BP16","v":0},{"$f":"'Bonusy bez procent'!BQ16","v":0}]
[{"$f":"'Nastavení příloh'!E26","v":1550},{"$f":"'Bonusy bez procent'!AV17","v":1500},{"$f":"'Bonusy bez procent'!AX17","v":1599},{"$f":"'Bonusy bez procent'!AY17","v":0},{"$f":"'Bonusy bez procent'!AZ17","v":0},{"$f":"'Bonusy bez procent'!BA17","v":0},{"$f":"'Bonusy bez procent'!BB17","v":0},{"$f":"'Bonusy bez procent'!BC17","v":0},{"$f":"'Bonusy bez procent'!BD17","v":0},{"$f":"'Bonusy bez procent'!BE17","v":0},{"$f":"'Bonusy bez procent'!BF17","v":0},{"$f":"'Bonusy bez procent'!BG17","v":0},{"$f":"'Bonusy bez procent'!BH17","v":0},{"$f":"'Bonusy bez procent'!BI17","v":0},{"$f":"'Bonusy bez procent'!BJ17","v":18},{"$f":"'Bonusy bez procent'!BK17","v":20},{"$f":"'Bonusy bez procent'!BL17","v":20},{"$f":"'Bonusy bez procent'!BM17","v":20},{"$f":"'Bonusy bez procent'!BN17","v":19},{"$f":"'Bonusy bez procent'!BO17","v":17},{"$f":"'Bonusy bez procent'!BP17","v":0},{"$f":"'Bonusy bez procent'!BQ17","v":0}]
[{"$f":"'Nastavení příloh'!E27","v":1650},{"$f":"'Bonusy bez procent'!AV18","v":1600},{"$f":"'Bonusy bez procent'!AX18","v":1699},{"$f":"'Bonusy bez procent'!AY18","v":0},{"$f":"'Bonusy bez procent'!AZ18","v":0},{"$f":"'Bonusy bez procent'!BA18","v":0},{"$f":"'Bonusy bez procent'!BB18","v":0},{"$f":"'Bonusy bez procent'!BC18","v":0},{"$f":"'Bonusy bez procent'!BD18","v":0},{"$f":"'Bonusy bez procent'!BE18","v":0},{"$f":"'Bonusy bez procent'!BF18","v":0},{"$f":"'Bonusy bez procent'!BG18","v":0},{"$f":"'Bonusy bez procent'!BH18","v":0},{"$f":"'Bonusy bez procent'!BI18","v":0},{"$f":"'Bonusy bez procent'!BJ18","v":15},{"$f":"'Bonusy bez procent'!BK18","v":20},{"$f":"'Bonusy bez procent'!BL18","v":20},{"$f":"'Bonusy bez procent'!BM18","v":19},{"$f":"'Bonusy bez procent'!BN18","v":17},{"$f":"'Bonusy bez procent'!BO18","v":0},{"$f":"'Bonusy bez procent'!BP18","v":0},{"$f":"'Bonusy bez procent'!BQ18","v":0}]
[{"$f":"'Nastavení příloh'!E28","v":1750},{"$f":"'Bonusy bez procent'!AV19","v":1700},{"$f":"'Bonusy bez procent'!AX19","v":1799},{"$f":"'Bonusy bez procent'!AY19","v":0},{"$f":"'Bonusy bez procent'!AZ19","v":0},{"$f":"'Bonusy bez procent'!BA19","v":0},{"$f":"'Bonusy bez procent'!BB19","v":0},{"$f":"'Bonusy bez procent'!BC19","v":0},{"$f":"'Bonusy bez procent'!BD19","v":0},{"$f":"'Bonusy bez procent'!BE19","v":0},{"$f":"'Bonusy bez procent'!BF19","v":0},{"$f":"'Bonusy bez procent'!BG19","v":0},{"$f":"'Bonusy bez procent'!BH19","v":0},{"$f":"'Bonusy bez procent'!BI19","v":0},{"$f":"'Bonusy bez procent'!BJ19","v":0},{"$f":"'Bonusy bez procent'!BK19","v":17},{"$f":"'Bonusy bez procent'!BL19","v":19},{"$f":"'Bonusy bez procent'!BM19","v":17},{"$f":"'Bonusy bez procent'!BN19","v":0},{"$f":"'Bonusy bez procent'!BO19","v":0},{"$f":"'Bonusy bez procent'!BP19","v":0},{"$f":"'Bonusy bez procent'!BQ19","v":0}]
[{"$f":"'Nastavení příloh'!E29","v":1850},{"$f":"'Bonusy bez procent'!AV20","v":1800},{"$f":"'Bonusy bez procent'!AX20","v":1899},{"$f":"'Bonusy bez procent'!AY20","v":0},{"$f":"'Bonusy bez procent'!AZ20","v":0},{"$f":"'Bonusy bez procent'!BA20","v":0},{"$f":"'Bonusy bez procent'!BB20","v":0},{"$f":"'Bonusy bez procent'!BC20","v":0},{"$f":"'Bonusy bez procent'!BD20","v":0},{"$f":"'Bonusy bez procent'!BE20","v":0},{"$f":"'Bonusy bez procent'!BF20","v":0},{"$f":"'Bonusy bez procent'!BG20","v":0},{"$f":"'Bonusy bez procent'!BH20","v":0},{"$f":"'Bonusy bez procent'!BI20","v":0},{"$f":"'Bonusy bez procent'!BJ20","v":0},{"$f":"'Bonusy bez procent'!BK20","v":0},{"$f":"'Bonusy bez procent'!BL20","v":0},{"$f":"'Bonusy bez procent'!BM20","v":0},{"$f":"'Bonusy bez procent'!BN20","v":0},{"$f":"'Bonusy bez procent'!BO20","v":0},{"$f":"'Bonusy bez procent'!BP20","v":0},{"$f":"'Bonusy bez procent'!BQ20","v":0}]
[{"$f":"'Nastavení příloh'!E30","v":1950},{"$f":"'Bonusy bez procent'!AV21","v":1900},{"$f":"'Bonusy bez procent'!AX21","v":1999},{"$f":"'Bonusy bez procent'!AY21","v":0},{"$f":"'Bonusy bez procent'!AZ21","v":0},{"$f":"'Bonusy bez procent'!BA21","v":0},{"$f":"'Bonusy bez procent'!BB21","v":0},{"$f":"'Bonusy bez procent'!BC21","v":0},{"$f":"'Bonusy bez procent'!BD21","v":0},{"$f":"'Bonusy bez procent'!BE21","v":0},{"$f":"'Bonusy bez procent'!BF21","v":0},{"$f":"'Bonusy bez procent'!BG21","v":0},{"$f":"'Bonusy bez procent'!BH21","v":0},{"$f":"'Bonusy bez procent'!BI21","v":0},{"$f":"'Bonusy bez procent'!BJ21","v":0},{"$f":"'Bonusy bez procent'!BK21","v":0},{"$f":"'Bonusy bez procent'!BL21","v":0},{"$f":"'Bonusy bez procent'!BM21","v":0},{"$f":"'Bonusy bez procent'!BN21","v":0},{"$f":"'Bonusy bez procent'!BO21","v":0},{"$f":"'Bonusy bez procent'!BP21","v":0},{"$f":"'Bonusy bez procent'!BQ21","v":0}]
[{"$f":"'Nastavení příloh'!E31","v":2050},{"$f":"'Bonusy bez procent'!AV22","v":2000},{"$f":"'Bonusy bez procent'!AX22","v":2099},{"$f":"'Bonusy bez procent'!AY22","v":0},{"$f":"'Bonusy bez procent'!AZ22","v":0},{"$f":"'Bonusy bez procent'!BA22","v":0},{"$f":"'Bonusy bez procent'!BB22","v":0},{"$f":"'Bonusy bez procent'!BC22","v":0},{"$f":"'Bonusy bez procent'!BD22","v":0},{"$f":"'Bonusy bez procent'!BE22","v":0},{"$f":"'Bonusy bez procent'!BF22","v":0},{"$f":"'Bonusy bez procent'!BG22","v":0},{"$f":"'Bonusy bez procent'!BH22","v":0},{"$f":"'Bonusy bez procent'!BI22","v":0},{"$f":"'Bonusy bez procent'!BJ22","v":0},{"$f":"'Bonusy bez procent'!BK22","v":0},{"$f":"'Bonusy bez procent'!BL22","v":0},{"$f":"'Bonusy bez procent'!BM22","v":0},{"$f":"'Bonusy bez procent'!BN22","v":0},{"$f":"'Bonusy bez procent'!BO22","v":0},{"$f":"'Bonusy bez procent'!BP22","v":0},{"$f":"'Bonusy bez procent'!BQ22","v":0}]
[{"$f":"'Nastavení příloh'!E32","v":2150},{"$f":"'Bonusy bez procent'!AV23","v":2100},{"$f":"'Bonusy bez procent'!AX23","v":2199},{"$f":"'Bonusy bez procent'!AY23","v":0},{"$f":"'Bonusy bez procent'!AZ23","v":0},{"$f":"'Bonusy bez procent'!BA23","v":0},{"$f":"'Bonusy bez procent'!BB23","v":0},{"$f":"'Bonusy bez procent'!BC23","v":0},{"$f":"'Bonusy bez procent'!BD23","v":0},{"$f":"'Bonusy bez procent'!BE23","v":0},{"$f":"'Bonusy bez procent'!BF23","v":0},{"$f":"'Bonusy bez procent'!BG23","v":0},{"$f":"'Bonusy bez procent'!BH23","v":0},{"$f":"'Bonusy bez procent'!BI23","v":0},{"$f":"'Bonusy bez procent'!BJ23","v":0},{"$f":"'Bonusy bez procent'!BK23","v":0},{"$f":"'Bonusy bez procent'!BL23","v":0},{"$f":"'Bonusy bez procent'!BM23","v":0},{"$f":"'Bonusy bez procent'!BN23","v":0},{"$f":"'Bonusy bez procent'!BO23","v":0},{"$f":"'Bonusy bez procent'!BP23","v":0},{"$f":"'Bonusy bez procent'!BQ23","v":0}]
[{"$f":"'Nastavení příloh'!E33","v":2250},{"$f":"'Bonusy bez procent'!AV24","v":2200},{"$f":"'Bonusy bez procent'!AX24","v":2299},{"$f":"'Bonusy bez procent'!AY24","v":0},{"$f":"'Bonusy bez procent'!AZ24","v":0},{"$f":"'Bonusy bez procent'!BA24","v":0},{"$f":"'Bonusy bez procent'!BB24","v":0},{"$f":"'Bonusy bez procent'!BC24","v":0},{"$f":"'Bonusy bez procent'!BD24","v":0},{"$f":"'Bonusy bez procent'!BE24","v":0},{"$f":"'Bonusy bez procent'!BF24","v":0},{"$f":"'Bonusy bez procent'!BG24","v":0},{"$f":"'Bonusy bez procent'!BH24","v":0},{"$f":"'Bonusy bez procent'!BI24","v":0},{"$f":"'Bonusy bez procent'!BJ24","v":0},{"$f":"'Bonusy bez procent'!BK24","v":0},{"$f":"'Bonusy bez procent'!BL24","v":0},{"$f":"'Bonusy bez procent'!BM24","v":0},{"$f":"'Bonusy bez procent'!BN24","v":0},{"$f":"'Bonusy bez procent'!BO24","v":0},{"$f":"'Bonusy bez procent'!BP24","v":0},{"$f":"'Bonusy bez procent'!BQ24","v":0}]
[{"$f":"'Nastavení příloh'!E34","v":2350},{"$f":"'Bonusy bez procent'!AV25","v":2300},{"$f":"'Bonusy bez procent'!AX25","v":2399},{"$f":"'Bonusy bez procent'!AY25","v":0},{"$f":"'Bonusy bez procent'!AZ25","v":0},{"$f":"'Bonusy bez procent'!BA25","v":0},{"$f":"'Bonusy bez procent'!BB25","v":0},{"$f":"'Bonusy bez procent'!BC25","v":0},{"$f":"'Bonusy bez procent'!BD25","v":0},{"$f":"'Bonusy bez procent'!BE25","v":0},{"$f":"'Bonusy bez procent'!BF25","v":0},{"$f":"'Bonusy bez procent'!BG25","v":0},{"$f":"'Bonusy bez procent'!BH25","v":0},{"$f":"'Bonusy bez procent'!BI25","v":0},{"$f":"'Bonusy bez procent'!BJ25","v":0},{"$f":"'Bonusy bez procent'!BK25","v":0},{"$f":"'Bonusy bez procent'!BL25","v":0},{"$f":"'Bonusy bez procent'!BM25","v":0},{"$f":"'Bonusy bez procent'!BN25","v":0},{"$f":"'Bonusy bez procent'!BO25","v":0},{"$f":"'Bonusy bez procent'!BP25","v":0},{"$f":"'Bonusy bez procent'!BQ25","v":0}]
[{"$f":"'Nastavení příloh'!E35","v":2450},{"$f":"'Bonusy bez procent'!AV26","v":2400},{"$f":"'Bonusy bez procent'!AX26","v":2499},{"$f":"'Bonusy bez procent'!AY26","v":0},{"$f":"'Bonusy bez procent'!AZ26","v":0},{"$f":"'Bonusy bez procent'!BA26","v":0},{"$f":"'Bonusy bez procent'!BB26","v":0},{"$f":"'Bonusy bez procent'!BC26","v":0},{"$f":"'Bonusy bez procent'!BD26","v":0},{"$f":"'Bonusy bez procent'!BE26","v":0},{"$f":"'Bonusy bez procent'!BF26","v":0},{"$f":"'Bonusy bez procent'!BG26","v":0},{"$f":"'Bonusy bez procent'!BH26","v":0},{"$f":"'Bonusy bez procent'!BI26","v":0},{"$f":"'Bonusy bez procent'!BJ26","v":0},{"$f":"'Bonusy bez procent'!BK26","v":0},{"$f":"'Bonusy bez procent'!BL26","v":0},{"$f":"'Bonusy bez procent'!BM26","v":0},{"$f":"'Bonusy bez procent'!BN26","v":0},{"$f":"'Bonusy bez procent'!BO26","v":0},{"$f":"'Bonusy bez procent'!BP26","v":0},{"$f":"'Bonusy bez procent'!BQ26","v":0}]
[{"$f":"'Nastavení příloh'!E36","v":2550},{"$f":"'Bonusy bez procent'!AV27","v":2500},{"$f":"'Bonusy bez procent'!AX27","v":2599},{"$f":"'Bonusy bez procent'!AY27","v":0},{"$f":"'Bonusy bez procent'!AZ27","v":0},{"$f":"'Bonusy bez procent'!BA27","v":0},{"$f":"'Bonusy bez procent'!BB27","v":0},{"$f":"'Bonusy bez procent'!BC27","v":0},{"$f":"'Bonusy bez procent'!BD27","v":0},{"$f":"'Bonusy bez procent'!BE27","v":0},{"$f":"'Bonusy bez procent'!BF27","v":0},{"$f":"'Bonusy bez procent'!BG27","v":0},{"$f":"'Bonusy bez procent'!BH27","v":0},{"$f":"'Bonusy bez procent'!BI27","v":0},{"$f":"'Bonusy bez procent'!BJ27","v":0},{"$f":"'Bonusy bez procent'!BK27","v":0},{"$f":"'Bonusy bez procent'!BL27","v":0},{"$f":"'Bonusy bez procent'!BM27","v":0},{"$f":"'Bonusy bez procent'!BN27","v":0},{"$f":"'Bonusy bez procent'!BO27","v":0},{"$f":"'Bonusy bez procent'!BP27","v":0},{"$f":"'Bonusy bez procent'!BQ27","v":0}]
[{"$f":"'Nastavení příloh'!E37","v":2650},{"$f":"'Bonusy bez procent'!AV28","v":2600},{"$f":"'Bonusy bez procent'!AX28","v":2699},{"$f":"'Bonusy bez procent'!AY28","v":0},{"$f":"'Bonusy bez procent'!AZ28","v":0},{"$f":"'Bonusy bez procent'!BA28","v":0},{"$f":"'Bonusy bez procent'!BB28","v":0},{"$f":"'Bonusy bez procent'!BC28","v":0},{"$f":"'Bonusy bez procent'!BD28","v":0},{"$f":"'Bonusy bez procent'!BE28","v":0},{"$f":"'Bonusy bez procent'!BF28","v":0},{"$f":"'Bonusy bez procent'!BG28","v":0},{"$f":"'Bonusy bez procent'!BH28","v":0},{"$f":"'Bonusy bez procent'!BI28","v":0},{"$f":"'Bonusy bez procent'!BJ28","v":0},{"$f":"'Bonusy bez procent'!BK28","v":0},{"$f":"'Bonusy bez procent'!BL28","v":0},{"$f":"'Bonusy bez procent'!BM28","v":0},{"$f":"'Bonusy bez procent'!BN28","v":0},{"$f":"'Bonusy bez procent'!BO28","v":0},{"$f":"'Bonusy bez procent'!BP28","v":0},{"$f":"'Bonusy bez procent'!BQ28","v":0}]
[{"$f":"'Nastavení příloh'!E38","v":2750},{"$f":"'Bonusy bez procent'!AV29","v":2700},{"$f":"'Bonusy bez procent'!AX29","v":2799},{"$f":"'Bonusy bez procent'!AY29","v":0},{"$f":"'Bonusy bez procent'!AZ29","v":0},{"$f":"'Bonusy bez procent'!BA29","v":0},{"$f":"'Bonusy bez procent'!BB29","v":0},{"$f":"'Bonusy bez procent'!BC29","v":0},{"$f":"'Bonusy bez procent'!BD29","v":0},{"$f":"'Bonusy bez procent'!BE29","v":0},{"$f":"'Bonusy bez procent'!BF29","v":0},{"$f":"'Bonusy bez procent'!BG29","v":0},{"$f":"'Bonusy bez procent'!BH29","v":0},{"$f":"'Bonusy bez procent'!BI29","v":0},{"$f":"'Bonusy bez procent'!BJ29","v":0},{"$f":"'Bonusy bez procent'!BK29","v":0},{"$f":"'Bonusy bez procent'!BL29","v":0},{"$f":"'Bonusy bez procent'!BM29","v":0},{"$f":"'Bonusy bez procent'!BN29","v":0},{"$f":"'Bonusy bez procent'!BO29","v":0},{"$f":"'Bonusy bez procent'!BP29","v":0},{"$f":"'Bonusy bez procent'!BQ29","v":0}]
[{"$f":"'Nastavení příloh'!E39","v":2850},{"$f":"'Bonusy bez procent'!AV30","v":2800},{"$f":"'Bonusy bez procent'!AX30","v":2899},{"$f":"'Bonusy bez procent'!AY30","v":0},{"$f":"'Bonusy bez procent'!AZ30","v":0},{"$f":"'Bonusy bez procent'!BA30","v":0},{"$f":"'Bonusy bez procent'!BB30","v":0},{"$f":"'Bonusy bez procent'!BC30","v":0},{"$f":"'Bonusy bez procent'!BD30","v":0},{"$f":"'Bonusy bez procent'!BE30","v":0},{"$f":"'Bonusy bez procent'!BF30","v":0},{"$f":"'Bonusy bez procent'!BG30","v":0},{"$f":"'Bonusy bez procent'!BH30","v":0},{"$f":"'Bonusy bez procent'!BI30","v":0},{"$f":"'Bonusy bez procent'!BJ30","v":0},{"$f":"'Bonusy bez procent'!BK30","v":0},{"$f":"'Bonusy bez procent'!BL30","v":0},{"$f":"'Bonusy bez procent'!BM30","v":0},{"$f":"'Bonusy bez procent'!BN30","v":0},{"$f":"'Bonusy bez procent'!BO30","v":0},{"$f":"'Bonusy bez procent'!BP30","v":0},{"$f":"'Bonusy bez procent'!BQ30","v":0}]
[{"$f":"'Nastavení příloh'!E40","v":2950},{"$f":"'Bonusy bez procent'!AV31","v":2900},{"$f":"'Bonusy bez procent'!AX31","v":2999},{"$f":"'Bonusy bez procent'!AY31","v":0},{"$f":"'Bonusy bez procent'!AZ31","v":0},{"$f":"'Bonusy bez procent'!BA31","v":0},{"$f":"'Bonusy bez procent'!BB31","v":0},{"$f":"'Bonusy bez procent'!BC31","v":0},{"$f":"'Bonusy bez procent'!BD31","v":0},{"$f":"'Bonusy bez procent'!BE31","v":0},{"$f":"'Bonusy bez procent'!BF31","v":0},{"$f":"'Bonusy bez procent'!BG31","v":0},{"$f":"'Bonusy bez procent'!BH31","v":0},{"$f":"'Bonusy bez procent'!BI31","v":0},{"$f":"'Bonusy bez procent'!BJ31","v":0},{"$f":"'Bonusy bez procent'!BK31","v":0},{"$f":"'Bonusy bez procent'!BL31","v":0},{"$f":"'Bonusy bez procent'!BM31","v":0},{"$f":"'Bonusy bez procent'!BN31","v":0},{"$f":"'Bonusy bez procent'!BO31","v":0},{"$f":"'Bonusy bez procent'!BP31","v":0},{"$f":"'Bonusy bez procent'!BQ31","v":0}]
[{"$f":"'Nastavení příloh'!E41","v":3050},{"$f":"'Bonusy bez procent'!AV32","v":3000},{"$f":"'Bonusy bez procent'!AX32","v":3099},{"$f":"'Bonusy bez procent'!AY32","v":0},{"$f":"'Bonusy bez procent'!AZ32","v":0},{"$f":"'Bonusy bez procent'!BA32","v":0},{"$f":"'Bonusy bez procent'!BB32","v":0},{"$f":"'Bonusy bez procent'!BC32","v":0},{"$f":"'Bonusy bez procent'!BD32","v":0},{"$f":"'Bonusy bez procent'!BE32","v":0},{"$f":"'Bonusy bez procent'!BF32","v":0},{"$f":"'Bonusy bez procent'!BG32","v":0},{"$f":"'Bonusy bez procent'!BH32","v":0},{"$f":"'Bonusy bez procent'!BI32","v":0},{"$f":"'Bonusy bez procent'!BJ32","v":0},{"$f":"'Bonusy bez procent'!BK32","v":0},{"$f":"'Bonusy bez procent'!BL32","v":0},{"$f":"'Bonusy bez procent'!BM32","v":0},{"$f":"'Bonusy bez procent'!BN32","v":0},{"$f":"'Bonusy bez procent'!BO32","v":0},{"$f":"'Bonusy bez procent'!BP32","v":0},{"$f":"'Bonusy bez procent'!BQ32","v":0}]
[{"$f":"'Nastavení příloh'!E42","v":3150},{"$f":"'Bonusy bez procent'!AV33","v":3100},{"$f":"'Bonusy bez procent'!AX33","v":3199},{"$f":"'Bonusy bez procent'!AY33","v":0},{"$f":"'Bonusy bez procent'!AZ33","v":0},{"$f":"'Bonusy bez procent'!BA33","v":0},{"$f":"'Bonusy bez procent'!BB33","v":0},{"$f":"'Bonusy bez procent'!BC33","v":0},{"$f":"'Bonusy bez procent'!BD33","v":0},{"$f":"'Bonusy bez procent'!BE33","v":0},{"$f":"'Bonusy bez procent'!BF33","v":0},{"$f":"'Bonusy bez procent'!BG33","v":0},{"$f":"'Bonusy bez procent'!BH33","v":0},{"$f":"'Bonusy bez procent'!BI33","v":0},{"$f":"'Bonusy bez procent'!BJ33","v":0},{"$f":"'Bonusy bez procent'!BK33","v":0},{"$f":"'Bonusy bez procent'!BL33","v":0},{"$f":"'Bonusy bez procent'!BM33","v":0},{"$f":"'Bonusy bez procent'!BN33","v":0},{"$f":"'Bonusy bez procent'!BO33","v":0},{"$f":"'Bonusy bez procent'!BP33","v":0},{"$f":"'Bonusy bez procent'!BQ33","v":0}]
[{"$f":"'Nastavení příloh'!E43","v":3250},{"$f":"'Bonusy bez procent'!AV34","v":3200},{"$f":"'Bonusy bez procent'!AX34","v":3299},{"$f":"'Bonusy bez procent'!AY34","v":0},{"$f":"'Bonusy bez procent'!AZ34","v":0},{"$f":"'Bonusy bez procent'!BA34","v":0},{"$f":"'Bonusy bez procent'!BB34","v":0},{"$f":"'Bonusy bez procent'!BC34","v":0},{"$f":"'Bonusy bez procent'!BD34","v":0},{"$f":"'Bonusy bez procent'!BE34","v":0},{"$f":"'Bonusy bez procent'!BF34","v":0},{"$f":"'Bonusy bez procent'!BG34","v":0},{"$f":"'Bonusy bez procent'!BH34","v":0},{"$f":"'Bonusy bez procent'!BI34","v":0},{"$f":"'Bonusy bez procent'!BJ34","v":0},{"$f":"'Bonusy bez procent'!BK34","v":0},{"$f":"'Bonusy bez procent'!BL34","v":0},{"$f":"'Bonusy bez procent'!BM34","v":0},{"$f":"'Bonusy bez procent'!BN34","v":0},{"$f":"'Bonusy bez procent'!BO34","v":0},{"$f":"'Bonusy bez procent'!BP34","v":0},{"$f":"'Bonusy bez procent'!BQ34","v":0}]
[{"$f":"'Nastavení příloh'!E44","v":3350},{"$f":"'Bonusy bez procent'!AV35","v":3300},{"$f":"'Bonusy bez procent'!AX35","v":3399},{"$f":"'Bonusy bez procent'!AY35","v":0},{"$f":"'Bonusy bez procent'!AZ35","v":0},{"$f":"'Bonusy bez procent'!BA35","v":0},{"$f":"'Bonusy bez procent'!BB35","v":0},{"$f":"'Bonusy bez procent'!BC35","v":0},{"$f":"'Bonusy bez procent'!BD35","v":0},{"$f":"'Bonusy bez procent'!BE35","v":0},{"$f":"'Bonusy bez procent'!BF35","v":0},{"$f":"'Bonusy bez procent'!BG35","v":0},{"$f":"'Bonusy bez procent'!BH35","v":0},{"$f":"'Bonusy bez procent'!BI35","v":0},{"$f":"'Bonusy bez procent'!BJ35","v":0},{"$f":"'Bonusy bez procent'!BK35","v":0},{"$f":"'Bonusy bez procent'!BL35","v":0},{"$f":"'Bonusy bez procent'!BM35","v":0},{"$f":"'Bonusy bez procent'!BN35","v":0},{"$f":"'Bonusy bez procent'!BO35","v":0},{"$f":"'Bonusy bez procent'!BP35","v":0},{"$f":"'Bonusy bez procent'!BQ35","v":0}]
[{"$f":"'Nastavení příloh'!E45","v":3450},3400,9999,{"$f":"'Bonusy bez procent'!AY36","v":0},{"$f":"'Bonusy bez procent'!AZ36","v":0},{"$f":"'Bonusy bez procent'!BA36","v":0},{"$f":"'Bonusy bez procent'!BB36","v":0},{"$f":"'Bonusy bez procent'!BC36","v":0},{"$f":"'Bonusy bez procent'!BD36","v":0},{"$f":"'Bonusy bez procent'!BE36","v":0},{"$f":"'Bonusy bez procent'!BF36","v":0},{"$f":"'Bonusy bez procent'!BG36","v":0},{"$f":"'Bonusy bez procent'!BH36","v":0},{"$f":"'Bonusy bez procent'!BI36","v":0},{"$f":"'Bonusy bez procent'!BJ36","v":0},{"$f":"'Bonusy bez procent'!BK36","v":0},{"$f":"'Bonusy bez procent'!BL36","v":0},{"$f":"'Bonusy bez procent'!BM36","v":0},{"$f":"'Bonusy bez procent'!BN36","v":0},{"$f":"'Bonusy bez procent'!BO36","v":0},{"$f":"'Bonusy bez procent'!BP36","v":0},{"$f":"'Bonusy bez procent'!BQ36","v":0}]

{"sheet":"Modely","index":8,"n_rows":82,"n_cols":14,"rows_kept":82,"cut":false,"hidden":true,"merged":[[58,0,81,0],[58,1,65,1],[66,1,73,1],[74,1,81,1],[2,0,25,0],[2,1,9,1],[10,1,17,1],[18,1,25,1],[30,0,53,0],[30,1,37,1],[38,1,45,1],[46,1,53,1]]}
[null,null,"Množství","Hustota","Litry","Litry","Třídění","Třídění",null,null,null,null,null,"Ekonomika"]
[null,null,"kg","kg/l","celkem","hodnota","%","hodnota","SPO","BT %","BV %","BS %","Celkem %","obec"]
["Málo odpadů","Přeplněné popelnice","Malé","Velká",375,550,75,73,"Ano",{"$f":"'Nastavení příloh'!EA16","v":14},{"$f":"'Nastavení příloh'!EB16","v":25},{"$f":"'Nastavení příloh'!EC16","v":20},{"$f":"'Nastavení příloh'!ED16","v":59},{"$f":"'Nastavení příloh'!EE16","v":155}]
[null,null,"Malé","Velká",375,550,75,73,"NE",{"$f":"'Nastavení příloh'!EA17","v":14},{"$f":"'Nastavení příloh'!EB17","v":25},{"$f":"'Nastavení příloh'!EC17","v":0},{"$f":"'Nastavení příloh'!ED17","v":39},{"$f":"'Nastavení příloh'!EE17","v":255}]
[null,null,"Malé","Velká",375,550,">85",86,"Ano",{"$f":"'Nastavení příloh'!EA18","v":17},{"$f":"'Nastavení příloh'!EB18","v":25},{"$f":"'Nastavení příloh'!EC18","v":0},{"$f":"'Nastavení příloh'!ED18","v":42},{"$f":"'Nastavení příloh'!EE18","v":264}]
[null,null,"Malé","Velká",375,550,">85",86,"NE",{"$f":"'Nastavení příloh'!EA19","v":17},{"$f":"'Nastavení příloh'!EB19","v":25},{"$f":"'Nastavení příloh'!EC19","v":0},{"$f":"'Nastavení příloh'!ED19","v":42},{"$f":"'Nastavení příloh'!EE19","v":264}]
[null,null,"Malé","Velká",375,550,30,28,"Ano",{"$f":"'Nastavení příloh'!EA20","v":5},{"$f":"'Nastavení příloh'!EB20","v":17},{"$f":"'Nastavení příloh'!EC20","v":0},{"$f":"'Nastavení příloh'!ED20","v":22},{"$f":"'Nastavení příloh'!EE20","v":255}]
[null,null,"Malé","Velká",375,550,30,28,"NE",{"$f":"'Nastavení příloh'!EA21","v":5},{"$f":"'Nastavení příloh'!EB21","v":17},{"$f":"'Nastavení příloh'!EC21","v":0},{"$f":"'Nastavení příloh'!ED21","v":22},{"$f":"'Nastavení příloh'!EE21","v":255}]
[null,null,"Malé","Velká",375,550,0,0,"Ano",{"$f":"'Nastavení příloh'!EA22","v":0},{"$f":"'Nastavení příloh'!EB22","v":0},{"$f":"'Nastavení příloh'!EC22","v":0},{"$f":"'Nastavení příloh'!ED22","v":0},{"$f":"'Nastavení příloh'!EE22","v":313}]
[null,null,"Malé","Velká",375,550,0,0,"NE",{"$f":"'Nastavení příloh'!EA23","v":0},{"$f":"'Nastavení příloh'!EB23","v":0},{"$f":"'Nastavení příloh'!EC23","v":0},{"$f":"'Nastavení příloh'!ED23","v":0},{"$f":"'Nastavení příloh'!EE23","v":313}]
[null,"Plné popelnice","Malé","Optimální",500,550,75,73,"Ano",{"$f":"'Nastavení příloh'!EA24","v":14},{"$f":"'Nastavení příloh'!EB24","v":25},{"$f":"'Nastavení příloh'!EC24","v":20},{"$f":"'Nastavení příloh'!ED24","v":59},{"$f":"'Nastavení příloh'!EE24","v":155}]
[null,null,"Malé","Optimální",500,550,75,73,"NE",{"$f":"'Nastavení příloh'!EA25","v":14},{"$f":"'Nastavení příloh'!EB25","v":25},{"$f":"'Nastavení příloh'!EC25","v":0},{"$f":"'Nastavení příloh'!ED25","v":39},{"$f":"'Nastavení příloh'!EE25","v":255}]
[null,null,"Malé","Optimální",500,550,">85",86,"Ano",{"$f":"'Nastavení příloh'!EA26","v":17},{"$f":"'Nastavení příloh'!EB26","v":25},{"$f":"'Nastavení příloh'!EC26","v":0},{"$f":"'Nastavení příloh'!ED26","v":42},{"$f":"'Nastavení příloh'!EE26","v":264}]
[null,null,"Malé","Optimální",500,550,">85",86,"NE",{"$f":"'Nastavení příloh'!EA27","v":17},{"$f":"'Nastavení příloh'!EB27","v":25},{"$f":"'Nastavení příloh'!EC27","v":0},{"$f":"'Nastavení příloh'!ED27","v":42},{"$f":"'Nastavení příloh'!EE27","v":264}]
[null,null,"Malé","Optimální",500,550,30,28,"Ano",{"$f":"'Nastavení příloh'!EA28","v":5},{"$f":"'Nastavení příloh'!EB28","v":17},{"$f":"'Nastavení příloh'!EC28","v":0},{"$f":"'Nastavení příloh'!ED28","v":22},{"$f":"'Nastavení příloh'!EE28","v":255}]
[null,null,"Malé","Optimální",500,550,30,28,"NE",{"$f":"'Nastavení příloh'!EA29","v":5},{"$f":"'Nastavení příloh'!EB29","v":17},{"$f":"'Nastavení příloh'!EC29","v":0},{"$f":"'Nastavení příloh'!ED29","v":22},{"$f":"'Nastavení příloh'!EE29","v":255}]
[null,null,"Malé","Optimální",500,550,0,0,"Ano",{"$f":"'Nastavení příloh'!EA30","v":0},{"$f":"'Nastavení příloh'!EB30","v":0},{"$f":"'Nastavení příloh'!EC30","v":0},{"$f":"'Nastavení příloh'!ED30","v":0},{"$f":"'Nastavení příloh'!EE30","v":313}]
[null,null,"Malé","Optimální",500,550,0,0,"NE",{"$f":"'Nastavení příloh'!EA31","v":0},{"$f":"'Nastavení příloh'!EB31","v":0},{"$f":"'Nastavení příloh'!EC31","v":0},{"$f":"'Nastavení příloh'!ED31","v":0},{"$f":"'Nastavení příloh'!EE31","v":313}]
[null,"Poloprázdné popelnice","Malé","Nízká",1000,1050,75,73,"Ano",{"$f":"'Nastavení příloh'!EA32","v":25},{"$f":"'Nastavení příloh'!EB32","v":23},{"$f":"'Nastavení příloh'!EC32","v":20},{"$f":"'Nastavení příloh'!ED32","v":68},{"$f":"'Nastavení příloh'!EE32","v":64}]
[null,null,"Malé","Nízká",1000,1050,75,73,"NE",{"$f":"'Nastavení příloh'!EA33","v":25},{"$f":"'Nastavení příloh'!EB33","v":23},{"$f":"'Nastavení příloh'!EC33","v":0},{"$f":"'Nastavení příloh'!ED33","v":48},{"$f":"'Nastavení příloh'!EE33","v":164}]
[null,null,"Malé","Nízká",1000,1050,">85",86,"Ano",{"$f":"'Nastavení příloh'!EA34","v":25},{"$f":"'Nastavení příloh'!EB34","v":20},{"$f":"'Nastavení příloh'!EC34","v":0},{"$f":"'Nastavení příloh'!ED34","v":45},{"$f":"'Nastavení příloh'!EE34","v":225}]
[null,null,"Malé","Nízká",1000,1050,">85",86,"NE",{"$f":"'Nastavení příloh'!EA35","v":25},{"$f":"'Nastavení příloh'!EB35","v":20},{"$f":"'Nastavení příloh'!EC35","v":0},{"$f":"'Nastavení příloh'!ED35","v":45},{"$f":"'Nastavení příloh'!EE35","v":225}]
[null,null,"Malé","Nízká",1000,1050,30,28,"Ano",{"$f":"'Nastavení příloh'!EA36","v":10},{"$f":"'Nastavení příloh'!EB36","v":0},{"$f":"'Nastavení příloh'!EC36","v":0},{"$f":"'Nastavení příloh'!ED36","v":10},{"$f":"'Nastavení příloh'!EE36","v":193}]
[null,null,"Malé","Nízká",1000,1050,30,28,"NE",{"$f":"'Nastavení příloh'!EA37","v":10},{"$f":"'Nastavení příloh'!EB37","v":0},{"$f":"'Nastavení příloh'!EC37","v":0},{"$f":"'Nastavení příloh'!ED37","v":10},{"$f":"'Nastavení příloh'!EE37","v":193}]
[null,null,"Malé","Nízká",1000,1050,0,0,"Ano",{"$f":"'Nastavení příloh'!EA38","v":0},{"$f":"'Nastavení příloh'!EB38","v":0},{"$f":"'Nastavení příloh'!EC38","v":0},{"$f":"'Nastavení příloh'!ED38","v":0},{"$f":"'Nastavení příloh'!EE38","v":143}]
[null,null,"Malé","Nízká",1000,1050,0,0,"NE",{"$f":"'Nastavení příloh'!EA39","v":0},{"$f":"'Nastavení příloh'!EB39","v":0},{"$f":"'Nastavení příloh'!EC39","v":0},{"$f":"'Nastavení příloh'!ED39","v":0},{"$f":"'Nastavení příloh'!EE39","v":143}]
[]
[]
[null,null,"Množství","Hustota","Litry","Litry","Třídění","Třídění",null,null,null,null,null,"Ekonomika"]
[null,null,"kg","kg/l","celkem","hodnota","%","hodnota","SPO","BT %","BV %","BS %","Celkem %","obec"]
["Optimum odpadů","Přeplněné popelnice","Optimální","Velká",750,750,75,73,"Ano",{"$f":"'Nastavení příloh'!EA40","v":19},{"$f":"'Nastavení příloh'!EB40","v":25},{"$f":"'Nastavení příloh'!EC40","v":20},{"$f":"'Nastavení příloh'!ED40","v":64},{"$f":"'Nastavení příloh'!EE40","v":111}]
[null,null,"Optimální","Velká",750,750,75,73,"NE",{"$f":"'Nastavení příloh'!EA41","v":19},{"$f":"'Nastavení příloh'!EB41","v":25},{"$f":"'Nastavení příloh'!EC41","v":0},{"$f":"'Nastavení příloh'!ED41","v":44},{"$f":"'Nastavení příloh'!EE41","v":211}]
[null,null,"Optimální","Velká",750,750,">85",86,"Ano",{"$f":"'Nastavení příloh'!EA42","v":23},{"$f":"'Nastavení příloh'!EB42","v":25},{"$f":"'Nastavení příloh'!EC42","v":0},{"$f":"'Nastavení příloh'!ED42","v":48},{"$f":"'Nastavení příloh'!EE42","v":224}]
[null,null,"Optimální","Velká",750,750,">85",86,"NE",{"$f":"'Nastavení příloh'!EA43","v":23},{"$f":"'Nastavení příloh'!EB43","v":25},{"$f":"'Nastavení příloh'!EC43","v":0},{"$f":"'Nastavení příloh'!ED43","v":48},{"$f":"'Nastavení příloh'!EE43","v":224}]
[null,null,"Optimální","Velká",750,750,30,28,"Ano",{"$f":"'Nastavení příloh'!EA44","v":7},{"$f":"'Nastavení příloh'!EB44","v":8},{"$f":"'Nastavení příloh'!EC44","v":0},{"$f":"'Nastavení příloh'!ED44","v":15},{"$f":"'Nastavení příloh'!EE44","v":241}]
[null,null,"Optimální","Velká",750,750,30,28,"NE",{"$f":"'Nastavení příloh'!EA45","v":7},{"$f":"'Nastavení příloh'!EB45","v":8},{"$f":"'Nastavení příloh'!EC45","v":0},{"$f":"'Nastavení příloh'!ED45","v":15},{"$f":"'Nastavení příloh'!EE45","v":241}]
[null,null,"Optimální","Velká",750,750,0,0,"Ano",{"$f":"'Nastavení příloh'!EA46","v":0},{"$f":"'Nastavení příloh'!EB46","v":0},{"$f":"'Nastavení příloh'!EC46","v":0},{"$f":"'Nastavení příloh'!ED46","v":0},{"$f":"'Nastavení příloh'!EE46","v":245}]
[null,null,"Optimální","Velká",750,750,0,0,"NE",{"$f":"'Nastavení příloh'!EA47","v":0},{"$f":"'Nastavení příloh'!EB47","v":0},{"$f":"'Nastavení příloh'!EC47","v":0},{"$f":"'Nastavení příloh'!ED47","v":0},{"$f":"'Nastavení příloh'!EE47","v":245}]
[null,"Plné popelnice","Optimální","Optimální",1000,1050,75,73,"Ano",{"$f":"'Nastavení příloh'!EA48","v":25},{"$f":"'Nastavení příloh'!EB48","v":23},{"$f":"'Nastavení příloh'!EC48","v":20},{"$f":"'Nastavení příloh'!ED48","v":68},{"$f":"'Nastavení příloh'!EE48","v":64}]
[null,null,"Optimální","Optimální",1000,1050,75,73,"NE",{"$f":"'Nastavení příloh'!EA49","v":25},{"$f":"'Nastavení příloh'!EB49","v":23},{"$f":"'Nastavení příloh'!EC49","v":0},{"$f":"'Nastavení příloh'!ED49","v":48},{"$f":"'Nastavení příloh'!EE49","v":164}]
[null,null,"Optimální","Optimální",1000,1050,">85",86,"Ano",{"$f":"'Nastavení příloh'!EA50","v":25},{"$f":"'Nastavení příloh'!EB50","v":20},{"$f":"'Nastavení příloh'!EC50","v":0},{"$f":"'Nastavení příloh'!ED50","v":45},{"$f":"'Nastavení příloh'!EE50","v":225}]
[null,null,"Optimální","Optimální",1000,1050,">85",86,"NE",{"$f":"'Nastavení příloh'!EA51","v":25},{"$f":"'Nastavení příloh'!EB51","v":20},{"$f":"'Nastavení příloh'!EC51","v":0},{"$f":"'Nastavení příloh'!ED51","v":45},{"$f":"'Nastavení příloh'!EE51","v":225}]
[null,null,"Optimální","Optimální",1000,1050,30,28,"Ano",{"$f":"'Nastavení příloh'!EA52","v":10},{"$f":"'Nastavení příloh'!EB52","v":0},{"$f":"'Nastavení příloh'!EC52","v":0},{"$f":"'Nastavení příloh'!ED52","v":10},{"$f":"'Nastavení příloh'!EE52","v":193}]
[null,null,"Optimální","Optimální",1000,1050,30,28,"NE",{"$f":"'Nastavení příloh'!EA53","v":10},{"$f":"'Nastavení příloh'!EB53","v":0},{"$f":"'Nastavení příloh'!EC53","v":0},{"$f":"'Nastavení příloh'!ED53","v":10},{"$f":"'Nastavení příloh'!EE53","v":193}]
[null,null,"Optimální","Optimální",1000,1050,0,0,"Ano",{"$f":"'Nastavení příloh'!EA54","v":0},{"$f":"'Nastavení příloh'!EB54","v":0},{"$f":"'Nastavení příloh'!EC54","v":0},{"$f":"'Nastavení příloh'!ED54","v":0},{"$f":"'Nastavení příloh'!EE54","v":143}]
[null,null,"Optimální","Optimální",1000,1050,0,0,"NE",{"$f":"'Nastavení příloh'!EA55","v":0},{"$f":"'Nastavení příloh'!EB55","v":0},{"$f":"'Nastavení příloh'!EC55","v":0},{"$f":"'Nastavení příloh'!ED55","v":0},{"$f":"'Nastavení příloh'!EE55","v":143}]
[null,"Poloprázdné popelnice","Optimální","Nízká",2000,2050,75,73,"Ano",{"$f":"'Nastavení příloh'!EA56","v":25},{"$f":"'Nastavení příloh'!EB56","v":8},{"$f":"'Nastavení příloh'!EC56","v":0},{"$f":"'Nastavení příloh'!ED56","v":33},{"$f":"'Nastavení příloh'!EE56","v":76}]
[null,null,"Optimální","Nízká",2000,2050,75,73,"NE",{"$f":"'Nastavení příloh'!EA57","v":25},{"$f":"'Nastavení příloh'!EB57","v":8},{"$f":"'Nastavení příloh'!EC57","v":0},{"$f":"'Nastavení příloh'!ED57","v":33},{"$f":"'Nastavení příloh'!EE57","v":76}]
[null,null,"Optimální","Nízká",2000,2050,">85",86,"Ano",{"$f":"'Nastavení příloh'!EA58","v":25},{"$f":"'Nastavení příloh'!EB58","v":2},{"$f":"'Nastavení příloh'!EC58","v":0},{"$f":"'Nastavení příloh'!ED58","v":27},{"$f":"'Nastavení příloh'!EE58","v":184}]
[null,null,"Optimální","Nízká",2000,2050,">85",86,"NE",{"$f":"'Nastavení příloh'!EA59","v":25},{"$f":"'Nastavení příloh'!EB59","v":2},{"$f":"'Nastavení příloh'!EC59","v":0},{"$f":"'Nastavení příloh'!ED59","v":27},{"$f":"'Nastavení příloh'!EE59","v":184}]
[null,null,"Optimální","Nízká",2000,2050,30,28,"Ano",{"$f":"'Nastavení příloh'!EA60","v":20},{"$f":"'Nastavení příloh'!EB60","v":-12},{"$f":"'Nastavení příloh'!EC60","v":0},{"$f":"'Nastavení příloh'!ED60","v":8},{"$f":"'Nastavení příloh'!EE60","v":-42}]
[null,null,"Optimální","Nízká",2000,2050,30,28,"NE",{"$f":"'Nastavení příloh'!EA61","v":20},{"$f":"'Nastavení příloh'!EB61","v":-12},{"$f":"'Nastavení příloh'!EC61","v":0},{"$f":"'Nastavení příloh'!ED61","v":8},{"$f":"'Nastavení příloh'!EE61","v":-42}]
[null,null,"Optimální","Nízká",2000,2050,0,0,"Ano",{"$f":"'Nastavení příloh'!EA62","v":0},{"$f":"'Nastavení příloh'!EB62","v":-13},{"$f":"'Nastavení příloh'!EC62","v":0},{"$f":"'Nastavení příloh'!ED62","v":0},{"$f":"'Nastavení příloh'!EE62","v":-197}]
[null,null,"Optimální","Nízká",2000,2050,0,0,"NE",{"$f":"'Nastavení příloh'!EA63","v":0},{"$f":"'Nastavení příloh'!EB63","v":-13},{"$f":"'Nastavení příloh'!EC63","v":0},{"$f":"'Nastavení příloh'!ED63","v":0},{"$f":"'Nastavení příloh'!EE63","v":-197}]
[]
[]
[null,null,"Množství","Hustota","Litry","Litry","Třídění","Třídění",null,null,null,null,null,"Ekonomika"]
[null,null,"kg","kg/l","celkem","hodnota","%","hodnota","SPO","BT %","BV %","BS %","Celkem %","obec"]
["Nadprůměr odpadů","Přeplněné popelnice","Velké","Velká",1125,1150,75,73,"Ano",{"$f":"'Nastavení příloh'!EA64","v":25},{"$f":"'Nastavení příloh'!EB64","v":21},{"$f":"'Nastavení příloh'!EC64","v":20},{"$f":"'Nastavení příloh'!ED64","v":66},{"$f":"'Nastavení příloh'!EE64","v":64}]
[null,null,"Velké","Velká",1125,1150,75,73,"NE",{"$f":"'Nastavení příloh'!EA65","v":25},{"$f":"'Nastavení příloh'!EB65","v":21},{"$f":"'Nastavení příloh'!EC65","v":0},{"$f":"'Nastavení příloh'!ED65","v":46},{"$f":"'Nastavení příloh'!EE65","v":164}]
[null,null,"Velké","Velká",1125,1150,">85",86,"Ano",{"$f":"'Nastavení příloh'!EA66","v":25},{"$f":"'Nastavení příloh'!EB66","v":18},{"$f":"'Nastavení příloh'!EC66","v":0},{"$f":"'Nastavení příloh'!ED66","v":43},{"$f":"'Nastavení příloh'!EE66","v":230}]
[null,null,"Velké","Velká",1125,1150,">85",86,"NE",{"$f":"'Nastavení příloh'!EA67","v":25},{"$f":"'Nastavení příloh'!EB67","v":18},{"$f":"'Nastavení příloh'!EC67","v":0},{"$f":"'Nastavení příloh'!ED67","v":43},{"$f":"'Nastavení příloh'!EE67","v":230}]
[null,null,"Velké","Velká",1125,1150,30,28,"Ano",{"$f":"'Nastavení příloh'!EA68","v":11},{"$f":"'Nastavení příloh'!EB68","v":0},{"$f":"'Nastavení příloh'!EC68","v":0},{"$f":"'Nastavení příloh'!ED68","v":11},{"$f":"'Nastavení příloh'!EE68","v":163}]
[null,null,"Velké","Velká",1125,1150,30,28,"NE",{"$f":"'Nastavení příloh'!EA69","v":11},{"$f":"'Nastavení příloh'!EB69","v":0},{"$f":"'Nastavení příloh'!EC69","v":0},{"$f":"'Nastavení příloh'!ED69","v":11},{"$f":"'Nastavení příloh'!EE69","v":163}]
[null,null,"Velké","Velká",1125,1150,0,0,"Ano",{"$f":"'Nastavení příloh'!EA70","v":0},{"$f":"'Nastavení příloh'!EB70","v":-3},{"$f":"'Nastavení příloh'!EC70","v":0},{"$f":"'Nastavení příloh'!ED70","v":0},{"$f":"'Nastavení příloh'!EE70","v":109}]
[null,null,"Velké","Velká",1125,1150,0,0,"NE",{"$f":"'Nastavení příloh'!EA71","v":0},{"$f":"'Nastavení příloh'!EB71","v":-3},{"$f":"'Nastavení příloh'!EC71","v":0},{"$f":"'Nastavení příloh'!ED71","v":0},{"$f":"'Nastavení příloh'!EE71","v":109}]
[null,"Plné popelnice","Velké","Optimální",1500,1550,75,73,"Ano",{"$f":"'Nastavení příloh'!EA72","v":25},{"$f":"'Nastavení příloh'!EB72","v":15},{"$f":"'Nastavení příloh'!EC72","v":19},{"$f":"'Nastavení příloh'!ED72","v":59},{"$f":"'Nastavení příloh'!EE72","v":63}]
[null,null,"Velké","Optimální",1500,1550,75,73,"NE",{"$f":"'Nastavení příloh'!EA73","v":25},{"$f":"'Nastavení příloh'!EB73","v":15},{"$f":"'Nastavení příloh'!EC73","v":0},{"$f":"'Nastavení příloh'!ED73","v":40},{"$f":"'Nastavení příloh'!EE73","v":158}]
[null,null,"Velké","Optimální",1500,1550,">85",86,"Ano",{"$f":"'Nastavení příloh'!EA74","v":25},{"$f":"'Nastavení příloh'!EB74","v":11},{"$f":"'Nastavení příloh'!EC74","v":0},{"$f":"'Nastavení příloh'!ED74","v":36},{"$f":"'Nastavení příloh'!EE74","v":183}]
[null,null,"Velké","Optimální",1500,1550,">85",86,"NE",{"$f":"'Nastavení příloh'!EA75","v":25},{"$f":"'Nastavení příloh'!EB75","v":11},{"$f":"'Nastavení příloh'!EC75","v":0},{"$f":"'Nastavení příloh'!ED75","v":36},{"$f":"'Nastavení příloh'!EE75","v":183}]
[null,null,"Velké","Optimální",1500,1550,30,28,"Ano",{"$f":"'Nastavení příloh'!EA76","v":15},{"$f":"'Nastavení příloh'!EB76","v":-2},{"$f":"'Nastavení příloh'!EC76","v":0},{"$f":"'Nastavení příloh'!ED76","v":13},{"$f":"'Nastavení příloh'!EE76","v":56}]
[null,null,"Velké","Optimální",1500,1550,30,28,"NE",{"$f":"'Nastavení příloh'!EA77","v":15},{"$f":"'Nastavení příloh'!EB77","v":-2},{"$f":"'Nastavení příloh'!EC77","v":0},{"$f":"'Nastavení příloh'!ED77","v":13},{"$f":"'Nastavení příloh'!EE77","v":56}]
[null,null,"Velké","Optimální",1500,1550,0,0,"Ano",{"$f":"'Nastavení příloh'!EA78","v":0},{"$f":"'Nastavení příloh'!EB78","v":-13},{"$f":"'Nastavení příloh'!EC78","v":0},{"$f":"'Nastavení příloh'!ED78","v":0},{"$f":"'Nastavení příloh'!EE78","v":-27}]
[null,null,"Velké","Optimální",1500,1550,0,0,"NE",{"$f":"'Nastavení příloh'!EA79","v":0},{"$f":"'Nastavení příloh'!EB79","v":-13},{"$f":"'Nastavení příloh'!EC79","v":0},{"$f":"'Nastavení příloh'!ED79","v":0},{"$f":"'Nastavení příloh'!EE79","v":-27}]
[null,"Poloprázdné popelnice","Velké","Nízká",3000,3050,75,73,"Ano",{"$f":"'Nastavení příloh'!EA80","v":25},{"$f":"'Nastavení příloh'!EB80","v":0},{"$f":"'Nastavení příloh'!EC80","v":0},{"$f":"'Nastavení příloh'!ED80","v":25},{"$f":"'Nastavení příloh'!EE80","v":-11}]
[null,null,"Velké","Nízká",3000,3050,75,73,"NE",{"$f":"'Nastavení příloh'!EA81","v":25},{"$f":"'Nastavení příloh'!EB81","v":0},{"$f":"'Nastavení příloh'!EC81","v":0},{"$f":"'Nastavení příloh'!ED81","v":25},{"$f":"'Nastavení příloh'!EE81","v":-11}]
[null,null,"Velké","Nízká",3000,3050,">85",86,"Ano",{"$f":"'Nastavení příloh'!EA82","v":25},{"$f":"'Nastavení příloh'!EB82","v":0},{"$f":"'Nastavení příloh'!EC82","v":0},{"$f":"'Nastavení příloh'!ED82","v":25},{"$f":"'Nastavení příloh'!EE82","v":105}]
[null,null,"Velké","Nízká",3000,3050,">85",86,"NE",{"$f":"'Nastavení příloh'!EA83","v":25},{"$f":"'Nastavení příloh'!EB83","v":0},{"$f":"'Nastavení příloh'!EC83","v":0},{"$f":"'Nastavení příloh'!ED83","v":25},{"$f":"'Nastavení příloh'!EE83","v":105}]
[null,null,"Velké","Nízká",3000,3050,30,28,"Ano",{"$f":"'Nastavení příloh'!EA84","v":25},{"$f":"'Nastavení příloh'!EB84","v":-13},{"$f":"'Nastavení příloh'!EC84","v":0},{"$f":"'Nastavení příloh'!ED84","v":12},{"$f":"'Nastavení příloh'!EE84","v":-307}]
[null,null,"Velké","Nízká",3000,3050,30,28,"NE",{"$f":"'Nastavení příloh'!EA85","v":25},{"$f":"'Nastavení příloh'!EB85","v":-13},{"$f":"'Nastavení příloh'!EC85","v":0},{"$f":"'Nastavení příloh'!ED85","v":12},{"$f":"'Nastavení příloh'!EE85","v":-307}]
[null,null,"Velké","Nízká",3000,3050,0,0,"Ano",{"$f":"'Nastavení příloh'!EA86","v":0},{"$f":"'Nastavení příloh'!EB86","v":-13},{"$f":"'Nastavení příloh'!EC86","v":0},{"$f":"'Nastavení příloh'!ED86","v":0},{"$f":"'Nastavení příloh'!EE86","v":-537}]
[null,null,"Velké","Nízká",3000,3050,0,0,"NE",{"$f":"'Nastavení příloh'!EA87","v":0},{"$f":"'Nastavení příloh'!EB87","v":-13},{"$f":"'Nastavení příloh'!EC87","v":0},{"$f":"'Nastavení příloh'!ED87","v":0},{"$f":"'Nastavení příloh'!EE87","v":-537}]

{"sheet":"Bonusy s procentama","index":9,"n_rows":108,"n_cols":92,"rows_kept":108,"cut":false,"hidden":true,"merged":[[78,0,107,0],[78,23,107,23],[78,69,107,69],[75,0,77,3],[75,4,75,22],[75,23,77,26],[75,27,75,45],[75,69,77,72],[75,73,75,91],[77,4,77,22],[77,27,77,45],[77,73,77,91],[42,0,71,0],[42,23,71,23],[42,69,71,69],[73,0,73,22],[73,23,73,45],[73,69,73,91],[39,0,41,3],[39,23,41,26],[39,27,39,45],[39,69,41,72],[39,73,39,91],[41,4,41,22],[41,27,41,45],[41,73,41,91],[6,0,35,0],[6,23,35,23],[6,46,35,46],[6,69,35,69],[37,0,37,22],[37,23,37,45],[37,69,37,91],[1,0,1,22],[1,23,1,45],[1,46,1,68],[1,69,1,91],[3,0,5,3],[3,4,3,22],[3,23,5,26],[3,27,3,45],[3,46,5,49],[3,50,3,68],[3,69,5,72],[3,73,3,91],[5,4,5,22],[5,27,5,45],[5,50,5,68],[5,73,5,91]]}
[null,null,null,null,null,null,null,null,null,null,null,null,null,null,null,null,null,null,null,null,null,null,"Příloha č. 5 k OZV č. …/2015 Název obec/město",null,null,null,null,null,null,null,null,null,null,null,null,null,null,null,null,null,null,null,null,null,null,"Příloha č. 6 k OZV č. …/2015 Název obec/město",null,null,null,null,null,null,null,null,null,null,null,null,null,null,null,null,null,null,null,null,null,null,"Příloha č. 7 k OZV č. …/2015 Název obec/město"]
["Maximální roční bonusy za třídění odpadů (zkráceně BT) - procentuální úleva na poplatku placeného na následující rok",null,null,null,null,null,null,null,null,null,null,null,null,null,null,null,null,null,null,null,null,null,null,"Maximální roční bonusy za efektivní využívání nádob (BV)-procentuální úleva na poplatku placeného na následující rok",null,null,null,null,null,null,null,null,null,null,null,null,null,null,null,null,null,null,null,null,null,null,"Maximální roční bonusy za snižování produkce odpadů (BS)-procentuální úleva na poplatku placeného na následující rok",null,null,null,null,null,null,null,null,null,null,null,null,null,null,null,null,null,null,null,null,null,null,"Součet maximálních ročních bonusů (BT + BV + BS)"]
[]
["Bonus za třídění odpadů je udělen do výše 23% za plast, 20% za papír, 30% za bioodpad, 13% za sklo, 8% za textil, 2% za nápojový karton, 2% za jedlý olej a tuk a 2% za drobné elektrozařízení z hodnoty maximálního bonusu uvedeného v  této tabulce. ",null,null,null,"Procentuální zastoupení objemu obsloužených nádob na plast a na papír v celkovém objemu obsloužených nádob",null,null,null,null,null,null,null,null,null,null,null,null,null,null,null,null,null,null,"Bonus za efektivní využívání sběrných nádob je udělen do výše 100% z hodnoty maximálního bonusu uvedeného v této tabulce.",null,null,null,"Procentuální zastoupení objemu obsloužených nádob na plast a na papír v celkovém objemu obsloužených nádob",null,null,null,null,null,null,null,null,null,null,null,null,null,null,null,null,null,null,"Bonus za snižování produkce odpadů je udělen do výše 20% za každý způsob snižování produkce odpadů uvedený v odpadovém dotazníku z hodnoty maximálního bonusu uvedeného v této tabulce.",null,null,null,"Procentuální zastoupení objemu obsloužených nádob na plast a na papír v celkovém objemu obsloužených nádob",null,null,null,null,null,null,null,null,null,null,null,null,null,null,null,null,null,null,"Záporná hodnota součtu bonusů (BT + BV + BS) je nahrazena nulou.",null,null,null,"Procentuální zastoupení objemu obsloužených nádob na plast a na papír v celkovém objemu obsloužených nádob"]
[null,null,null,null,"0 %","1-5 %","6-10 %","11-15 %","16-20 %","21-25 %","26-30 %","31-35 %","36-40 %","41-45 %","46-50 %","51-55 %","56-60 %","61-65 %","66-70 %","71-75 %","76-80 %","81-85 %","více jak 85 %",null,null,null,null,"0 %","1-5 %","6-10 %","11-15 %","16-20 %","21-25 %","26-30 %","31-35 %","36-40 %","41-45 %","46-50 %","51-55 %","56-60 %","61-65 %","66-70 %","71-75 %","76-80 %","81-85 %","více jak 85 %",null,null,null,null,"0 %","1-5 %","6-10 %","11-15 %","16-20 %","21-25 %","26-30 %","31-35 %","36-40 %","41-45 %","46-50 %","51-55 %","56-60 %","61-65 %","66-70 %","71-75 %","76-80 %","81-85 %","více jak 85 %",null,null,null,null,"0 %","1-5 %","6-10 %","11-15 %","16-20 %","21-25 %","26-30 %","31-35 %","36-40 %","41-45 %","46-50 %","51-55 %","56-60 %","61-65 %","66-70 %","71-75 %","76-80 %","81-85 %","více jak 85 %"]
[null,null,null,null,"\"Třídí málo\"                                                                                                                                   \"Třídí hodně\"",null,null,null,null,null,null,null,null,null,null,null,null,null,null,null,null,null,null,null,null,null,null,"\"Třídí málo\"                                                                                                                                   \"Třídí hodně\"",null,null,null,null,null,null,null,null,null,null,null,null,null,null,null,null,null,null,null,null,null,null,"\"Třídí málo\"                                                                                                                                   \"Třídí hodně\"",null,null,null,null,null,null,null,null,null,null,null,null,null,null,null,null,null,null,null,null,null,null,"\"Třídí málo\"                                                                                                                                   \"Třídí hodně\""]
["Roční celkový objem obsloužených nádob přepočtený na jednoho účastníka systému užívajícího dané nádoby (litry/účastník systému/rok)",0,"-",599,{"$f":"'Nastavení příloh'!F16/100","v":0},{"$f":"'Nastavení příloh'!G16/100","v":0.01},{"$f":"'Nastavení příloh'!H16/100","v":0.02},{"$f":"'Nastavení příloh'!I16/100","v":0.03},{"$f":"'Nastavení příloh'!J16/100","v":0.03},{"$f":"'Nastavení příloh'!K16/100","v":0.04},{"$f":"'Nastavení příloh'!L16/100","v":0.05},{"$f":"'Nastavení příloh'!M16/100","v":0.06},{"$f":"'Nastavení příloh'!N16/100","v":7.0000000000000007E-2},{"$f":"'Nastavení příloh'!O16/100","v":0.08},{"$f":"'Nastavení příloh'!P16/100","v":0.09},{"$f":"'Nastavení příloh'!Q16/100","v":0.1},{"$f":"'Nastavení příloh'!R16/100","v":0.11},{"$f":"'Nastavení příloh'!S16/100","v":0.12},{"$f":"'Nastavení příloh'!T16/100","v":0.13},{"$f":"'Nastavení příloh'!U16/100","v":0.14000000000000001},{"$f":"'Nastavení příloh'!V16/100","v":0.15},{"$f":"'Nastavení příloh'!W16/100","v":0.16},{"$f":"'Nastavení příloh'!X16/100","v":0.17},"Roční celkový objem obsloužených nádob přepočtený na jednoho účastníka systému užívajícího dané nádoby (litry/účastník systému/rok)",0,"-",599,{"$f":"'Nastavení příloh'!AD16/100","v":0},{"$f":"'Nastavení příloh'!AE16/100","v":0.09},{"$f":"'Nastavení příloh'!AF16/100","v":0.1},{"$f":"'Nastavení příloh'!AG16/100","v":0.12},{"$f":"'Nastavení příloh'!AH16/100","v":0.13},{"$f":"'Nastavení příloh'!AI16/100","v":0.15},{"$f":"'Nastavení příloh'!AJ16/100","v":0.17},{"$f":"'Nastavení příloh'!AK16/100","v":0.18},{"$f":"'Nastavení příloh'!AL16/100","v":0.2},{"$f":"'Nastavení příloh'!AM16/100","v":0.21},{"$f":"'Nastavení příloh'!AN16/100","v":0.23},{"$f":"'Nastavení příloh'!AO16/100","v":0.24},{"$f":"'Nastavení příloh'!AP16/100","v":0.25},{"$f":"'Nastavení příloh'!AQ16/100","v":0.25},{"$f":"'Nastavení příloh'!AR16/100","v":0.25},{"$f":"'Nastavení příloh'!AS16/100","v":0.25},{"$f":"'Nastavení příloh'!AT16/100","v":0.25},{"$f":"'Nastavení příloh'!AU16/100","v":0.25},{"$f":"'Nastavení příloh'!AV16/100","v":0.25},"Roční celkový objem obsloužených nádob přepočtený na jednoho účastníka systému užívajícího dané nádoby (litry/účastník systému/rok)",0,"-",599,{"$f":"'Nastavení příloh'!BB16/100","v":0},{"$f":"'Nastavení příloh'!BC16/100","v":0},{"$f":"'Nastavení příloh'!BD16/100","v":0},{"$f":"'Nastavení příloh'!BE16/100","v":0},{"$f":"'Nastavení příloh'!BF16/100","v":0},{"$f":"'Nastavení příloh'!BG16/100","v":0},{"$f":"'Nastavení příloh'!BH16/100","v":0},{"$f":"'Nastavení příloh'!BI16/100","v":0},{"$f":"'Nastavení příloh'!BJ16/100","v":0.2},{"$f":"'Nastavení příloh'!BK16/100","v":0.2},{"$f":"'Nastavení příloh'!BL16/100","v":0.2},{"$f":"'Nastavení příloh'!BM16/100","v":0.2},{"$f":"'Nastavení příloh'!BN16/100","v":0.2},{"$f":"'Nastavení příloh'!BO16/100","v":0.2},{"$f":"'Nastavení příloh'!BP16/100","v":0.2},{"$f":"'Nastavení příloh'!BQ16/100","v":0.2},{"$f":"'Nastavení příloh'!BR16/100","v":0.2},{"$f":"'Nastavení příloh'!BS16/100","v":0.2},{"$f":"'Nastavení příloh'!BT16/100","v":0},"Roční celkový objem obsloužených nádob přepočtený na jednoho účastníka systému užívajícího dané nádoby (litry/účastník systému/rok)",0,"-",599,{"$f":"'Nastavení příloh'!BZ16/100","v":0},{"$f":"'Nastavení příloh'!CA16/100","v":0.1},{"$f":"'Nastavení příloh'!CB16/100","v":0.12},{"$f":"'Nastavení příloh'!CC16/100","v":0.15},{"$f":"'Nastavení příloh'!CD16/100","v":0.16},{"$f":"'Nastavení příloh'!CE16/100","v":0.19},{"$f":"'Nastavení příloh'!CF16/100","v":0.22},{"$f":"'Nastavení příloh'!CG16/100","v":0.24},{"$f":"'Nastavení příloh'!CH16/100","v":0.47},{"$f":"'Nastavení příloh'!CI16/100","v":0.49},{"$f":"'Nastavení příloh'!CJ16/100","v":0.52},{"$f":"'Nastavení příloh'!CK16/100","v":0.54},{"$f":"'Nastavení příloh'!CL16/100","v":0.56000000000000005},{"$f":"'Nastavení příloh'!CM16/100","v":0.56999999999999995},{"$f":"'Nastavení příloh'!CN16/100","v":0.57999999999999996},{"$f":"'Nastavení příloh'!CO16/100","v":0.59},{"$f":"'Nastavení příloh'!CP16/100","v":0.6},{"$f":"'Nastavení příloh'!CQ16/100","v":0.61},{"$f":"'Nastavení příloh'!CR16/100","v":0.42}]
[null,600,"-",699,{"$f":"'Nastavení příloh'!F17/100","v":0},{"$f":"'Nastavení příloh'!G17/100","v":0.01},{"$f":"'Nastavení příloh'!H17/100","v":0.02},{"$f":"'Nastavení příloh'!I17/100","v":0.03},{"$f":"'Nastavení příloh'!J17/100","v":0.04},{"$f":"'Nastavení příloh'!K17/100","v":0.05},{"$f":"'Nastavení příloh'!L17/100","v":0.06},{"$f":"'Nastavení příloh'!M17/100","v":0.08},{"$f":"'Nastavení příloh'!N17/100","v":0.09},{"$f":"'Nastavení příloh'!O17/100","v":0.1},{"$f":"'Nastavení příloh'!P17/100","v":0.11},{"$f":"'Nastavení příloh'!Q17/100","v":0.12},{"$f":"'Nastavení příloh'!R17/100","v":0.13},{"$f":"'Nastavení příloh'!S17/100","v":0.14000000000000001},{"$f":"'Nastavení příloh'!T17/100","v":0.15},{"$f":"'Nastavení příloh'!U17/100","v":0.17},{"$f":"'Nastavení příloh'!V17/100","v":0.18},{"$f":"'Nastavení příloh'!W17/100","v":0.19},{"$f":"'Nastavení příloh'!X17/100","v":0.2},null,600,"-",699,{"$f":"'Nastavení příloh'!AD17/100","v":0},{"$f":"'Nastavení příloh'!AE17/100","v":0.03},{"$f":"'Nastavení příloh'!AF17/100","v":0.05},{"$f":"'Nastavení příloh'!AG17/100","v":7.0000000000000007E-2},{"$f":"'Nastavení příloh'!AH17/100","v":0.09},{"$f":"'Nastavení příloh'!AI17/100","v":0.11},{"$f":"'Nastavení příloh'!AJ17/100","v":0.12},{"$f":"'Nastavení příloh'!AK17/100","v":0.14000000000000001},{"$f":"'Nastavení příloh'!AL17/100","v":0.16},{"$f":"'Nastavení příloh'!AM17/100","v":0.18},{"$f":"'Nastavení příloh'!AN17/100","v":0.2},{"$f":"'Nastavení příloh'!AO17/100","v":0.22},{"$f":"'Nastavení příloh'!AP17/100","v":0.24},{"$f":"'Nastavení příloh'!AQ17/100","v":0.25},{"$f":"'Nastavení příloh'!AR17/100","v":0.25},{"$f":"'Nastavení příloh'!AS17/100","v":0.25},{"$f":"'Nastavení příloh'!AT17/100","v":0.25},{"$f":"'Nastavení příloh'!AU17/100","v":0.25},{"$f":"'Nastavení příloh'!AV17/100","v":0.25},null,600,"-",699,{"$f":"'Nastavení příloh'!BB17/100","v":0},{"$f":"'Nastavení příloh'!BC17/100","v":0},{"$f":"'Nastavení příloh'!BD17/100","v":0},{"$f":"'Nastavení příloh'!BE17/100","v":0},{"$f":"'Nastavení příloh'!BF17/100","v":0},{"$f":"'Nastavení příloh'!BG17/100","v":0},{"$f":"'Nastavení příloh'!BH17/100","v":0},{"$f":"'Nastavení příloh'!BI17/100","v":0},{"$f":"'Nastavení příloh'!BJ17/100","v":0.2},{"$f":"'Nastavení příloh'!BK17/100","v":0.2},{"$f":"'Nastavení příloh'!BL17/100","v":0.2},{"$f":"'Nastavení příloh'!BM17/100","v":0.2},{"$f":"'Nastavení příloh'!BN17/100","v":0.2},{"$f":"'Nastavení příloh'!BO17/100","v":0.2},{"$f":"'Nastavení příloh'!BP17/100","v":0.2},{"$f":"'Nastavení příloh'!BQ17/100","v":0.2},{"$f":"'Nastavení příloh'!BR17/100","v":0.2},{"$f":"'Nastavení příloh'!BS17/100","v":0.2},{"$f":"'Nastavení příloh'!BT17/100","v":0},null,600,"-",699,{"$f":"'Nastavení příloh'!BZ17/100","v":0},{"$f":"'Nastavení příloh'!CA17/100","v":0.04},{"$f":"'Nastavení příloh'!CB17/100","v":7.0000000000000007E-2},{"$f":"'Nastavení příloh'!CC17/100","v":0.1},{"$f":"'Nastavení příloh'!CD17/100","v":0.13},{"$f":"'Nastavení příloh'!CE17/100","v":0.16},{"$f":"'Nastavení příloh'!CF17/100","v":0.18},{"$f":"'Nastavení příloh'!CG17/100","v":0.22},{"$f":"'Nastavení příloh'!CH17/100","v":0.45},{"$f":"'Nastavení příloh'!CI17/100","v":0.48},{"$f":"'Nastavení příloh'!CJ17/100","v":0.51},{"$f":"'Nastavení příloh'!CK17/100","v":0.54},{"$f":"'Nastavení příloh'!CL17/100","v":0.56999999999999995},{"$f":"'Nastavení příloh'!CM17/100","v":0.59},{"$f":"'Nastavení příloh'!CN17/100","v":0.6},{"$f":"'Nastavení příloh'!CO17/100","v":0.62},{"$f":"'Nastavení příloh'!CP17/100","v":0.63},{"$f":"'Nastavení příloh'!CQ17/100","v":0.64},{"$f":"'Nastavení příloh'!CR17/100","v":0.45}]
[null,700,"-",799,{"$f":"'Nastavení příloh'!F18/100","v":0},{"$f":"'Nastavení příloh'!G18/100","v":0.01},{"$f":"'Nastavení příloh'!H18/100","v":0.02},{"$f":"'Nastavení příloh'!I18/100","v":0.03},{"$f":"'Nastavení příloh'!J18/100","v":0.05},{"$f":"'Nastavení příloh'!K18/100","v":0.06},{"$f":"'Nastavení příloh'!L18/100","v":7.0000000000000007E-2},{"$f":"'Nastavení příloh'!M18/100","v":0.09},{"$f":"'Nastavení příloh'!N18/100","v":0.1},{"$f":"'Nastavení příloh'!O18/100","v":0.11},{"$f":"'Nastavení příloh'!P18/100","v":0.13},{"$f":"'Nastavení příloh'!Q18/100","v":0.14000000000000001},{"$f":"'Nastavení příloh'!R18/100","v":0.15},{"$f":"'Nastavení příloh'!S18/100","v":0.17},{"$f":"'Nastavení příloh'!T18/100","v":0.18},{"$f":"'Nastavení příloh'!U18/100","v":0.19},{"$f":"'Nastavení příloh'!V18/100","v":0.2},{"$f":"'Nastavení příloh'!W18/100","v":0.22},{"$f":"'Nastavení příloh'!X18/100","v":0.23},null,700,"-",799,{"$f":"'Nastavení příloh'!AD18/100","v":0},{"$f":"'Nastavení příloh'!AE18/100","v":0},{"$f":"'Nastavení příloh'!AF18/100","v":0},{"$f":"'Nastavení příloh'!AG18/100","v":0.02},{"$f":"'Nastavení příloh'!AH18/100","v":0.04},{"$f":"'Nastavení příloh'!AI18/100","v":0.06},{"$f":"'Nastavení příloh'!AJ18/100","v":0.08},{"$f":"'Nastavení příloh'!AK18/100","v":0.11},{"$f":"'Nastavení příloh'!AL18/100","v":0.13},{"$f":"'Nastavení příloh'!AM18/100","v":0.15},{"$f":"'Nastavení příloh'!AN18/100","v":0.17},{"$f":"'Nastavení příloh'!AO18/100","v":0.19},{"$f":"'Nastavení příloh'!AP18/100","v":0.21},{"$f":"'Nastavení příloh'!AQ18/100","v":0.23},{"$f":"'Nastavení příloh'!AR18/100","v":0.25},{"$f":"'Nastavení příloh'!AS18/100","v":0.25},{"$f":"'Nastavení příloh'!AT18/100","v":0.25},{"$f":"'Nastavení příloh'!AU18/100","v":0.25},{"$f":"'Nastavení příloh'!AV18/100","v":0.25},null,700,"-",799,{"$f":"'Nastavení příloh'!BB18/100","v":0},{"$f":"'Nastavení příloh'!BC18/100","v":0},{"$f":"'Nastavení příloh'!BD18/100","v":0},{"$f":"'Nastavení příloh'!BE18/100","v":0},{"$f":"'Nastavení příloh'!BF18/100","v":0},{"$f":"'Nastavení příloh'!BG18/100","v":0},{"$f":"'Nastavení příloh'!BH18/100","v":0},{"$f":"'Nastavení příloh'!BI18/100","v":0},{"$f":"'Nastavení příloh'!BJ18/100","v":0.2},{"$f":"'Nastavení příloh'!BK18/100","v":0.2},{"$f":"'Nastavení příloh'!BL18/100","v":0.2},{"$f":"'Nastavení příloh'!BM18/100","v":0.2},{"$f":"'Nastavení příloh'!BN18/100","v":0.2},{"$f":"'Nastavení příloh'!BO18/100","v":0.2},{"$f":"'Nastavení příloh'!BP18/100","v":0.2},{"$f":"'Nastavení příloh'!BQ18/100","v":0.2},{"$f":"'Nastavení příloh'!BR18/100","v":0.2},{"$f":"'Nastavení příloh'!BS18/100","v":0.2},{"$f":"'Nastavení příloh'!BT18/100","v":0},null,700,"-",799,{"$f":"'Nastavení příloh'!BZ18/100","v":0},{"$f":"'Nastavení příloh'!CA18/100","v":0.01},{"$f":"'Nastavení příloh'!CB18/100","v":0.02},{"$f":"'Nastavení příloh'!CC18/100","v":0.05},{"$f":"'Nastavení příloh'!CD18/100","v":0.09},{"$f":"'Nastavení příloh'!CE18/100","v":0.12},{"$f":"'Nastavení příloh'!CF18/100","v":0.15},{"$f":"'Nastavení příloh'!CG18/100","v":0.2},{"$f":"'Nastavení příloh'!CH18/100","v":0.43},{"$f":"'Nastavení příloh'!CI18/100","v":0.46},{"$f":"'Nastavení příloh'!CJ18/100","v":0.5},{"$f":"'Nastavení příloh'!CK18/100","v":0.53},{"$f":"'Nastavení příloh'!CL18/100","v":0.56000000000000005},{"$f":"'Nastavení příloh'!CM18/100","v":0.6},{"$f":"'Nastavení příloh'!CN18/100","v":0.63},{"$f":"'Nastavení příloh'!CO18/100","v":0.64},{"$f":"'Nastavení příloh'!CP18/100","v":0.65},{"$f":"'Nastavení příloh'!CQ18/100","v":0.67},{"$f":"'Nastavení příloh'!CR18/100","v":0.48}]
[null,800,"-",899,{"$f":"'Nastavení příloh'!F19/100","v":0},{"$f":"'Nastavení příloh'!G19/100","v":0.01},{"$f":"'Nastavení příloh'!H19/100","v":0.02},{"$f":"'Nastavení příloh'!I19/100","v":0.04},{"$f":"'Nastavení příloh'!J19/100","v":0.05},{"$f":"'Nastavení příloh'!K19/100","v":7.0000000000000007E-2},{"$f":"'Nastavení příloh'!L19/100","v":0.08},{"$f":"'Nastavení příloh'!M19/100","v":0.1},{"$f":"'Nastavení příloh'!N19/100","v":0.11},{"$f":"'Nastavení příloh'!O19/100","v":0.13},{"$f":"'Nastavení příloh'!P19/100","v":0.14000000000000001},{"$f":"'Nastavení příloh'!Q19/100","v":0.16},{"$f":"'Nastavení příloh'!R19/100","v":0.17},{"$f":"'Nastavení příloh'!S19/100","v":0.19},{"$f":"'Nastavení příloh'!T19/100","v":0.2},{"$f":"'Nastavení příloh'!U19/100","v":0.22},{"$f":"'Nastavení příloh'!V19/100","v":0.23},{"$f":"'Nastavení příloh'!W19/100","v":0.25},{"$f":"'Nastavení příloh'!X19/100","v":0.25},null,800,"-",899,{"$f":"'Nastavení příloh'!AD19/100","v":0},{"$f":"'Nastavení příloh'!AE19/100","v":0},{"$f":"'Nastavení příloh'!AF19/100","v":0},{"$f":"'Nastavení příloh'!AG19/100","v":0},{"$f":"'Nastavení příloh'!AH19/100","v":0},{"$f":"'Nastavení příloh'!AI19/100","v":0.02},{"$f":"'Nastavení příloh'!AJ19/100","v":0.04},{"$f":"'Nastavení příloh'!AK19/100","v":7.0000000000000007E-2},{"$f":"'Nastavení příloh'!AL19/100","v":0.09},{"$f":"'Nastavení příloh'!AM19/100","v":0.12},{"$f":"'Nastavení příloh'!AN19/100","v":0.14000000000000001},{"$f":"'Nastavení příloh'!AO19/100","v":0.16},{"$f":"'Nastavení příloh'!AP19/100","v":0.19},{"$f":"'Nastavení příloh'!AQ19/100","v":0.21},{"$f":"'Nastavení příloh'!AR19/100","v":0.24},{"$f":"'Nastavení příloh'!AS19/100","v":0.25},{"$f":"'Nastavení příloh'!AT19/100","v":0.25},{"$f":"'Nastavení příloh'!AU19/100","v":0.25},{"$f":"'Nastavení příloh'!AV19/100","v":0.24},null,800,"-",899,{"$f":"'Nastavení příloh'!BB19/100","v":0},{"$f":"'Nastavení příloh'!BC19/100","v":0},{"$f":"'Nastavení příloh'!BD19/100","v":0},{"$f":"'Nastavení příloh'!BE19/100","v":0},{"$f":"'Nastavení příloh'!BF19/100","v":0},{"$f":"'Nastavení příloh'!BG19/100","v":0},{"$f":"'Nastavení příloh'!BH19/100","v":0},{"$f":"'Nastavení příloh'!BI19/100","v":0},{"$f":"'Nastavení příloh'!BJ19/100","v":0.2},{"$f":"'Nastavení příloh'!BK19/100","v":0.2},{"$f":"'Nastavení příloh'!BL19/100","v":0.2},{"$f":"'Nastavení příloh'!BM19/100","v":0.2},{"$f":"'Nastavení příloh'!BN19/100","v":0.2},{"$f":"'Nastavení příloh'!BO19/100","v":0.2},{"$f":"'Nastavení příloh'!BP19/100","v":0.2},{"$f":"'Nastavení příloh'!BQ19/100","v":0.2},{"$f":"'Nastavení příloh'!BR19/100","v":0.2},{"$f":"'Nastavení příloh'!BS19/100","v":0.2},{"$f":"'Nastavení příloh'!BT19/100","v":0},null,800,"-",899,{"$f":"'Nastavení příloh'!BZ19/100","v":0},{"$f":"'Nastavení příloh'!CA19/100","v":0.01},{"$f":"'Nastavení příloh'!CB19/100","v":0.02},{"$f":"'Nastavení příloh'!CC19/100","v":0.04},{"$f":"'Nastavení příloh'!CD19/100","v":0.05},{"$f":"'Nastavení příloh'!CE19/100","v":0.09},{"$f":"'Nastavení příloh'!CF19/100","v":0.12},{"$f":"'Nastavení příloh'!CG19/100","v":0.17},{"$f":"'Nastavení příloh'!CH19/100","v":0.4},{"$f":"'Nastavení příloh'!CI19/100","v":0.45},{"$f":"'Nastavení příloh'!CJ19/100","v":0.48},{"$f":"'Nastavení příloh'!CK19/100","v":0.52},{"$f":"'Nastavení příloh'!CL19/100","v":0.56000000000000005},{"$f":"'Nastavení příloh'!CM19/100","v":0.6},{"$f":"'Nastavení příloh'!CN19/100","v":0.64},{"$f":"'Nastavení příloh'!CO19/100","v":0.67},{"$f":"'Nastavení příloh'!CP19/100","v":0.68},{"$f":"'Nastavení příloh'!CQ19/100","v":0.7},{"$f":"'Nastavení příloh'!CR19/100","v":0.49}]
[null,900,"-",999,{"$f":"'Nastavení příloh'!F20/100","v":0},{"$f":"'Nastavení příloh'!G20/100","v":0.01},{"$f":"'Nastavení příloh'!H20/100","v":0.03},{"$f":"'Nastavení příloh'!I20/100","v":0.04},{"$f":"'Nastavení příloh'!J20/100","v":0.06},{"$f":"'Nastavení příloh'!K20/100","v":0.08},{"$f":"'Nastavení příloh'!L20/100","v":0.09},{"$f":"'Nastavení příloh'!M20/100","v":0.11},{"$f":"'Nastavení příloh'!N20/100","v":0.13},{"$f":"'Nastavení příloh'!O20/100","v":0.14000000000000001},{"$f":"'Nastavení příloh'!P20/100","v":0.16},{"$f":"'Nastavení příloh'!Q20/100","v":0.18},{"$f":"'Nastavení příloh'!R20/100","v":0.19},{"$f":"'Nastavení příloh'!S20/100","v":0.21},{"$f":"'Nastavení příloh'!T20/100","v":0.23},{"$f":"'Nastavení příloh'!U20/100","v":0.24},{"$f":"'Nastavení příloh'!V20/100","v":0.25},{"$f":"'Nastavení příloh'!W20/100","v":0.25},{"$f":"'Nastavení příloh'!X20/100","v":0.25},null,900,"-",999,{"$f":"'Nastavení příloh'!AD20/100","v":0},{"$f":"'Nastavení příloh'!AE20/100","v":0},{"$f":"'Nastavení příloh'!AF20/100","v":0},{"$f":"'Nastavení příloh'!AG20/100","v":0},{"$f":"'Nastavení příloh'!AH20/100","v":0},{"$f":"'Nastavení příloh'!AI20/100","v":0},{"$f":"'Nastavení příloh'!AJ20/100","v":0},{"$f":"'Nastavení příloh'!AK20/100","v":0.03},{"$f":"'Nastavení příloh'!AL20/100","v":0.06},{"$f":"'Nastavení příloh'!AM20/100","v":0.08},{"$f":"'Nastavení příloh'!AN20/100","v":0.11},{"$f":"'Nastavení příloh'!AO20/100","v":0.14000000000000001},{"$f":"'Nastavení příloh'!AP20/100","v":0.16},{"$f":"'Nastavení příloh'!AQ20/100","v":0.19},{"$f":"'Nastavení příloh'!AR20/100","v":0.22},{"$f":"'Nastavení příloh'!AS20/100","v":0.25},{"$f":"'Nastavení příloh'!AT20/100","v":0.25},{"$f":"'Nastavení příloh'!AU20/100","v":0.24},{"$f":"'Nastavení příloh'!AV20/100","v":0.22},null,900,"-",999,{"$f":"'Nastavení příloh'!BB20/100","v":0},{"$f":"'Nastavení příloh'!BC20/100","v":0},{"$f":"'Nastavení příloh'!BD20/100","v":0},{"$f":"'Nastavení příloh'!BE20/100","v":0},{"$f":"'Nastavení příloh'!BF20/100","v":0},{"$f":"'Nastavení příloh'!BG20/100","v":0},{"$f":"'Nastavení příloh'!BH20/100","v":0},{"$f":"'Nastavení příloh'!BI20/100","v":0},{"$f":"'Nastavení příloh'!BJ20/100","v":0.2},{"$f":"'Nastavení příloh'!BK20/100","v":0.2},{"$f":"'Nastavení příloh'!BL20/100","v":0.2},{"$f":"'Nastavení příloh'!BM20/100","v":0.2},{"$f":"'Nastavení příloh'!BN20/100","v":0.2},{"$f":"'Nastavení příloh'!BO20/100","v":0.2},{"$f":"'Nastavení příloh'!BP20/100","v":0.2},{"$f":"'Nastavení příloh'!BQ20/100","v":0.2},{"$f":"'Nastavení příloh'!BR20/100","v":0.2},{"$f":"'Nastavení příloh'!BS20/100","v":0.2},{"$f":"'Nastavení příloh'!BT20/100","v":0},null,900,"-",999,{"$f":"'Nastavení příloh'!BZ20/100","v":0},{"$f":"'Nastavení příloh'!CA20/100","v":0.01},{"$f":"'Nastavení příloh'!CB20/100","v":0.03},{"$f":"'Nastavení příloh'!CC20/100","v":0.04},{"$f":"'Nastavení příloh'!CD20/100","v":0.06},{"$f":"'Nastavení příloh'!CE20/100","v":0.08},{"$f":"'Nastavení příloh'!CF20/100","v":0.09},{"$f":"'Nastavení příloh'!CG20/100","v":0.14000000000000001},{"$f":"'Nastavení příloh'!CH20/100","v":0.39},{"$f":"'Nastavení příloh'!CI20/100","v":0.42},{"$f":"'Nastavení příloh'!CJ20/100","v":0.47},{"$f":"'Nastavení příloh'!CK20/100","v":0.52},{"$f":"'Nastavení příloh'!CL20/100","v":0.55000000000000004},{"$f":"'Nastavení příloh'!CM20/100","v":0.6},{"$f":"'Nastavení příloh'!CN20/100","v":0.65},{"$f":"'Nastavení příloh'!CO20/100","v":0.69},{"$f":"'Nastavení příloh'!CP20/100","v":0.7},{"$f":"'Nastavení příloh'!CQ20/100","v":0.69},{"$f":"'Nastavení příloh'!CR20/100","v":0.47}]
[null,1000,"-",1099,{"$f":"'Nastavení příloh'!F21/100","v":0},{"$f":"'Nastavení příloh'!G21/100","v":0.01},{"$f":"'Nastavení příloh'!H21/100","v":0.03},{"$f":"'Nastavení příloh'!I21/100","v":0.05},{"$f":"'Nastavení příloh'!J21/100","v":7.0000000000000007E-2},{"$f":"'Nastavení příloh'!K21/100","v":0.08},{"$f":"'Nastavení příloh'!L21/100","v":0.1},{"$f":"'Nastavení příloh'!M21/100","v":0.12},{"$f":"'Nastavení příloh'!N21/100","v":0.14000000000000001},{"$f":"'Nastavení příloh'!O21/100","v":0.16},{"$f":"'Nastavení příloh'!P21/100","v":0.18},{"$f":"'Nastavení příloh'!Q21/100","v":0.19},{"$f":"'Nastavení příloh'!R21/100","v":0.21},{"$f":"'Nastavení příloh'!S21/100","v":0.23},{"$f":"'Nastavení příloh'!T21/100","v":0.25},{"$f":"'Nastavení příloh'!U21/100","v":0.25},{"$f":"'Nastavení příloh'!V21/100","v":0.25},{"$f":"'Nastavení příloh'!W21/100","v":0.25},{"$f":"'Nastavení příloh'!X21/100","v":0.25},null,1000,"-",1099,{"$f":"'Nastavení příloh'!AD21/100","v":0},{"$f":"'Nastavení příloh'!AE21/100","v":0},{"$f":"'Nastavení příloh'!AF21/100","v":0},{"$f":"'Nastavení příloh'!AG21/100","v":0},{"$f":"'Nastavení příloh'!AH21/100","v":0},{"$f":"'Nastavení příloh'!AI21/100","v":0},{"$f":"'Nastavení příloh'!AJ21/100","v":0},{"$f":"'Nastavení příloh'!AK21/100","v":0},{"$f":"'Nastavení příloh'!AL21/100","v":0.02},{"$f":"'Nastavení příloh'!AM21/100","v":0.05},{"$f":"'Nastavení příloh'!AN21/100","v":0.08},{"$f":"'Nastavení příloh'!AO21/100","v":0.11},{"$f":"'Nastavení příloh'!AP21/100","v":0.14000000000000001},{"$f":"'Nastavení příloh'!AQ21/100","v":0.17},{"$f":"'Nastavení příloh'!AR21/100","v":0.2},{"$f":"'Nastavení příloh'!AS21/100","v":0.23},{"$f":"'Nastavení příloh'!AT21/100","v":0.25},{"$f":"'Nastavení příloh'!AU21/100","v":0.23},{"$f":"'Nastavení příloh'!AV21/100","v":0.2},null,1000,"-",1099,{"$f":"'Nastavení příloh'!BB21/100","v":0},{"$f":"'Nastavení příloh'!BC21/100","v":0},{"$f":"'Nastavení příloh'!BD21/100","v":0},{"$f":"'Nastavení příloh'!BE21/100","v":0},{"$f":"'Nastavení příloh'!BF21/100","v":0},{"$f":"'Nastavení příloh'!BG21/100","v":0},{"$f":"'Nastavení příloh'!BH21/100","v":0},{"$f":"'Nastavení příloh'!BI21/100","v":0},{"$f":"'Nastavení příloh'!BJ21/100","v":0.2},{"$f":"'Nastavení příloh'!BK21/100","v":0.2},{"$f":"'Nastavení příloh'!BL21/100","v":0.2},{"$f":"'Nastavení příloh'!BM21/100","v":0.2},{"$f":"'Nastavení příloh'!BN21/100","v":0.2},{"$f":"'Nastavení příloh'!BO21/100","v":0.2},{"$f":"'Nastavení příloh'!BP21/100","v":0.2},{"$f":"'Nastavení příloh'!BQ21/100","v":0.2},{"$f":"'Nastavení příloh'!BR21/100","v":0.2},{"$f":"'Nastavení příloh'!BS21/100","v":0.2},{"$f":"'Nastavení příloh'!BT21/100","v":0},null,1000,"-",1099,{"$f":"'Nastavení příloh'!BZ21/100","v":0},{"$f":"'Nastavení příloh'!CA21/100","v":0.01},{"$f":"'Nastavení příloh'!CB21/100","v":0.03},{"$f":"'Nastavení příloh'!CC21/100","v":0.05},{"$f":"'Nastavení příloh'!CD21/100","v":7.0000000000000007E-2},{"$f":"'Nastavení příloh'!CE21/100","v":0.08},{"$f":"'Nastavení příloh'!CF21/100","v":0.1},{"$f":"'Nastavení příloh'!CG21/100","v":0.12},{"$f":"'Nastavení příloh'!CH21/100","v":0.36},{"$f":"'Nastavení příloh'!CI21/100","v":0.41},{"$f":"'Nastavení příloh'!CJ21/100","v":0.46},{"$f":"'Nastavení příloh'!CK21/100","v":0.5},{"$f":"'Nastavení příloh'!CL21/100","v":0.55000000000000004},{"$f":"'Nastavení příloh'!CM21/100","v":0.6},{"$f":"'Nastavení příloh'!CN21/100","v":0.65},{"$f":"'Nastavení příloh'!CO21/100","v":0.68},{"$f":"'Nastavení příloh'!CP21/100","v":0.7},{"$f":"'Nastavení příloh'!CQ21/100","v":0.68},{"$f":"'Nastavení příloh'!CR21/100","v":0.45}]
[null,1100,"-",1199,{"$f":"'Nastavení příloh'!F22/100","v":0},{"$f":"'Nastavení příloh'!G22/100","v":0.01},{"$f":"'Nastavení příloh'!H22/100","v":0.03},{"$f":"'Nastavení příloh'!I22/100","v":0.05},{"$f":"'Nastavení příloh'!J22/100","v":7.0000000000000007E-2},{"$f":"'Nastavení příloh'!K22/100","v":0.09},{"$f":"'Nastavení příloh'!L22/100","v":0.11},{"$f":"'Nastavení příloh'!M22/100","v":0.13},{"$f":"'Nastavení příloh'!N22/100","v":0.15},{"$f":"'Nastavení příloh'!O22/100","v":0.17},{"$f":"'Nastavení příloh'!P22/100","v":0.19},{"$f":"'Nastavení příloh'!Q22/100","v":0.21},{"$f":"'Nastavení příloh'!R22/100","v":0.23},{"$f":"'Nastavení příloh'!S22/100","v":0.25},{"$f":"'Nastavení příloh'!T22/100","v":0.25},{"$f":"'Nastavení příloh'!U22/100","v":0.25},{"$f":"'Nastavení příloh'!V22/100","v":0.25},{"$f":"'Nastavení příloh'!W22/100","v":0.25},{"$f":"'Nastavení příloh'!X22/100","v":0.25},null,1100,"-",1199,{"$f":"'Nastavení příloh'!AD22/100","v":-0.03},{"$f":"'Nastavení příloh'!AE22/100","v":-0.02},{"$f":"'Nastavení příloh'!AF22/100","v":0},{"$f":"'Nastavení příloh'!AG22/100","v":0},{"$f":"'Nastavení příloh'!AH22/100","v":0},{"$f":"'Nastavení příloh'!AI22/100","v":0},{"$f":"'Nastavení příloh'!AJ22/100","v":0},{"$f":"'Nastavení příloh'!AK22/100","v":0},{"$f":"'Nastavení příloh'!AL22/100","v":0},{"$f":"'Nastavení příloh'!AM22/100","v":0.02},{"$f":"'Nastavení příloh'!AN22/100","v":0.05},{"$f":"'Nastavení příloh'!AO22/100","v":0.08},{"$f":"'Nastavení příloh'!AP22/100","v":0.12},{"$f":"'Nastavení příloh'!AQ22/100","v":0.15},{"$f":"'Nastavení příloh'!AR22/100","v":0.18},{"$f":"'Nastavení příloh'!AS22/100","v":0.21},{"$f":"'Nastavení příloh'!AT22/100","v":0.25},{"$f":"'Nastavení příloh'!AU22/100","v":0.21},{"$f":"'Nastavení příloh'!AV22/100","v":0.18},null,1100,"-",1199,{"$f":"'Nastavení příloh'!BB22/100","v":0},{"$f":"'Nastavení příloh'!BC22/100","v":0},{"$f":"'Nastavení příloh'!BD22/100","v":0},{"$f":"'Nastavení příloh'!BE22/100","v":0},{"$f":"'Nastavení příloh'!BF22/100","v":0},{"$f":"'Nastavení příloh'!BG22/100","v":0},{"$f":"'Nastavení příloh'!BH22/100","v":0},{"$f":"'Nastavení příloh'!BI22/100","v":0},{"$f":"'Nastavení příloh'!BJ22/100","v":0},{"$f":"'Nastavení příloh'!BK22/100","v":0.2},{"$f":"'Nastavení příloh'!BL22/100","v":0.2},{"$f":"'Nastavení příloh'!BM22/100","v":0.2},{"$f":"'Nastavení příloh'!BN22/100","v":0.2},{"$f":"'Nastavení příloh'!BO22/100","v":0.2},{"$f":"'Nastavení příloh'!BP22/100","v":0.2},{"$f":"'Nastavení příloh'!BQ22/100","v":0.2},{"$f":"'Nastavení příloh'!BR22/100","v":0.2},{"$f":"'Nastavení příloh'!BS22/100","v":0.2},{"$f":"'Nastavení příloh'!BT22/100","v":0},null,1100,"-",1199,{"$f":"'Nastavení příloh'!BZ22/100","v":0},{"$f":"'Nastavení příloh'!CA22/100","v":0},{"$f":"'Nastavení příloh'!CB22/100","v":0.03},{"$f":"'Nastavení příloh'!CC22/100","v":0.05},{"$f":"'Nastavení příloh'!CD22/100","v":7.0000000000000007E-2},{"$f":"'Nastavení příloh'!CE22/100","v":0.09},{"$f":"'Nastavení příloh'!CF22/100","v":0.11},{"$f":"'Nastavení příloh'!CG22/100","v":0.13},{"$f":"'Nastavení příloh'!CH22/100","v":0.15},{"$f":"'Nastavení příloh'!CI22/100","v":0.39},{"$f":"'Nastavení příloh'!CJ22/100","v":0.44},{"$f":"'Nastavení příloh'!CK22/100","v":0.49},{"$f":"'Nastavení příloh'!CL22/100","v":0.55000000000000004},{"$f":"'Nastavení příloh'!CM22/100","v":0.6},{"$f":"'Nastavení příloh'!CN22/100","v":0.63},{"$f":"'Nastavení příloh'!CO22/100","v":0.66},{"$f":"'Nastavení příloh'!CP22/100","v":0.7},{"$f":"'Nastavení příloh'!CQ22/100","v":0.66},{"$f":"'Nastavení příloh'!CR22/100","v":0.43}]
[null,1200,"-",1299,{"$f":"'Nastavení příloh'!F23/100","v":0},{"$f":"'Nastavení příloh'!G23/100","v":0.01},{"$f":"'Nastavení příloh'!H23/100","v":0.04},{"$f":"'Nastavení příloh'!I23/100","v":0.06},{"$f":"'Nastavení příloh'!J23/100","v":0.08},{"$f":"'Nastavení příloh'!K23/100","v":0.1},{"$f":"'Nastavení příloh'!L23/100","v":0.12},{"$f":"'Nastavení příloh'!M23/100","v":0.14000000000000001},{"$f":"'Nastavení příloh'!N23/100","v":0.17},{"$f":"'Nastavení příloh'!O23/100","v":0.19},{"$f":"'Nastavení příloh'!P23/100","v":0.21},{"$f":"'Nastavení příloh'!Q23/100","v":0.23},{"$f":"'Nastavení příloh'!R23/100","v":0.25},{"$f":"'Nastavení příloh'!S23/100","v":0.25},{"$f":"'Nastavení příloh'!T23/100","v":0.25},{"$f":"'Nastavení příloh'!U23/100","v":0.25},{"$f":"'Nastavení příloh'!V23/100","v":0.25},{"$f":"'Nastavení příloh'!W23/100","v":0.25},{"$f":"'Nastavení příloh'!X23/100","v":0.25},null,1200,"-",1299,{"$f":"'Nastavení příloh'!AD23/100","v":-0.06},{"$f":"'Nastavení příloh'!AE23/100","v":-0.05},{"$f":"'Nastavení příloh'!AF23/100","v":-0.03},{"$f":"'Nastavení příloh'!AG23/100","v":-0.01},{"$f":"'Nastavení příloh'!AH23/100","v":0},{"$f":"'Nastavení příloh'!AI23/100","v":0},{"$f":"'Nastavení příloh'!AJ23/100","v":0},{"$f":"'Nastavení příloh'!AK23/100","v":0},{"$f":"'Nastavení příloh'!AL23/100","v":0},{"$f":"'Nastavení příloh'!AM23/100","v":0},{"$f":"'Nastavení příloh'!AN23/100","v":0.02},{"$f":"'Nastavení příloh'!AO23/100","v":0.06},{"$f":"'Nastavení příloh'!AP23/100","v":0.09},{"$f":"'Nastavení příloh'!AQ23/100","v":0.13},{"$f":"'Nastavení příloh'!AR23/100","v":0.16},{"$f":"'Nastavení příloh'!AS23/100","v":0.2},{"$f":"'Nastavení příloh'!AT23/100","v":0.23},{"$f":"'Nastavení příloh'!AU23/100","v":0.2},{"$f":"'Nastavení příloh'!AV23/100","v":0.16},null,1200,"-",1299,{"$f":"'Nastavení příloh'!BB23/100","v":0},{"$f":"'Nastavení příloh'!BC23/100","v":0},{"$f":"'Nastavení příloh'!BD23/100","v":0},{"$f":"'Nastavení příloh'!BE23/100","v":0},{"$f":"'Nastavení příloh'!BF23/100","v":0},{"$f":"'Nastavení příloh'!BG23/100","v":0},{"$f":"'Nastavení příloh'!BH23/100","v":0},{"$f":"'Nastavení příloh'!BI23/100","v":0},{"$f":"'Nastavení příloh'!BJ23/100","v":0},{"$f":"'Nastavení příloh'!BK23/100","v":0.19},{"$f":"'Nastavení příloh'!BL23/100","v":0.2},{"$f":"'Nastavení příloh'!BM23/100","v":0.2},{"$f":"'Nastavení příloh'!BN23/100","v":0.2},{"$f":"'Nastavení příloh'!BO23/100","v":0.2},{"$f":"'Nastavení příloh'!BP23/100","v":0.2},{"$f":"'Nastavení příloh'!BQ23/100","v":0.2},{"$f":"'Nastavení příloh'!BR23/100","v":0.2},{"$f":"'Nastavení příloh'!BS23/100","v":0.2},{"$f":"'Nastavení příloh'!BT23/100","v":0},null,1200,"-",1299,{"$f":"'Nastavení příloh'!BZ23/100","v":0},{"$f":"'Nastavení příloh'!CA23/100","v":0},{"$f":"'Nastavení příloh'!CB23/100","v":0.01},{"$f":"'Nastavení příloh'!CC23/100","v":0.05},{"$f":"'Nastavení příloh'!CD23/100","v":0.08},{"$f":"'Nastavení příloh'!CE23/100","v":0.1},{"$f":"'Nastavení příloh'!CF23/100","v":0.12},{"$f":"'Nastavení příloh'!CG23/100","v":0.14000000000000001},{"$f":"'Nastavení příloh'!CH23/100","v":0.17},{"$f":"'Nastavení příloh'!CI23/100","v":0.38},{"$f":"'Nastavení příloh'!CJ23/100","v":0.43},{"$f":"'Nastavení příloh'!CK23/100","v":0.49},{"$f":"'Nastavení příloh'!CL23/100","v":0.54},{"$f":"'Nastavení příloh'!CM23/100","v":0.57999999999999996},{"$f":"'Nastavení příloh'!CN23/100","v":0.61},{"$f":"'Nastavení příloh'!CO23/100","v":0.65},{"$f":"'Nastavení příloh'!CP23/100","v":0.68},{"$f":"'Nastavení příloh'!CQ23/100","v":0.65},{"$f":"'Nastavení příloh'!CR23/100","v":0.41}]
[null,1300,"-",1399,{"$f":"'Nastavení příloh'!F24/100","v":0},{"$f":"'Nastavení příloh'!G24/100","v":0.01},{"$f":"'Nastavení příloh'!H24/100","v":0.04},{"$f":"'Nastavení příloh'!I24/100","v":0.06},{"$f":"'Nastavení příloh'!J24/100","v":0.09},{"$f":"'Nastavení příloh'!K24/100","v":0.11},{"$f":"'Nastavení příloh'!L24/100","v":0.13},{"$f":"'Nastavení příloh'!M24/100","v":0.16},{"$f":"'Nastavení příloh'!N24/100","v":0.18},{"$f":"'Nastavení příloh'!O24/100","v":0.2},{"$f":"'Nastavení příloh'!P24/100","v":0.23},{"$f":"'Nastavení příloh'!Q24/100","v":0.25},{"$f":"'Nastavení příloh'!R24/100","v":0.25},{"$f":"'Nastavení příloh'!S24/100","v":0.25},{"$f":"'Nastavení příloh'!T24/100","v":0.25},{"$f":"'Nastavení příloh'!U24/100","v":0.25},{"$f":"'Nastavení příloh'!V24/100","v":0.25},{"$f":"'Nastavení příloh'!W24/100","v":0.25},{"$f":"'Nastavení příloh'!X24/100","v":0.25},null,1300,"-",1399,{"$f":"'Nastavení příloh'!AD24/100","v":-0.09},{"$f":"'Nastavení příloh'!AE24/100","v":-0.08},{"$f":"'Nastavení příloh'!AF24/100","v":-0.06},{"$f":"'Nastavení příloh'!AG24/100","v":-0.04},{"$f":"'Nastavení příloh'!AH24/100","v":-0.02},{"$f":"'Nastavení příloh'!AI24/100","v":0},{"$f":"'Nastavení příloh'!AJ24/100","v":0},{"$f":"'Nastavení příloh'!AK24/100","v":0},{"$f":"'Nastavení příloh'!AL24/100","v":0},{"$f":"'Nastavení příloh'!AM24/100","v":0},{"$f":"'Nastavení příloh'!AN24/100","v":0},{"$f":"'Nastavení příloh'!AO24/100","v":0.03},{"$f":"'Nastavení příloh'!AP24/100","v":7.0000000000000007E-2},{"$f":"'Nastavení příloh'!AQ24/100","v":0.11},{"$f":"'Nastavení příloh'!AR24/100","v":0.15},{"$f":"'Nastavení příloh'!AS24/100","v":0.18},{"$f":"'Nastavení příloh'!AT24/100","v":0.22},{"$f":"'Nastavení příloh'!AU24/100","v":0.18},{"$f":"'Nastavení příloh'!AV24/100","v":0.15},null,1300,"-",1399,{"$f":"'Nastavení příloh'!BB24/100","v":0},{"$f":"'Nastavení příloh'!BC24/100","v":0},{"$f":"'Nastavení příloh'!BD24/100","v":0},{"$f":"'Nastavení příloh'!BE24/100","v":0},{"$f":"'Nastavení příloh'!BF24/100","v":0},{"$f":"'Nastavení příloh'!BG24/100","v":0},{"$f":"'Nastavení příloh'!BH24/100","v":0},{"$f":"'Nastavení příloh'!BI24/100","v":0},{"$f":"'Nastavení příloh'!BJ24/100","v":0},{"$f":"'Nastavení příloh'!BK24/100","v":0},{"$f":"'Nastavení příloh'!BL24/100","v":0.19},{"$f":"'Nastavení příloh'!BM24/100","v":0.2},{"$f":"'Nastavení příloh'!BN24/100","v":0.2},{"$f":"'Nastavení příloh'!BO24/100","v":0.2},{"$f":"'Nastavení příloh'!BP24/100","v":0.2},{"$f":"'Nastavení příloh'!BQ24/100","v":0.2},{"$f":"'Nastavení příloh'!BR24/100","v":0.2},{"$f":"'Nastavení příloh'!BS24/100","v":0.19},{"$f":"'Nastavení příloh'!BT24/100","v":0},null,1300,"-",1399,{"$f":"'Nastavení příloh'!BZ24/100","v":0},{"$f":"'Nastavení příloh'!CA24/100","v":0},{"$f":"'Nastavení příloh'!CB24/100","v":0},{"$f":"'Nastavení příloh'!CC24/100","v":0.02},{"$f":"'Nastavení příloh'!CD24/100","v":7.0000000000000007E-2},{"$f":"'Nastavení příloh'!CE24/100","v":0.11},{"$f":"'Nastavení příloh'!CF24/100","v":0.13},{"$f":"'Nastavení příloh'!CG24/100","v":0.16},{"$f":"'Nastavení příloh'!CH24/100","v":0.18},{"$f":"'Nastavení příloh'!CI24/100","v":0.2},{"$f":"'Nastavení příloh'!CJ24/100","v":0.42},{"$f":"'Nastavení příloh'!CK24/100","v":0.48},{"$f":"'Nastavení příloh'!CL24/100","v":0.52},{"$f":"'Nastavení příloh'!CM24/100","v":0.56000000000000005},{"$f":"'Nastavení příloh'!CN24/100","v":0.6},{"$f":"'Nastavení příloh'!CO24/100","v":0.63},{"$f":"'Nastavení příloh'!CP24/100","v":0.67},{"$f":"'Nastavení příloh'!CQ24/100","v":0.62},{"$f":"'Nastavení příloh'!CR24/100","v":0.4}]
[null,1400,"-",1499,{"$f":"'Nastavení příloh'!F25/100","v":0},{"$f":"'Nastavení příloh'!G25/100","v":0.02},{"$f":"'Nastavení příloh'!H25/100","v":0.04},{"$f":"'Nastavení příloh'!I25/100","v":7.0000000000000007E-2},{"$f":"'Nastavení příloh'!J25/100","v":0.09},{"$f":"'Nastavení příloh'!K25/100","v":0.12},{"$f":"'Nastavení příloh'!L25/100","v":0.14000000000000001},{"$f":"'Nastavení příloh'!M25/100","v":0.17},{"$f":"'Nastavení příloh'!N25/100","v":0.19},{"$f":"'Nastavení příloh'!O25/100","v":0.22},{"$f":"'Nastavení příloh'!P25/100","v":0.24},{"$f":"'Nastavení příloh'!Q25/100","v":0.25},{"$f":"'Nastavení příloh'!R25/100","v":0.25},{"$f":"'Nastavení příloh'!S25/100","v":0.25},{"$f":"'Nastavení příloh'!T25/100","v":0.25},{"$f":"'Nastavení příloh'!U25/100","v":0.25},{"$f":"'Nastavení příloh'!V25/100","v":0.25},{"$f":"'Nastavení příloh'!W25/100","v":0.25},{"$f":"'Nastavení příloh'!X25/100","v":0.25},null,1400,"-",1499,{"$f":"'Nastavení příloh'!AD25/100","v":-0.12},{"$f":"'Nastavení příloh'!AE25/100","v":-0.1},{"$f":"'Nastavení příloh'!AF25/100","v":-0.08},{"$f":"'Nastavení příloh'!AG25/100","v":-0.06},{"$f":"'Nastavení příloh'!AH25/100","v":-0.04},{"$f":"'Nastavení příloh'!AI25/100","v":-0.02},{"$f":"'Nastavení příloh'!AJ25/100","v":0},{"$f":"'Nastavení příloh'!AK25/100","v":0},{"$f":"'Nastavení příloh'!AL25/100","v":0},{"$f":"'Nastavení příloh'!AM25/100","v":0},{"$f":"'Nastavení příloh'!AN25/100","v":0},{"$f":"'Nastavení příloh'!AO25/100","v":0},{"$f":"'Nastavení příloh'!AP25/100","v":0.04},{"$f":"'Nastavení příloh'!AQ25/100","v":0.09},{"$f":"'Nastavení příloh'!AR25/100","v":0.13},{"$f":"'Nastavení příloh'!AS25/100","v":0.17},{"$f":"'Nastavení příloh'!AT25/100","v":0.21},{"$f":"'Nastavení příloh'!AU25/100","v":0.17},{"$f":"'Nastavení příloh'!AV25/100","v":0.13},null,1400,"-",1499,{"$f":"'Nastavení příloh'!BB25/100","v":0},{"$f":"'Nastavení příloh'!BC25/100","v":0},{"$f":"'Nastavení příloh'!BD25/100","v":0},{"$f":"'Nastavení příloh'!BE25/100","v":0},{"$f":"'Nastavení příloh'!BF25/100","v":0},{"$f":"'Nastavení příloh'!BG25/100","v":0},{"$f":"'Nastavení příloh'!BH25/100","v":0},{"$f":"'Nastavení příloh'!BI25/100","v":0},{"$f":"'Nastavení příloh'!BJ25/100","v":0},{"$f":"'Nastavení příloh'!BK25/100","v":0},{"$f":"'Nastavení příloh'!BL25/100","v":0.16},{"$f":"'Nastavení příloh'!BM25/100","v":0.2},{"$f":"'Nastavení příloh'!BN25/100","v":0.2},{"$f":"'Nastavení příloh'!BO25/100","v":0.2},{"$f":"'Nastavení příloh'!BP25/100","v":0.2},{"$f":"'Nastavení příloh'!BQ25/100","v":0.2},{"$f":"'Nastavení příloh'!BR25/100","v":0.19},{"$f":"'Nastavení příloh'!BS25/100","v":0},{"$f":"'Nastavení příloh'!BT25/100","v":0},null,1400,"-",1499,{"$f":"'Nastavení příloh'!BZ25/100","v":0},{"$f":"'Nastavení příloh'!CA25/100","v":0},{"$f":"'Nastavení příloh'!CB25/100","v":0},{"$f":"'Nastavení příloh'!CC25/100","v":0.01},{"$f":"'Nastavení příloh'!CD25/100","v":0.05},{"$f":"'Nastavení příloh'!CE25/100","v":0.1},{"$f":"'Nastavení příloh'!CF25/100","v":0.14000000000000001},{"$f":"'Nastavení příloh'!CG25/100","v":0.17},{"$f":"'Nastavení příloh'!CH25/100","v":0.19},{"$f":"'Nastavení příloh'!CI25/100","v":0.22},{"$f":"'Nastavení příloh'!CJ25/100","v":0.4},{"$f":"'Nastavení příloh'!CK25/100","v":0.45},{"$f":"'Nastavení příloh'!CL25/100","v":0.49},{"$f":"'Nastavení příloh'!CM25/100","v":0.54},{"$f":"'Nastavení příloh'!CN25/100","v":0.57999999999999996},{"$f":"'Nastavení příloh'!CO25/100","v":0.62},{"$f":"'Nastavení příloh'!CP25/100","v":0.65},{"$f":"'Nastavení příloh'!CQ25/100","v":0.42},{"$f":"'Nastavení příloh'!CR25/100","v":0.38}]
[null,1500,"-",1599,{"$f":"'Nastavení příloh'!F26/100","v":0},{"$f":"'Nastavení příloh'!G26/100","v":0.02},{"$f":"'Nastavení příloh'!H26/100","v":0.04},{"$f":"'Nastavení příloh'!I26/100","v":7.0000000000000007E-2},{"$f":"'Nastavení příloh'!J26/100","v":0.1},{"$f":"'Nastavení příloh'!K26/100","v":0.12},{"$f":"'Nastavení příloh'!L26/100","v":0.15},{"$f":"'Nastavení příloh'!M26/100","v":0.18},{"$f":"'Nastavení příloh'!N26/100","v":0.21},{"$f":"'Nastavení příloh'!O26/100","v":0.23},{"$f":"'Nastavení příloh'!P26/100","v":0.25},{"$f":"'Nastavení příloh'!Q26/100","v":0.25},{"$f":"'Nastavení příloh'!R26/100","v":0.25},{"$f":"'Nastavení příloh'!S26/100","v":0.25},{"$f":"'Nastavení příloh'!T26/100","v":0.25},{"$f":"'Nastavení příloh'!U26/100","v":0.25},{"$f":"'Nastavení příloh'!V26/100","v":0.25},{"$f":"'Nastavení příloh'!W26/100","v":0.25},{"$f":"'Nastavení příloh'!X26/100","v":0.25},null,1500,"-",1599,{"$f":"'Nastavení příloh'!AD26/100","v":-0.13},{"$f":"'Nastavení příloh'!AE26/100","v":-0.13},{"$f":"'Nastavení příloh'!AF26/100","v":-0.11},{"$f":"'Nastavení příloh'!AG26/100","v":-0.09},{"$f":"'Nastavení příloh'!AH26/100","v":-7.0000000000000007E-2},{"$f":"'Nastavení příloh'!AI26/100","v":-0.04},{"$f":"'Nastavení příloh'!AJ26/100","v":-0.02},{"$f":"'Nastavení příloh'!AK26/100","v":0},{"$f":"'Nastavení příloh'!AL26/100","v":0},{"$f":"'Nastavení příloh'!AM26/100","v":0},{"$f":"'Nastavení příloh'!AN26/100","v":0},{"$f":"'Nastavení příloh'!AO26/100","v":0},{"$f":"'Nastavení příloh'!AP26/100","v":0.02},{"$f":"'Nastavení příloh'!AQ26/100","v":7.0000000000000007E-2},{"$f":"'Nastavení příloh'!AR26/100","v":0.11},{"$f":"'Nastavení příloh'!AS26/100","v":0.15},{"$f":"'Nastavení příloh'!AT26/100","v":0.2},{"$f":"'Nastavení příloh'!AU26/100","v":0.15},{"$f":"'Nastavení příloh'!AV26/100","v":0.11},null,1500,"-",1599,{"$f":"'Nastavení příloh'!BB26/100","v":0},{"$f":"'Nastavení příloh'!BC26/100","v":0},{"$f":"'Nastavení příloh'!BD26/100","v":0},{"$f":"'Nastavení příloh'!BE26/100","v":0},{"$f":"'Nastavení příloh'!BF26/100","v":0},{"$f":"'Nastavení příloh'!BG26/100","v":0},{"$f":"'Nastavení příloh'!BH26/100","v":0},{"$f":"'Nastavení příloh'!BI26/100","v":0},{"$f":"'Nastavení příloh'!BJ26/100","v":0},{"$f":"'Nastavení příloh'!BK26/100","v":0},{"$f":"'Nastavení příloh'!BL26/100","v":0},{"$f":"'Nastavení příloh'!BM26/100","v":0.18},{"$f":"'Nastavení příloh'!BN26/100","v":0.2},{"$f":"'Nastavení příloh'!BO26/100","v":0.2},{"$f":"'Nastavení příloh'!BP26/100","v":0.2},{"$f":"'Nastavení příloh'!BQ26/100","v":0.19},{"$f":"'Nastavení příloh'!BR26/100","v":0.17},{"$f":"'Nastavení příloh'!BS26/100","v":0},{"$f":"'Nastavení příloh'!BT26/100","v":0},null,1500,"-",1599,{"$f":"'Nastavení příloh'!BZ26/100","v":0},{"$f":"'Nastavení příloh'!CA26/100","v":0},{"$f":"'Nastavení příloh'!CB26/100","v":0},{"$f":"'Nastavení příloh'!CC26/100","v":0},{"$f":"'Nastavení příloh'!CD26/100","v":0.03},{"$f":"'Nastavení příloh'!CE26/100","v":0.08},{"$f":"'Nastavení příloh'!CF26/100","v":0.13},{"$f":"'Nastavení příloh'!CG26/100","v":0.18},{"$f":"'Nastavení příloh'!CH26/100","v":0.21},{"$f":"'Nastavení příloh'!CI26/100","v":0.23},{"$f":"'Nastavení příloh'!CJ26/100","v":0.25},{"$f":"'Nastavení příloh'!CK26/100","v":0.43},{"$f":"'Nastavení příloh'!CL26/100","v":0.47},{"$f":"'Nastavení příloh'!CM26/100","v":0.52},{"$f":"'Nastavení příloh'!CN26/100","v":0.56000000000000005},{"$f":"'Nastavení příloh'!CO26/100","v":0.59},{"$f":"'Nastavení příloh'!CP26/100","v":0.62},{"$f":"'Nastavení příloh'!CQ26/100","v":0.4},{"$f":"'Nastavení příloh'!CR26/100","v":0.36}]
[null,1600,"-",1699,{"$f":"'Nastavení příloh'!F27/100","v":0},{"$f":"'Nastavení příloh'!G27/100","v":0.02},{"$f":"'Nastavení příloh'!H27/100","v":0.05},{"$f":"'Nastavení příloh'!I27/100","v":0.08},{"$f":"'Nastavení příloh'!J27/100","v":0.1},{"$f":"'Nastavení příloh'!K27/100","v":0.13},{"$f":"'Nastavení příloh'!L27/100","v":0.16},{"$f":"'Nastavení příloh'!M27/100","v":0.19},{"$f":"'Nastavení příloh'!N27/100","v":0.22},{"$f":"'Nastavení příloh'!O27/100","v":0.25},{"$f":"'Nastavení příloh'!P27/100","v":0.25},{"$f":"'Nastavení příloh'!Q27/100","v":0.25},{"$f":"'Nastavení příloh'!R27/100","v":0.25},{"$f":"'Nastavení příloh'!S27/100","v":0.25},{"$f":"'Nastavení příloh'!T27/100","v":0.25},{"$f":"'Nastavení příloh'!U27/100","v":0.25},{"$f":"'Nastavení příloh'!V27/100","v":0.25},{"$f":"'Nastavení příloh'!W27/100","v":0.25},{"$f":"'Nastavení příloh'!X27/100","v":0.25},null,1600,"-",1699,{"$f":"'Nastavení příloh'!AD27/100","v":-0.13},{"$f":"'Nastavení příloh'!AE27/100","v":-0.13},{"$f":"'Nastavení příloh'!AF27/100","v":-0.13},{"$f":"'Nastavení příloh'!AG27/100","v":-0.11},{"$f":"'Nastavení příloh'!AH27/100","v":-0.09},{"$f":"'Nastavení příloh'!AI27/100","v":-0.06},{"$f":"'Nastavení příloh'!AJ27/100","v":-0.04},{"$f":"'Nastavení příloh'!AK27/100","v":-0.02},{"$f":"'Nastavení příloh'!AL27/100","v":0},{"$f":"'Nastavení příloh'!AM27/100","v":0},{"$f":"'Nastavení příloh'!AN27/100","v":0},{"$f":"'Nastavení příloh'!AO27/100","v":0},{"$f":"'Nastavení příloh'!AP27/100","v":0},{"$f":"'Nastavení příloh'!AQ27/100","v":0.04},{"$f":"'Nastavení příloh'!AR27/100","v":0.09},{"$f":"'Nastavení příloh'!AS27/100","v":0.14000000000000001},{"$f":"'Nastavení příloh'!AT27/100","v":0.18},{"$f":"'Nastavení příloh'!AU27/100","v":0.14000000000000001},{"$f":"'Nastavení příloh'!AV27/100","v":0.09},null,1600,"-",1699,{"$f":"'Nastavení příloh'!BB27/100","v":0},{"$f":"'Nastavení příloh'!BC27/100","v":0},{"$f":"'Nastavení příloh'!BD27/100","v":0},{"$f":"'Nastavení příloh'!BE27/100","v":0},{"$f":"'Nastavení příloh'!BF27/100","v":0},{"$f":"'Nastavení příloh'!BG27/100","v":0},{"$f":"'Nastavení příloh'!BH27/100","v":0},{"$f":"'Nastavení příloh'!BI27/100","v":0},{"$f":"'Nastavení příloh'!BJ27/100","v":0},{"$f":"'Nastavení příloh'!BK27/100","v":0},{"$f":"'Nastavení příloh'!BL27/100","v":0},{"$f":"'Nastavení příloh'!BM27/100","v":0.15},{"$f":"'Nastavení příloh'!BN27/100","v":0.2},{"$f":"'Nastavení příloh'!BO27/100","v":0.2},{"$f":"'Nastavení příloh'!BP27/100","v":0.19},{"$f":"'Nastavení příloh'!BQ27/100","v":0.17},{"$f":"'Nastavení příloh'!BR27/100","v":0},{"$f":"'Nastavení příloh'!BS27/100","v":0},{"$f":"'Nastavení příloh'!BT27/100","v":0},null,1600,"-",1699,{"$f":"'Nastavení příloh'!BZ27/100","v":0},{"$f":"'Nastavení příloh'!CA27/100","v":0},{"$f":"'Nastavení příloh'!CB27/100","v":0},{"$f":"'Nastavení příloh'!CC27/100","v":0},{"$f":"'Nastavení příloh'!CD27/100","v":0.01},{"$f":"'Nastavení příloh'!CE27/100","v":7.0000000000000007E-2},{"$f":"'Nastavení příloh'!CF27/100","v":0.12},{"$f":"'Nastavení příloh'!CG27/100","v":0.17},{"$f":"'Nastavení příloh'!CH27/100","v":0.22},{"$f":"'Nastavení příloh'!CI27/100","v":0.25},{"$f":"'Nastavení příloh'!CJ27/100","v":0.25},{"$f":"'Nastavení příloh'!CK27/100","v":0.4},{"$f":"'Nastavení příloh'!CL27/100","v":0.45},{"$f":"'Nastavení příloh'!CM27/100","v":0.49},{"$f":"'Nastavení příloh'!CN27/100","v":0.53},{"$f":"'Nastavení příloh'!CO27/100","v":0.56000000000000005},{"$f":"'Nastavení příloh'!CP27/100","v":0.43},{"$f":"'Nastavení příloh'!CQ27/100","v":0.39},{"$f":"'Nastavení příloh'!CR27/100","v":0.34}]
[null,1700,"-",1799,{"$f":"'Nastavení příloh'!F28/100","v":0},{"$f":"'Nastavení příloh'!G28/100","v":0.02},{"$f":"'Nastavení příloh'!H28/100","v":0.05},{"$f":"'Nastavení příloh'!I28/100","v":0.08},{"$f":"'Nastavení příloh'!J28/100","v":0.11},{"$f":"'Nastavení příloh'!K28/100","v":0.14000000000000001},{"$f":"'Nastavení příloh'!L28/100","v":0.17},{"$f":"'Nastavení příloh'!M28/100","v":0.2},{"$f":"'Nastavení příloh'!N28/100","v":0.23},{"$f":"'Nastavení příloh'!O28/100","v":0.25},{"$f":"'Nastavení příloh'!P28/100","v":0.25},{"$f":"'Nastavení příloh'!Q28/100","v":0.25},{"$f":"'Nastavení příloh'!R28/100","v":0.25},{"$f":"'Nastavení příloh'!S28/100","v":0.25},{"$f":"'Nastavení příloh'!T28/100","v":0.25},{"$f":"'Nastavení příloh'!U28/100","v":0.25},{"$f":"'Nastavení příloh'!V28/100","v":0.25},{"$f":"'Nastavení příloh'!W28/100","v":0.25},{"$f":"'Nastavení příloh'!X28/100","v":0.25},null,1700,"-",1799,{"$f":"'Nastavení příloh'!AD28/100","v":-0.13},{"$f":"'Nastavení příloh'!AE28/100","v":-0.13},{"$f":"'Nastavení příloh'!AF28/100","v":-0.13},{"$f":"'Nastavení příloh'!AG28/100","v":-0.13},{"$f":"'Nastavení příloh'!AH28/100","v":-0.11},{"$f":"'Nastavení příloh'!AI28/100","v":-0.09},{"$f":"'Nastavení příloh'!AJ28/100","v":-0.06},{"$f":"'Nastavení příloh'!AK28/100","v":-0.04},{"$f":"'Nastavení příloh'!AL28/100","v":-0.01},{"$f":"'Nastavení příloh'!AM28/100","v":0},{"$f":"'Nastavení příloh'!AN28/100","v":0},{"$f":"'Nastavení příloh'!AO28/100","v":0},{"$f":"'Nastavení příloh'!AP28/100","v":0},{"$f":"'Nastavení příloh'!AQ28/100","v":0.02},{"$f":"'Nastavení příloh'!AR28/100","v":7.0000000000000007E-2},{"$f":"'Nastavení příloh'!AS28/100","v":0.12},{"$f":"'Nastavení příloh'!AT28/100","v":0.17},{"$f":"'Nastavení příloh'!AU28/100","v":0.12},{"$f":"'Nastavení příloh'!AV28/100","v":7.0000000000000007E-2},null,1700,"-",1799,{"$f":"'Nastavení příloh'!BB28/100","v":0},{"$f":"'Nastavení příloh'!BC28/100","v":0},{"$f":"'Nastavení příloh'!BD28/100","v":0},{"$f":"'Nastavení příloh'!BE28/100","v":0},{"$f":"'Nastavení příloh'!BF28/100","v":0},{"$f":"'Nastavení příloh'!BG28/100","v":0},{"$f":"'Nastavení příloh'!BH28/100","v":0},{"$f":"'Nastavení příloh'!BI28/100","v":0},{"$f":"'Nastavení příloh'!BJ28/100","v":0},{"$f":"'Nastavení příloh'!BK28/100","v":0},{"$f":"'Nastavení příloh'!BL28/100","v":0},{"$f":"'Nastavení příloh'!BM28/100","v":0},{"$f":"'Nastavení příloh'!BN28/100","v":0.17},{"$f":"'Nastavení příloh'!BO28/100","v":0.19},{"$f":"'Nastavení příloh'!BP28/100","v":0.17},{"$f":"'Nastavení příloh'!BQ28/100","v":0},{"$f":"'Nastavení příloh'!BR28/100","v":0},{"$f":"'Nastavení příloh'!BS28/100","v":0},{"$f":"'Nastavení příloh'!BT28/100","v":0},null,1700,"-",1799,{"$f":"'Nastavení příloh'!BZ28/100","v":0},{"$f":"'Nastavení příloh'!CA28/100","v":0},{"$f":"'Nastavení příloh'!CB28/100","v":0},{"$f":"'Nastavení příloh'!CC28/100","v":0},{"$f":"'Nastavení příloh'!CD28/100","v":0},{"$f":"'Nastavení příloh'!CE28/100","v":0.05},{"$f":"'Nastavení příloh'!CF28/100","v":0.11},{"$f":"'Nastavení příloh'!CG28/100","v":0.16},{"$f":"'Nastavení příloh'!CH28/100","v":0.22},{"$f":"'Nastavení příloh'!CI28/100","v":0.25},{"$f":"'Nastavení příloh'!CJ28/100","v":0.25},{"$f":"'Nastavení příloh'!CK28/100","v":0.25},{"$f":"'Nastavení příloh'!CL28/100","v":0.42},{"$f":"'Nastavení příloh'!CM28/100","v":0.46},{"$f":"'Nastavení příloh'!CN28/100","v":0.49},{"$f":"'Nastavení příloh'!CO28/100","v":0.37},{"$f":"'Nastavení příloh'!CP28/100","v":0.42},{"$f":"'Nastavení příloh'!CQ28/100","v":0.37},{"$f":"'Nastavení příloh'!CR28/100","v":0.32}]
[null,1800,"-",1899,{"$f":"'Nastavení příloh'!F29/100","v":0},{"$f":"'Nastavení příloh'!G29/100","v":0.02},{"$f":"'Nastavení příloh'!H29/100","v":0.05},{"$f":"'Nastavení příloh'!I29/100","v":0.08},{"$f":"'Nastavení příloh'!J29/100","v":0.12},{"$f":"'Nastavení příloh'!K29/100","v":0.15},{"$f":"'Nastavení příloh'!L29/100","v":0.18},{"$f":"'Nastavení příloh'!M29/100","v":0.21},{"$f":"'Nastavení příloh'!N29/100","v":0.25},{"$f":"'Nastavení příloh'!O29/100","v":0.25},{"$f":"'Nastavení příloh'!P29/100","v":0.25},{"$f":"'Nastavení příloh'!Q29/100","v":0.25},{"$f":"'Nastavení příloh'!R29/100","v":0.25},{"$f":"'Nastavení příloh'!S29/100","v":0.25},{"$f":"'Nastavení příloh'!T29/100","v":0.25},{"$f":"'Nastavení příloh'!U29/100","v":0.25},{"$f":"'Nastavení příloh'!V29/100","v":0.25},{"$f":"'Nastavení příloh'!W29/100","v":0.25},{"$f":"'Nastavení příloh'!X29/100","v":0.25},null,1800,"-",1899,{"$f":"'Nastavení příloh'!AD29/100","v":-0.13},{"$f":"'Nastavení příloh'!AE29/100","v":-0.13},{"$f":"'Nastavení příloh'!AF29/100","v":-0.13},{"$f":"'Nastavení příloh'!AG29/100","v":-0.13},{"$f":"'Nastavení příloh'!AH29/100","v":-0.13},{"$f":"'Nastavení příloh'!AI29/100","v":-0.11},{"$f":"'Nastavení příloh'!AJ29/100","v":-0.08},{"$f":"'Nastavení příloh'!AK29/100","v":-0.06},{"$f":"'Nastavení příloh'!AL29/100","v":-0.03},{"$f":"'Nastavení příloh'!AM29/100","v":0},{"$f":"'Nastavení příloh'!AN29/100","v":0},{"$f":"'Nastavení příloh'!AO29/100","v":0},{"$f":"'Nastavení příloh'!AP29/100","v":0},{"$f":"'Nastavení příloh'!AQ29/100","v":0},{"$f":"'Nastavení příloh'!AR29/100","v":0.05},{"$f":"'Nastavení příloh'!AS29/100","v":0.11},{"$f":"'Nastavení příloh'!AT29/100","v":0.16},{"$f":"'Nastavení příloh'!AU29/100","v":0.11},{"$f":"'Nastavení příloh'!AV29/100","v":0.05},null,1800,"-",1899,{"$f":"'Nastavení příloh'!BB29/100","v":0},{"$f":"'Nastavení příloh'!BC29/100","v":0},{"$f":"'Nastavení příloh'!BD29/100","v":0},{"$f":"'Nastavení příloh'!BE29/100","v":0},{"$f":"'Nastavení příloh'!BF29/100","v":0},{"$f":"'Nastavení příloh'!BG29/100","v":0},{"$f":"'Nastavení příloh'!BH29/100","v":0},{"$f":"'Nastavení příloh'!BI29/100","v":0},{"$f":"'Nastavení příloh'!BJ29/100","v":0},{"$f":"'Nastavení příloh'!BK29/100","v":0},{"$f":"'Nastavení příloh'!BL29/100","v":0},{"$f":"'Nastavení příloh'!BM29/100","v":0},{"$f":"'Nastavení příloh'!BN29/100","v":0},{"$f":"'Nastavení příloh'!BO29/100","v":0},{"$f":"'Nastavení příloh'!BP29/100","v":0},{"$f":"'Nastavení příloh'!BQ29/100","v":0},{"$f":"'Nastavení příloh'!BR29/100","v":0},{"$f":"'Nastavení příloh'!BS29/100","v":0},{"$f":"'Nastavení příloh'!BT29/100","v":0},null,1800,"-",1899,{"$f":"'Nastavení příloh'!BZ29/100","v":0},{"$f":"'Nastavení příloh'!CA29/100","v":0},{"$f":"'Nastavení příloh'!CB29/100","v":0},{"$f":"'Nastavení příloh'!CC29/100","v":0},{"$f":"'Nastavení příloh'!CD29/100","v":0},{"$f":"'Nastavení příloh'!CE29/100","v":0.04},{"$f":"'Nastavení příloh'!CF29/100","v":0.1},{"$f":"'Nastavení příloh'!CG29/100","v":0.15},{"$f":"'Nastavení příloh'!CH29/100","v":0.22},{"$f":"'Nastavení příloh'!CI29/100","v":0.25},{"$f":"'Nastavení příloh'!CJ29/100","v":0.25},{"$f":"'Nastavení příloh'!CK29/100","v":0.25},{"$f":"'Nastavení příloh'!CL29/100","v":0.25},{"$f":"'Nastavení příloh'!CM29/100","v":0.25},{"$f":"'Nastavení příloh'!CN29/100","v":0.3},{"$f":"'Nastavení příloh'!CO29/100","v":0.36},{"$f":"'Nastavení příloh'!CP29/100","v":0.41},{"$f":"'Nastavení příloh'!CQ29/100","v":0.36},{"$f":"'Nastavení příloh'!CR29/100","v":0.3}]
[null,1900,"-",1999,{"$f":"'Nastavení příloh'!F30/100","v":0},{"$f":"'Nastavení příloh'!G30/100","v":0.02},{"$f":"'Nastavení příloh'!H30/100","v":0.05},{"$f":"'Nastavení příloh'!I30/100","v":0.09},{"$f":"'Nastavení příloh'!J30/100","v":0.12},{"$f":"'Nastavení příloh'!K30/100","v":0.16},{"$f":"'Nastavení příloh'!L30/100","v":0.19},{"$f":"'Nastavení příloh'!M30/100","v":0.23},{"$f":"'Nastavení příloh'!N30/100","v":0.25},{"$f":"'Nastavení příloh'!O30/100","v":0.25},{"$f":"'Nastavení příloh'!P30/100","v":0.25},{"$f":"'Nastavení příloh'!Q30/100","v":0.25},{"$f":"'Nastavení příloh'!R30/100","v":0.25},{"$f":"'Nastavení příloh'!S30/100","v":0.25},{"$f":"'Nastavení příloh'!T30/100","v":0.25},{"$f":"'Nastavení příloh'!U30/100","v":0.25},{"$f":"'Nastavení příloh'!V30/100","v":0.25},{"$f":"'Nastavení příloh'!W30/100","v":0.25},{"$f":"'Nastavení příloh'!X30/100","v":0.25},null,1900,"-",1999,{"$f":"'Nastavení příloh'!AD30/100","v":-0.13},{"$f":"'Nastavení příloh'!AE30/100","v":-0.13},{"$f":"'Nastavení příloh'!AF30/100","v":-0.13},{"$f":"'Nastavení příloh'!AG30/100","v":-0.13},{"$f":"'Nastavení příloh'!AH30/100","v":-0.13},{"$f":"'Nastavení příloh'!AI30/100","v":-0.13},{"$f":"'Nastavení příloh'!AJ30/100","v":-0.1},{"$f":"'Nastavení příloh'!AK30/100","v":-0.08},{"$f":"'Nastavení příloh'!AL30/100","v":-0.05},{"$f":"'Nastavení příloh'!AM30/100","v":-0.02},{"$f":"'Nastavení příloh'!AN30/100","v":0},{"$f":"'Nastavení příloh'!AO30/100","v":0},{"$f":"'Nastavení příloh'!AP30/100","v":0},{"$f":"'Nastavení příloh'!AQ30/100","v":0},{"$f":"'Nastavení příloh'!AR30/100","v":0.04},{"$f":"'Nastavení příloh'!AS30/100","v":0.09},{"$f":"'Nastavení příloh'!AT30/100","v":0.15},{"$f":"'Nastavení příloh'!AU30/100","v":0.09},{"$f":"'Nastavení příloh'!AV30/100","v":0.04},null,1900,"-",1999,{"$f":"'Nastavení příloh'!BB30/100","v":0},{"$f":"'Nastavení příloh'!BC30/100","v":0},{"$f":"'Nastavení příloh'!BD30/100","v":0},{"$f":"'Nastavení příloh'!BE30/100","v":0},{"$f":"'Nastavení příloh'!BF30/100","v":0},{"$f":"'Nastavení příloh'!BG30/100","v":0},{"$f":"'Nastavení příloh'!BH30/100","v":0},{"$f":"'Nastavení příloh'!BI30/100","v":0},{"$f":"'Nastavení příloh'!BJ30/100","v":0},{"$f":"'Nastavení příloh'!BK30/100","v":0},{"$f":"'Nastavení příloh'!BL30/100","v":0},{"$f":"'Nastavení příloh'!BM30/100","v":0},{"$f":"'Nastavení příloh'!BN30/100","v":0},{"$f":"'Nastavení příloh'!BO30/100","v":0},{"$f":"'Nastavení příloh'!BP30/100","v":0},{"$f":"'Nastavení příloh'!BQ30/100","v":0},{"$f":"'Nastavení příloh'!BR30/100","v":0},{"$f":"'Nastavení příloh'!BS30/100","v":0},{"$f":"'Nastavení příloh'!BT30/100","v":0},null,1900,"-",1999,{"$f":"'Nastavení příloh'!BZ30/100","v":0},{"$f":"'Nastavení příloh'!CA30/100","v":0},{"$f":"'Nastavení příloh'!CB30/100","v":0},{"$f":"'Nastavení příloh'!CC30/100","v":0},{"$f":"'Nastavení příloh'!CD30/100","v":0},{"$f":"'Nastavení příloh'!CE30/100","v":0.03},{"$f":"'Nastavení příloh'!CF30/100","v":0.09},{"$f":"'Nastavení příloh'!CG30/100","v":0.15},{"$f":"'Nastavení příloh'!CH30/100","v":0.2},{"$f":"'Nastavení příloh'!CI30/100","v":0.23},{"$f":"'Nastavení příloh'!CJ30/100","v":0.25},{"$f":"'Nastavení příloh'!CK30/100","v":0.25},{"$f":"'Nastavení příloh'!CL30/100","v":0.25},{"$f":"'Nastavení příloh'!CM30/100","v":0.25},{"$f":"'Nastavení příloh'!CN30/100","v":0.28999999999999998},{"$f":"'Nastavení příloh'!CO30/100","v":0.34},{"$f":"'Nastavení příloh'!CP30/100","v":0.4},{"$f":"'Nastavení příloh'!CQ30/100","v":0.34},{"$f":"'Nastavení příloh'!CR30/100","v":0.28999999999999998}]
[null,2000,"-",2099,{"$f":"'Nastavení příloh'!F31/100","v":0},{"$f":"'Nastavení příloh'!G31/100","v":0.02},{"$f":"'Nastavení příloh'!H31/100","v":0.06},{"$f":"'Nastavení příloh'!I31/100","v":0.09},{"$f":"'Nastavení příloh'!J31/100","v":0.13},{"$f":"'Nastavení příloh'!K31/100","v":0.17},{"$f":"'Nastavení příloh'!L31/100","v":0.2},{"$f":"'Nastavení příloh'!M31/100","v":0.24},{"$f":"'Nastavení příloh'!N31/100","v":0.25},{"$f":"'Nastavení příloh'!O31/100","v":0.25},{"$f":"'Nastavení příloh'!P31/100","v":0.25},{"$f":"'Nastavení příloh'!Q31/100","v":0.25},{"$f":"'Nastavení příloh'!R31/100","v":0.25},{"$f":"'Nastavení příloh'!S31/100","v":0.25},{"$f":"'Nastavení příloh'!T31/100","v":0.25},{"$f":"'Nastavení příloh'!U31/100","v":0.25},{"$f":"'Nastavení příloh'!V31/100","v":0.25},{"$f":"'Nastavení příloh'!W31/100","v":0.25},{"$f":"'Nastavení příloh'!X31/100","v":0.25},null,2000,"-",2099,{"$f":"'Nastavení příloh'!AD31/100","v":-0.13},{"$f":"'Nastavení příloh'!AE31/100","v":-0.13},{"$f":"'Nastavení příloh'!AF31/100","v":-0.13},{"$f":"'Nastavení příloh'!AG31/100","v":-0.13},{"$f":"'Nastavení příloh'!AH31/100","v":-0.13},{"$f":"'Nastavení příloh'!AI31/100","v":-0.13},{"$f":"'Nastavení příloh'!AJ31/100","v":-0.12},{"$f":"'Nastavení příloh'!AK31/100","v":-0.09},{"$f":"'Nastavení příloh'!AL31/100","v":-7.0000000000000007E-2},{"$f":"'Nastavení příloh'!AM31/100","v":-0.04},{"$f":"'Nastavení příloh'!AN31/100","v":-0.01},{"$f":"'Nastavení příloh'!AO31/100","v":0},{"$f":"'Nastavení příloh'!AP31/100","v":0},{"$f":"'Nastavení příloh'!AQ31/100","v":0},{"$f":"'Nastavení příloh'!AR31/100","v":0.02},{"$f":"'Nastavení příloh'!AS31/100","v":0.08},{"$f":"'Nastavení příloh'!AT31/100","v":0.13},{"$f":"'Nastavení příloh'!AU31/100","v":0.08},{"$f":"'Nastavení příloh'!AV31/100","v":0.02},null,2000,"-",2099,{"$f":"'Nastavení příloh'!BB31/100","v":0},{"$f":"'Nastavení příloh'!BC31/100","v":0},{"$f":"'Nastavení příloh'!BD31/100","v":0},{"$f":"'Nastavení příloh'!BE31/100","v":0},{"$f":"'Nastavení příloh'!BF31/100","v":0},{"$f":"'Nastavení příloh'!BG31/100","v":0},{"$f":"'Nastavení příloh'!BH31/100","v":0},{"$f":"'Nastavení příloh'!BI31/100","v":0},{"$f":"'Nastavení příloh'!BJ31/100","v":0},{"$f":"'Nastavení příloh'!BK31/100","v":0},{"$f":"'Nastavení příloh'!BL31/100","v":0},{"$f":"'Nastavení příloh'!BM31/100","v":0},{"$f":"'Nastavení příloh'!BN31/100","v":0},{"$f":"'Nastavení příloh'!BO31/100","v":0},{"$f":"'Nastavení příloh'!BP31/100","v":0},{"$f":"'Nastavení příloh'!BQ31/100","v":0},{"$f":"'Nastavení příloh'!BR31/100","v":0},{"$f":"'Nastavení příloh'!BS31/100","v":0},{"$f":"'Nastavení příloh'!BT31/100","v":0},null,2000,"-",2099,{"$f":"'Nastavení příloh'!BZ31/100","v":0},{"$f":"'Nastavení příloh'!CA31/100","v":0},{"$f":"'Nastavení příloh'!CB31/100","v":0},{"$f":"'Nastavení příloh'!CC31/100","v":0},{"$f":"'Nastavení příloh'!CD31/100","v":0},{"$f":"'Nastavení příloh'!CE31/100","v":0.04},{"$f":"'Nastavení příloh'!CF31/100","v":0.08},{"$f":"'Nastavení příloh'!CG31/100","v":0.15},{"$f":"'Nastavení příloh'!CH31/100","v":0.18},{"$f":"'Nastavení příloh'!CI31/100","v":0.21},{"$f":"'Nastavení příloh'!CJ31/100","v":0.24},{"$f":"'Nastavení příloh'!CK31/100","v":0.25},{"$f":"'Nastavení příloh'!CL31/100","v":0.25},{"$f":"'Nastavení příloh'!CM31/100","v":0.25},{"$f":"'Nastavení příloh'!CN31/100","v":0.27},{"$f":"'Nastavení příloh'!CO31/100","v":0.33},{"$f":"'Nastavení příloh'!CP31/100","v":0.38},{"$f":"'Nastavení příloh'!CQ31/100","v":0.33},{"$f":"'Nastavení příloh'!CR31/100","v":0.27}]
[null,2100,"-",2199,{"$f":"'Nastavení příloh'!F32/100","v":0},{"$f":"'Nastavení příloh'!G32/100","v":0.02},{"$f":"'Nastavení příloh'!H32/100","v":0.06},{"$f":"'Nastavení příloh'!I32/100","v":0.1},{"$f":"'Nastavení příloh'!J32/100","v":0.14000000000000001},{"$f":"'Nastavení příloh'!K32/100","v":0.17},{"$f":"'Nastavení příloh'!L32/100","v":0.21},{"$f":"'Nastavení příloh'!M32/100","v":0.25},{"$f":"'Nastavení příloh'!N32/100","v":0.25},{"$f":"'Nastavení příloh'!O32/100","v":0.25},{"$f":"'Nastavení příloh'!P32/100","v":0.25},{"$f":"'Nastavení příloh'!Q32/100","v":0.25},{"$f":"'Nastavení příloh'!R32/100","v":0.25},{"$f":"'Nastavení příloh'!S32/100","v":0.25},{"$f":"'Nastavení příloh'!T32/100","v":0.25},{"$f":"'Nastavení příloh'!U32/100","v":0.25},{"$f":"'Nastavení příloh'!V32/100","v":0.25},{"$f":"'Nastavení příloh'!W32/100","v":0.25},{"$f":"'Nastavení příloh'!X32/100","v":0.25},null,2100,"-",2199,{"$f":"'Nastavení příloh'!AD32/100","v":-0.13},{"$f":"'Nastavení příloh'!AE32/100","v":-0.13},{"$f":"'Nastavení příloh'!AF32/100","v":-0.13},{"$f":"'Nastavení příloh'!AG32/100","v":-0.13},{"$f":"'Nastavení příloh'!AH32/100","v":-0.13},{"$f":"'Nastavení příloh'!AI32/100","v":-0.13},{"$f":"'Nastavení příloh'!AJ32/100","v":-0.13},{"$f":"'Nastavení příloh'!AK32/100","v":-0.11},{"$f":"'Nastavení příloh'!AL32/100","v":-0.08},{"$f":"'Nastavení příloh'!AM32/100","v":-0.05},{"$f":"'Nastavení příloh'!AN32/100","v":-0.02},{"$f":"'Nastavení příloh'!AO32/100","v":0},{"$f":"'Nastavení příloh'!AP32/100","v":0},{"$f":"'Nastavení příloh'!AQ32/100","v":0},{"$f":"'Nastavení příloh'!AR32/100","v":0},{"$f":"'Nastavení příloh'!AS32/100","v":0.06},{"$f":"'Nastavení příloh'!AT32/100","v":0.12},{"$f":"'Nastavení příloh'!AU32/100","v":0.06},{"$f":"'Nastavení příloh'!AV32/100","v":0},null,2100,"-",2199,{"$f":"'Nastavení příloh'!BB32/100","v":0},{"$f":"'Nastavení příloh'!BC32/100","v":0},{"$f":"'Nastavení příloh'!BD32/100","v":0},{"$f":"'Nastavení příloh'!BE32/100","v":0},{"$f":"'Nastavení příloh'!BF32/100","v":0},{"$f":"'Nastavení příloh'!BG32/100","v":0},{"$f":"'Nastavení příloh'!BH32/100","v":0},{"$f":"'Nastavení příloh'!BI32/100","v":0},{"$f":"'Nastavení příloh'!BJ32/100","v":0},{"$f":"'Nastavení příloh'!BK32/100","v":0},{"$f":"'Nastavení příloh'!BL32/100","v":0},{"$f":"'Nastavení příloh'!BM32/100","v":0},{"$f":"'Nastavení příloh'!BN32/100","v":0},{"$f":"'Nastavení příloh'!BO32/100","v":0},{"$f":"'Nastavení příloh'!BP32/100","v":0},{"$f":"'Nastavení příloh'!BQ32/100","v":0},{"$f":"'Nastavení příloh'!BR32/100","v":0},{"$f":"'Nastavení příloh'!BS32/100","v":0},{"$f":"'Nastavení příloh'!BT32/100","v":0},null,2100,"-",2199,{"$f":"'Nastavení příloh'!BZ32/100","v":0},{"$f":"'Nastavení příloh'!CA32/100","v":0},{"$f":"'Nastavení příloh'!CB32/100","v":0},{"$f":"'Nastavení příloh'!CC32/100","v":0},{"$f":"'Nastavení příloh'!CD32/100","v":0.01},{"$f":"'Nastavení příloh'!CE32/100","v":0.04},{"$f":"'Nastavení příloh'!CF32/100","v":0.08},{"$f":"'Nastavení příloh'!CG32/100","v":0.14000000000000001},{"$f":"'Nastavení příloh'!CH32/100","v":0.17},{"$f":"'Nastavení příloh'!CI32/100","v":0.2},{"$f":"'Nastavení příloh'!CJ32/100","v":0.23},{"$f":"'Nastavení příloh'!CK32/100","v":0.25},{"$f":"'Nastavení příloh'!CL32/100","v":0.25},{"$f":"'Nastavení příloh'!CM32/100","v":0.25},{"$f":"'Nastavení příloh'!CN32/100","v":0.25},{"$f":"'Nastavení příloh'!CO32/100","v":0.31},{"$f":"'Nastavení příloh'!CP32/100","v":0.37},{"$f":"'Nastavení příloh'!CQ32/100","v":0.31},{"$f":"'Nastavení příloh'!CR32/100","v":0.25}]
[null,2200,"-",2299,{"$f":"'Nastavení příloh'!F33/100","v":0},{"$f":"'Nastavení příloh'!G33/100","v":0.02},{"$f":"'Nastavení příloh'!H33/100","v":0.06},{"$f":"'Nastavení příloh'!I33/100","v":0.1},{"$f":"'Nastavení příloh'!J33/100","v":0.14000000000000001},{"$f":"'Nastavení příloh'!K33/100","v":0.18},{"$f":"'Nastavení příloh'!L33/100","v":0.22},{"$f":"'Nastavení příloh'!M33/100","v":0.25},{"$f":"'Nastavení příloh'!N33/100","v":0.25},{"$f":"'Nastavení příloh'!O33/100","v":0.25},{"$f":"'Nastavení příloh'!P33/100","v":0.25},{"$f":"'Nastavení příloh'!Q33/100","v":0.25},{"$f":"'Nastavení příloh'!R33/100","v":0.25},{"$f":"'Nastavení příloh'!S33/100","v":0.25},{"$f":"'Nastavení příloh'!T33/100","v":0.25},{"$f":"'Nastavení příloh'!U33/100","v":0.25},{"$f":"'Nastavení příloh'!V33/100","v":0.25},{"$f":"'Nastavení příloh'!W33/100","v":0.25},{"$f":"'Nastavení příloh'!X33/100","v":0.25},null,2200,"-",2299,{"$f":"'Nastavení příloh'!AD33/100","v":-0.13},{"$f":"'Nastavení příloh'!AE33/100","v":-0.13},{"$f":"'Nastavení příloh'!AF33/100","v":-0.13},{"$f":"'Nastavení příloh'!AG33/100","v":-0.13},{"$f":"'Nastavení příloh'!AH33/100","v":-0.13},{"$f":"'Nastavení příloh'!AI33/100","v":-0.13},{"$f":"'Nastavení příloh'!AJ33/100","v":-0.13},{"$f":"'Nastavení příloh'!AK33/100","v":-0.13},{"$f":"'Nastavení příloh'!AL33/100","v":-0.1},{"$f":"'Nastavení příloh'!AM33/100","v":-7.0000000000000007E-2},{"$f":"'Nastavení příloh'!AN33/100","v":-0.04},{"$f":"'Nastavení příloh'!AO33/100","v":0},{"$f":"'Nastavení příloh'!AP33/100","v":0},{"$f":"'Nastavení příloh'!AQ33/100","v":0},{"$f":"'Nastavení příloh'!AR33/100","v":0},{"$f":"'Nastavení příloh'!AS33/100","v":0.05},{"$f":"'Nastavení příloh'!AT33/100","v":0.11},{"$f":"'Nastavení příloh'!AU33/100","v":0.05},{"$f":"'Nastavení příloh'!AV33/100","v":0},null,2200,"-",2299,{"$f":"'Nastavení příloh'!BB33/100","v":0},{"$f":"'Nastavení příloh'!BC33/100","v":0},{"$f":"'Nastavení příloh'!BD33/100","v":0},{"$f":"'Nastavení příloh'!BE33/100","v":0},{"$f":"'Nastavení příloh'!BF33/100","v":0},{"$f":"'Nastavení příloh'!BG33/100","v":0},{"$f":"'Nastavení příloh'!BH33/100","v":0},{"$f":"'Nastavení příloh'!BI33/100","v":0},{"$f":"'Nastavení příloh'!BJ33/100","v":0},{"$f":"'Nastavení příloh'!BK33/100","v":0},{"$f":"'Nastavení příloh'!BL33/100","v":0},{"$f":"'Nastavení příloh'!BM33/100","v":0},{"$f":"'Nastavení příloh'!BN33/100","v":0},{"$f":"'Nastavení příloh'!BO33/100","v":0},{"$f":"'Nastavení příloh'!BP33/100","v":0},{"$f":"'Nastavení příloh'!BQ33/100","v":0},{"$f":"'Nastavení příloh'!BR33/100","v":0},{"$f":"'Nastavení příloh'!BS33/100","v":0},{"$f":"'Nastavení příloh'!BT33/100","v":0},null,2200,"-",2299,{"$f":"'Nastavení příloh'!BZ33/100","v":0},{"$f":"'Nastavení příloh'!CA33/100","v":0},{"$f":"'Nastavení příloh'!CB33/100","v":0},{"$f":"'Nastavení příloh'!CC33/100","v":0},{"$f":"'Nastavení příloh'!CD33/100","v":0.01},{"$f":"'Nastavení příloh'!CE33/100","v":0.05},{"$f":"'Nastavení příloh'!CF33/100","v":0.09},{"$f":"'Nastavení příloh'!CG33/100","v":0.12},{"$f":"'Nastavení příloh'!CH33/100","v":0.15},{"$f":"'Nastavení příloh'!CI33/100","v":0.18},{"$f":"'Nastavení příloh'!CJ33/100","v":0.21},{"$f":"'Nastavení příloh'!CK33/100","v":0.25},{"$f":"'Nastavení příloh'!CL33/100","v":0.25},{"$f":"'Nastavení příloh'!CM33/100","v":0.25},{"$f":"'Nastavení příloh'!CN33/100","v":0.25},{"$f":"'Nastavení příloh'!CO33/100","v":0.3},{"$f":"'Nastavení příloh'!CP33/100","v":0.36},{"$f":"'Nastavení příloh'!CQ33/100","v":0.3},{"$f":"'Nastavení příloh'!CR33/100","v":0.25}]
[null,2300,"-",2399,{"$f":"'Nastavení příloh'!F34/100","v":0},{"$f":"'Nastavení příloh'!G34/100","v":0.02},{"$f":"'Nastavení příloh'!H34/100","v":7.0000000000000007E-2},{"$f":"'Nastavení příloh'!I34/100","v":0.11},{"$f":"'Nastavení příloh'!J34/100","v":0.15},{"$f":"'Nastavení příloh'!K34/100","v":0.19},{"$f":"'Nastavení příloh'!L34/100","v":0.23},{"$f":"'Nastavení příloh'!M34/100","v":0.25},{"$f":"'Nastavení příloh'!N34/100","v":0.25},{"$f":"'Nastavení příloh'!O34/100","v":0.25},{"$f":"'Nastavení příloh'!P34/100","v":0.25},{"$f":"'Nastavení příloh'!Q34/100","v":0.25},{"$f":"'Nastavení příloh'!R34/100","v":0.25},{"$f":"'Nastavení příloh'!S34/100","v":0.25},{"$f":"'Nastavení příloh'!T34/100","v":0.25},{"$f":"'Nastavení příloh'!U34/100","v":0.25},{"$f":"'Nastavení příloh'!V34/100","v":0.25},{"$f":"'Nastavení příloh'!W34/100","v":0.25},{"$f":"'Nastavení příloh'!X34/100","v":0.25},null,2300,"-",2399,{"$f":"'Nastavení příloh'!AD34/100","v":-0.13},{"$f":"'Nastavení příloh'!AE34/100","v":-0.13},{"$f":"'Nastavení příloh'!AF34/100","v":-0.13},{"$f":"'Nastavení příloh'!AG34/100","v":-0.13},{"$f":"'Nastavení příloh'!AH34/100","v":-0.13},{"$f":"'Nastavení příloh'!AI34/100","v":-0.13},{"$f":"'Nastavení příloh'!AJ34/100","v":-0.13},{"$f":"'Nastavení příloh'!AK34/100","v":-0.13},{"$f":"'Nastavení příloh'!AL34/100","v":-0.12},{"$f":"'Nastavení příloh'!AM34/100","v":-0.08},{"$f":"'Nastavení příloh'!AN34/100","v":-0.05},{"$f":"'Nastavení příloh'!AO34/100","v":-0.02},{"$f":"'Nastavení příloh'!AP34/100","v":0},{"$f":"'Nastavení příloh'!AQ34/100","v":0},{"$f":"'Nastavení příloh'!AR34/100","v":0},{"$f":"'Nastavení příloh'!AS34/100","v":0.03},{"$f":"'Nastavení příloh'!AT34/100","v":0.1},{"$f":"'Nastavení příloh'!AU34/100","v":0.03},{"$f":"'Nastavení příloh'!AV34/100","v":0},null,2300,"-",2399,{"$f":"'Nastavení příloh'!BB34/100","v":0},{"$f":"'Nastavení příloh'!BC34/100","v":0},{"$f":"'Nastavení příloh'!BD34/100","v":0},{"$f":"'Nastavení příloh'!BE34/100","v":0},{"$f":"'Nastavení příloh'!BF34/100","v":0},{"$f":"'Nastavení příloh'!BG34/100","v":0},{"$f":"'Nastavení příloh'!BH34/100","v":0},{"$f":"'Nastavení příloh'!BI34/100","v":0},{"$f":"'Nastavení příloh'!BJ34/100","v":0},{"$f":"'Nastavení příloh'!BK34/100","v":0},{"$f":"'Nastavení příloh'!BL34/100","v":0},{"$f":"'Nastavení příloh'!BM34/100","v":0},{"$f":"'Nastavení příloh'!BN34/100","v":0},{"$f":"'Nastavení příloh'!BO34/100","v":0},{"$f":"'Nastavení příloh'!BP34/100","v":0},{"$f":"'Nastavení příloh'!BQ34/100","v":0},{"$f":"'Nastavení příloh'!BR34/100","v":0},{"$f":"'Nastavení příloh'!BS34/100","v":0},{"$f":"'Nastavení příloh'!BT34/100","v":0},null,2300,"-",2399,{"$f":"'Nastavení příloh'!BZ34/100","v":0},{"$f":"'Nastavení příloh'!CA34/100","v":0},{"$f":"'Nastavení příloh'!CB34/100","v":0},{"$f":"'Nastavení příloh'!CC34/100","v":0},{"$f":"'Nastavení příloh'!CD34/100","v":0.02},{"$f":"'Nastavení příloh'!CE34/100","v":0.06},{"$f":"'Nastavení příloh'!CF34/100","v":0.1},{"$f":"'Nastavení příloh'!CG34/100","v":0.12},{"$f":"'Nastavení příloh'!CH34/100","v":0.13},{"$f":"'Nastavení příloh'!CI34/100","v":0.17},{"$f":"'Nastavení příloh'!CJ34/100","v":0.2},{"$f":"'Nastavení příloh'!CK34/100","v":0.23},{"$f":"'Nastavení příloh'!CL34/100","v":0.25},{"$f":"'Nastavení příloh'!CM34/100","v":0.25},{"$f":"'Nastavení příloh'!CN34/100","v":0.25},{"$f":"'Nastavení příloh'!CO34/100","v":0.28000000000000003},{"$f":"'Nastavení příloh'!CP34/100","v":0.35},{"$f":"'Nastavení příloh'!CQ34/100","v":0.28000000000000003},{"$f":"'Nastavení příloh'!CR34/100","v":0.25}]
[null,2400,"-",2499,{"$f":"'Nastavení příloh'!F35/100","v":0},{"$f":"'Nastavení příloh'!G35/100","v":0.03},{"$f":"'Nastavení příloh'!H35/100","v":7.0000000000000007E-2},{"$f":"'Nastavení příloh'!I35/100","v":0.11},{"$f":"'Nastavení příloh'!J35/100","v":0.15},{"$f":"'Nastavení příloh'!K35/100","v":0.2},{"$f":"'Nastavení příloh'!L35/100","v":0.24},{"$f":"'Nastavení příloh'!M35/100","v":0.25},{"$f":"'Nastavení příloh'!N35/100","v":0.25},{"$f":"'Nastavení příloh'!O35/100","v":0.25},{"$f":"'Nastavení příloh'!P35/100","v":0.25},{"$f":"'Nastavení příloh'!Q35/100","v":0.25},{"$f":"'Nastavení příloh'!R35/100","v":0.25},{"$f":"'Nastavení příloh'!S35/100","v":0.25},{"$f":"'Nastavení příloh'!T35/100","v":0.25},{"$f":"'Nastavení příloh'!U35/100","v":0.25},{"$f":"'Nastavení příloh'!V35/100","v":0.25},{"$f":"'Nastavení příloh'!W35/100","v":0.25},{"$f":"'Nastavení příloh'!X35/100","v":0.25},null,2400,"-",2499,{"$f":"'Nastavení příloh'!AD35/100","v":-0.13},{"$f":"'Nastavení příloh'!AE35/100","v":-0.13},{"$f":"'Nastavení příloh'!AF35/100","v":-0.13},{"$f":"'Nastavení příloh'!AG35/100","v":-0.13},{"$f":"'Nastavení příloh'!AH35/100","v":-0.13},{"$f":"'Nastavení příloh'!AI35/100","v":-0.13},{"$f":"'Nastavení příloh'!AJ35/100","v":-0.13},{"$f":"'Nastavení příloh'!AK35/100","v":-0.13},{"$f":"'Nastavení příloh'!AL35/100","v":-0.13},{"$f":"'Nastavení příloh'!AM35/100","v":-0.1},{"$f":"'Nastavení příloh'!AN35/100","v":-7.0000000000000007E-2},{"$f":"'Nastavení příloh'!AO35/100","v":-0.03},{"$f":"'Nastavení příloh'!AP35/100","v":0},{"$f":"'Nastavení příloh'!AQ35/100","v":0},{"$f":"'Nastavení příloh'!AR35/100","v":0},{"$f":"'Nastavení příloh'!AS35/100","v":0.02},{"$f":"'Nastavení příloh'!AT35/100","v":0.08},{"$f":"'Nastavení příloh'!AU35/100","v":0.02},{"$f":"'Nastavení příloh'!AV35/100","v":0},null,2400,"-",2499,{"$f":"'Nastavení příloh'!BB35/100","v":0},{"$f":"'Nastavení příloh'!BC35/100","v":0},{"$f":"'Nastavení příloh'!BD35/100","v":0},{"$f":"'Nastavení příloh'!BE35/100","v":0},{"$f":"'Nastavení příloh'!BF35/100","v":0},{"$f":"'Nastavení příloh'!BG35/100","v":0},{"$f":"'Nastavení příloh'!BH35/100","v":0},{"$f":"'Nastavení příloh'!BI35/100","v":0},{"$f":"'Nastavení příloh'!BJ35/100","v":0},{"$f":"'Nastavení příloh'!BK35/100","v":0},{"$f":"'Nastavení příloh'!BL35/100","v":0},{"$f":"'Nastavení příloh'!BM35/100","v":0},{"$f":"'Nastavení příloh'!BN35/100","v":0},{"$f":"'Nastavení příloh'!BO35/100","v":0},{"$f":"'Nastavení příloh'!BP35/100","v":0},{"$f":"'Nastavení příloh'!BQ35/100","v":0},{"$f":"'Nastavení příloh'!BR35/100","v":0},{"$f":"'Nastavení příloh'!BS35/100","v":0},{"$f":"'Nastavení příloh'!BT35/100","v":0},null,2400,"-",2499,{"$f":"'Nastavení příloh'!BZ35/100","v":0},{"$f":"'Nastavení příloh'!CA35/100","v":0},{"$f":"'Nastavení příloh'!CB35/100","v":0},{"$f":"'Nastavení příloh'!CC35/100","v":0},{"$f":"'Nastavení příloh'!CD35/100","v":0.02},{"$f":"'Nastavení příloh'!CE35/100","v":7.0000000000000007E-2},{"$f":"'Nastavení příloh'!CF35/100","v":0.11},{"$f":"'Nastavení příloh'!CG35/100","v":0.12},{"$f":"'Nastavení příloh'!CH35/100","v":0.12},{"$f":"'Nastavení příloh'!CI35/100","v":0.15},{"$f":"'Nastavení příloh'!CJ35/100","v":0.18},{"$f":"'Nastavení příloh'!CK35/100","v":0.22},{"$f":"'Nastavení příloh'!CL35/100","v":0.25},{"$f":"'Nastavení příloh'!CM35/100","v":0.25},{"$f":"'Nastavení příloh'!CN35/100","v":0.25},{"$f":"'Nastavení příloh'!CO35/100","v":0.27},{"$f":"'Nastavení příloh'!CP35/100","v":0.33},{"$f":"'Nastavení příloh'!CQ35/100","v":0.27},{"$f":"'Nastavení příloh'!CR35/100","v":0.25}]
[null,2500,"-",2599,{"$f":"'Nastavení příloh'!F36/100","v":0},{"$f":"'Nastavení příloh'!G36/100","v":0.03},{"$f":"'Nastavení příloh'!H36/100","v":7.0000000000000007E-2},{"$f":"'Nastavení příloh'!I36/100","v":0.12},{"$f":"'Nastavení příloh'!J36/100","v":0.16},{"$f":"'Nastavení příloh'!K36/100","v":0.21},{"$f":"'Nastavení příloh'!L36/100","v":0.25},{"$f":"'Nastavení příloh'!M36/100","v":0.25},{"$f":"'Nastavení příloh'!N36/100","v":0.25},{"$f":"'Nastavení příloh'!O36/100","v":0.25},{"$f":"'Nastavení příloh'!P36/100","v":0.25},{"$f":"'Nastavení příloh'!Q36/100","v":0.25},{"$f":"'Nastavení příloh'!R36/100","v":0.25},{"$f":"'Nastavení příloh'!S36/100","v":0.25},{"$f":"'Nastavení příloh'!T36/100","v":0.25},{"$f":"'Nastavení příloh'!U36/100","v":0.25},{"$f":"'Nastavení příloh'!V36/100","v":0.25},{"$f":"'Nastavení příloh'!W36/100","v":0.25},{"$f":"'Nastavení příloh'!X36/100","v":0.25},null,2500,"-",2599,{"$f":"'Nastavení příloh'!AD36/100","v":-0.13},{"$f":"'Nastavení příloh'!AE36/100","v":-0.13},{"$f":"'Nastavení příloh'!AF36/100","v":-0.13},{"$f":"'Nastavení příloh'!AG36/100","v":-0.13},{"$f":"'Nastavení příloh'!AH36/100","v":-0.13},{"$f":"'Nastavení příloh'!AI36/100","v":-0.13},{"$f":"'Nastavení příloh'!AJ36/100","v":-0.13},{"$f":"'Nastavení příloh'!AK36/100","v":-0.13},{"$f":"'Nastavení příloh'!AL36/100","v":-0.13},{"$f":"'Nastavení příloh'!AM36/100","v":-0.12},{"$f":"'Nastavení příloh'!AN36/100","v":-0.08},{"$f":"'Nastavení příloh'!AO36/100","v":-0.04},{"$f":"'Nastavení příloh'!AP36/100","v":-0.01},{"$f":"'Nastavení příloh'!AQ36/100","v":0},{"$f":"'Nastavení příloh'!AR36/100","v":0},{"$f":"'Nastavení příloh'!AS36/100","v":0},{"$f":"'Nastavení příloh'!AT36/100","v":7.0000000000000007E-2},{"$f":"'Nastavení příloh'!AU36/100","v":0},{"$f":"'Nastavení příloh'!AV36/100","v":0},null,2500,"-",2599,{"$f":"'Nastavení příloh'!BB36/100","v":0},{"$f":"'Nastavení příloh'!BC36/100","v":0},{"$f":"'Nastavení příloh'!BD36/100","v":0},{"$f":"'Nastavení příloh'!BE36/100","v":0},{"$f":"'Nastavení příloh'!BF36/100","v":0},{"$f":"'Nastavení příloh'!BG36/100","v":0},{"$f":"'Nastavení příloh'!BH36/100","v":0},{"$f":"'Nastavení příloh'!BI36/100","v":0},{"$f":"'Nastavení příloh'!BJ36/100","v":0},{"$f":"'Nastavení příloh'!BK36/100","v":0},{"$f":"'Nastavení příloh'!BL36/100","v":0},{"$f":"'Nastavení příloh'!BM36/100","v":0},{"$f":"'Nastavení příloh'!BN36/100","v":0},{"$f":"'Nastavení příloh'!BO36/100","v":0},{"$f":"'Nastavení příloh'!BP36/100","v":0},{"$f":"'Nastavení příloh'!BQ36/100","v":0},{"$f":"'Nastavení příloh'!BR36/100","v":0},{"$f":"'Nastavení příloh'!BS36/100","v":0},{"$f":"'Nastavení příloh'!BT36/100","v":0},null,2500,"-",2599,{"$f":"'Nastavení příloh'!BZ36/100","v":0},{"$f":"'Nastavení příloh'!CA36/100","v":0},{"$f":"'Nastavení příloh'!CB36/100","v":0},{"$f":"'Nastavení příloh'!CC36/100","v":0},{"$f":"'Nastavení příloh'!CD36/100","v":0.03},{"$f":"'Nastavení příloh'!CE36/100","v":0.08},{"$f":"'Nastavení příloh'!CF36/100","v":0.12},{"$f":"'Nastavení příloh'!CG36/100","v":0.12},{"$f":"'Nastavení příloh'!CH36/100","v":0.12},{"$f":"'Nastavení příloh'!CI36/100","v":0.13},{"$f":"'Nastavení příloh'!CJ36/100","v":0.17},{"$f":"'Nastavení příloh'!CK36/100","v":0.21},{"$f":"'Nastavení příloh'!CL36/100","v":0.24},{"$f":"'Nastavení příloh'!CM36/100","v":0.25},{"$f":"'Nastavení příloh'!CN36/100","v":0.25},{"$f":"'Nastavení příloh'!CO36/100","v":0.25},{"$f":"'Nastavení příloh'!CP36/100","v":0.32},{"$f":"'Nastavení příloh'!CQ36/100","v":0.25},{"$f":"'Nastavení příloh'!CR36/100","v":0.25}]
[null,2600,"-",2699,{"$f":"'Nastavení příloh'!F37/100","v":0},{"$f":"'Nastavení příloh'!G37/100","v":0.03},{"$f":"'Nastavení příloh'!H37/100","v":7.0000000000000007E-2},{"$f":"'Nastavení příloh'!I37/100","v":0.12},{"$f":"'Nastavení příloh'!J37/100","v":0.17},{"$f":"'Nastavení příloh'!K37/100","v":0.21},{"$f":"'Nastavení příloh'!L37/100","v":0.25},{"$f":"'Nastavení příloh'!M37/100","v":0.25},{"$f":"'Nastavení příloh'!N37/100","v":0.25},{"$f":"'Nastavení příloh'!O37/100","v":0.25},{"$f":"'Nastavení příloh'!P37/100","v":0.25},{"$f":"'Nastavení příloh'!Q37/100","v":0.25},{"$f":"'Nastavení příloh'!R37/100","v":0.25},{"$f":"'Nastavení příloh'!S37/100","v":0.25},{"$f":"'Nastavení příloh'!T37/100","v":0.25},{"$f":"'Nastavení příloh'!U37/100","v":0.25},{"$f":"'Nastavení příloh'!V37/100","v":0.25},{"$f":"'Nastavení příloh'!W37/100","v":0.25},{"$f":"'Nastavení příloh'!X37/100","v":0.25},null,2600,"-",2699,{"$f":"'Nastavení příloh'!AD37/100","v":-0.13},{"$f":"'Nastavení příloh'!AE37/100","v":-0.13},{"$f":"'Nastavení příloh'!AF37/100","v":-0.13},{"$f":"'Nastavení příloh'!AG37/100","v":-0.13},{"$f":"'Nastavení příloh'!AH37/100","v":-0.13},{"$f":"'Nastavení příloh'!AI37/100","v":-0.13},{"$f":"'Nastavení příloh'!AJ37/100","v":-0.13},{"$f":"'Nastavení příloh'!AK37/100","v":-0.13},{"$f":"'Nastavení příloh'!AL37/100","v":-0.13},{"$f":"'Nastavení příloh'!AM37/100","v":-0.13},{"$f":"'Nastavení příloh'!AN37/100","v":-0.1},{"$f":"'Nastavení příloh'!AO37/100","v":-0.06},{"$f":"'Nastavení příloh'!AP37/100","v":-0.02},{"$f":"'Nastavení příloh'!AQ37/100","v":0},{"$f":"'Nastavení příloh'!AR37/100","v":0},{"$f":"'Nastavení příloh'!AS37/100","v":0},{"$f":"'Nastavení příloh'!AT37/100","v":0.06},{"$f":"'Nastavení příloh'!AU37/100","v":0},{"$f":"'Nastavení příloh'!AV37/100","v":0},null,2600,"-",2699,{"$f":"'Nastavení příloh'!BB37/100","v":0},{"$f":"'Nastavení příloh'!BC37/100","v":0},{"$f":"'Nastavení příloh'!BD37/100","v":0},{"$f":"'Nastavení příloh'!BE37/100","v":0},{"$f":"'Nastavení příloh'!BF37/100","v":0},{"$f":"'Nastavení příloh'!BG37/100","v":0},{"$f":"'Nastavení příloh'!BH37/100","v":0},{"$f":"'Nastavení příloh'!BI37/100","v":0},{"$f":"'Nastavení příloh'!BJ37/100","v":0},{"$f":"'Nastavení příloh'!BK37/100","v":0},{"$f":"'Nastavení příloh'!BL37/100","v":0},{"$f":"'Nastavení příloh'!BM37/100","v":0},{"$f":"'Nastavení příloh'!BN37/100","v":0},{"$f":"'Nastavení příloh'!BO37/100","v":0},{"$f":"'Nastavení příloh'!BP37/100","v":0},{"$f":"'Nastavení příloh'!BQ37/100","v":0},{"$f":"'Nastavení příloh'!BR37/100","v":0},{"$f":"'Nastavení příloh'!BS37/100","v":0},{"$f":"'Nastavení příloh'!BT37/100","v":0},null,2600,"-",2699,{"$f":"'Nastavení příloh'!BZ37/100","v":0},{"$f":"'Nastavení příloh'!CA37/100","v":0},{"$f":"'Nastavení příloh'!CB37/100","v":0},{"$f":"'Nastavení příloh'!CC37/100","v":0},{"$f":"'Nastavení příloh'!CD37/100","v":0.04},{"$f":"'Nastavení příloh'!CE37/100","v":0.08},{"$f":"'Nastavení příloh'!CF37/100","v":0.12},{"$f":"'Nastavení příloh'!CG37/100","v":0.12},{"$f":"'Nastavení příloh'!CH37/100","v":0.12},{"$f":"'Nastavení příloh'!CI37/100","v":0.12},{"$f":"'Nastavení příloh'!CJ37/100","v":0.15},{"$f":"'Nastavení příloh'!CK37/100","v":0.19},{"$f":"'Nastavení příloh'!CL37/100","v":0.23},{"$f":"'Nastavení příloh'!CM37/100","v":0.25},{"$f":"'Nastavení příloh'!CN37/100","v":0.25},{"$f":"'Nastavení příloh'!CO37/100","v":0.25},{"$f":"'Nastavení příloh'!CP37/100","v":0.31},{"$f":"'Nastavení příloh'!CQ37/100","v":0.25},{"$f":"'Nastavení příloh'!CR37/100","v":0.25}]
[null,2700,"-",2799,{"$f":"'Nastavení příloh'!F38/100","v":0},{"$f":"'Nastavení příloh'!G38/100","v":0.03},{"$f":"'Nastavení příloh'!H38/100","v":0.08},{"$f":"'Nastavení příloh'!I38/100","v":0.13},{"$f":"'Nastavení příloh'!J38/100","v":0.17},{"$f":"'Nastavení příloh'!K38/100","v":0.22},{"$f":"'Nastavení příloh'!L38/100","v":0.25},{"$f":"'Nastavení příloh'!M38/100","v":0.25},{"$f":"'Nastavení příloh'!N38/100","v":0.25},{"$f":"'Nastavení příloh'!O38/100","v":0.25},{"$f":"'Nastavení příloh'!P38/100","v":0.25},{"$f":"'Nastavení příloh'!Q38/100","v":0.25},{"$f":"'Nastavení příloh'!R38/100","v":0.25},{"$f":"'Nastavení příloh'!S38/100","v":0.25},{"$f":"'Nastavení příloh'!T38/100","v":0.25},{"$f":"'Nastavení příloh'!U38/100","v":0.25},{"$f":"'Nastavení příloh'!V38/100","v":0.25},{"$f":"'Nastavení příloh'!W38/100","v":0.25},{"$f":"'Nastavení příloh'!X38/100","v":0.25},null,2700,"-",2799,{"$f":"'Nastavení příloh'!AD38/100","v":-0.13},{"$f":"'Nastavení příloh'!AE38/100","v":-0.13},{"$f":"'Nastavení příloh'!AF38/100","v":-0.13},{"$f":"'Nastavení příloh'!AG38/100","v":-0.13},{"$f":"'Nastavení příloh'!AH38/100","v":-0.13},{"$f":"'Nastavení příloh'!AI38/100","v":-0.13},{"$f":"'Nastavení příloh'!AJ38/100","v":-0.13},{"$f":"'Nastavení příloh'!AK38/100","v":-0.13},{"$f":"'Nastavení příloh'!AL38/100","v":-0.13},{"$f":"'Nastavení příloh'!AM38/100","v":-0.13},{"$f":"'Nastavení příloh'!AN38/100","v":-0.11},{"$f":"'Nastavení příloh'!AO38/100","v":-7.0000000000000007E-2},{"$f":"'Nastavení příloh'!AP38/100","v":-0.03},{"$f":"'Nastavení příloh'!AQ38/100","v":0},{"$f":"'Nastavení příloh'!AR38/100","v":0},{"$f":"'Nastavení příloh'!AS38/100","v":0},{"$f":"'Nastavení příloh'!AT38/100","v":0.05},{"$f":"'Nastavení příloh'!AU38/100","v":0},{"$f":"'Nastavení příloh'!AV38/100","v":0},null,2700,"-",2799,{"$f":"'Nastavení příloh'!BB38/100","v":0},{"$f":"'Nastavení příloh'!BC38/100","v":0},{"$f":"'Nastavení příloh'!BD38/100","v":0},{"$f":"'Nastavení příloh'!BE38/100","v":0},{"$f":"'Nastavení příloh'!BF38/100","v":0},{"$f":"'Nastavení příloh'!BG38/100","v":0},{"$f":"'Nastavení příloh'!BH38/100","v":0},{"$f":"'Nastavení příloh'!BI38/100","v":0},{"$f":"'Nastavení příloh'!BJ38/100","v":0},{"$f":"'Nastavení příloh'!BK38/100","v":0},{"$f":"'Nastavení příloh'!BL38/100","v":0},{"$f":"'Nastavení příloh'!BM38/100","v":0},{"$f":"'Nastavení příloh'!BN38/100","v":0},{"$f":"'Nastavení příloh'!BO38/100","v":0},{"$f":"'Nastavení příloh'!BP38/100","v":0},{"$f":"'Nastavení příloh'!BQ38/100","v":0},{"$f":"'Nastavení příloh'!BR38/100","v":0},{"$f":"'Nastavení příloh'!BS38/100","v":0},{"$f":"'Nastavení příloh'!BT38/100","v":0},null,2700,"-",2799,{"$f":"'Nastavení příloh'!BZ38/100","v":0},{"$f":"'Nastavení příloh'!CA38/100","v":0},{"$f":"'Nastavení příloh'!CB38/100","v":0},{"$f":"'Nastavení příloh'!CC38/100","v":0},{"$f":"'Nastavení příloh'!CD38/100","v":0.04},{"$f":"'Nastavení příloh'!CE38/100","v":0.09},{"$f":"'Nastavení příloh'!CF38/100","v":0.12},{"$f":"'Nastavení příloh'!CG38/100","v":0.12},{"$f":"'Nastavení příloh'!CH38/100","v":0.12},{"$f":"'Nastavení příloh'!CI38/100","v":0.12},{"$f":"'Nastavení příloh'!CJ38/100","v":0.14000000000000001},{"$f":"'Nastavení příloh'!CK38/100","v":0.18},{"$f":"'Nastavení příloh'!CL38/100","v":0.22},{"$f":"'Nastavení příloh'!CM38/100","v":0.25},{"$f":"'Nastavení příloh'!CN38/100","v":0.25},{"$f":"'Nastavení příloh'!CO38/100","v":0.25},{"$f":"'Nastavení příloh'!CP38/100","v":0.3},{"$f":"'Nastavení příloh'!CQ38/100","v":0.25},{"$f":"'Nastavení příloh'!CR38/100","v":0.25}]
[null,2800,"-",2899,{"$f":"'Nastavení příloh'!F39/100","v":0},{"$f":"'Nastavení příloh'!G39/100","v":0.03},{"$f":"'Nastavení příloh'!H39/100","v":0.08},{"$f":"'Nastavení příloh'!I39/100","v":0.13},{"$f":"'Nastavení příloh'!J39/100","v":0.18},{"$f":"'Nastavení příloh'!K39/100","v":0.23},{"$f":"'Nastavení příloh'!L39/100","v":0.25},{"$f":"'Nastavení příloh'!M39/100","v":0.25},{"$f":"'Nastavení příloh'!N39/100","v":0.25},{"$f":"'Nastavení příloh'!O39/100","v":0.25},{"$f":"'Nastavení příloh'!P39/100","v":0.25},{"$f":"'Nastavení příloh'!Q39/100","v":0.25},{"$f":"'Nastavení příloh'!R39/100","v":0.25},{"$f":"'Nastavení příloh'!S39/100","v":0.25},{"$f":"'Nastavení příloh'!T39/100","v":0.25},{"$f":"'Nastavení příloh'!U39/100","v":0.25},{"$f":"'Nastavení příloh'!V39/100","v":0.25},{"$f":"'Nastavení příloh'!W39/100","v":0.25},{"$f":"'Nastavení příloh'!X39/100","v":0.25},null,2800,"-",2899,{"$f":"'Nastavení příloh'!AD39/100","v":-0.13},{"$f":"'Nastavení příloh'!AE39/100","v":-0.13},{"$f":"'Nastavení příloh'!AF39/100","v":-0.13},{"$f":"'Nastavení příloh'!AG39/100","v":-0.13},{"$f":"'Nastavení příloh'!AH39/100","v":-0.13},{"$f":"'Nastavení příloh'!AI39/100","v":-0.13},{"$f":"'Nastavení příloh'!AJ39/100","v":-0.13},{"$f":"'Nastavení příloh'!AK39/100","v":-0.13},{"$f":"'Nastavení příloh'!AL39/100","v":-0.13},{"$f":"'Nastavení příloh'!AM39/100","v":-0.13},{"$f":"'Nastavení příloh'!AN39/100","v":-0.12},{"$f":"'Nastavení příloh'!AO39/100","v":-0.08},{"$f":"'Nastavení příloh'!AP39/100","v":-0.04},{"$f":"'Nastavení příloh'!AQ39/100","v":0},{"$f":"'Nastavení příloh'!AR39/100","v":0},{"$f":"'Nastavení příloh'!AS39/100","v":0},{"$f":"'Nastavení příloh'!AT39/100","v":0},{"$f":"'Nastavení příloh'!AU39/100","v":0},{"$f":"'Nastavení příloh'!AV39/100","v":0},null,2800,"-",2899,{"$f":"'Nastavení příloh'!BB39/100","v":0},{"$f":"'Nastavení příloh'!BC39/100","v":0},{"$f":"'Nastavení příloh'!BD39/100","v":0},{"$f":"'Nastavení příloh'!BE39/100","v":0},{"$f":"'Nastavení příloh'!BF39/100","v":0},{"$f":"'Nastavení příloh'!BG39/100","v":0},{"$f":"'Nastavení příloh'!BH39/100","v":0},{"$f":"'Nastavení příloh'!BI39/100","v":0},{"$f":"'Nastavení příloh'!BJ39/100","v":0},{"$f":"'Nastavení příloh'!BK39/100","v":0},{"$f":"'Nastavení příloh'!BL39/100","v":0},{"$f":"'Nastavení příloh'!BM39/100","v":0},{"$f":"'Nastavení příloh'!BN39/100","v":0},{"$f":"'Nastavení příloh'!BO39/100","v":0},{"$f":"'Nastavení příloh'!BP39/100","v":0},{"$f":"'Nastavení příloh'!BQ39/100","v":0},{"$f":"'Nastavení příloh'!BR39/100","v":0},{"$f":"'Nastavení příloh'!BS39/100","v":0},{"$f":"'Nastavení příloh'!BT39/100","v":0},null,2800,"-",2899,{"$f":"'Nastavení příloh'!BZ39/100","v":0},{"$f":"'Nastavení příloh'!CA39/100","v":0},{"$f":"'Nastavení příloh'!CB39/100","v":0},{"$f":"'Nastavení příloh'!CC39/100","v":0},{"$f":"'Nastavení příloh'!CD39/100","v":0.05},{"$f":"'Nastavení příloh'!CE39/100","v":0.1},{"$f":"'Nastavení příloh'!CF39/100","v":0.12},{"$f":"'Nastavení příloh'!CG39/100","v":0.12},{"$f":"'Nastavení příloh'!CH39/100","v":0.12},{"$f":"'Nastavení příloh'!CI39/100","v":0.12},{"$f":"'Nastavení příloh'!CJ39/100","v":0.13},{"$f":"'Nastavení příloh'!CK39/100","v":0.17},{"$f":"'Nastavení příloh'!CL39/100","v":0.21},{"$f":"'Nastavení příloh'!CM39/100","v":0.25},{"$f":"'Nastavení příloh'!CN39/100","v":0.25},{"$f":"'Nastavení příloh'!CO39/100","v":0.25},{"$f":"'Nastavení příloh'!CP39/100","v":0.25},{"$f":"'Nastavení příloh'!CQ39/100","v":0.25},{"$f":"'Nastavení příloh'!CR39/100","v":0.25}]
[null,2900,"-",2999,{"$f":"'Nastavení příloh'!F40/100","v":0},{"$f":"'Nastavení příloh'!G40/100","v":0.03},{"$f":"'Nastavení příloh'!H40/100","v":0.08},{"$f":"'Nastavení příloh'!I40/100","v":0.13},{"$f":"'Nastavení příloh'!J40/100","v":0.19},{"$f":"'Nastavení příloh'!K40/100","v":0.24},{"$f":"'Nastavení příloh'!L40/100","v":0.25},{"$f":"'Nastavení příloh'!M40/100","v":0.25},{"$f":"'Nastavení příloh'!N40/100","v":0.25},{"$f":"'Nastavení příloh'!O40/100","v":0.25},{"$f":"'Nastavení příloh'!P40/100","v":0.25},{"$f":"'Nastavení příloh'!Q40/100","v":0.25},{"$f":"'Nastavení příloh'!R40/100","v":0.25},{"$f":"'Nastavení příloh'!S40/100","v":0.25},{"$f":"'Nastavení příloh'!T40/100","v":0.25},{"$f":"'Nastavení příloh'!U40/100","v":0.25},{"$f":"'Nastavení příloh'!V40/100","v":0.25},{"$f":"'Nastavení příloh'!W40/100","v":0.25},{"$f":"'Nastavení příloh'!X40/100","v":0.25},null,2900,"-",2999,{"$f":"'Nastavení příloh'!AD40/100","v":-0.13},{"$f":"'Nastavení příloh'!AE40/100","v":-0.13},{"$f":"'Nastavení příloh'!AF40/100","v":-0.13},{"$f":"'Nastavení příloh'!AG40/100","v":-0.13},{"$f":"'Nastavení příloh'!AH40/100","v":-0.13},{"$f":"'Nastavení příloh'!AI40/100","v":-0.13},{"$f":"'Nastavení příloh'!AJ40/100","v":-0.13},{"$f":"'Nastavení příloh'!AK40/100","v":-0.13},{"$f":"'Nastavení příloh'!AL40/100","v":-0.13},{"$f":"'Nastavení příloh'!AM40/100","v":-0.13},{"$f":"'Nastavení příloh'!AN40/100","v":-0.13},{"$f":"'Nastavení příloh'!AO40/100","v":-0.1},{"$f":"'Nastavení příloh'!AP40/100","v":-0.06},{"$f":"'Nastavení příloh'!AQ40/100","v":-0.01},{"$f":"'Nastavení příloh'!AR40/100","v":0},{"$f":"'Nastavení příloh'!AS40/100","v":0},{"$f":"'Nastavení příloh'!AT40/100","v":0},{"$f":"'Nastavení příloh'!AU40/100","v":0},{"$f":"'Nastavení příloh'!AV40/100","v":0},null,2900,"-",2999,{"$f":"'Nastavení příloh'!BB40/100","v":0},{"$f":"'Nastavení příloh'!BC40/100","v":0},{"$f":"'Nastavení příloh'!BD40/100","v":0},{"$f":"'Nastavení příloh'!BE40/100","v":0},{"$f":"'Nastavení příloh'!BF40/100","v":0},{"$f":"'Nastavení příloh'!BG40/100","v":0},{"$f":"'Nastavení příloh'!BH40/100","v":0},{"$f":"'Nastavení příloh'!BI40/100","v":0},{"$f":"'Nastavení příloh'!BJ40/100","v":0},{"$f":"'Nastavení příloh'!BK40/100","v":0},{"$f":"'Nastavení příloh'!BL40/100","v":0},{"$f":"'Nastavení příloh'!BM40/100","v":0},{"$f":"'Nastavení příloh'!BN40/100","v":0},{"$f":"'Nastavení příloh'!BO40/100","v":0},{"$f":"'Nastavení příloh'!BP40/100","v":0},{"$f":"'Nastavení příloh'!BQ40/100","v":0},{"$f":"'Nastavení příloh'!BR40/100","v":0},{"$f":"'Nastavení příloh'!BS40/100","v":0},{"$f":"'Nastavení příloh'!BT40/100","v":0},null,2900,"-",2999,{"$f":"'Nastavení příloh'!BZ40/100","v":0},{"$f":"'Nastavení příloh'!CA40/100","v":0},{"$f":"'Nastavení příloh'!CB40/100","v":0},{"$f":"'Nastavení příloh'!CC40/100","v":0},{"$f":"'Nastavení příloh'!CD40/100","v":0.06},{"$f":"'Nastavení příloh'!CE40/100","v":0.11},{"$f":"'Nastavení příloh'!CF40/100","v":0.12},{"$f":"'Nastavení příloh'!CG40/100","v":0.12},{"$f":"'Nastavení příloh'!CH40/100","v":0.12},{"$f":"'Nastavení příloh'!CI40/100","v":0.12},{"$f":"'Nastavení příloh'!CJ40/100","v":0.12},{"$f":"'Nastavení příloh'!CK40/100","v":0.15},{"$f":"'Nastavení příloh'!CL40/100","v":0.19},{"$f":"'Nastavení příloh'!CM40/100","v":0.24},{"$f":"'Nastavení příloh'!CN40/100","v":0.25},{"$f":"'Nastavení příloh'!CO40/100","v":0.25},{"$f":"'Nastavení příloh'!CP40/100","v":0.25},{"$f":"'Nastavení příloh'!CQ40/100","v":0.25},{"$f":"'Nastavení příloh'!CR40/100","v":0.25}]
[null,3000,"-",3099,{"$f":"'Nastavení příloh'!F41/100","v":0},{"$f":"'Nastavení příloh'!G41/100","v":0.03},{"$f":"'Nastavení příloh'!H41/100","v":0.09},{"$f":"'Nastavení příloh'!I41/100","v":0.14000000000000001},{"$f":"'Nastavení příloh'!J41/100","v":0.19},{"$f":"'Nastavení příloh'!K41/100","v":0.25},{"$f":"'Nastavení příloh'!L41/100","v":0.25},{"$f":"'Nastavení příloh'!M41/100","v":0.25},{"$f":"'Nastavení příloh'!N41/100","v":0.25},{"$f":"'Nastavení příloh'!O41/100","v":0.25},{"$f":"'Nastavení příloh'!P41/100","v":0.25},{"$f":"'Nastavení příloh'!Q41/100","v":0.25},{"$f":"'Nastavení příloh'!R41/100","v":0.25},{"$f":"'Nastavení příloh'!S41/100","v":0.25},{"$f":"'Nastavení příloh'!T41/100","v":0.25},{"$f":"'Nastavení příloh'!U41/100","v":0.25},{"$f":"'Nastavení příloh'!V41/100","v":0.25},{"$f":"'Nastavení příloh'!W41/100","v":0.25},{"$f":"'Nastavení příloh'!X41/100","v":0.25},null,3000,"-",3099,{"$f":"'Nastavení příloh'!AD41/100","v":-0.13},{"$f":"'Nastavení příloh'!AE41/100","v":-0.13},{"$f":"'Nastavení příloh'!AF41/100","v":-0.13},{"$f":"'Nastavení příloh'!AG41/100","v":-0.13},{"$f":"'Nastavení příloh'!AH41/100","v":-0.13},{"$f":"'Nastavení příloh'!AI41/100","v":-0.13},{"$f":"'Nastavení příloh'!AJ41/100","v":-0.13},{"$f":"'Nastavení příloh'!AK41/100","v":-0.13},{"$f":"'Nastavení příloh'!AL41/100","v":-0.13},{"$f":"'Nastavení příloh'!AM41/100","v":-0.13},{"$f":"'Nastavení příloh'!AN41/100","v":-0.13},{"$f":"'Nastavení příloh'!AO41/100","v":-0.11},{"$f":"'Nastavení příloh'!AP41/100","v":-7.0000000000000007E-2},{"$f":"'Nastavení příloh'!AQ41/100","v":-0.02},{"$f":"'Nastavení příloh'!AR41/100","v":0},{"$f":"'Nastavení příloh'!AS41/100","v":0},{"$f":"'Nastavení příloh'!AT41/100","v":0},{"$f":"'Nastavení příloh'!AU41/100","v":0},{"$f":"'Nastavení příloh'!AV41/100","v":0},null,3000,"-",3099,{"$f":"'Nastavení příloh'!BB41/100","v":0},{"$f":"'Nastavení příloh'!BC41/100","v":0},{"$f":"'Nastavení příloh'!BD41/100","v":0},{"$f":"'Nastavení příloh'!BE41/100","v":0},{"$f":"'Nastavení příloh'!BF41/100","v":0},{"$f":"'Nastavení příloh'!BG41/100","v":0},{"$f":"'Nastavení příloh'!BH41/100","v":0},{"$f":"'Nastavení příloh'!BI41/100","v":0},{"$f":"'Nastavení příloh'!BJ41/100","v":0},{"$f":"'Nastavení příloh'!BK41/100","v":0},{"$f":"'Nastavení příloh'!BL41/100","v":0},{"$f":"'Nastavení příloh'!BM41/100","v":0},{"$f":"'Nastavení příloh'!BN41/100","v":0},{"$f":"'Nastavení příloh'!BO41/100","v":0},{"$f":"'Nastavení příloh'!BP41/100","v":0},{"$f":"'Nastavení příloh'!BQ41/100","v":0},{"$f":"'Nastavení příloh'!BR41/100","v":0},{"$f":"'Nastavení příloh'!BS41/100","v":0},{"$f":"'Nastavení příloh'!BT41/100","v":0},null,3000,"-",3099,{"$f":"'Nastavení příloh'!BZ41/100","v":0},{"$f":"'Nastavení příloh'!CA41/100","v":0},{"$f":"'Nastavení příloh'!CB41/100","v":0},{"$f":"'Nastavení příloh'!CC41/100","v":0.01},{"$f":"'Nastavení příloh'!CD41/100","v":0.06},{"$f":"'Nastavení příloh'!CE41/100","v":0.12},{"$f":"'Nastavení příloh'!CF41/100","v":0.12},{"$f":"'Nastavení příloh'!CG41/100","v":0.12},{"$f":"'Nastavení příloh'!CH41/100","v":0.12},{"$f":"'Nastavení příloh'!CI41/100","v":0.12},{"$f":"'Nastavení příloh'!CJ41/100","v":0.12},{"$f":"'Nastavení příloh'!CK41/100","v":0.14000000000000001},{"$f":"'Nastavení příloh'!CL41/100","v":0.18},{"$f":"'Nastavení příloh'!CM41/100","v":0.23},{"$f":"'Nastavení příloh'!CN41/100","v":0.25},{"$f":"'Nastavení příloh'!CO41/100","v":0.25},{"$f":"'Nastavení příloh'!CP41/100","v":0.25},{"$f":"'Nastavení příloh'!CQ41/100","v":0.25},{"$f":"'Nastavení příloh'!CR41/100","v":0.25}]
[null,3100,"-",3199,{"$f":"'Nastavení příloh'!F42/100","v":0},{"$f":"'Nastavení příloh'!G42/100","v":0.03},{"$f":"'Nastavení příloh'!H42/100","v":0.09},{"$f":"'Nastavení příloh'!I42/100","v":0.14000000000000001},{"$f":"'Nastavení příloh'!J42/100","v":0.2},{"$f":"'Nastavení příloh'!K42/100","v":0.25},{"$f":"'Nastavení příloh'!L42/100","v":0.25},{"$f":"'Nastavení příloh'!M42/100","v":0.25},{"$f":"'Nastavení příloh'!N42/100","v":0.25},{"$f":"'Nastavení příloh'!O42/100","v":0.25},{"$f":"'Nastavení příloh'!P42/100","v":0.25},{"$f":"'Nastavení příloh'!Q42/100","v":0.25},{"$f":"'Nastavení příloh'!R42/100","v":0.25},{"$f":"'Nastavení příloh'!S42/100","v":0.25},{"$f":"'Nastavení příloh'!T42/100","v":0.25},{"$f":"'Nastavení příloh'!U42/100","v":0.25},{"$f":"'Nastavení příloh'!V42/100","v":0.25},{"$f":"'Nastavení příloh'!W42/100","v":0.25},{"$f":"'Nastavení příloh'!X42/100","v":0.25},null,3100,"-",3199,{"$f":"'Nastavení příloh'!AD42/100","v":-0.13},{"$f":"'Nastavení příloh'!AE42/100","v":-0.13},{"$f":"'Nastavení příloh'!AF42/100","v":-0.13},{"$f":"'Nastavení příloh'!AG42/100","v":-0.13},{"$f":"'Nastavení příloh'!AH42/100","v":-0.13},{"$f":"'Nastavení příloh'!AI42/100","v":-0.13},{"$f":"'Nastavení příloh'!AJ42/100","v":-0.13},{"$f":"'Nastavení příloh'!AK42/100","v":-0.13},{"$f":"'Nastavení příloh'!AL42/100","v":-0.13},{"$f":"'Nastavení příloh'!AM42/100","v":-0.13},{"$f":"'Nastavení příloh'!AN42/100","v":-0.13},{"$f":"'Nastavení příloh'!AO42/100","v":-0.12},{"$f":"'Nastavení příloh'!AP42/100","v":-0.08},{"$f":"'Nastavení příloh'!AQ42/100","v":-0.04},{"$f":"'Nastavení příloh'!AR42/100","v":0},{"$f":"'Nastavení příloh'!AS42/100","v":0},{"$f":"'Nastavení příloh'!AT42/100","v":0},{"$f":"'Nastavení příloh'!AU42/100","v":0},{"$f":"'Nastavení příloh'!AV42/100","v":0},null,3100,"-",3199,{"$f":"'Nastavení příloh'!BB42/100","v":0},{"$f":"'Nastavení příloh'!BC42/100","v":0},{"$f":"'Nastavení příloh'!BD42/100","v":0},{"$f":"'Nastavení příloh'!BE42/100","v":0},{"$f":"'Nastavení příloh'!BF42/100","v":0},{"$f":"'Nastavení příloh'!BG42/100","v":0},{"$f":"'Nastavení příloh'!BH42/100","v":0},{"$f":"'Nastavení příloh'!BI42/100","v":0},{"$f":"'Nastavení příloh'!BJ42/100","v":0},{"$f":"'Nastavení příloh'!BK42/100","v":0},{"$f":"'Nastavení příloh'!BL42/100","v":0},{"$f":"'Nastavení příloh'!BM42/100","v":0},{"$f":"'Nastavení příloh'!BN42/100","v":0},{"$f":"'Nastavení příloh'!BO42/100","v":0},{"$f":"'Nastavení příloh'!BP42/100","v":0},{"$f":"'Nastavení příloh'!BQ42/100","v":0},{"$f":"'Nastavení příloh'!BR42/100","v":0},{"$f":"'Nastavení příloh'!BS42/100","v":0},{"$f":"'Nastavení příloh'!BT42/100","v":0},null,3100,"-",3199,{"$f":"'Nastavení příloh'!BZ42/100","v":0},{"$f":"'Nastavení příloh'!CA42/100","v":0},{"$f":"'Nastavení příloh'!CB42/100","v":0},{"$f":"'Nastavení příloh'!CC42/100","v":0.01},{"$f":"'Nastavení příloh'!CD42/100","v":7.0000000000000007E-2},{"$f":"'Nastavení příloh'!CE42/100","v":0.12},{"$f":"'Nastavení příloh'!CF42/100","v":0.12},{"$f":"'Nastavení příloh'!CG42/100","v":0.12},{"$f":"'Nastavení příloh'!CH42/100","v":0.12},{"$f":"'Nastavení příloh'!CI42/100","v":0.12},{"$f":"'Nastavení příloh'!CJ42/100","v":0.12},{"$f":"'Nastavení příloh'!CK42/100","v":0.13},{"$f":"'Nastavení příloh'!CL42/100","v":0.17},{"$f":"'Nastavení příloh'!CM42/100","v":0.21},{"$f":"'Nastavení příloh'!CN42/100","v":0.25},{"$f":"'Nastavení příloh'!CO42/100","v":0.25},{"$f":"'Nastavení příloh'!CP42/100","v":0.25},{"$f":"'Nastavení příloh'!CQ42/100","v":0.25},{"$f":"'Nastavení příloh'!CR42/100","v":0.25}]
[null,3200,"-",3299,{"$f":"'Nastavení příloh'!F43/100","v":0},{"$f":"'Nastavení příloh'!G43/100","v":0.03},{"$f":"'Nastavení příloh'!H43/100","v":0.09},{"$f":"'Nastavení příloh'!I43/100","v":0.15},{"$f":"'Nastavení příloh'!J43/100","v":0.2},{"$f":"'Nastavení příloh'!K43/100","v":0.25},{"$f":"'Nastavení příloh'!L43/100","v":0.25},{"$f":"'Nastavení příloh'!M43/100","v":0.25},{"$f":"'Nastavení příloh'!N43/100","v":0.25},{"$f":"'Nastavení příloh'!O43/100","v":0.25},{"$f":"'Nastavení příloh'!P43/100","v":0.25},{"$f":"'Nastavení příloh'!Q43/100","v":0.25},{"$f":"'Nastavení příloh'!R43/100","v":0.25},{"$f":"'Nastavení příloh'!S43/100","v":0.25},{"$f":"'Nastavení příloh'!T43/100","v":0.25},{"$f":"'Nastavení příloh'!U43/100","v":0.25},{"$f":"'Nastavení příloh'!V43/100","v":0.25},{"$f":"'Nastavení příloh'!W43/100","v":0.25},{"$f":"'Nastavení příloh'!X43/100","v":0.25},null,3200,"-",3299,{"$f":"'Nastavení příloh'!AD43/100","v":-0.13},{"$f":"'Nastavení příloh'!AE43/100","v":-0.13},{"$f":"'Nastavení příloh'!AF43/100","v":-0.13},{"$f":"'Nastavení příloh'!AG43/100","v":-0.13},{"$f":"'Nastavení příloh'!AH43/100","v":-0.13},{"$f":"'Nastavení příloh'!AI43/100","v":-0.13},{"$f":"'Nastavení příloh'!AJ43/100","v":-0.13},{"$f":"'Nastavení příloh'!AK43/100","v":-0.13},{"$f":"'Nastavení příloh'!AL43/100","v":-0.13},{"$f":"'Nastavení příloh'!AM43/100","v":-0.13},{"$f":"'Nastavení příloh'!AN43/100","v":-0.13},{"$f":"'Nastavení příloh'!AO43/100","v":-0.13},{"$f":"'Nastavení příloh'!AP43/100","v":-0.09},{"$f":"'Nastavení příloh'!AQ43/100","v":-0.05},{"$f":"'Nastavení příloh'!AR43/100","v":0},{"$f":"'Nastavení příloh'!AS43/100","v":0},{"$f":"'Nastavení příloh'!AT43/100","v":0},{"$f":"'Nastavení příloh'!AU43/100","v":0},{"$f":"'Nastavení příloh'!AV43/100","v":0},null,3200,"-",3299,{"$f":"'Nastavení příloh'!BB43/100","v":0},{"$f":"'Nastavení příloh'!BC43/100","v":0},{"$f":"'Nastavení příloh'!BD43/100","v":0},{"$f":"'Nastavení příloh'!BE43/100","v":0},{"$f":"'Nastavení příloh'!BF43/100","v":0},{"$f":"'Nastavení příloh'!BG43/100","v":0},{"$f":"'Nastavení příloh'!BH43/100","v":0},{"$f":"'Nastavení příloh'!BI43/100","v":0},{"$f":"'Nastavení příloh'!BJ43/100","v":0},{"$f":"'Nastavení příloh'!BK43/100","v":0},{"$f":"'Nastavení příloh'!BL43/100","v":0},{"$f":"'Nastavení příloh'!BM43/100","v":0},{"$f":"'Nastavení příloh'!BN43/100","v":0},{"$f":"'Nastavení příloh'!BO43/100","v":0},{"$f":"'Nastavení příloh'!BP43/100","v":0},{"$f":"'Nastavení příloh'!BQ43/100","v":0},{"$f":"'Nastavení příloh'!BR43/100","v":0},{"$f":"'Nastavení příloh'!BS43/100","v":0},{"$f":"'Nastavení příloh'!BT43/100","v":0},null,3200,"-",3299,{"$f":"'Nastavení příloh'!BZ43/100","v":0},{"$f":"'Nastavení příloh'!CA43/100","v":0},{"$f":"'Nastavení příloh'!CB43/100","v":0},{"$f":"'Nastavení příloh'!CC43/100","v":0.02},{"$f":"'Nastavení příloh'!CD43/100","v":7.0000000000000007E-2},{"$f":"'Nastavení příloh'!CE43/100","v":0.12},{"$f":"'Nastavení příloh'!CF43/100","v":0.12},{"$f":"'Nastavení příloh'!CG43/100","v":0.12},{"$f":"'Nastavení příloh'!CH43/100","v":0.12},{"$f":"'Nastavení příloh'!CI43/100","v":0.12},{"$f":"'Nastavení příloh'!CJ43/100","v":0.12},{"$f":"'Nastavení příloh'!CK43/100","v":0.12},{"$f":"'Nastavení příloh'!CL43/100","v":0.16},{"$f":"'Nastavení příloh'!CM43/100","v":0.2},{"$f":"'Nastavení příloh'!CN43/100","v":0.25},{"$f":"'Nastavení příloh'!CO43/100","v":0.25},{"$f":"'Nastavení příloh'!CP43/100","v":0.25},{"$f":"'Nastavení příloh'!CQ43/100","v":0.25},{"$f":"'Nastavení příloh'!CR43/100","v":0.25}]
[null,3300,"-",3399,{"$f":"'Nastavení příloh'!F44/100","v":0},{"$f":"'Nastavení příloh'!G44/100","v":0.04},{"$f":"'Nastavení příloh'!H44/100","v":0.09},{"$f":"'Nastavení příloh'!I44/100","v":0.15},{"$f":"'Nastavení příloh'!J44/100","v":0.21},{"$f":"'Nastavení příloh'!K44/100","v":0.25},{"$f":"'Nastavení příloh'!L44/100","v":0.25},{"$f":"'Nastavení příloh'!M44/100","v":0.25},{"$f":"'Nastavení příloh'!N44/100","v":0.25},{"$f":"'Nastavení příloh'!O44/100","v":0.25},{"$f":"'Nastavení příloh'!P44/100","v":0.25},{"$f":"'Nastavení příloh'!Q44/100","v":0.25},{"$f":"'Nastavení příloh'!R44/100","v":0.25},{"$f":"'Nastavení příloh'!S44/100","v":0.25},{"$f":"'Nastavení příloh'!T44/100","v":0.25},{"$f":"'Nastavení příloh'!U44/100","v":0.25},{"$f":"'Nastavení příloh'!V44/100","v":0.25},{"$f":"'Nastavení příloh'!W44/100","v":0.25},{"$f":"'Nastavení příloh'!X44/100","v":0.25},null,3300,"-",3399,{"$f":"'Nastavení příloh'!AD44/100","v":-0.13},{"$f":"'Nastavení příloh'!AE44/100","v":-0.13},{"$f":"'Nastavení příloh'!AF44/100","v":-0.13},{"$f":"'Nastavení příloh'!AG44/100","v":-0.13},{"$f":"'Nastavení příloh'!AH44/100","v":-0.13},{"$f":"'Nastavení příloh'!AI44/100","v":-0.13},{"$f":"'Nastavení příloh'!AJ44/100","v":-0.13},{"$f":"'Nastavení příloh'!AK44/100","v":-0.13},{"$f":"'Nastavení příloh'!AL44/100","v":-0.13},{"$f":"'Nastavení příloh'!AM44/100","v":-0.13},{"$f":"'Nastavení příloh'!AN44/100","v":-0.13},{"$f":"'Nastavení příloh'!AO44/100","v":-0.13},{"$f":"'Nastavení příloh'!AP44/100","v":-0.1},{"$f":"'Nastavení příloh'!AQ44/100","v":-0.06},{"$f":"'Nastavení příloh'!AR44/100","v":-0.01},{"$f":"'Nastavení příloh'!AS44/100","v":0},{"$f":"'Nastavení příloh'!AT44/100","v":0},{"$f":"'Nastavení příloh'!AU44/100","v":0},{"$f":"'Nastavení příloh'!AV44/100","v":0},null,3300,"-",3399,{"$f":"'Nastavení příloh'!BB44/100","v":0},{"$f":"'Nastavení příloh'!BC44/100","v":0},{"$f":"'Nastavení příloh'!BD44/100","v":0},{"$f":"'Nastavení příloh'!BE44/100","v":0},{"$f":"'Nastavení příloh'!BF44/100","v":0},{"$f":"'Nastavení příloh'!BG44/100","v":0},{"$f":"'Nastavení příloh'!BH44/100","v":0},{"$f":"'Nastavení příloh'!BI44/100","v":0},{"$f":"'Nastavení příloh'!BJ44/100","v":0},{"$f":"'Nastavení příloh'!BK44/100","v":0},{"$f":"'Nastavení příloh'!BL44/100","v":0},{"$f":"'Nastavení příloh'!BM44/100","v":0},{"$f":"'Nastavení příloh'!BN44/100","v":0},{"$f":"'Nastavení příloh'!BO44/100","v":0},{"$f":"'Nastavení příloh'!BP44/100","v":0},{"$f":"'Nastavení příloh'!BQ44/100","v":0},{"$f":"'Nastavení příloh'!BR44/100","v":0},{"$f":"'Nastavení příloh'!BS44/100","v":0},{"$f":"'Nastavení příloh'!BT44/100","v":0},null,3300,"-",3399,{"$f":"'Nastavení příloh'!BZ44/100","v":0},{"$f":"'Nastavení příloh'!CA44/100","v":0},{"$f":"'Nastavení příloh'!CB44/100","v":0},{"$f":"'Nastavení příloh'!CC44/100","v":0.02},{"$f":"'Nastavení příloh'!CD44/100","v":0.08},{"$f":"'Nastavení příloh'!CE44/100","v":0.12},{"$f":"'Nastavení příloh'!CF44/100","v":0.12},{"$f":"'Nastavení příloh'!CG44/100","v":0.12},{"$f":"'Nastavení příloh'!CH44/100","v":0.12},{"$f":"'Nastavení příloh'!CI44/100","v":0.12},{"$f":"'Nastavení příloh'!CJ44/100","v":0.12},{"$f":"'Nastavení příloh'!CK44/100","v":0.12},{"$f":"'Nastavení příloh'!CL44/100","v":0.15},{"$f":"'Nastavení příloh'!CM44/100","v":0.19},{"$f":"'Nastavení příloh'!CN44/100","v":0.24},{"$f":"'Nastavení příloh'!CO44/100","v":0.25},{"$f":"'Nastavení příloh'!CP44/100","v":0.25},{"$f":"'Nastavení příloh'!CQ44/100","v":0.25},{"$f":"'Nastavení příloh'!CR44/100","v":0.25}]
[null,3400,"-",3499,{"$f":"'Nastavení příloh'!F45/100","v":0},{"$f":"'Nastavení příloh'!G45/100","v":0.04},{"$f":"'Nastavení příloh'!H45/100","v":0.1},{"$f":"'Nastavení příloh'!I45/100","v":0.16},{"$f":"'Nastavení příloh'!J45/100","v":0.22},{"$f":"'Nastavení příloh'!K45/100","v":0.25},{"$f":"'Nastavení příloh'!L45/100","v":0.25},{"$f":"'Nastavení příloh'!M45/100","v":0.25},{"$f":"'Nastavení příloh'!N45/100","v":0.25},{"$f":"'Nastavení příloh'!O45/100","v":0.25},{"$f":"'Nastavení příloh'!P45/100","v":0.25},{"$f":"'Nastavení příloh'!Q45/100","v":0.25},{"$f":"'Nastavení příloh'!R45/100","v":0.25},{"$f":"'Nastavení příloh'!S45/100","v":0.25},{"$f":"'Nastavení příloh'!T45/100","v":0.25},{"$f":"'Nastavení příloh'!U45/100","v":0.25},{"$f":"'Nastavení příloh'!V45/100","v":0.25},{"$f":"'Nastavení příloh'!W45/100","v":0.25},{"$f":"'Nastavení příloh'!X45/100","v":0.25},null,3400,"-",3499,{"$f":"'Nastavení příloh'!AD45/100","v":-0.13},{"$f":"'Nastavení příloh'!AE45/100","v":-0.13},{"$f":"'Nastavení příloh'!AF45/100","v":-0.13},{"$f":"'Nastavení příloh'!AG45/100","v":-0.13},{"$f":"'Nastavení příloh'!AH45/100","v":-0.13},{"$f":"'Nastavení příloh'!AI45/100","v":-0.13},{"$f":"'Nastavení příloh'!AJ45/100","v":-0.13},{"$f":"'Nastavení příloh'!AK45/100","v":-0.13},{"$f":"'Nastavení příloh'!AL45/100","v":-0.13},{"$f":"'Nastavení příloh'!AM45/100","v":-0.13},{"$f":"'Nastavení příloh'!AN45/100","v":-0.13},{"$f":"'Nastavení příloh'!AO45/100","v":-0.13},{"$f":"'Nastavení příloh'!AP45/100","v":-0.12},{"$f":"'Nastavení příloh'!AQ45/100","v":-7.0000000000000007E-2},{"$f":"'Nastavení příloh'!AR45/100","v":-0.02},{"$f":"'Nastavení příloh'!AS45/100","v":0},{"$f":"'Nastavení příloh'!AT45/100","v":0},{"$f":"'Nastavení příloh'!AU45/100","v":0},{"$f":"'Nastavení příloh'!AV45/100","v":0},null,"více jak 3400",null,null,{"$f":"'Nastavení příloh'!BB45/100","v":0},{"$f":"'Nastavení příloh'!BC45/100","v":0},{"$f":"'Nastavení příloh'!BD45/100","v":0},{"$f":"'Nastavení příloh'!BE45/100","v":0},{"$f":"'Nastavení příloh'!BF45/100","v":0},{"$f":"'Nastavení příloh'!BG45/100","v":0},{"$f":"'Nastavení příloh'!BH45/100","v":0},{"$f":"'Nastavení příloh'!BI45/100","v":0},{"$f":"'Nastavení příloh'!BJ45/100","v":0},{"$f":"'Nastavení příloh'!BK45/100","v":0},{"$f":"'Nastavení příloh'!BL45/100","v":0},{"$f":"'Nastavení příloh'!BM45/100","v":0},{"$f":"'Nastavení příloh'!BN45/100","v":0},{"$f":"'Nastavení příloh'!BO45/100","v":0},{"$f":"'Nastavení příloh'!BP45/100","v":0},{"$f":"'Nastavení příloh'!BQ45/100","v":0},{"$f":"'Nastavení příloh'!BR45/100","v":0},{"$f":"'Nastavení příloh'!BS45/100","v":0},{"$f":"'Nastavení příloh'!BT45/100","v":0},null,3400,"-",3499,{"$f":"'Nastavení příloh'!BZ45/100","v":0},{"$f":"'Nastavení příloh'!CA45/100","v":0},{"$f":"'Nastavení příloh'!CB45/100","v":0},{"$f":"'Nastavení příloh'!CC45/100","v":0.03},{"$f":"'Nastavení příloh'!CD45/100","v":0.09},{"$f":"'Nastavení příloh'!CE45/100","v":0.12},{"$f":"'Nastavení příloh'!CF45/100","v":0.12},{"$f":"'Nastavení příloh'!CG45/100","v":0.12},{"$f":"'Nastavení příloh'!CH45/100","v":0.12},{"$f":"'Nastavení příloh'!CI45/100","v":0.12},{"$f":"'Nastavení příloh'!CJ45/100","v":0.12},{"$f":"'Nastavení příloh'!CK45/100","v":0.12},{"$f":"'Nastavení příloh'!CL45/100","v":0.13},{"$f":"'Nastavení příloh'!CM45/100","v":0.18},{"$f":"'Nastavení příloh'!CN45/100","v":0.23},{"$f":"'Nastavení příloh'!CO45/100","v":0.25},{"$f":"'Nastavení příloh'!CP45/100","v":0.25},{"$f":"'Nastavení příloh'!CQ45/100","v":0.25},{"$f":"'Nastavení příloh'!CR45/100","v":0.25}]
[null,null,null,null,null,null,null,null,null,null,null,null,null,null,null,null,null,null,null,null,null,null,"Příloha č. 5 k OZV č. …/2015 Název obec/město",null,null,null,null,null,null,null,null,null,null,null,null,null,null,null,null,null,null,null,null,null,null,"Příloha č. 6 k OZV č. …/2015 Název obec/město"]
["Maximální roční bonusy za třídění odpadů (zkráceně BT) - procentuální úleva na poplatku placeného na následující rok",null,null,null,null,null,null,null,null,null,null,null,null,null,null,null,null,null,null,null,null,null,null,"Maximální roční bonusy za efektivní využívání nádob (BV)-procentuální úleva na poplatku placeného na následující rok",null,null,null,null,null,null,null,null,null,null,null,null,null,null,null,null,null,null,null,null,null,null,null,null,null,null,null,null,null,null,null,null,null,null,null,null,null,null,null,null,null,null,null,null,null,"Součet maximálních ročních bonusů (BT + BV + BS)"]
[]
["Bonus za třídění odpadů je udělen do výše 23% za plast, 20% za papír, 30% za bioodpad, 13% za sklo, 8% za textil, 2% za nápojový karton, 2% za jedlý olej a tuk a 2% za drobné elektrozařízení z hodnoty maximálního bonusu uvedeného v  této tabulce. ",null,null,null,"Procentuální zastoupení objemu obsloužených nádob na plast a na papír v celkovém objemu obsloužených nádob",null,null,null,null,null,null,null,null,null,null,null,null,null,null,null,null,null,null,"Bonus za efektivní využívání sběrných nádob je udělen do výše 100% z hodnoty maximálního bonusu uvedeného v této tabulce.",null,null,null,"Procentuální zastoupení objemu obsloužených nádob na plast a na papír v celkovém objemu obsloužených nádob",null,null,null,null,null,null,null,null,null,null,null,null,null,null,null,null,null,null,null,null,null,null,null,null,null,null,null,null,null,null,null,null,null,null,null,null,null,null,null,null,null,"Záporná hodnota součtu bonusů (BT + BV + BS) je nahrazena nulou.",null,null,null,"Procentuální zastoupení objemu obsloužených nádob na plast a na papír v celkovém objemu obsloužených nádob"]
[null,null,null,null,"0 %","1-5 %","6-10 %","11-15 %","16-20 %","21-25 %","26-30 %","31-35 %","36-40 %","41-45 %","46-50 %","51-55 %","56-60 %","61-65 %","66-70 %","71-75 %","76-80 %","81-85 %","více jak 85 %",null,null,null,null,"0 %","1-5 %","6-10 %","11-15 %","16-20 %","21-25 %","26-30 %","31-35 %","36-40 %","41-45 %","46-50 %","51-55 %","56-60 %","61-65 %","66-70 %","71-75 %","76-80 %","81-85 %","více jak 85 %",null,null,null,null,null,null,null,null,null,null,null,null,null,null,null,null,null,null,null,null,null,null,null,null,null,null,null,"0 %","1-5 %","6-10 %","11-15 %","16-20 %","21-25 %","26-30 %","31-35 %","36-40 %","41-45 %","46-50 %","51-55 %","56-60 %","61-65 %","66-70 %","71-75 %","76-80 %","81-85 %","více jak 85 %"]
[null,null,null,null,"\"Třídí málo\"                                                                                                                                   \"Třídí hodně\"",null,null,null,null,null,null,null,null,null,null,null,null,null,null,null,null,null,null,null,null,null,null,"\"Třídí málo\"                                                                                                                                   \"Třídí hodně\"",null,null,null,null,null,null,null,null,null,null,null,null,null,null,null,null,null,null,null,null,null,null,null,null,null,null,null,null,null,null,null,null,null,null,null,null,null,null,null,null,null,null,null,null,null,"\"Třídí málo\"                                                                                                                                   \"Třídí hodně\""]
["Roční celkový objem obsloužených nádob přepočtený na jednoho účastníka systému užívajícího dané nádoby (litry/účastník systému/rok)",3500,"-",3599,{"$f":"'Nastavení příloh'!F52/100","v":0},{"$f":"'Nastavení příloh'!G52/100","v":0.04},{"$f":"'Nastavení příloh'!H52/100","v":0.1},{"$f":"'Nastavení příloh'!I52/100","v":0.16},{"$f":"'Nastavení příloh'!J52/100","v":0.22},{"$f":"'Nastavení příloh'!K52/100","v":0.25},{"$f":"'Nastavení příloh'!L52/100","v":0.25},{"$f":"'Nastavení příloh'!M52/100","v":0.25},{"$f":"'Nastavení příloh'!N52/100","v":0.25},{"$f":"'Nastavení příloh'!O52/100","v":0.25},{"$f":"'Nastavení příloh'!P52/100","v":0.25},{"$f":"'Nastavení příloh'!Q52/100","v":0.25},{"$f":"'Nastavení příloh'!R52/100","v":0.25},{"$f":"'Nastavení příloh'!S52/100","v":0.25},{"$f":"'Nastavení příloh'!T52/100","v":0.25},{"$f":"'Nastavení příloh'!U52/100","v":0.25},{"$f":"'Nastavení příloh'!V52/100","v":0.25},{"$f":"'Nastavení příloh'!W52/100","v":0.25},{"$f":"'Nastavení příloh'!X52/100","v":0.25},"Roční celkový objem obsloužených nádob přepočtený na jednoho účastníka systému užívajícího dané nádoby (litry/účastník systému/rok)",3500,"-",3599,{"$f":"'Nastavení příloh'!AD52/100","v":-0.13},{"$f":"'Nastavení příloh'!AE52/100","v":-0.13},{"$f":"'Nastavení příloh'!AF52/100","v":-0.13},{"$f":"'Nastavení příloh'!AG52/100","v":-0.13},{"$f":"'Nastavení příloh'!AH52/100","v":-0.13},{"$f":"'Nastavení příloh'!AI52/100","v":-0.13},{"$f":"'Nastavení příloh'!AJ52/100","v":-0.13},{"$f":"'Nastavení příloh'!AK52/100","v":-0.13},{"$f":"'Nastavení příloh'!AL52/100","v":-0.13},{"$f":"'Nastavení příloh'!AM52/100","v":-0.13},{"$f":"'Nastavení příloh'!AN52/100","v":-0.13},{"$f":"'Nastavení příloh'!AO52/100","v":-0.13},{"$f":"'Nastavení příloh'!AP52/100","v":-0.13},{"$f":"'Nastavení příloh'!AQ52/100","v":-0.08},{"$f":"'Nastavení příloh'!AR52/100","v":-0.03},{"$f":"'Nastavení příloh'!AS52/100","v":0},{"$f":"'Nastavení příloh'!AT52/100","v":0},{"$f":"'Nastavení příloh'!AU52/100","v":0},{"$f":"'Nastavení příloh'!AV52/100","v":0},null,null,null,null,null,null,null,null,null,null,null,null,null,null,null,null,null,null,null,null,null,null,null,"Roční celkový objem obsloužených nádob přepočtený na jednoho účastníka systému užívajícího dané nádoby (litry/účastník systému/rok)",3500,"-",3599,{"$f":"'Nastavení příloh'!BZ52/100","v":0},{"$f":"'Nastavení příloh'!CA52/100","v":0},{"$f":"'Nastavení příloh'!CB52/100","v":0},{"$f":"'Nastavení příloh'!CC52/100","v":0.03},{"$f":"'Nastavení příloh'!CD52/100","v":0.09},{"$f":"'Nastavení příloh'!CE52/100","v":0.12},{"$f":"'Nastavení příloh'!CF52/100","v":0.12},{"$f":"'Nastavení příloh'!CG52/100","v":0.12},{"$f":"'Nastavení příloh'!CH52/100","v":0.12},{"$f":"'Nastavení příloh'!CI52/100","v":0.12},{"$f":"'Nastavení příloh'!CJ52/100","v":0.12},{"$f":"'Nastavení příloh'!CK52/100","v":0.12},{"$f":"'Nastavení příloh'!CL52/100","v":0.12},{"$f":"'Nastavení příloh'!CM52/100","v":0.17},{"$f":"'Nastavení příloh'!CN52/100","v":0.22},{"$f":"'Nastavení příloh'!CO52/100","v":0.25},{"$f":"'Nastavení příloh'!CP52/100","v":0.25},{"$f":"'Nastavení příloh'!CQ52/100","v":0.25},{"$f":"'Nastavení příloh'!CR52/100","v":0.25}]
[null,3600,"-",3699,{"$f":"'Nastavení příloh'!F53/100","v":0},{"$f":"'Nastavení příloh'!G53/100","v":0.04},{"$f":"'Nastavení příloh'!H53/100","v":0.1},{"$f":"'Nastavení příloh'!I53/100","v":0.17},{"$f":"'Nastavení příloh'!J53/100","v":0.23},{"$f":"'Nastavení příloh'!K53/100","v":0.25},{"$f":"'Nastavení příloh'!L53/100","v":0.25},{"$f":"'Nastavení příloh'!M53/100","v":0.25},{"$f":"'Nastavení příloh'!N53/100","v":0.25},{"$f":"'Nastavení příloh'!O53/100","v":0.25},{"$f":"'Nastavení příloh'!P53/100","v":0.25},{"$f":"'Nastavení příloh'!Q53/100","v":0.25},{"$f":"'Nastavení příloh'!R53/100","v":0.25},{"$f":"'Nastavení příloh'!S53/100","v":0.25},{"$f":"'Nastavení příloh'!T53/100","v":0.25},{"$f":"'Nastavení příloh'!U53/100","v":0.25},{"$f":"'Nastavení příloh'!V53/100","v":0.25},{"$f":"'Nastavení příloh'!W53/100","v":0.25},{"$f":"'Nastavení příloh'!X53/100","v":0.25},null,3600,"-",3699,{"$f":"'Nastavení příloh'!AD53/100","v":-0.13},{"$f":"'Nastavení příloh'!AE53/100","v":-0.13},{"$f":"'Nastavení příloh'!AF53/100","v":-0.13},{"$f":"'Nastavení příloh'!AG53/100","v":-0.13},{"$f":"'Nastavení příloh'!AH53/100","v":-0.13},{"$f":"'Nastavení příloh'!AI53/100","v":-0.13},{"$f":"'Nastavení příloh'!AJ53/100","v":-0.13},{"$f":"'Nastavení příloh'!AK53/100","v":-0.13},{"$f":"'Nastavení příloh'!AL53/100","v":-0.13},{"$f":"'Nastavení příloh'!AM53/100","v":-0.13},{"$f":"'Nastavení příloh'!AN53/100","v":-0.13},{"$f":"'Nastavení příloh'!AO53/100","v":-0.13},{"$f":"'Nastavení příloh'!AP53/100","v":-0.13},{"$f":"'Nastavení příloh'!AQ53/100","v":-0.09},{"$f":"'Nastavení příloh'!AR53/100","v":-0.04},{"$f":"'Nastavení příloh'!AS53/100","v":0},{"$f":"'Nastavení příloh'!AT53/100","v":0},{"$f":"'Nastavení příloh'!AU53/100","v":0},{"$f":"'Nastavení příloh'!AV53/100","v":0},null,null,null,null,null,null,null,null,null,null,null,null,null,null,null,null,null,null,null,null,null,null,null,null,3600,"-",3699,{"$f":"'Nastavení příloh'!BZ53/100","v":0},{"$f":"'Nastavení příloh'!CA53/100","v":0},{"$f":"'Nastavení příloh'!CB53/100","v":0},{"$f":"'Nastavení příloh'!CC53/100","v":0.04},{"$f":"'Nastavení příloh'!CD53/100","v":0.1},{"$f":"'Nastavení příloh'!CE53/100","v":0.12},{"$f":"'Nastavení příloh'!CF53/100","v":0.12},{"$f":"'Nastavení příloh'!CG53/100","v":0.12},{"$f":"'Nastavení příloh'!CH53/100","v":0.12},{"$f":"'Nastavení příloh'!CI53/100","v":0.12},{"$f":"'Nastavení příloh'!CJ53/100","v":0.12},{"$f":"'Nastavení příloh'!CK53/100","v":0.12},{"$f":"'Nastavení příloh'!CL53/100","v":0.12},{"$f":"'Nastavení příloh'!CM53/100","v":0.16},{"$f":"'Nastavení příloh'!CN53/100","v":0.21},{"$f":"'Nastavení příloh'!CO53/100","v":0.25},{"$f":"'Nastavení příloh'!CP53/100","v":0.25},{"$f":"'Nastavení příloh'!CQ53/100","v":0.25},{"$f":"'Nastavení příloh'!CR53/100","v":0.25}]
[null,3700,"-",3799,{"$f":"'Nastavení příloh'!F54/100","v":0},{"$f":"'Nastavení příloh'!G54/100","v":0.04},{"$f":"'Nastavení příloh'!H54/100","v":0.11},{"$f":"'Nastavení příloh'!I54/100","v":0.17},{"$f":"'Nastavení příloh'!J54/100","v":0.24},{"$f":"'Nastavení příloh'!K54/100","v":0.25},{"$f":"'Nastavení příloh'!L54/100","v":0.25},{"$f":"'Nastavení příloh'!M54/100","v":0.25},{"$f":"'Nastavení příloh'!N54/100","v":0.25},{"$f":"'Nastavení příloh'!O54/100","v":0.25},{"$f":"'Nastavení příloh'!P54/100","v":0.25},{"$f":"'Nastavení příloh'!Q54/100","v":0.25},{"$f":"'Nastavení příloh'!R54/100","v":0.25},{"$f":"'Nastavení příloh'!S54/100","v":0.25},{"$f":"'Nastavení příloh'!T54/100","v":0.25},{"$f":"'Nastavení příloh'!U54/100","v":0.25},{"$f":"'Nastavení příloh'!V54/100","v":0.25},{"$f":"'Nastavení příloh'!W54/100","v":0.25},{"$f":"'Nastavení příloh'!X54/100","v":0.25},null,3700,"-",3799,{"$f":"'Nastavení příloh'!AD54/100","v":-0.13},{"$f":"'Nastavení příloh'!AE54/100","v":-0.13},{"$f":"'Nastavení příloh'!AF54/100","v":-0.13},{"$f":"'Nastavení příloh'!AG54/100","v":-0.13},{"$f":"'Nastavení příloh'!AH54/100","v":-0.13},{"$f":"'Nastavení příloh'!AI54/100","v":-0.13},{"$f":"'Nastavení příloh'!AJ54/100","v":-0.13},{"$f":"'Nastavení příloh'!AK54/100","v":-0.13},{"$f":"'Nastavení příloh'!AL54/100","v":-0.13},{"$f":"'Nastavení příloh'!AM54/100","v":-0.13},{"$f":"'Nastavení příloh'!AN54/100","v":-0.13},{"$f":"'Nastavení příloh'!AO54/100","v":-0.13},{"$f":"'Nastavení příloh'!AP54/100","v":-0.13},{"$f":"'Nastavení příloh'!AQ54/100","v":-0.1},{"$f":"'Nastavení příloh'!AR54/100","v":-0.05},{"$f":"'Nastavení příloh'!AS54/100","v":0},{"$f":"'Nastavení příloh'!AT54/100","v":0},{"$f":"'Nastavení příloh'!AU54/100","v":0},{"$f":"'Nastavení příloh'!AV54/100","v":0},null,null,null,null,null,null,null,null,null,null,null,null,null,null,null,null,null,null,null,null,null,null,null,null,3700,"-",3799,{"$f":"'Nastavení příloh'!BZ54/100","v":0},{"$f":"'Nastavení příloh'!CA54/100","v":0},{"$f":"'Nastavení příloh'!CB54/100","v":0},{"$f":"'Nastavení příloh'!CC54/100","v":0.04},{"$f":"'Nastavení příloh'!CD54/100","v":0.11},{"$f":"'Nastavení příloh'!CE54/100","v":0.12},{"$f":"'Nastavení příloh'!CF54/100","v":0.12},{"$f":"'Nastavení příloh'!CG54/100","v":0.12},{"$f":"'Nastavení příloh'!CH54/100","v":0.12},{"$f":"'Nastavení příloh'!CI54/100","v":0.12},{"$f":"'Nastavení příloh'!CJ54/100","v":0.12},{"$f":"'Nastavení příloh'!CK54/100","v":0.12},{"$f":"'Nastavení příloh'!CL54/100","v":0.12},{"$f":"'Nastavení příloh'!CM54/100","v":0.15},{"$f":"'Nastavení příloh'!CN54/100","v":0.2},{"$f":"'Nastavení příloh'!CO54/100","v":0.25},{"$f":"'Nastavení příloh'!CP54/100","v":0.25},{"$f":"'Nastavení příloh'!CQ54/100","v":0.25},{"$f":"'Nastavení příloh'!CR54/100","v":0.25}]
[null,3800,"-",3899,{"$f":"'Nastavení příloh'!F55/100","v":0},{"$f":"'Nastavení příloh'!G55/100","v":0.04},{"$f":"'Nastavení příloh'!H55/100","v":0.11},{"$f":"'Nastavení příloh'!I55/100","v":0.18},{"$f":"'Nastavení příloh'!J55/100","v":0.24},{"$f":"'Nastavení příloh'!K55/100","v":0.25},{"$f":"'Nastavení příloh'!L55/100","v":0.25},{"$f":"'Nastavení příloh'!M55/100","v":0.25},{"$f":"'Nastavení příloh'!N55/100","v":0.25},{"$f":"'Nastavení příloh'!O55/100","v":0.25},{"$f":"'Nastavení příloh'!P55/100","v":0.25},{"$f":"'Nastavení příloh'!Q55/100","v":0.25},{"$f":"'Nastavení příloh'!R55/100","v":0.25},{"$f":"'Nastavení příloh'!S55/100","v":0.25},{"$f":"'Nastavení příloh'!T55/100","v":0.25},{"$f":"'Nastavení příloh'!U55/100","v":0.25},{"$f":"'Nastavení příloh'!V55/100","v":0.25},{"$f":"'Nastavení příloh'!W55/100","v":0.25},{"$f":"'Nastavení příloh'!X55/100","v":0.25},null,3800,"-",3899,{"$f":"'Nastavení příloh'!AD55/100","v":-0.13},{"$f":"'Nastavení příloh'!AE55/100","v":-0.13},{"$f":"'Nastavení příloh'!AF55/100","v":-0.13},{"$f":"'Nastavení příloh'!AG55/100","v":-0.13},{"$f":"'Nastavení příloh'!AH55/100","v":-0.13},{"$f":"'Nastavení příloh'!AI55/100","v":-0.13},{"$f":"'Nastavení příloh'!AJ55/100","v":-0.13},{"$f":"'Nastavení příloh'!AK55/100","v":-0.13},{"$f":"'Nastavení příloh'!AL55/100","v":-0.13},{"$f":"'Nastavení příloh'!AM55/100","v":-0.13},{"$f":"'Nastavení příloh'!AN55/100","v":-0.13},{"$f":"'Nastavení příloh'!AO55/100","v":-0.13},{"$f":"'Nastavení příloh'!AP55/100","v":-0.13},{"$f":"'Nastavení příloh'!AQ55/100","v":-0.11},{"$f":"'Nastavení příloh'!AR55/100","v":-0.05},{"$f":"'Nastavení příloh'!AS55/100","v":0},{"$f":"'Nastavení příloh'!AT55/100","v":0},{"$f":"'Nastavení příloh'!AU55/100","v":0},{"$f":"'Nastavení příloh'!AV55/100","v":0},null,null,null,null,null,null,null,null,null,null,null,null,null,null,null,null,null,null,null,null,null,null,null,null,3800,"-",3899,{"$f":"'Nastavení příloh'!BZ55/100","v":0},{"$f":"'Nastavení příloh'!CA55/100","v":0},{"$f":"'Nastavení příloh'!CB55/100","v":0},{"$f":"'Nastavení příloh'!CC55/100","v":0.05},{"$f":"'Nastavení příloh'!CD55/100","v":0.11},{"$f":"'Nastavení příloh'!CE55/100","v":0.12},{"$f":"'Nastavení příloh'!CF55/100","v":0.12},{"$f":"'Nastavení příloh'!CG55/100","v":0.12},{"$f":"'Nastavení příloh'!CH55/100","v":0.12},{"$f":"'Nastavení příloh'!CI55/100","v":0.12},{"$f":"'Nastavení příloh'!CJ55/100","v":0.12},{"$f":"'Nastavení příloh'!CK55/100","v":0.12},{"$f":"'Nastavení příloh'!CL55/100","v":0.12},{"$f":"'Nastavení příloh'!CM55/100","v":0.14000000000000001},{"$f":"'Nastavení příloh'!CN55/100","v":0.2},{"$f":"'Nastavení příloh'!CO55/100","v":0.25},{"$f":"'Nastavení příloh'!CP55/100","v":0.25},{"$f":"'Nastavení příloh'!CQ55/100","v":0.25},{"$f":"'Nastavení příloh'!CR55/100","v":0.25}]
[null,3900,"-",3999,{"$f":"'Nastavení příloh'!F56/100","v":0},{"$f":"'Nastavení příloh'!G56/100","v":0.04},{"$f":"'Nastavení příloh'!H56/100","v":0.11},{"$f":"'Nastavení příloh'!I56/100","v":0.18},{"$f":"'Nastavení příloh'!J56/100","v":0.25},{"$f":"'Nastavení příloh'!K56/100","v":0.25},{"$f":"'Nastavení příloh'!L56/100","v":0.25},{"$f":"'Nastavení příloh'!M56/100","v":0.25},{"$f":"'Nastavení příloh'!N56/100","v":0.25},{"$f":"'Nastavení příloh'!O56/100","v":0.25},{"$f":"'Nastavení příloh'!P56/100","v":0.25},{"$f":"'Nastavení příloh'!Q56/100","v":0.25},{"$f":"'Nastavení příloh'!R56/100","v":0.25},{"$f":"'Nastavení příloh'!S56/100","v":0.25},{"$f":"'Nastavení příloh'!T56/100","v":0.25},{"$f":"'Nastavení příloh'!U56/100","v":0.25},{"$f":"'Nastavení příloh'!V56/100","v":0.25},{"$f":"'Nastavení příloh'!W56/100","v":0.25},{"$f":"'Nastavení příloh'!X56/100","v":0.25},null,3900,"-",3999,{"$f":"'Nastavení příloh'!AD56/100","v":-0.13},{"$f":"'Nastavení příloh'!AE56/100","v":-0.13},{"$f":"'Nastavení příloh'!AF56/100","v":-0.13},{"$f":"'Nastavení příloh'!AG56/100","v":-0.13},{"$f":"'Nastavení příloh'!AH56/100","v":-0.13},{"$f":"'Nastavení příloh'!AI56/100","v":-0.13},{"$f":"'Nastavení příloh'!AJ56/100","v":-0.13},{"$f":"'Nastavení příloh'!AK56/100","v":-0.13},{"$f":"'Nastavení příloh'!AL56/100","v":-0.13},{"$f":"'Nastavení příloh'!AM56/100","v":-0.13},{"$f":"'Nastavení příloh'!AN56/100","v":-0.13},{"$f":"'Nastavení příloh'!AO56/100","v":-0.13},{"$f":"'Nastavení příloh'!AP56/100","v":-0.13},{"$f":"'Nastavení příloh'!AQ56/100","v":-0.12},{"$f":"'Nastavení příloh'!AR56/100","v":-0.06},{"$f":"'Nastavení příloh'!AS56/100","v":-0.01},{"$f":"'Nastavení příloh'!AT56/100","v":0},{"$f":"'Nastavení příloh'!AU56/100","v":0},{"$f":"'Nastavení příloh'!AV56/100","v":0},null,null,null,null,null,null,null,null,null,null,null,null,null,null,null,null,null,null,null,null,null,null,null,null,3900,"-",3999,{"$f":"'Nastavení příloh'!BZ56/100","v":0},{"$f":"'Nastavení příloh'!CA56/100","v":0},{"$f":"'Nastavení příloh'!CB56/100","v":0},{"$f":"'Nastavení příloh'!CC56/100","v":0.05},{"$f":"'Nastavení příloh'!CD56/100","v":0.12},{"$f":"'Nastavení příloh'!CE56/100","v":0.12},{"$f":"'Nastavení příloh'!CF56/100","v":0.12},{"$f":"'Nastavení příloh'!CG56/100","v":0.12},{"$f":"'Nastavení příloh'!CH56/100","v":0.12},{"$f":"'Nastavení příloh'!CI56/100","v":0.12},{"$f":"'Nastavení příloh'!CJ56/100","v":0.12},{"$f":"'Nastavení příloh'!CK56/100","v":0.12},{"$f":"'Nastavení příloh'!CL56/100","v":0.12},{"$f":"'Nastavení příloh'!CM56/100","v":0.13},{"$f":"'Nastavení příloh'!CN56/100","v":0.19},{"$f":"'Nastavení příloh'!CO56/100","v":0.24},{"$f":"'Nastavení příloh'!CP56/100","v":0.25},{"$f":"'Nastavení příloh'!CQ56/100","v":0.25},{"$f":"'Nastavení příloh'!CR56/100","v":0.25}]
[null,4000,"-",4099,{"$f":"'Nastavení příloh'!F57/100","v":0},{"$f":"'Nastavení příloh'!G57/100","v":0.04},{"$f":"'Nastavení příloh'!H57/100","v":0.11},{"$f":"'Nastavení příloh'!I57/100","v":0.18},{"$f":"'Nastavení příloh'!J57/100","v":0.25},{"$f":"'Nastavení příloh'!K57/100","v":0.25},{"$f":"'Nastavení příloh'!L57/100","v":0.25},{"$f":"'Nastavení příloh'!M57/100","v":0.25},{"$f":"'Nastavení příloh'!N57/100","v":0.25},{"$f":"'Nastavení příloh'!O57/100","v":0.25},{"$f":"'Nastavení příloh'!P57/100","v":0.25},{"$f":"'Nastavení příloh'!Q57/100","v":0.25},{"$f":"'Nastavení příloh'!R57/100","v":0.25},{"$f":"'Nastavení příloh'!S57/100","v":0.25},{"$f":"'Nastavení příloh'!T57/100","v":0.25},{"$f":"'Nastavení příloh'!U57/100","v":0.25},{"$f":"'Nastavení příloh'!V57/100","v":0.25},{"$f":"'Nastavení příloh'!W57/100","v":0.25},{"$f":"'Nastavení příloh'!X57/100","v":0.25},null,4000,"-",4099,{"$f":"'Nastavení příloh'!AD57/100","v":-0.13},{"$f":"'Nastavení příloh'!AE57/100","v":-0.13},{"$f":"'Nastavení příloh'!AF57/100","v":-0.13},{"$f":"'Nastavení příloh'!AG57/100","v":-0.13},{"$f":"'Nastavení příloh'!AH57/100","v":-0.13},{"$f":"'Nastavení příloh'!AI57/100","v":-0.13},{"$f":"'Nastavení příloh'!AJ57/100","v":-0.13},{"$f":"'Nastavení příloh'!AK57/100","v":-0.13},{"$f":"'Nastavení příloh'!AL57/100","v":-0.13},{"$f":"'Nastavení příloh'!AM57/100","v":-0.13},{"$f":"'Nastavení příloh'!AN57/100","v":-0.13},{"$f":"'Nastavení příloh'!AO57/100","v":-0.13},{"$f":"'Nastavení příloh'!AP57/100","v":-0.13},{"$f":"'Nastavení příloh'!AQ57/100","v":-0.13},{"$f":"'Nastavení příloh'!AR57/100","v":-7.0000000000000007E-2},{"$f":"'Nastavení příloh'!AS57/100","v":-0.01},{"$f":"'Nastavení příloh'!AT57/100","v":0},{"$f":"'Nastavení příloh'!AU57/100","v":0},{"$f":"'Nastavení příloh'!AV57/100","v":0},null,null,null,null,null,null,null,null,null,null,null,null,null,null,null,null,null,null,null,null,null,null,null,null,4000,"-",4099,{"$f":"'Nastavení příloh'!BZ57/100","v":0},{"$f":"'Nastavení příloh'!CA57/100","v":0},{"$f":"'Nastavení příloh'!CB57/100","v":0},{"$f":"'Nastavení příloh'!CC57/100","v":0.05},{"$f":"'Nastavení příloh'!CD57/100","v":0.12},{"$f":"'Nastavení příloh'!CE57/100","v":0.12},{"$f":"'Nastavení příloh'!CF57/100","v":0.12},{"$f":"'Nastavení příloh'!CG57/100","v":0.12},{"$f":"'Nastavení příloh'!CH57/100","v":0.12},{"$f":"'Nastavení příloh'!CI57/100","v":0.12},{"$f":"'Nastavení příloh'!CJ57/100","v":0.12},{"$f":"'Nastavení příloh'!CK57/100","v":0.12},{"$f":"'Nastavení příloh'!CL57/100","v":0.12},{"$f":"'Nastavení příloh'!CM57/100","v":0.12},{"$f":"'Nastavení příloh'!CN57/100","v":0.18},{"$f":"'Nastavení příloh'!CO57/100","v":0.24},{"$f":"'Nastavení příloh'!CP57/100","v":0.25},{"$f":"'Nastavení příloh'!CQ57/100","v":0.25},{"$f":"'Nastavení příloh'!CR57/100","v":0.25}]
[null,4100,"-",4199,{"$f":"'Nastavení příloh'!F58/100","v":0},{"$f":"'Nastavení příloh'!G58/100","v":0.04},{"$f":"'Nastavení příloh'!H58/100","v":0.12},{"$f":"'Nastavení příloh'!I58/100","v":0.19},{"$f":"'Nastavení příloh'!J58/100","v":0.25},{"$f":"'Nastavení příloh'!K58/100","v":0.25},{"$f":"'Nastavení příloh'!L58/100","v":0.25},{"$f":"'Nastavení příloh'!M58/100","v":0.25},{"$f":"'Nastavení příloh'!N58/100","v":0.25},{"$f":"'Nastavení příloh'!O58/100","v":0.25},{"$f":"'Nastavení příloh'!P58/100","v":0.25},{"$f":"'Nastavení příloh'!Q58/100","v":0.25},{"$f":"'Nastavení příloh'!R58/100","v":0.25},{"$f":"'Nastavení příloh'!S58/100","v":0.25},{"$f":"'Nastavení příloh'!T58/100","v":0.25},{"$f":"'Nastavení příloh'!U58/100","v":0.25},{"$f":"'Nastavení příloh'!V58/100","v":0.25},{"$f":"'Nastavení příloh'!W58/100","v":0.25},{"$f":"'Nastavení příloh'!X58/100","v":0.25},null,4100,"-",4199,{"$f":"'Nastavení příloh'!AD58/100","v":-0.13},{"$f":"'Nastavení příloh'!AE58/100","v":-0.13},{"$f":"'Nastavení příloh'!AF58/100","v":-0.13},{"$f":"'Nastavení příloh'!AG58/100","v":-0.13},{"$f":"'Nastavení příloh'!AH58/100","v":-0.13},{"$f":"'Nastavení příloh'!AI58/100","v":-0.13},{"$f":"'Nastavení příloh'!AJ58/100","v":-0.13},{"$f":"'Nastavení příloh'!AK58/100","v":-0.13},{"$f":"'Nastavení příloh'!AL58/100","v":-0.13},{"$f":"'Nastavení příloh'!AM58/100","v":-0.13},{"$f":"'Nastavení příloh'!AN58/100","v":-0.13},{"$f":"'Nastavení příloh'!AO58/100","v":-0.13},{"$f":"'Nastavení příloh'!AP58/100","v":-0.13},{"$f":"'Nastavení příloh'!AQ58/100","v":-0.13},{"$f":"'Nastavení příloh'!AR58/100","v":-0.08},{"$f":"'Nastavení příloh'!AS58/100","v":-0.02},{"$f":"'Nastavení příloh'!AT58/100","v":0},{"$f":"'Nastavení příloh'!AU58/100","v":0},{"$f":"'Nastavení příloh'!AV58/100","v":0},null,null,null,null,null,null,null,null,null,null,null,null,null,null,null,null,null,null,null,null,null,null,null,null,4100,"-",4199,{"$f":"'Nastavení příloh'!BZ58/100","v":0},{"$f":"'Nastavení příloh'!CA58/100","v":0},{"$f":"'Nastavení příloh'!CB58/100","v":0},{"$f":"'Nastavení příloh'!CC58/100","v":0.06},{"$f":"'Nastavení příloh'!CD58/100","v":0.12},{"$f":"'Nastavení příloh'!CE58/100","v":0.12},{"$f":"'Nastavení příloh'!CF58/100","v":0.12},{"$f":"'Nastavení příloh'!CG58/100","v":0.12},{"$f":"'Nastavení příloh'!CH58/100","v":0.12},{"$f":"'Nastavení příloh'!CI58/100","v":0.12},{"$f":"'Nastavení příloh'!CJ58/100","v":0.12},{"$f":"'Nastavení příloh'!CK58/100","v":0.12},{"$f":"'Nastavení příloh'!CL58/100","v":0.12},{"$f":"'Nastavení příloh'!CM58/100","v":0.12},{"$f":"'Nastavení příloh'!CN58/100","v":0.17},{"$f":"'Nastavení příloh'!CO58/100","v":0.23},{"$f":"'Nastavení příloh'!CP58/100","v":0.25},{"$f":"'Nastavení příloh'!CQ58/100","v":0.25},{"$f":"'Nastavení příloh'!CR58/100","v":0.25}]
[null,4200,"-",4299,{"$f":"'Nastavení příloh'!F59/100","v":0},{"$f":"'Nastavení příloh'!G59/100","v":0.04},{"$f":"'Nastavení příloh'!H59/100","v":0.12},{"$f":"'Nastavení příloh'!I59/100","v":0.19},{"$f":"'Nastavení příloh'!J59/100","v":0.25},{"$f":"'Nastavení příloh'!K59/100","v":0.25},{"$f":"'Nastavení příloh'!L59/100","v":0.25},{"$f":"'Nastavení příloh'!M59/100","v":0.25},{"$f":"'Nastavení příloh'!N59/100","v":0.25},{"$f":"'Nastavení příloh'!O59/100","v":0.25},{"$f":"'Nastavení příloh'!P59/100","v":0.25},{"$f":"'Nastavení příloh'!Q59/100","v":0.25},{"$f":"'Nastavení příloh'!R59/100","v":0.25},{"$f":"'Nastavení příloh'!S59/100","v":0.25},{"$f":"'Nastavení příloh'!T59/100","v":0.25},{"$f":"'Nastavení příloh'!U59/100","v":0.25},{"$f":"'Nastavení příloh'!V59/100","v":0.25},{"$f":"'Nastavení příloh'!W59/100","v":0.25},{"$f":"'Nastavení příloh'!X59/100","v":0.25},null,4200,"-",4299,{"$f":"'Nastavení příloh'!AD59/100","v":-0.13},{"$f":"'Nastavení příloh'!AE59/100","v":-0.13},{"$f":"'Nastavení příloh'!AF59/100","v":-0.13},{"$f":"'Nastavení příloh'!AG59/100","v":-0.13},{"$f":"'Nastavení příloh'!AH59/100","v":-0.13},{"$f":"'Nastavení příloh'!AI59/100","v":-0.13},{"$f":"'Nastavení příloh'!AJ59/100","v":-0.13},{"$f":"'Nastavení příloh'!AK59/100","v":-0.13},{"$f":"'Nastavení příloh'!AL59/100","v":-0.13},{"$f":"'Nastavení příloh'!AM59/100","v":-0.13},{"$f":"'Nastavení příloh'!AN59/100","v":-0.13},{"$f":"'Nastavení příloh'!AO59/100","v":-0.13},{"$f":"'Nastavení příloh'!AP59/100","v":-0.13},{"$f":"'Nastavení příloh'!AQ59/100","v":-0.13},{"$f":"'Nastavení příloh'!AR59/100","v":-0.09},{"$f":"'Nastavení příloh'!AS59/100","v":-0.03},{"$f":"'Nastavení příloh'!AT59/100","v":0},{"$f":"'Nastavení příloh'!AU59/100","v":0},{"$f":"'Nastavení příloh'!AV59/100","v":0},null,null,null,null,null,null,null,null,null,null,null,null,null,null,null,null,null,null,null,null,null,null,null,null,4200,"-",4299,{"$f":"'Nastavení příloh'!BZ59/100","v":0},{"$f":"'Nastavení příloh'!CA59/100","v":0},{"$f":"'Nastavení příloh'!CB59/100","v":0},{"$f":"'Nastavení příloh'!CC59/100","v":0.06},{"$f":"'Nastavení příloh'!CD59/100","v":0.12},{"$f":"'Nastavení příloh'!CE59/100","v":0.12},{"$f":"'Nastavení příloh'!CF59/100","v":0.12},{"$f":"'Nastavení příloh'!CG59/100","v":0.12},{"$f":"'Nastavení příloh'!CH59/100","v":0.12},{"$f":"'Nastavení příloh'!CI59/100","v":0.12},{"$f":"'Nastavení příloh'!CJ59/100","v":0.12},{"$f":"'Nastavení příloh'!CK59/100","v":0.12},{"$f":"'Nastavení příloh'!CL59/100","v":0.12},{"$f":"'Nastavení příloh'!CM59/100","v":0.12},{"$f":"'Nastavení příloh'!CN59/100","v":0.16},{"$f":"'Nastavení příloh'!CO59/100","v":0.22},{"$f":"'Nastavení příloh'!CP59/100","v":0.25},{"$f":"'Nastavení příloh'!CQ59/100","v":0.25},{"$f":"'Nastavení příloh'!CR59/100","v":0.25}]
[null,4300,"-",4399,{"$f":"'Nastavení příloh'!F60/100","v":0},{"$f":"'Nastavení příloh'!G60/100","v":0.05},{"$f":"'Nastavení příloh'!H60/100","v":0.12},{"$f":"'Nastavení příloh'!I60/100","v":0.2},{"$f":"'Nastavení příloh'!J60/100","v":0.25},{"$f":"'Nastavení příloh'!K60/100","v":0.25},{"$f":"'Nastavení příloh'!L60/100","v":0.25},{"$f":"'Nastavení příloh'!M60/100","v":0.25},{"$f":"'Nastavení příloh'!N60/100","v":0.25},{"$f":"'Nastavení příloh'!O60/100","v":0.25},{"$f":"'Nastavení příloh'!P60/100","v":0.25},{"$f":"'Nastavení příloh'!Q60/100","v":0.25},{"$f":"'Nastavení příloh'!R60/100","v":0.25},{"$f":"'Nastavení příloh'!S60/100","v":0.25},{"$f":"'Nastavení příloh'!T60/100","v":0.25},{"$f":"'Nastavení příloh'!U60/100","v":0.25},{"$f":"'Nastavení příloh'!V60/100","v":0.25},{"$f":"'Nastavení příloh'!W60/100","v":0.25},{"$f":"'Nastavení příloh'!X60/100","v":0.25},null,4300,"-",4399,{"$f":"'Nastavení příloh'!AD60/100","v":-0.13},{"$f":"'Nastavení příloh'!AE60/100","v":-0.13},{"$f":"'Nastavení příloh'!AF60/100","v":-0.13},{"$f":"'Nastavení příloh'!AG60/100","v":-0.13},{"$f":"'Nastavení příloh'!AH60/100","v":-0.13},{"$f":"'Nastavení příloh'!AI60/100","v":-0.13},{"$f":"'Nastavení příloh'!AJ60/100","v":-0.13},{"$f":"'Nastavení příloh'!AK60/100","v":-0.13},{"$f":"'Nastavení příloh'!AL60/100","v":-0.13},{"$f":"'Nastavení příloh'!AM60/100","v":-0.13},{"$f":"'Nastavení příloh'!AN60/100","v":-0.13},{"$f":"'Nastavení příloh'!AO60/100","v":-0.13},{"$f":"'Nastavení příloh'!AP60/100","v":-0.13},{"$f":"'Nastavení příloh'!AQ60/100","v":-0.13},{"$f":"'Nastavení příloh'!AR60/100","v":-0.1},{"$f":"'Nastavení příloh'!AS60/100","v":-0.04},{"$f":"'Nastavení příloh'!AT60/100","v":0},{"$f":"'Nastavení příloh'!AU60/100","v":0},{"$f":"'Nastavení příloh'!AV60/100","v":0},null,null,null,null,null,null,null,null,null,null,null,null,null,null,null,null,null,null,null,null,null,null,null,null,4300,"-",4399,{"$f":"'Nastavení příloh'!BZ60/100","v":0},{"$f":"'Nastavení příloh'!CA60/100","v":0},{"$f":"'Nastavení příloh'!CB60/100","v":0},{"$f":"'Nastavení příloh'!CC60/100","v":7.0000000000000007E-2},{"$f":"'Nastavení příloh'!CD60/100","v":0.12},{"$f":"'Nastavení příloh'!CE60/100","v":0.12},{"$f":"'Nastavení příloh'!CF60/100","v":0.12},{"$f":"'Nastavení příloh'!CG60/100","v":0.12},{"$f":"'Nastavení příloh'!CH60/100","v":0.12},{"$f":"'Nastavení příloh'!CI60/100","v":0.12},{"$f":"'Nastavení příloh'!CJ60/100","v":0.12},{"$f":"'Nastavení příloh'!CK60/100","v":0.12},{"$f":"'Nastavení příloh'!CL60/100","v":0.12},{"$f":"'Nastavení příloh'!CM60/100","v":0.12},{"$f":"'Nastavení příloh'!CN60/100","v":0.15},{"$f":"'Nastavení příloh'!CO60/100","v":0.21},{"$f":"'Nastavení příloh'!CP60/100","v":0.25},{"$f":"'Nastavení příloh'!CQ60/100","v":0.25},{"$f":"'Nastavení příloh'!CR60/100","v":0.25}]
[null,4400,"-",4499,{"$f":"'Nastavení příloh'!F61/100","v":0},{"$f":"'Nastavení příloh'!G61/100","v":0.05},{"$f":"'Nastavení příloh'!H61/100","v":0.12},{"$f":"'Nastavení příloh'!I61/100","v":0.2},{"$f":"'Nastavení příloh'!J61/100","v":0.25},{"$f":"'Nastavení příloh'!K61/100","v":0.25},{"$f":"'Nastavení příloh'!L61/100","v":0.25},{"$f":"'Nastavení příloh'!M61/100","v":0.25},{"$f":"'Nastavení příloh'!N61/100","v":0.25},{"$f":"'Nastavení příloh'!O61/100","v":0.25},{"$f":"'Nastavení příloh'!P61/100","v":0.25},{"$f":"'Nastavení příloh'!Q61/100","v":0.25},{"$f":"'Nastavení příloh'!R61/100","v":0.25},{"$f":"'Nastavení příloh'!S61/100","v":0.25},{"$f":"'Nastavení příloh'!T61/100","v":0.25},{"$f":"'Nastavení příloh'!U61/100","v":0.25},{"$f":"'Nastavení příloh'!V61/100","v":0.25},{"$f":"'Nastavení příloh'!W61/100","v":0.25},{"$f":"'Nastavení příloh'!X61/100","v":0.25},null,4400,"-",4499,{"$f":"'Nastavení příloh'!AD61/100","v":-0.13},{"$f":"'Nastavení příloh'!AE61/100","v":-0.13},{"$f":"'Nastavení příloh'!AF61/100","v":-0.13},{"$f":"'Nastavení příloh'!AG61/100","v":-0.13},{"$f":"'Nastavení příloh'!AH61/100","v":-0.13},{"$f":"'Nastavení příloh'!AI61/100","v":-0.13},{"$f":"'Nastavení příloh'!AJ61/100","v":-0.13},{"$f":"'Nastavení příloh'!AK61/100","v":-0.13},{"$f":"'Nastavení příloh'!AL61/100","v":-0.13},{"$f":"'Nastavení příloh'!AM61/100","v":-0.13},{"$f":"'Nastavení příloh'!AN61/100","v":-0.13},{"$f":"'Nastavení příloh'!AO61/100","v":-0.13},{"$f":"'Nastavení příloh'!AP61/100","v":-0.13},{"$f":"'Nastavení příloh'!AQ61/100","v":-0.13},{"$f":"'Nastavení příloh'!AR61/100","v":-0.11},{"$f":"'Nastavení příloh'!AS61/100","v":-0.05},{"$f":"'Nastavení příloh'!AT61/100","v":0},{"$f":"'Nastavení příloh'!AU61/100","v":0},{"$f":"'Nastavení příloh'!AV61/100","v":0},null,null,null,null,null,null,null,null,null,null,null,null,null,null,null,null,null,null,null,null,null,null,null,null,4400,"-",4499,{"$f":"'Nastavení příloh'!BZ61/100","v":0},{"$f":"'Nastavení příloh'!CA61/100","v":0},{"$f":"'Nastavení příloh'!CB61/100","v":0},{"$f":"'Nastavení příloh'!CC61/100","v":7.0000000000000007E-2},{"$f":"'Nastavení příloh'!CD61/100","v":0.12},{"$f":"'Nastavení příloh'!CE61/100","v":0.12},{"$f":"'Nastavení příloh'!CF61/100","v":0.12},{"$f":"'Nastavení příloh'!CG61/100","v":0.12},{"$f":"'Nastavení příloh'!CH61/100","v":0.12},{"$f":"'Nastavení příloh'!CI61/100","v":0.12},{"$f":"'Nastavení příloh'!CJ61/100","v":0.12},{"$f":"'Nastavení příloh'!CK61/100","v":0.12},{"$f":"'Nastavení příloh'!CL61/100","v":0.12},{"$f":"'Nastavení příloh'!CM61/100","v":0.12},{"$f":"'Nastavení příloh'!CN61/100","v":0.14000000000000001},{"$f":"'Nastavení příloh'!CO61/100","v":0.2},{"$f":"'Nastavení příloh'!CP61/100","v":0.25},{"$f":"'Nastavení příloh'!CQ61/100","v":0.25},{"$f":"'Nastavení příloh'!CR61/100","v":0.25}]
[null,4500,"-",4599,{"$f":"'Nastavení příloh'!F62/100","v":0},{"$f":"'Nastavení příloh'!G62/100","v":0.05},{"$f":"'Nastavení příloh'!H62/100","v":0.13},{"$f":"'Nastavení příloh'!I62/100","v":0.21},{"$f":"'Nastavení příloh'!J62/100","v":0.25},{"$f":"'Nastavení příloh'!K62/100","v":0.25},{"$f":"'Nastavení příloh'!L62/100","v":0.25},{"$f":"'Nastavení příloh'!M62/100","v":0.25},{"$f":"'Nastavení příloh'!N62/100","v":0.25},{"$f":"'Nastavení příloh'!O62/100","v":0.25},{"$f":"'Nastavení příloh'!P62/100","v":0.25},{"$f":"'Nastavení příloh'!Q62/100","v":0.25},{"$f":"'Nastavení příloh'!R62/100","v":0.25},{"$f":"'Nastavení příloh'!S62/100","v":0.25},{"$f":"'Nastavení příloh'!T62/100","v":0.25},{"$f":"'Nastavení příloh'!U62/100","v":0.25},{"$f":"'Nastavení příloh'!V62/100","v":0.25},{"$f":"'Nastavení příloh'!W62/100","v":0.25},{"$f":"'Nastavení příloh'!X62/100","v":0.25},null,4500,"-",4599,{"$f":"'Nastavení příloh'!AD62/100","v":-0.13},{"$f":"'Nastavení příloh'!AE62/100","v":-0.13},{"$f":"'Nastavení příloh'!AF62/100","v":-0.13},{"$f":"'Nastavení příloh'!AG62/100","v":-0.13},{"$f":"'Nastavení příloh'!AH62/100","v":-0.13},{"$f":"'Nastavení příloh'!AI62/100","v":-0.13},{"$f":"'Nastavení příloh'!AJ62/100","v":-0.13},{"$f":"'Nastavení příloh'!AK62/100","v":-0.13},{"$f":"'Nastavení příloh'!AL62/100","v":-0.13},{"$f":"'Nastavení příloh'!AM62/100","v":-0.13},{"$f":"'Nastavení příloh'!AN62/100","v":-0.13},{"$f":"'Nastavení příloh'!AO62/100","v":-0.13},{"$f":"'Nastavení příloh'!AP62/100","v":-0.13},{"$f":"'Nastavení příloh'!AQ62/100","v":-0.13},{"$f":"'Nastavení příloh'!AR62/100","v":-0.12},{"$f":"'Nastavení příloh'!AS62/100","v":-0.05},{"$f":"'Nastavení příloh'!AT62/100","v":0},{"$f":"'Nastavení příloh'!AU62/100","v":0},{"$f":"'Nastavení příloh'!AV62/100","v":0},null,null,null,null,null,null,null,null,null,null,null,null,null,null,null,null,null,null,null,null,null,null,null,null,4500,"-",4599,{"$f":"'Nastavení příloh'!BZ62/100","v":0},{"$f":"'Nastavení příloh'!CA62/100","v":0},{"$f":"'Nastavení příloh'!CB62/100","v":0},{"$f":"'Nastavení příloh'!CC62/100","v":0.08},{"$f":"'Nastavení příloh'!CD62/100","v":0.12},{"$f":"'Nastavení příloh'!CE62/100","v":0.12},{"$f":"'Nastavení příloh'!CF62/100","v":0.12},{"$f":"'Nastavení příloh'!CG62/100","v":0.12},{"$f":"'Nastavení příloh'!CH62/100","v":0.12},{"$f":"'Nastavení příloh'!CI62/100","v":0.12},{"$f":"'Nastavení příloh'!CJ62/100","v":0.12},{"$f":"'Nastavení příloh'!CK62/100","v":0.12},{"$f":"'Nastavení příloh'!CL62/100","v":0.12},{"$f":"'Nastavení příloh'!CM62/100","v":0.12},{"$f":"'Nastavení příloh'!CN62/100","v":0.13},{"$f":"'Nastavení příloh'!CO62/100","v":0.2},{"$f":"'Nastavení příloh'!CP62/100","v":0.25},{"$f":"'Nastavení příloh'!CQ62/100","v":0.25},{"$f":"'Nastavení příloh'!CR62/100","v":0.25}]
[null,4600,"-",4699,{"$f":"'Nastavení příloh'!F63/100","v":0},{"$f":"'Nastavení příloh'!G63/100","v":0.05},{"$f":"'Nastavení příloh'!H63/100","v":0.13},{"$f":"'Nastavení příloh'!I63/100","v":0.21},{"$f":"'Nastavení příloh'!J63/100","v":0.25},{"$f":"'Nastavení příloh'!K63/100","v":0.25},{"$f":"'Nastavení příloh'!L63/100","v":0.25},{"$f":"'Nastavení příloh'!M63/100","v":0.25},{"$f":"'Nastavení příloh'!N63/100","v":0.25},{"$f":"'Nastavení příloh'!O63/100","v":0.25},{"$f":"'Nastavení příloh'!P63/100","v":0.25},{"$f":"'Nastavení příloh'!Q63/100","v":0.25},{"$f":"'Nastavení příloh'!R63/100","v":0.25},{"$f":"'Nastavení příloh'!S63/100","v":0.25},{"$f":"'Nastavení příloh'!T63/100","v":0.25},{"$f":"'Nastavení příloh'!U63/100","v":0.25},{"$f":"'Nastavení příloh'!V63/100","v":0.25},{"$f":"'Nastavení příloh'!W63/100","v":0.25},{"$f":"'Nastavení příloh'!X63/100","v":0.25},null,4600,"-",4699,{"$f":"'Nastavení příloh'!AD63/100","v":-0.13},{"$f":"'Nastavení příloh'!AE63/100","v":-0.13},{"$f":"'Nastavení příloh'!AF63/100","v":-0.13},{"$f":"'Nastavení příloh'!AG63/100","v":-0.13},{"$f":"'Nastavení příloh'!AH63/100","v":-0.13},{"$f":"'Nastavení příloh'!AI63/100","v":-0.13},{"$f":"'Nastavení příloh'!AJ63/100","v":-0.13},{"$f":"'Nastavení příloh'!AK63/100","v":-0.13},{"$f":"'Nastavení příloh'!AL63/100","v":-0.13},{"$f":"'Nastavení příloh'!AM63/100","v":-0.13},{"$f":"'Nastavení příloh'!AN63/100","v":-0.13},{"$f":"'Nastavení příloh'!AO63/100","v":-0.13},{"$f":"'Nastavení příloh'!AP63/100","v":-0.13},{"$f":"'Nastavení příloh'!AQ63/100","v":-0.13},{"$f":"'Nastavení příloh'!AR63/100","v":-0.13},{"$f":"'Nastavení příloh'!AS63/100","v":-0.06},{"$f":"'Nastavení příloh'!AT63/100","v":0},{"$f":"'Nastavení příloh'!AU63/100","v":0},{"$f":"'Nastavení příloh'!AV63/100","v":0},null,null,null,null,null,null,null,null,null,null,null,null,null,null,null,null,null,null,null,null,null,null,null,null,4600,"-",4699,{"$f":"'Nastavení příloh'!BZ63/100","v":0},{"$f":"'Nastavení příloh'!CA63/100","v":0},{"$f":"'Nastavení příloh'!CB63/100","v":0},{"$f":"'Nastavení příloh'!CC63/100","v":0.08},{"$f":"'Nastavení příloh'!CD63/100","v":0.12},{"$f":"'Nastavení příloh'!CE63/100","v":0.12},{"$f":"'Nastavení příloh'!CF63/100","v":0.12},{"$f":"'Nastavení příloh'!CG63/100","v":0.12},{"$f":"'Nastavení příloh'!CH63/100","v":0.12},{"$f":"'Nastavení příloh'!CI63/100","v":0.12},{"$f":"'Nastavení příloh'!CJ63/100","v":0.12},{"$f":"'Nastavení příloh'!CK63/100","v":0.12},{"$f":"'Nastavení příloh'!CL63/100","v":0.12},{"$f":"'Nastavení příloh'!CM63/100","v":0.12},{"$f":"'Nastavení příloh'!CN63/100","v":0.12},{"$f":"'Nastavení příloh'!CO63/100","v":0.19},{"$f":"'Nastavení příloh'!CP63/100","v":0.25},{"$f":"'Nastavení příloh'!CQ63/100","v":0.25},{"$f":"'Nastavení příloh'!CR63/100","v":0.25}]
[null,4700,"-",4799,{"$f":"'Nastavení příloh'!F64/100","v":0},{"$f":"'Nastavení příloh'!G64/100","v":0.05},{"$f":"'Nastavení příloh'!H64/100","v":0.13},{"$f":"'Nastavení příloh'!I64/100","v":0.22},{"$f":"'Nastavení příloh'!J64/100","v":0.25},{"$f":"'Nastavení příloh'!K64/100","v":0.25},{"$f":"'Nastavení příloh'!L64/100","v":0.25},{"$f":"'Nastavení příloh'!M64/100","v":0.25},{"$f":"'Nastavení příloh'!N64/100","v":0.25},{"$f":"'Nastavení příloh'!O64/100","v":0.25},{"$f":"'Nastavení příloh'!P64/100","v":0.25},{"$f":"'Nastavení příloh'!Q64/100","v":0.25},{"$f":"'Nastavení příloh'!R64/100","v":0.25},{"$f":"'Nastavení příloh'!S64/100","v":0.25},{"$f":"'Nastavení příloh'!T64/100","v":0.25},{"$f":"'Nastavení příloh'!U64/100","v":0.25},{"$f":"'Nastavení příloh'!V64/100","v":0.25},{"$f":"'Nastavení příloh'!W64/100","v":0.25},{"$f":"'Nastavení příloh'!X64/100","v":0.25},null,4700,"-",4799,{"$f":"'Nastavení příloh'!AD64/100","v":-0.13},{"$f":"'Nastavení příloh'!AE64/100","v":-0.13},{"$f":"'Nastavení příloh'!AF64/100","v":-0.13},{"$f":"'Nastavení příloh'!AG64/100","v":-0.13},{"$f":"'Nastavení příloh'!AH64/100","v":-0.13},{"$f":"'Nastavení příloh'!AI64/100","v":-0.13},{"$f":"'Nastavení příloh'!AJ64/100","v":-0.13},{"$f":"'Nastavení příloh'!AK64/100","v":-0.13},{"$f":"'Nastavení příloh'!AL64/100","v":-0.13},{"$f":"'Nastavení příloh'!AM64/100","v":-0.13},{"$f":"'Nastavení příloh'!AN64/100","v":-0.13},{"$f":"'Nastavení příloh'!AO64/100","v":-0.13},{"$f":"'Nastavení příloh'!AP64/100","v":-0.13},{"$f":"'Nastavení příloh'!AQ64/100","v":-0.13},{"$f":"'Nastavení příloh'!AR64/100","v":-0.13},{"$f":"'Nastavení příloh'!AS64/100","v":-7.0000000000000007E-2},{"$f":"'Nastavení příloh'!AT64/100","v":0},{"$f":"'Nastavení příloh'!AU64/100","v":0},{"$f":"'Nastavení příloh'!AV64/100","v":0},null,null,null,null,null,null,null,null,null,null,null,null,null,null,null,null,null,null,null,null,null,null,null,null,4700,"-",4799,{"$f":"'Nastavení příloh'!BZ64/100","v":0},{"$f":"'Nastavení příloh'!CA64/100","v":0},{"$f":"'Nastavení příloh'!CB64/100","v":0},{"$f":"'Nastavení příloh'!CC64/100","v":0.09},{"$f":"'Nastavení příloh'!CD64/100","v":0.12},{"$f":"'Nastavení příloh'!CE64/100","v":0.12},{"$f":"'Nastavení příloh'!CF64/100","v":0.12},{"$f":"'Nastavení příloh'!CG64/100","v":0.12},{"$f":"'Nastavení příloh'!CH64/100","v":0.12},{"$f":"'Nastavení příloh'!CI64/100","v":0.12},{"$f":"'Nastavení příloh'!CJ64/100","v":0.12},{"$f":"'Nastavení příloh'!CK64/100","v":0.12},{"$f":"'Nastavení příloh'!CL64/100","v":0.12},{"$f":"'Nastavení příloh'!CM64/100","v":0.12},{"$f":"'Nastavení příloh'!CN64/100","v":0.12},{"$f":"'Nastavení příloh'!CO64/100","v":0.18},{"$f":"'Nastavení příloh'!CP64/100","v":0.25},{"$f":"'Nastavení příloh'!CQ64/100","v":0.25},{"$f":"'Nastavení příloh'!CR64/100","v":0.25}]
[null,4800,"-",4899,{"$f":"'Nastavení příloh'!F65/100","v":0},{"$f":"'Nastavení příloh'!G65/100","v":0.05},{"$f":"'Nastavení příloh'!H65/100","v":0.14000000000000001},{"$f":"'Nastavení příloh'!I65/100","v":0.22},{"$f":"'Nastavení příloh'!J65/100","v":0.25},{"$f":"'Nastavení příloh'!K65/100","v":0.25},{"$f":"'Nastavení příloh'!L65/100","v":0.25},{"$f":"'Nastavení příloh'!M65/100","v":0.25},{"$f":"'Nastavení příloh'!N65/100","v":0.25},{"$f":"'Nastavení příloh'!O65/100","v":0.25},{"$f":"'Nastavení příloh'!P65/100","v":0.25},{"$f":"'Nastavení příloh'!Q65/100","v":0.25},{"$f":"'Nastavení příloh'!R65/100","v":0.25},{"$f":"'Nastavení příloh'!S65/100","v":0.25},{"$f":"'Nastavení příloh'!T65/100","v":0.25},{"$f":"'Nastavení příloh'!U65/100","v":0.25},{"$f":"'Nastavení příloh'!V65/100","v":0.25},{"$f":"'Nastavení příloh'!W65/100","v":0.25},{"$f":"'Nastavení příloh'!X65/100","v":0.25},null,4800,"-",4899,{"$f":"'Nastavení příloh'!AD65/100","v":-0.13},{"$f":"'Nastavení příloh'!AE65/100","v":-0.13},{"$f":"'Nastavení příloh'!AF65/100","v":-0.13},{"$f":"'Nastavení příloh'!AG65/100","v":-0.13},{"$f":"'Nastavení příloh'!AH65/100","v":-0.13},{"$f":"'Nastavení příloh'!AI65/100","v":-0.13},{"$f":"'Nastavení příloh'!AJ65/100","v":-0.13},{"$f":"'Nastavení příloh'!AK65/100","v":-0.13},{"$f":"'Nastavení příloh'!AL65/100","v":-0.13},{"$f":"'Nastavení příloh'!AM65/100","v":-0.13},{"$f":"'Nastavení příloh'!AN65/100","v":-0.13},{"$f":"'Nastavení příloh'!AO65/100","v":-0.13},{"$f":"'Nastavení příloh'!AP65/100","v":-0.13},{"$f":"'Nastavení příloh'!AQ65/100","v":-0.13},{"$f":"'Nastavení příloh'!AR65/100","v":-0.13},{"$f":"'Nastavení příloh'!AS65/100","v":-0.08},{"$f":"'Nastavení příloh'!AT65/100","v":-0.01},{"$f":"'Nastavení příloh'!AU65/100","v":0},{"$f":"'Nastavení příloh'!AV65/100","v":0},null,null,null,null,null,null,null,null,null,null,null,null,null,null,null,null,null,null,null,null,null,null,null,null,4800,"-",4899,{"$f":"'Nastavení příloh'!BZ65/100","v":0},{"$f":"'Nastavení příloh'!CA65/100","v":0},{"$f":"'Nastavení příloh'!CB65/100","v":0.01},{"$f":"'Nastavení příloh'!CC65/100","v":0.09},{"$f":"'Nastavení příloh'!CD65/100","v":0.12},{"$f":"'Nastavení příloh'!CE65/100","v":0.12},{"$f":"'Nastavení příloh'!CF65/100","v":0.12},{"$f":"'Nastavení příloh'!CG65/100","v":0.12},{"$f":"'Nastavení příloh'!CH65/100","v":0.12},{"$f":"'Nastavení příloh'!CI65/100","v":0.12},{"$f":"'Nastavení příloh'!CJ65/100","v":0.12},{"$f":"'Nastavení příloh'!CK65/100","v":0.12},{"$f":"'Nastavení příloh'!CL65/100","v":0.12},{"$f":"'Nastavení příloh'!CM65/100","v":0.12},{"$f":"'Nastavení příloh'!CN65/100","v":0.12},{"$f":"'Nastavení příloh'!CO65/100","v":0.17},{"$f":"'Nastavení příloh'!CP65/100","v":0.24},{"$f":"'Nastavení příloh'!CQ65/100","v":0.25},{"$f":"'Nastavení příloh'!CR65/100","v":0.25}]
[null,4900,"-",4999,{"$f":"'Nastavení příloh'!F66/100","v":0},{"$f":"'Nastavení příloh'!G66/100","v":0.05},{"$f":"'Nastavení příloh'!H66/100","v":0.14000000000000001},{"$f":"'Nastavení příloh'!I66/100","v":0.23},{"$f":"'Nastavení příloh'!J66/100","v":0.25},{"$f":"'Nastavení příloh'!K66/100","v":0.25},{"$f":"'Nastavení příloh'!L66/100","v":0.25},{"$f":"'Nastavení příloh'!M66/100","v":0.25},{"$f":"'Nastavení příloh'!N66/100","v":0.25},{"$f":"'Nastavení příloh'!O66/100","v":0.25},{"$f":"'Nastavení příloh'!P66/100","v":0.25},{"$f":"'Nastavení příloh'!Q66/100","v":0.25},{"$f":"'Nastavení příloh'!R66/100","v":0.25},{"$f":"'Nastavení příloh'!S66/100","v":0.25},{"$f":"'Nastavení příloh'!T66/100","v":0.25},{"$f":"'Nastavení příloh'!U66/100","v":0.25},{"$f":"'Nastavení příloh'!V66/100","v":0.25},{"$f":"'Nastavení příloh'!W66/100","v":0.25},{"$f":"'Nastavení příloh'!X66/100","v":0.25},null,4900,"-",4999,{"$f":"'Nastavení příloh'!AD66/100","v":-0.13},{"$f":"'Nastavení příloh'!AE66/100","v":-0.13},{"$f":"'Nastavení příloh'!AF66/100","v":-0.13},{"$f":"'Nastavení příloh'!AG66/100","v":-0.13},{"$f":"'Nastavení příloh'!AH66/100","v":-0.13},{"$f":"'Nastavení příloh'!AI66/100","v":-0.13},{"$f":"'Nastavení příloh'!AJ66/100","v":-0.13},{"$f":"'Nastavení příloh'!AK66/100","v":-0.13},{"$f":"'Nastavení příloh'!AL66/100","v":-0.13},{"$f":"'Nastavení příloh'!AM66/100","v":-0.13},{"$f":"'Nastavení příloh'!AN66/100","v":-0.13},{"$f":"'Nastavení příloh'!AO66/100","v":-0.13},{"$f":"'Nastavení příloh'!AP66/100","v":-0.13},{"$f":"'Nastavení příloh'!AQ66/100","v":-0.13},{"$f":"'Nastavení příloh'!AR66/100","v":-0.13},{"$f":"'Nastavení příloh'!AS66/100","v":-0.08},{"$f":"'Nastavení příloh'!AT66/100","v":-0.01},{"$f":"'Nastavení příloh'!AU66/100","v":0},{"$f":"'Nastavení příloh'!AV66/100","v":0},null,null,null,null,null,null,null,null,null,null,null,null,null,null,null,null,null,null,null,null,null,null,null,null,4900,"-",4999,{"$f":"'Nastavení příloh'!BZ66/100","v":0},{"$f":"'Nastavení příloh'!CA66/100","v":0},{"$f":"'Nastavení příloh'!CB66/100","v":0.01},{"$f":"'Nastavení příloh'!CC66/100","v":0.1},{"$f":"'Nastavení příloh'!CD66/100","v":0.12},{"$f":"'Nastavení příloh'!CE66/100","v":0.12},{"$f":"'Nastavení příloh'!CF66/100","v":0.12},{"$f":"'Nastavení příloh'!CG66/100","v":0.12},{"$f":"'Nastavení příloh'!CH66/100","v":0.12},{"$f":"'Nastavení příloh'!CI66/100","v":0.12},{"$f":"'Nastavení příloh'!CJ66/100","v":0.12},{"$f":"'Nastavení příloh'!CK66/100","v":0.12},{"$f":"'Nastavení příloh'!CL66/100","v":0.12},{"$f":"'Nastavení příloh'!CM66/100","v":0.12},{"$f":"'Nastavení příloh'!CN66/100","v":0.12},{"$f":"'Nastavení příloh'!CO66/100","v":0.17},{"$f":"'Nastavení příloh'!CP66/100","v":0.24},{"$f":"'Nastavení příloh'!CQ66/100","v":0.25},{"$f":"'Nastavení příloh'!CR66/100","v":0.25}]
[null,5000,"-",5099,{"$f":"'Nastavení příloh'!F67/100","v":0},{"$f":"'Nastavení příloh'!G67/100","v":0.05},{"$f":"'Nastavení příloh'!H67/100","v":0.14000000000000001},{"$f":"'Nastavení příloh'!I67/100","v":0.23},{"$f":"'Nastavení příloh'!J67/100","v":0.25},{"$f":"'Nastavení příloh'!K67/100","v":0.25},{"$f":"'Nastavení příloh'!L67/100","v":0.25},{"$f":"'Nastavení příloh'!M67/100","v":0.25},{"$f":"'Nastavení příloh'!N67/100","v":0.25},{"$f":"'Nastavení příloh'!O67/100","v":0.25},{"$f":"'Nastavení příloh'!P67/100","v":0.25},{"$f":"'Nastavení příloh'!Q67/100","v":0.25},{"$f":"'Nastavení příloh'!R67/100","v":0.25},{"$f":"'Nastavení příloh'!S67/100","v":0.25},{"$f":"'Nastavení příloh'!T67/100","v":0.25},{"$f":"'Nastavení příloh'!U67/100","v":0.25},{"$f":"'Nastavení příloh'!V67/100","v":0.25},{"$f":"'Nastavení příloh'!W67/100","v":0.25},{"$f":"'Nastavení příloh'!X67/100","v":0.25},null,5000,"-",5099,{"$f":"'Nastavení příloh'!AD67/100","v":-0.13},{"$f":"'Nastavení příloh'!AE67/100","v":-0.13},{"$f":"'Nastavení příloh'!AF67/100","v":-0.13},{"$f":"'Nastavení příloh'!AG67/100","v":-0.13},{"$f":"'Nastavení příloh'!AH67/100","v":-0.13},{"$f":"'Nastavení příloh'!AI67/100","v":-0.13},{"$f":"'Nastavení příloh'!AJ67/100","v":-0.13},{"$f":"'Nastavení příloh'!AK67/100","v":-0.13},{"$f":"'Nastavení příloh'!AL67/100","v":-0.13},{"$f":"'Nastavení příloh'!AM67/100","v":-0.13},{"$f":"'Nastavení příloh'!AN67/100","v":-0.13},{"$f":"'Nastavení příloh'!AO67/100","v":-0.13},{"$f":"'Nastavení příloh'!AP67/100","v":-0.13},{"$f":"'Nastavení příloh'!AQ67/100","v":-0.13},{"$f":"'Nastavení příloh'!AR67/100","v":-0.13},{"$f":"'Nastavení příloh'!AS67/100","v":-0.09},{"$f":"'Nastavení příloh'!AT67/100","v":-0.02},{"$f":"'Nastavení příloh'!AU67/100","v":0},{"$f":"'Nastavení příloh'!AV67/100","v":0},null,null,null,null,null,null,null,null,null,null,null,null,null,null,null,null,null,null,null,null,null,null,null,null,5000,"-",5099,{"$f":"'Nastavení příloh'!BZ67/100","v":0},{"$f":"'Nastavení příloh'!CA67/100","v":0},{"$f":"'Nastavení příloh'!CB67/100","v":0.01},{"$f":"'Nastavení příloh'!CC67/100","v":0.1},{"$f":"'Nastavení příloh'!CD67/100","v":0.12},{"$f":"'Nastavení příloh'!CE67/100","v":0.12},{"$f":"'Nastavení příloh'!CF67/100","v":0.12},{"$f":"'Nastavení příloh'!CG67/100","v":0.12},{"$f":"'Nastavení příloh'!CH67/100","v":0.12},{"$f":"'Nastavení příloh'!CI67/100","v":0.12},{"$f":"'Nastavení příloh'!CJ67/100","v":0.12},{"$f":"'Nastavení příloh'!CK67/100","v":0.12},{"$f":"'Nastavení příloh'!CL67/100","v":0.12},{"$f":"'Nastavení příloh'!CM67/100","v":0.12},{"$f":"'Nastavení příloh'!CN67/100","v":0.12},{"$f":"'Nastavení příloh'!CO67/100","v":0.16},{"$f":"'Nastavení příloh'!CP67/100","v":0.23},{"$f":"'Nastavení příloh'!CQ67/100","v":0.25},{"$f":"'Nastavení příloh'!CR67/100","v":0.25}]
[null,5100,"-",5199,{"$f":"'Nastavení příloh'!F68/100","v":0},{"$f":"'Nastavení příloh'!G68/100","v":0.05},{"$f":"'Nastavení příloh'!H68/100","v":0.14000000000000001},{"$f":"'Nastavení příloh'!I68/100","v":0.23},{"$f":"'Nastavení příloh'!J68/100","v":0.25},{"$f":"'Nastavení příloh'!K68/100","v":0.25},{"$f":"'Nastavení příloh'!L68/100","v":0.25},{"$f":"'Nastavení příloh'!M68/100","v":0.25},{"$f":"'Nastavení příloh'!N68/100","v":0.25},{"$f":"'Nastavení příloh'!O68/100","v":0.25},{"$f":"'Nastavení příloh'!P68/100","v":0.25},{"$f":"'Nastavení příloh'!Q68/100","v":0.25},{"$f":"'Nastavení příloh'!R68/100","v":0.25},{"$f":"'Nastavení příloh'!S68/100","v":0.25},{"$f":"'Nastavení příloh'!T68/100","v":0.25},{"$f":"'Nastavení příloh'!U68/100","v":0.25},{"$f":"'Nastavení příloh'!V68/100","v":0.25},{"$f":"'Nastavení příloh'!W68/100","v":0.25},{"$f":"'Nastavení příloh'!X68/100","v":0.25},null,5100,"-",5199,{"$f":"'Nastavení příloh'!AD68/100","v":-0.13},{"$f":"'Nastavení příloh'!AE68/100","v":-0.13},{"$f":"'Nastavení příloh'!AF68/100","v":-0.13},{"$f":"'Nastavení příloh'!AG68/100","v":-0.13},{"$f":"'Nastavení příloh'!AH68/100","v":-0.13},{"$f":"'Nastavení příloh'!AI68/100","v":-0.13},{"$f":"'Nastavení příloh'!AJ68/100","v":-0.13},{"$f":"'Nastavení příloh'!AK68/100","v":-0.13},{"$f":"'Nastavení příloh'!AL68/100","v":-0.13},{"$f":"'Nastavení příloh'!AM68/100","v":-0.13},{"$f":"'Nastavení příloh'!AN68/100","v":-0.13},{"$f":"'Nastavení příloh'!AO68/100","v":-0.13},{"$f":"'Nastavení příloh'!AP68/100","v":-0.13},{"$f":"'Nastavení příloh'!AQ68/100","v":-0.13},{"$f":"'Nastavení příloh'!AR68/100","v":-0.13},{"$f":"'Nastavení příloh'!AS68/100","v":-0.1},{"$f":"'Nastavení příloh'!AT68/100","v":-0.03},{"$f":"'Nastavení příloh'!AU68/100","v":0},{"$f":"'Nastavení příloh'!AV68/100","v":0},null,null,null,null,null,null,null,null,null,null,null,null,null,null,null,null,null,null,null,null,null,null,null,null,5100,"-",5199,{"$f":"'Nastavení příloh'!BZ68/100","v":0},{"$f":"'Nastavení příloh'!CA68/100","v":0},{"$f":"'Nastavení příloh'!CB68/100","v":0.01},{"$f":"'Nastavení příloh'!CC68/100","v":0.1},{"$f":"'Nastavení příloh'!CD68/100","v":0.12},{"$f":"'Nastavení příloh'!CE68/100","v":0.12},{"$f":"'Nastavení příloh'!CF68/100","v":0.12},{"$f":"'Nastavení příloh'!CG68/100","v":0.12},{"$f":"'Nastavení příloh'!CH68/100","v":0.12},{"$f":"'Nastavení příloh'!CI68/100","v":0.12},{"$f":"'Nastavení příloh'!CJ68/100","v":0.12},{"$f":"'Nastavení příloh'!CK68/100","v":0.12},{"$f":"'Nastavení příloh'!CL68/100","v":0.12},{"$f":"'Nastavení příloh'!CM68/100","v":0.12},{"$f":"'Nastavení příloh'!CN68/100","v":0.12},{"$f":"'Nastavení příloh'!CO68/100","v":0.15},{"$f":"'Nastavení příloh'!CP68/100","v":0.22},{"$f":"'Nastavení příloh'!CQ68/100","v":0.25},{"$f":"'Nastavení příloh'!CR68/100","v":0.25}]
[null,5200,"-",5299,{"$f":"'Nastavení příloh'!F69/100","v":0},{"$f":"'Nastavení příloh'!G69/100","v":0.06},{"$f":"'Nastavení příloh'!H69/100","v":0.15},{"$f":"'Nastavení příloh'!I69/100","v":0.24},{"$f":"'Nastavení příloh'!J69/100","v":0.25},{"$f":"'Nastavení příloh'!K69/100","v":0.25},{"$f":"'Nastavení příloh'!L69/100","v":0.25},{"$f":"'Nastavení příloh'!M69/100","v":0.25},{"$f":"'Nastavení příloh'!N69/100","v":0.25},{"$f":"'Nastavení příloh'!O69/100","v":0.25},{"$f":"'Nastavení příloh'!P69/100","v":0.25},{"$f":"'Nastavení příloh'!Q69/100","v":0.25},{"$f":"'Nastavení příloh'!R69/100","v":0.25},{"$f":"'Nastavení příloh'!S69/100","v":0.25},{"$f":"'Nastavení příloh'!T69/100","v":0.25},{"$f":"'Nastavení příloh'!U69/100","v":0.25},{"$f":"'Nastavení příloh'!V69/100","v":0.25},{"$f":"'Nastavení příloh'!W69/100","v":0.25},{"$f":"'Nastavení příloh'!X69/100","v":0.25},null,5200,"-",5299,{"$f":"'Nastavení příloh'!AD69/100","v":-0.13},{"$f":"'Nastavení příloh'!AE69/100","v":-0.13},{"$f":"'Nastavení příloh'!AF69/100","v":-0.13},{"$f":"'Nastavení příloh'!AG69/100","v":-0.13},{"$f":"'Nastavení příloh'!AH69/100","v":-0.13},{"$f":"'Nastavení příloh'!AI69/100","v":-0.13},{"$f":"'Nastavení příloh'!AJ69/100","v":-0.13},{"$f":"'Nastavení příloh'!AK69/100","v":-0.13},{"$f":"'Nastavení příloh'!AL69/100","v":-0.13},{"$f":"'Nastavení příloh'!AM69/100","v":-0.13},{"$f":"'Nastavení příloh'!AN69/100","v":-0.13},{"$f":"'Nastavení příloh'!AO69/100","v":-0.13},{"$f":"'Nastavení příloh'!AP69/100","v":-0.13},{"$f":"'Nastavení příloh'!AQ69/100","v":-0.13},{"$f":"'Nastavení příloh'!AR69/100","v":-0.13},{"$f":"'Nastavení příloh'!AS69/100","v":-0.11},{"$f":"'Nastavení příloh'!AT69/100","v":-0.03},{"$f":"'Nastavení příloh'!AU69/100","v":0},{"$f":"'Nastavení příloh'!AV69/100","v":0},null,null,null,null,null,null,null,null,null,null,null,null,null,null,null,null,null,null,null,null,null,null,null,null,5200,"-",5299,{"$f":"'Nastavení příloh'!BZ69/100","v":0},{"$f":"'Nastavení příloh'!CA69/100","v":0},{"$f":"'Nastavení příloh'!CB69/100","v":0.02},{"$f":"'Nastavení příloh'!CC69/100","v":0.11},{"$f":"'Nastavení příloh'!CD69/100","v":0.12},{"$f":"'Nastavení příloh'!CE69/100","v":0.12},{"$f":"'Nastavení příloh'!CF69/100","v":0.12},{"$f":"'Nastavení příloh'!CG69/100","v":0.12},{"$f":"'Nastavení příloh'!CH69/100","v":0.12},{"$f":"'Nastavení příloh'!CI69/100","v":0.12},{"$f":"'Nastavení příloh'!CJ69/100","v":0.12},{"$f":"'Nastavení příloh'!CK69/100","v":0.12},{"$f":"'Nastavení příloh'!CL69/100","v":0.12},{"$f":"'Nastavení příloh'!CM69/100","v":0.12},{"$f":"'Nastavení příloh'!CN69/100","v":0.12},{"$f":"'Nastavení příloh'!CO69/100","v":0.14000000000000001},{"$f":"'Nastavení příloh'!CP69/100","v":0.22},{"$f":"'Nastavení příloh'!CQ69/100","v":0.25},{"$f":"'Nastavení příloh'!CR69/100","v":0.25}]
[null,5300,"-",5399,{"$f":"'Nastavení příloh'!F70/100","v":0},{"$f":"'Nastavení příloh'!G70/100","v":0.06},{"$f":"'Nastavení příloh'!H70/100","v":0.15},{"$f":"'Nastavení příloh'!I70/100","v":0.24},{"$f":"'Nastavení příloh'!J70/100","v":0.25},{"$f":"'Nastavení příloh'!K70/100","v":0.25},{"$f":"'Nastavení příloh'!L70/100","v":0.25},{"$f":"'Nastavení příloh'!M70/100","v":0.25},{"$f":"'Nastavení příloh'!N70/100","v":0.25},{"$f":"'Nastavení příloh'!O70/100","v":0.25},{"$f":"'Nastavení příloh'!P70/100","v":0.25},{"$f":"'Nastavení příloh'!Q70/100","v":0.25},{"$f":"'Nastavení příloh'!R70/100","v":0.25},{"$f":"'Nastavení příloh'!S70/100","v":0.25},{"$f":"'Nastavení příloh'!T70/100","v":0.25},{"$f":"'Nastavení příloh'!U70/100","v":0.25},{"$f":"'Nastavení příloh'!V70/100","v":0.25},{"$f":"'Nastavení příloh'!W70/100","v":0.25},{"$f":"'Nastavení příloh'!X70/100","v":0.25},null,5300,"-",5399,{"$f":"'Nastavení příloh'!AD70/100","v":-0.13},{"$f":"'Nastavení příloh'!AE70/100","v":-0.13},{"$f":"'Nastavení příloh'!AF70/100","v":-0.13},{"$f":"'Nastavení příloh'!AG70/100","v":-0.13},{"$f":"'Nastavení příloh'!AH70/100","v":-0.13},{"$f":"'Nastavení příloh'!AI70/100","v":-0.13},{"$f":"'Nastavení příloh'!AJ70/100","v":-0.13},{"$f":"'Nastavení příloh'!AK70/100","v":-0.13},{"$f":"'Nastavení příloh'!AL70/100","v":-0.13},{"$f":"'Nastavení příloh'!AM70/100","v":-0.13},{"$f":"'Nastavení příloh'!AN70/100","v":-0.13},{"$f":"'Nastavení příloh'!AO70/100","v":-0.13},{"$f":"'Nastavení příloh'!AP70/100","v":-0.13},{"$f":"'Nastavení příloh'!AQ70/100","v":-0.13},{"$f":"'Nastavení příloh'!AR70/100","v":-0.13},{"$f":"'Nastavení příloh'!AS70/100","v":-0.11},{"$f":"'Nastavení příloh'!AT70/100","v":-0.04},{"$f":"'Nastavení příloh'!AU70/100","v":0},{"$f":"'Nastavení příloh'!AV70/100","v":0},null,null,null,null,null,null,null,null,null,null,null,null,null,null,null,null,null,null,null,null,null,null,null,null,5300,"-",5399,{"$f":"'Nastavení příloh'!BZ70/100","v":0},{"$f":"'Nastavení příloh'!CA70/100","v":0},{"$f":"'Nastavení příloh'!CB70/100","v":0.02},{"$f":"'Nastavení příloh'!CC70/100","v":0.11},{"$f":"'Nastavení příloh'!CD70/100","v":0.12},{"$f":"'Nastavení příloh'!CE70/100","v":0.12},{"$f":"'Nastavení příloh'!CF70/100","v":0.12},{"$f":"'Nastavení příloh'!CG70/100","v":0.12},{"$f":"'Nastavení příloh'!CH70/100","v":0.12},{"$f":"'Nastavení příloh'!CI70/100","v":0.12},{"$f":"'Nastavení příloh'!CJ70/100","v":0.12},{"$f":"'Nastavení příloh'!CK70/100","v":0.12},{"$f":"'Nastavení příloh'!CL70/100","v":0.12},{"$f":"'Nastavení příloh'!CM70/100","v":0.12},{"$f":"'Nastavení příloh'!CN70/100","v":0.12},{"$f":"'Nastavení příloh'!CO70/100","v":0.14000000000000001},{"$f":"'Nastavení příloh'!CP70/100","v":0.21},{"$f":"'Nastavení příloh'!CQ70/100","v":0.25},{"$f":"'Nastavení příloh'!CR70/100","v":0.25}]
[null,5400,"-",5499,{"$f":"'Nastavení příloh'!F71/100","v":0},{"$f":"'Nastavení příloh'!G71/100","v":0.06},{"$f":"'Nastavení příloh'!H71/100","v":0.15},{"$f":"'Nastavení příloh'!I71/100","v":0.25},{"$f":"'Nastavení příloh'!J71/100","v":0.25},{"$f":"'Nastavení příloh'!K71/100","v":0.25},{"$f":"'Nastavení příloh'!L71/100","v":0.25},{"$f":"'Nastavení příloh'!M71/100","v":0.25},{"$f":"'Nastavení příloh'!N71/100","v":0.25},{"$f":"'Nastavení příloh'!O71/100","v":0.25},{"$f":"'Nastavení příloh'!P71/100","v":0.25},{"$f":"'Nastavení příloh'!Q71/100","v":0.25},{"$f":"'Nastavení příloh'!R71/100","v":0.25},{"$f":"'Nastavení příloh'!S71/100","v":0.25},{"$f":"'Nastavení příloh'!T71/100","v":0.25},{"$f":"'Nastavení příloh'!U71/100","v":0.25},{"$f":"'Nastavení příloh'!V71/100","v":0.25},{"$f":"'Nastavení příloh'!W71/100","v":0.25},{"$f":"'Nastavení příloh'!X71/100","v":0.25},null,5400,"-",5499,{"$f":"'Nastavení příloh'!AD71/100","v":-0.13},{"$f":"'Nastavení příloh'!AE71/100","v":-0.13},{"$f":"'Nastavení příloh'!AF71/100","v":-0.13},{"$f":"'Nastavení příloh'!AG71/100","v":-0.13},{"$f":"'Nastavení příloh'!AH71/100","v":-0.13},{"$f":"'Nastavení příloh'!AI71/100","v":-0.13},{"$f":"'Nastavení příloh'!AJ71/100","v":-0.13},{"$f":"'Nastavení příloh'!AK71/100","v":-0.13},{"$f":"'Nastavení příloh'!AL71/100","v":-0.13},{"$f":"'Nastavení příloh'!AM71/100","v":-0.13},{"$f":"'Nastavení příloh'!AN71/100","v":-0.13},{"$f":"'Nastavení příloh'!AO71/100","v":-0.13},{"$f":"'Nastavení příloh'!AP71/100","v":-0.13},{"$f":"'Nastavení příloh'!AQ71/100","v":-0.13},{"$f":"'Nastavení příloh'!AR71/100","v":-0.13},{"$f":"'Nastavení příloh'!AS71/100","v":-0.12},{"$f":"'Nastavení příloh'!AT71/100","v":-0.04},{"$f":"'Nastavení příloh'!AU71/100","v":0},{"$f":"'Nastavení příloh'!AV71/100","v":0},null,null,null,null,null,null,null,null,null,null,null,null,null,null,null,null,null,null,null,null,null,null,null,null,5400,"-",5499,{"$f":"'Nastavení příloh'!BZ71/100","v":0},{"$f":"'Nastavení příloh'!CA71/100","v":0},{"$f":"'Nastavení příloh'!CB71/100","v":0.02},{"$f":"'Nastavení příloh'!CC71/100","v":0.12},{"$f":"'Nastavení příloh'!CD71/100","v":0.12},{"$f":"'Nastavení příloh'!CE71/100","v":0.12},{"$f":"'Nastavení příloh'!CF71/100","v":0.12},{"$f":"'Nastavení příloh'!CG71/100","v":0.12},{"$f":"'Nastavení příloh'!CH71/100","v":0.12},{"$f":"'Nastavení příloh'!CI71/100","v":0.12},{"$f":"'Nastavení příloh'!CJ71/100","v":0.12},{"$f":"'Nastavení příloh'!CK71/100","v":0.12},{"$f":"'Nastavení příloh'!CL71/100","v":0.12},{"$f":"'Nastavení příloh'!CM71/100","v":0.12},{"$f":"'Nastavení příloh'!CN71/100","v":0.12},{"$f":"'Nastavení příloh'!CO71/100","v":0.13},{"$f":"'Nastavení příloh'!CP71/100","v":0.21},{"$f":"'Nastavení příloh'!CQ71/100","v":0.25},{"$f":"'Nastavení příloh'!CR71/100","v":0.25}]
[null,5500,"-",5599,{"$f":"'Nastavení příloh'!F72/100","v":0},{"$f":"'Nastavení příloh'!G72/100","v":0.06},{"$f":"'Nastavení příloh'!H72/100","v":0.16},{"$f":"'Nastavení příloh'!I72/100","v":0.25},{"$f":"'Nastavení příloh'!J72/100","v":0.25},{"$f":"'Nastavení příloh'!K72/100","v":0.25},{"$f":"'Nastavení příloh'!L72/100","v":0.25},{"$f":"'Nastavení příloh'!M72/100","v":0.25},{"$f":"'Nastavení příloh'!N72/100","v":0.25},{"$f":"'Nastavení příloh'!O72/100","v":0.25},{"$f":"'Nastavení příloh'!P72/100","v":0.25},{"$f":"'Nastavení příloh'!Q72/100","v":0.25},{"$f":"'Nastavení příloh'!R72/100","v":0.25},{"$f":"'Nastavení příloh'!S72/100","v":0.25},{"$f":"'Nastavení příloh'!T72/100","v":0.25},{"$f":"'Nastavení příloh'!U72/100","v":0.25},{"$f":"'Nastavení příloh'!V72/100","v":0.25},{"$f":"'Nastavení příloh'!W72/100","v":0.25},{"$f":"'Nastavení příloh'!X72/100","v":0.25},null,5500,"-",5599,{"$f":"'Nastavení příloh'!AD72/100","v":-0.13},{"$f":"'Nastavení příloh'!AE72/100","v":-0.13},{"$f":"'Nastavení příloh'!AF72/100","v":-0.13},{"$f":"'Nastavení příloh'!AG72/100","v":-0.13},{"$f":"'Nastavení příloh'!AH72/100","v":-0.13},{"$f":"'Nastavení příloh'!AI72/100","v":-0.13},{"$f":"'Nastavení příloh'!AJ72/100","v":-0.13},{"$f":"'Nastavení příloh'!AK72/100","v":-0.13},{"$f":"'Nastavení příloh'!AL72/100","v":-0.13},{"$f":"'Nastavení příloh'!AM72/100","v":-0.13},{"$f":"'Nastavení příloh'!AN72/100","v":-0.13},{"$f":"'Nastavení příloh'!AO72/100","v":-0.13},{"$f":"'Nastavení příloh'!AP72/100","v":-0.13},{"$f":"'Nastavení příloh'!AQ72/100","v":-0.13},{"$f":"'Nastavení příloh'!AR72/100","v":-0.13},{"$f":"'Nastavení příloh'!AS72/100","v":-0.13},{"$f":"'Nastavení příloh'!AT72/100","v":-0.05},{"$f":"'Nastavení příloh'!AU72/100","v":0},{"$f":"'Nastavení příloh'!AV72/100","v":0},null,null,null,null,null,null,null,null,null,null,null,null,null,null,null,null,null,null,null,null,null,null,null,null,5500,"-",5599,{"$f":"'Nastavení příloh'!BZ72/100","v":0},{"$f":"'Nastavení příloh'!CA72/100","v":0},{"$f":"'Nastavení příloh'!CB72/100","v":0.03},{"$f":"'Nastavení příloh'!CC72/100","v":0.12},{"$f":"'Nastavení příloh'!CD72/100","v":0.12},{"$f":"'Nastavení příloh'!CE72/100","v":0.12},{"$f":"'Nastavení příloh'!CF72/100","v":0.12},{"$f":"'Nastavení příloh'!CG72/100","v":0.12},{"$f":"'Nastavení příloh'!CH72/100","v":0.12},{"$f":"'Nastavení příloh'!CI72/100","v":0.12},{"$f":"'Nastavení příloh'!CJ72/100","v":0.12},{"$f":"'Nastavení příloh'!CK72/100","v":0.12},{"$f":"'Nastavení příloh'!CL72/100","v":0.12},{"$f":"'Nastavení příloh'!CM72/100","v":0.12},{"$f":"'Nastavení příloh'!CN72/100","v":0.12},{"$f":"'Nastavení příloh'!CO72/100","v":0.12},{"$f":"'Nastavení příloh'!CP72/100","v":0.2},{"$f":"'Nastavení příloh'!CQ72/100","v":0.25},{"$f":"'Nastavení příloh'!CR72/100","v":0.25}]
[null,5600,"-",5699,{"$f":"'Nastavení příloh'!F73/100","v":0},{"$f":"'Nastavení příloh'!G73/100","v":0.06},{"$f":"'Nastavení příloh'!H73/100","v":0.16},{"$f":"'Nastavení příloh'!I73/100","v":0.25},{"$f":"'Nastavení příloh'!J73/100","v":0.25},{"$f":"'Nastavení příloh'!K73/100","v":0.25},{"$f":"'Nastavení příloh'!L73/100","v":0.25},{"$f":"'Nastavení příloh'!M73/100","v":0.25},{"$f":"'Nastavení příloh'!N73/100","v":0.25},{"$f":"'Nastavení příloh'!O73/100","v":0.25},{"$f":"'Nastavení příloh'!P73/100","v":0.25},{"$f":"'Nastavení příloh'!Q73/100","v":0.25},{"$f":"'Nastavení příloh'!R73/100","v":0.25},{"$f":"'Nastavení příloh'!S73/100","v":0.25},{"$f":"'Nastavení příloh'!T73/100","v":0.25},{"$f":"'Nastavení příloh'!U73/100","v":0.25},{"$f":"'Nastavení příloh'!V73/100","v":0.25},{"$f":"'Nastavení příloh'!W73/100","v":0.25},{"$f":"'Nastavení příloh'!X73/100","v":0.25},null,5600,"-",5699,{"$f":"'Nastavení příloh'!AD73/100","v":-0.13},{"$f":"'Nastavení příloh'!AE73/100","v":-0.13},{"$f":"'Nastavení příloh'!AF73/100","v":-0.13},{"$f":"'Nastavení příloh'!AG73/100","v":-0.13},{"$f":"'Nastavení příloh'!AH73/100","v":-0.13},{"$f":"'Nastavení příloh'!AI73/100","v":-0.13},{"$f":"'Nastavení příloh'!AJ73/100","v":-0.13},{"$f":"'Nastavení příloh'!AK73/100","v":-0.13},{"$f":"'Nastavení příloh'!AL73/100","v":-0.13},{"$f":"'Nastavení příloh'!AM73/100","v":-0.13},{"$f":"'Nastavení příloh'!AN73/100","v":-0.13},{"$f":"'Nastavení příloh'!AO73/100","v":-0.13},{"$f":"'Nastavení příloh'!AP73/100","v":-0.13},{"$f":"'Nastavení příloh'!AQ73/100","v":-0.13},{"$f":"'Nastavení příloh'!AR73/100","v":-0.13},{"$f":"'Nastavení příloh'!AS73/100","v":-0.13},{"$f":"'Nastavení příloh'!AT73/100","v":-0.06},{"$f":"'Nastavení příloh'!AU73/100","v":0},{"$f":"'Nastavení příloh'!AV73/100","v":0},null,null,null,null,null,null,null,null,null,null,null,null,null,null,null,null,null,null,null,null,null,null,null,null,5600,"-",5699,{"$f":"'Nastavení příloh'!BZ73/100","v":0},{"$f":"'Nastavení příloh'!CA73/100","v":0},{"$f":"'Nastavení příloh'!CB73/100","v":0.03},{"$f":"'Nastavení příloh'!CC73/100","v":0.12},{"$f":"'Nastavení příloh'!CD73/100","v":0.12},{"$f":"'Nastavení příloh'!CE73/100","v":0.12},{"$f":"'Nastavení příloh'!CF73/100","v":0.12},{"$f":"'Nastavení příloh'!CG73/100","v":0.12},{"$f":"'Nastavení příloh'!CH73/100","v":0.12},{"$f":"'Nastavení příloh'!CI73/100","v":0.12},{"$f":"'Nastavení příloh'!CJ73/100","v":0.12},{"$f":"'Nastavení příloh'!CK73/100","v":0.12},{"$f":"'Nastavení příloh'!CL73/100","v":0.12},{"$f":"'Nastavení příloh'!CM73/100","v":0.12},{"$f":"'Nastavení příloh'!CN73/100","v":0.12},{"$f":"'Nastavení příloh'!CO73/100","v":0.12},{"$f":"'Nastavení příloh'!CP73/100","v":0.19},{"$f":"'Nastavení příloh'!CQ73/100","v":0.25},{"$f":"'Nastavení příloh'!CR73/100","v":0.25}]
[null,5700,"-",5799,{"$f":"'Nastavení příloh'!F74/100","v":0},{"$f":"'Nastavení příloh'!G74/100","v":0.06},{"$f":"'Nastavení příloh'!H74/100","v":0.16},{"$f":"'Nastavení příloh'!I74/100","v":0.25},{"$f":"'Nastavení příloh'!J74/100","v":0.25},{"$f":"'Nastavení příloh'!K74/100","v":0.25},{"$f":"'Nastavení příloh'!L74/100","v":0.25},{"$f":"'Nastavení příloh'!M74/100","v":0.25},{"$f":"'Nastavení příloh'!N74/100","v":0.25},{"$f":"'Nastavení příloh'!O74/100","v":0.25},{"$f":"'Nastavení příloh'!P74/100","v":0.25},{"$f":"'Nastavení příloh'!Q74/100","v":0.25},{"$f":"'Nastavení příloh'!R74/100","v":0.25},{"$f":"'Nastavení příloh'!S74/100","v":0.25},{"$f":"'Nastavení příloh'!T74/100","v":0.25},{"$f":"'Nastavení příloh'!U74/100","v":0.25},{"$f":"'Nastavení příloh'!V74/100","v":0.25},{"$f":"'Nastavení příloh'!W74/100","v":0.25},{"$f":"'Nastavení příloh'!X74/100","v":0.25},null,5700,"-",5799,{"$f":"'Nastavení příloh'!AD74/100","v":-0.13},{"$f":"'Nastavení příloh'!AE74/100","v":-0.13},{"$f":"'Nastavení příloh'!AF74/100","v":-0.13},{"$f":"'Nastavení příloh'!AG74/100","v":-0.13},{"$f":"'Nastavení příloh'!AH74/100","v":-0.13},{"$f":"'Nastavení příloh'!AI74/100","v":-0.13},{"$f":"'Nastavení příloh'!AJ74/100","v":-0.13},{"$f":"'Nastavení příloh'!AK74/100","v":-0.13},{"$f":"'Nastavení příloh'!AL74/100","v":-0.13},{"$f":"'Nastavení příloh'!AM74/100","v":-0.13},{"$f":"'Nastavení příloh'!AN74/100","v":-0.13},{"$f":"'Nastavení příloh'!AO74/100","v":-0.13},{"$f":"'Nastavení příloh'!AP74/100","v":-0.13},{"$f":"'Nastavení příloh'!AQ74/100","v":-0.13},{"$f":"'Nastavení příloh'!AR74/100","v":-0.13},{"$f":"'Nastavení příloh'!AS74/100","v":-0.13},{"$f":"'Nastavení příloh'!AT74/100","v":-0.06},{"$f":"'Nastavení příloh'!AU74/100","v":0},{"$f":"'Nastavení příloh'!AV74/100","v":0},null,null,null,null,null,null,null,null,null,null,null,null,null,null,null,null,null,null,null,null,null,null,null,null,5700,"-",5799,{"$f":"'Nastavení příloh'!BZ74/100","v":0},{"$f":"'Nastavení příloh'!CA74/100","v":0},{"$f":"'Nastavení příloh'!CB74/100","v":0.03},{"$f":"'Nastavení příloh'!CC74/100","v":0.12},{"$f":"'Nastavení příloh'!CD74/100","v":0.12},{"$f":"'Nastavení příloh'!CE74/100","v":0.12},{"$f":"'Nastavení příloh'!CF74/100","v":0.12},{"$f":"'Nastavení příloh'!CG74/100","v":0.12},{"$f":"'Nastavení příloh'!CH74/100","v":0.12},{"$f":"'Nastavení příloh'!CI74/100","v":0.12},{"$f":"'Nastavení příloh'!CJ74/100","v":0.12},{"$f":"'Nastavení příloh'!CK74/100","v":0.12},{"$f":"'Nastavení příloh'!CL74/100","v":0.12},{"$f":"'Nastavení příloh'!CM74/100","v":0.12},{"$f":"'Nastavení příloh'!CN74/100","v":0.12},{"$f":"'Nastavení příloh'!CO74/100","v":0.12},{"$f":"'Nastavení příloh'!CP74/100","v":0.19},{"$f":"'Nastavení příloh'!CQ74/100","v":0.25},{"$f":"'Nastavení příloh'!CR74/100","v":0.25}]
[null,5800,"-",5899,{"$f":"'Nastavení příloh'!F75/100","v":0},{"$f":"'Nastavení příloh'!G75/100","v":0.06},{"$f":"'Nastavení příloh'!H75/100","v":0.16},{"$f":"'Nastavení příloh'!I75/100","v":0.25},{"$f":"'Nastavení příloh'!J75/100","v":0.25},{"$f":"'Nastavení příloh'!K75/100","v":0.25},{"$f":"'Nastavení příloh'!L75/100","v":0.25},{"$f":"'Nastavení příloh'!M75/100","v":0.25},{"$f":"'Nastavení příloh'!N75/100","v":0.25},{"$f":"'Nastavení příloh'!O75/100","v":0.25},{"$f":"'Nastavení příloh'!P75/100","v":0.25},{"$f":"'Nastavení příloh'!Q75/100","v":0.25},{"$f":"'Nastavení příloh'!R75/100","v":0.25},{"$f":"'Nastavení příloh'!S75/100","v":0.25},{"$f":"'Nastavení příloh'!T75/100","v":0.25},{"$f":"'Nastavení příloh'!U75/100","v":0.25},{"$f":"'Nastavení příloh'!V75/100","v":0.25},{"$f":"'Nastavení příloh'!W75/100","v":0.25},{"$f":"'Nastavení příloh'!X75/100","v":0.25},null,5800,"-",5899,{"$f":"'Nastavení příloh'!AD75/100","v":-0.13},{"$f":"'Nastavení příloh'!AE75/100","v":-0.13},{"$f":"'Nastavení příloh'!AF75/100","v":-0.13},{"$f":"'Nastavení příloh'!AG75/100","v":-0.13},{"$f":"'Nastavení příloh'!AH75/100","v":-0.13},{"$f":"'Nastavení příloh'!AI75/100","v":-0.13},{"$f":"'Nastavení příloh'!AJ75/100","v":-0.13},{"$f":"'Nastavení příloh'!AK75/100","v":-0.13},{"$f":"'Nastavení příloh'!AL75/100","v":-0.13},{"$f":"'Nastavení příloh'!AM75/100","v":-0.13},{"$f":"'Nastavení příloh'!AN75/100","v":-0.13},{"$f":"'Nastavení příloh'!AO75/100","v":-0.13},{"$f":"'Nastavení příloh'!AP75/100","v":-0.13},{"$f":"'Nastavení příloh'!AQ75/100","v":-0.13},{"$f":"'Nastavení příloh'!AR75/100","v":-0.13},{"$f":"'Nastavení příloh'!AS75/100","v":-0.13},{"$f":"'Nastavení příloh'!AT75/100","v":-7.0000000000000007E-2},{"$f":"'Nastavení příloh'!AU75/100","v":0},{"$f":"'Nastavení příloh'!AV75/100","v":0},null,null,null,null,null,null,null,null,null,null,null,null,null,null,null,null,null,null,null,null,null,null,null,null,5800,"-",5899,{"$f":"'Nastavení příloh'!BZ75/100","v":0},{"$f":"'Nastavení příloh'!CA75/100","v":0},{"$f":"'Nastavení příloh'!CB75/100","v":0.03},{"$f":"'Nastavení příloh'!CC75/100","v":0.12},{"$f":"'Nastavení příloh'!CD75/100","v":0.12},{"$f":"'Nastavení příloh'!CE75/100","v":0.12},{"$f":"'Nastavení příloh'!CF75/100","v":0.12},{"$f":"'Nastavení příloh'!CG75/100","v":0.12},{"$f":"'Nastavení příloh'!CH75/100","v":0.12},{"$f":"'Nastavení příloh'!CI75/100","v":0.12},{"$f":"'Nastavení příloh'!CJ75/100","v":0.12},{"$f":"'Nastavení příloh'!CK75/100","v":0.12},{"$f":"'Nastavení příloh'!CL75/100","v":0.12},{"$f":"'Nastavení příloh'!CM75/100","v":0.12},{"$f":"'Nastavení příloh'!CN75/100","v":0.12},{"$f":"'Nastavení příloh'!CO75/100","v":0.12},{"$f":"'Nastavení příloh'!CP75/100","v":0.18},{"$f":"'Nastavení příloh'!CQ75/100","v":0.25},{"$f":"'Nastavení příloh'!CR75/100","v":0.25}]
[null,5900,"-",5999,{"$f":"'Nastavení příloh'!F76/100","v":0},{"$f":"'Nastavení příloh'!G76/100","v":0.06},{"$f":"'Nastavení příloh'!H76/100","v":0.17},{"$f":"'Nastavení příloh'!I76/100","v":0.25},{"$f":"'Nastavení příloh'!J76/100","v":0.25},{"$f":"'Nastavení příloh'!K76/100","v":0.25},{"$f":"'Nastavení příloh'!L76/100","v":0.25},{"$f":"'Nastavení příloh'!M76/100","v":0.25},{"$f":"'Nastavení příloh'!N76/100","v":0.25},{"$f":"'Nastavení příloh'!O76/100","v":0.25},{"$f":"'Nastavení příloh'!P76/100","v":0.25},{"$f":"'Nastavení příloh'!Q76/100","v":0.25},{"$f":"'Nastavení příloh'!R76/100","v":0.25},{"$f":"'Nastavení příloh'!S76/100","v":0.25},{"$f":"'Nastavení příloh'!T76/100","v":0.25},{"$f":"'Nastavení příloh'!U76/100","v":0.25},{"$f":"'Nastavení příloh'!V76/100","v":0.25},{"$f":"'Nastavení příloh'!W76/100","v":0.25},{"$f":"'Nastavení příloh'!X76/100","v":0.25},null,5900,"-",5999,{"$f":"'Nastavení příloh'!AD76/100","v":-0.13},{"$f":"'Nastavení příloh'!AE76/100","v":-0.13},{"$f":"'Nastavení příloh'!AF76/100","v":-0.13},{"$f":"'Nastavení příloh'!AG76/100","v":-0.13},{"$f":"'Nastavení příloh'!AH76/100","v":-0.13},{"$f":"'Nastavení příloh'!AI76/100","v":-0.13},{"$f":"'Nastavení příloh'!AJ76/100","v":-0.13},{"$f":"'Nastavení příloh'!AK76/100","v":-0.13},{"$f":"'Nastavení příloh'!AL76/100","v":-0.13},{"$f":"'Nastavení příloh'!AM76/100","v":-0.13},{"$f":"'Nastavení příloh'!AN76/100","v":-0.13},{"$f":"'Nastavení příloh'!AO76/100","v":-0.13},{"$f":"'Nastavení příloh'!AP76/100","v":-0.13},{"$f":"'Nastavení příloh'!AQ76/100","v":-0.13},{"$f":"'Nastavení příloh'!AR76/100","v":-0.13},{"$f":"'Nastavení příloh'!AS76/100","v":-0.13},{"$f":"'Nastavení příloh'!AT76/100","v":-0.08},{"$f":"'Nastavení příloh'!AU76/100","v":0},{"$f":"'Nastavení příloh'!AV76/100","v":0},null,null,null,null,null,null,null,null,null,null,null,null,null,null,null,null,null,null,null,null,null,null,null,null,5900,"-",5999,{"$f":"'Nastavení příloh'!BZ76/100","v":0},{"$f":"'Nastavení příloh'!CA76/100","v":0},{"$f":"'Nastavení příloh'!CB76/100","v":0.04},{"$f":"'Nastavení příloh'!CC76/100","v":0.12},{"$f":"'Nastavení příloh'!CD76/100","v":0.12},{"$f":"'Nastavení příloh'!CE76/100","v":0.12},{"$f":"'Nastavení příloh'!CF76/100","v":0.12},{"$f":"'Nastavení příloh'!CG76/100","v":0.12},{"$f":"'Nastavení příloh'!CH76/100","v":0.12},{"$f":"'Nastavení příloh'!CI76/100","v":0.12},{"$f":"'Nastavení příloh'!CJ76/100","v":0.12},{"$f":"'Nastavení příloh'!CK76/100","v":0.12},{"$f":"'Nastavení příloh'!CL76/100","v":0.12},{"$f":"'Nastavení příloh'!CM76/100","v":0.12},{"$f":"'Nastavení příloh'!CN76/100","v":0.12},{"$f":"'Nastavení příloh'!CO76/100","v":0.12},{"$f":"'Nastavení příloh'!CP76/100","v":0.17},{"$f":"'Nastavení příloh'!CQ76/100","v":0.25},{"$f":"'Nastavení příloh'!CR76/100","v":0.25}]
[null,6000,"-",6099,{"$f":"'Nastavení příloh'!F77/100","v":0},{"$f":"'Nastavení příloh'!G77/100","v":0.06},{"$f":"'Nastavení příloh'!H77/100","v":0.17},{"$f":"'Nastavení příloh'!I77/100","v":0.25},{"$f":"'Nastavení příloh'!J77/100","v":0.25},{"$f":"'Nastavení příloh'!K77/100","v":0.25},{"$f":"'Nastavení příloh'!L77/100","v":0.25},{"$f":"'Nastavení příloh'!M77/100","v":0.25},{"$f":"'Nastavení příloh'!N77/100","v":0.25},{"$f":"'Nastavení příloh'!O77/100","v":0.25},{"$f":"'Nastavení příloh'!P77/100","v":0.25},{"$f":"'Nastavení příloh'!Q77/100","v":0.25},{"$f":"'Nastavení příloh'!R77/100","v":0.25},{"$f":"'Nastavení příloh'!S77/100","v":0.25},{"$f":"'Nastavení příloh'!T77/100","v":0.25},{"$f":"'Nastavení příloh'!U77/100","v":0.25},{"$f":"'Nastavení příloh'!V77/100","v":0.25},{"$f":"'Nastavení příloh'!W77/100","v":0.25},{"$f":"'Nastavení příloh'!X77/100","v":0.25},null,6000,"-",6099,{"$f":"'Nastavení příloh'!AD77/100","v":-0.13},{"$f":"'Nastavení příloh'!AE77/100","v":-0.13},{"$f":"'Nastavení příloh'!AF77/100","v":-0.13},{"$f":"'Nastavení příloh'!AG77/100","v":-0.13},{"$f":"'Nastavení příloh'!AH77/100","v":-0.13},{"$f":"'Nastavení příloh'!AI77/100","v":-0.13},{"$f":"'Nastavení příloh'!AJ77/100","v":-0.13},{"$f":"'Nastavení příloh'!AK77/100","v":-0.13},{"$f":"'Nastavení příloh'!AL77/100","v":-0.13},{"$f":"'Nastavení příloh'!AM77/100","v":-0.13},{"$f":"'Nastavení příloh'!AN77/100","v":-0.13},{"$f":"'Nastavení příloh'!AO77/100","v":-0.13},{"$f":"'Nastavení příloh'!AP77/100","v":-0.13},{"$f":"'Nastavení příloh'!AQ77/100","v":-0.13},{"$f":"'Nastavení příloh'!AR77/100","v":-0.13},{"$f":"'Nastavení příloh'!AS77/100","v":-0.13},{"$f":"'Nastavení příloh'!AT77/100","v":-0.08},{"$f":"'Nastavení příloh'!AU77/100","v":0},{"$f":"'Nastavení příloh'!AV77/100","v":0},null,null,null,null,null,null,null,null,null,null,null,null,null,null,null,null,null,null,null,null,null,null,null,null,6000,"-",6099,{"$f":"'Nastavení příloh'!BZ77/100","v":0},{"$f":"'Nastavení příloh'!CA77/100","v":0},{"$f":"'Nastavení příloh'!CB77/100","v":0.04},{"$f":"'Nastavení příloh'!CC77/100","v":0.12},{"$f":"'Nastavení příloh'!CD77/100","v":0.12},{"$f":"'Nastavení příloh'!CE77/100","v":0.12},{"$f":"'Nastavení příloh'!CF77/100","v":0.12},{"$f":"'Nastavení příloh'!CG77/100","v":0.12},{"$f":"'Nastavení příloh'!CH77/100","v":0.12},{"$f":"'Nastavení příloh'!CI77/100","v":0.12},{"$f":"'Nastavení příloh'!CJ77/100","v":0.12},{"$f":"'Nastavení příloh'!CK77/100","v":0.12},{"$f":"'Nastavení příloh'!CL77/100","v":0.12},{"$f":"'Nastavení příloh'!CM77/100","v":0.12},{"$f":"'Nastavení příloh'!CN77/100","v":0.12},{"$f":"'Nastavení příloh'!CO77/100","v":0.12},{"$f":"'Nastavení příloh'!CP77/100","v":0.17},{"$f":"'Nastavení příloh'!CQ77/100","v":0.25},{"$f":"'Nastavení příloh'!CR77/100","v":0.25}]
[null,6100,"-",6199,{"$f":"'Nastavení příloh'!F78/100","v":0},{"$f":"'Nastavení příloh'!G78/100","v":0.06},{"$f":"'Nastavení příloh'!H78/100","v":0.17},{"$f":"'Nastavení příloh'!I78/100","v":0.25},{"$f":"'Nastavení příloh'!J78/100","v":0.25},{"$f":"'Nastavení příloh'!K78/100","v":0.25},{"$f":"'Nastavení příloh'!L78/100","v":0.25},{"$f":"'Nastavení příloh'!M78/100","v":0.25},{"$f":"'Nastavení příloh'!N78/100","v":0.25},{"$f":"'Nastavení příloh'!O78/100","v":0.25},{"$f":"'Nastavení příloh'!P78/100","v":0.25},{"$f":"'Nastavení příloh'!Q78/100","v":0.25},{"$f":"'Nastavení příloh'!R78/100","v":0.25},{"$f":"'Nastavení příloh'!S78/100","v":0.25},{"$f":"'Nastavení příloh'!T78/100","v":0.25},{"$f":"'Nastavení příloh'!U78/100","v":0.25},{"$f":"'Nastavení příloh'!V78/100","v":0.25},{"$f":"'Nastavení příloh'!W78/100","v":0.25},{"$f":"'Nastavení příloh'!X78/100","v":0.25},null,6100,"-",6199,{"$f":"'Nastavení příloh'!AD78/100","v":-0.13},{"$f":"'Nastavení příloh'!AE78/100","v":-0.13},{"$f":"'Nastavení příloh'!AF78/100","v":-0.13},{"$f":"'Nastavení příloh'!AG78/100","v":-0.13},{"$f":"'Nastavení příloh'!AH78/100","v":-0.13},{"$f":"'Nastavení příloh'!AI78/100","v":-0.13},{"$f":"'Nastavení příloh'!AJ78/100","v":-0.13},{"$f":"'Nastavení příloh'!AK78/100","v":-0.13},{"$f":"'Nastavení příloh'!AL78/100","v":-0.13},{"$f":"'Nastavení příloh'!AM78/100","v":-0.13},{"$f":"'Nastavení příloh'!AN78/100","v":-0.13},{"$f":"'Nastavení příloh'!AO78/100","v":-0.13},{"$f":"'Nastavení příloh'!AP78/100","v":-0.13},{"$f":"'Nastavení příloh'!AQ78/100","v":-0.13},{"$f":"'Nastavení příloh'!AR78/100","v":-0.13},{"$f":"'Nastavení příloh'!AS78/100","v":-0.13},{"$f":"'Nastavení příloh'!AT78/100","v":-0.09},{"$f":"'Nastavení příloh'!AU78/100","v":0},{"$f":"'Nastavení příloh'!AV78/100","v":0},null,null,null,null,null,null,null,null,null,null,null,null,null,null,null,null,null,null,null,null,null,null,null,null,6100,"-",6199,{"$f":"'Nastavení příloh'!BZ78/100","v":0},{"$f":"'Nastavení příloh'!CA78/100","v":0},{"$f":"'Nastavení příloh'!CB78/100","v":0.04},{"$f":"'Nastavení příloh'!CC78/100","v":0.12},{"$f":"'Nastavení příloh'!CD78/100","v":0.12},{"$f":"'Nastavení příloh'!CE78/100","v":0.12},{"$f":"'Nastavení příloh'!CF78/100","v":0.12},{"$f":"'Nastavení příloh'!CG78/100","v":0.12},{"$f":"'Nastavení příloh'!CH78/100","v":0.12},{"$f":"'Nastavení příloh'!CI78/100","v":0.12},{"$f":"'Nastavení příloh'!CJ78/100","v":0.12},{"$f":"'Nastavení příloh'!CK78/100","v":0.12},{"$f":"'Nastavení příloh'!CL78/100","v":0.12},{"$f":"'Nastavení příloh'!CM78/100","v":0.12},{"$f":"'Nastavení příloh'!CN78/100","v":0.12},{"$f":"'Nastavení příloh'!CO78/100","v":0.12},{"$f":"'Nastavení příloh'!CP78/100","v":0.16},{"$f":"'Nastavení příloh'!CQ78/100","v":0.25},{"$f":"'Nastavení příloh'!CR78/100","v":0.25}]
[null,6200,"-",6299,{"$f":"'Nastavení příloh'!F79/100","v":0},{"$f":"'Nastavení příloh'!G79/100","v":7.0000000000000007E-2},{"$f":"'Nastavení příloh'!H79/100","v":0.18},{"$f":"'Nastavení příloh'!I79/100","v":0.25},{"$f":"'Nastavení příloh'!J79/100","v":0.25},{"$f":"'Nastavení příloh'!K79/100","v":0.25},{"$f":"'Nastavení příloh'!L79/100","v":0.25},{"$f":"'Nastavení příloh'!M79/100","v":0.25},{"$f":"'Nastavení příloh'!N79/100","v":0.25},{"$f":"'Nastavení příloh'!O79/100","v":0.25},{"$f":"'Nastavení příloh'!P79/100","v":0.25},{"$f":"'Nastavení příloh'!Q79/100","v":0.25},{"$f":"'Nastavení příloh'!R79/100","v":0.25},{"$f":"'Nastavení příloh'!S79/100","v":0.25},{"$f":"'Nastavení příloh'!T79/100","v":0.25},{"$f":"'Nastavení příloh'!U79/100","v":0.25},{"$f":"'Nastavení příloh'!V79/100","v":0.25},{"$f":"'Nastavení příloh'!W79/100","v":0.25},{"$f":"'Nastavení příloh'!X79/100","v":0.25},null,6200,"-",6299,{"$f":"'Nastavení příloh'!AD79/100","v":-0.13},{"$f":"'Nastavení příloh'!AE79/100","v":-0.13},{"$f":"'Nastavení příloh'!AF79/100","v":-0.13},{"$f":"'Nastavení příloh'!AG79/100","v":-0.13},{"$f":"'Nastavení příloh'!AH79/100","v":-0.13},{"$f":"'Nastavení příloh'!AI79/100","v":-0.13},{"$f":"'Nastavení příloh'!AJ79/100","v":-0.13},{"$f":"'Nastavení příloh'!AK79/100","v":-0.13},{"$f":"'Nastavení příloh'!AL79/100","v":-0.13},{"$f":"'Nastavení příloh'!AM79/100","v":-0.13},{"$f":"'Nastavení příloh'!AN79/100","v":-0.13},{"$f":"'Nastavení příloh'!AO79/100","v":-0.13},{"$f":"'Nastavení příloh'!AP79/100","v":-0.13},{"$f":"'Nastavení příloh'!AQ79/100","v":-0.13},{"$f":"'Nastavení příloh'!AR79/100","v":-0.13},{"$f":"'Nastavení příloh'!AS79/100","v":-0.13},{"$f":"'Nastavení příloh'!AT79/100","v":-0.09},{"$f":"'Nastavení příloh'!AU79/100","v":-0.01},{"$f":"'Nastavení příloh'!AV79/100","v":0},null,null,null,null,null,null,null,null,null,null,null,null,null,null,null,null,null,null,null,null,null,null,null,null,6200,"-",6299,{"$f":"'Nastavení příloh'!BZ79/100","v":0},{"$f":"'Nastavení příloh'!CA79/100","v":0},{"$f":"'Nastavení příloh'!CB79/100","v":0.05},{"$f":"'Nastavení příloh'!CC79/100","v":0.12},{"$f":"'Nastavení příloh'!CD79/100","v":0.12},{"$f":"'Nastavení příloh'!CE79/100","v":0.12},{"$f":"'Nastavení příloh'!CF79/100","v":0.12},{"$f":"'Nastavení příloh'!CG79/100","v":0.12},{"$f":"'Nastavení příloh'!CH79/100","v":0.12},{"$f":"'Nastavení příloh'!CI79/100","v":0.12},{"$f":"'Nastavení příloh'!CJ79/100","v":0.12},{"$f":"'Nastavení příloh'!CK79/100","v":0.12},{"$f":"'Nastavení příloh'!CL79/100","v":0.12},{"$f":"'Nastavení příloh'!CM79/100","v":0.12},{"$f":"'Nastavení příloh'!CN79/100","v":0.12},{"$f":"'Nastavení příloh'!CO79/100","v":0.12},{"$f":"'Nastavení příloh'!CP79/100","v":0.16},{"$f":"'Nastavení příloh'!CQ79/100","v":0.24},{"$f":"'Nastavení příloh'!CR79/100","v":0.25}]
[null,6300,"-",6399,{"$f":"'Nastavení příloh'!F80/100","v":0},{"$f":"'Nastavení příloh'!G80/100","v":7.0000000000000007E-2},{"$f":"'Nastavení příloh'!H80/100","v":0.18},{"$f":"'Nastavení příloh'!I80/100","v":0.25},{"$f":"'Nastavení příloh'!J80/100","v":0.25},{"$f":"'Nastavení příloh'!K80/100","v":0.25},{"$f":"'Nastavení příloh'!L80/100","v":0.25},{"$f":"'Nastavení příloh'!M80/100","v":0.25},{"$f":"'Nastavení příloh'!N80/100","v":0.25},{"$f":"'Nastavení příloh'!O80/100","v":0.25},{"$f":"'Nastavení příloh'!P80/100","v":0.25},{"$f":"'Nastavení příloh'!Q80/100","v":0.25},{"$f":"'Nastavení příloh'!R80/100","v":0.25},{"$f":"'Nastavení příloh'!S80/100","v":0.25},{"$f":"'Nastavení příloh'!T80/100","v":0.25},{"$f":"'Nastavení příloh'!U80/100","v":0.25},{"$f":"'Nastavení příloh'!V80/100","v":0.25},{"$f":"'Nastavení příloh'!W80/100","v":0.25},{"$f":"'Nastavení příloh'!X80/100","v":0.25},null,6300,"-",6399,{"$f":"'Nastavení příloh'!AD80/100","v":-0.13},{"$f":"'Nastavení příloh'!AE80/100","v":-0.13},{"$f":"'Nastavení příloh'!AF80/100","v":-0.13},{"$f":"'Nastavení příloh'!AG80/100","v":-0.13},{"$f":"'Nastavení příloh'!AH80/100","v":-0.13},{"$f":"'Nastavení příloh'!AI80/100","v":-0.13},{"$f":"'Nastavení příloh'!AJ80/100","v":-0.13},{"$f":"'Nastavení příloh'!AK80/100","v":-0.13},{"$f":"'Nastavení příloh'!AL80/100","v":-0.13},{"$f":"'Nastavení příloh'!AM80/100","v":-0.13},{"$f":"'Nastavení příloh'!AN80/100","v":-0.13},{"$f":"'Nastavení příloh'!AO80/100","v":-0.13},{"$f":"'Nastavení příloh'!AP80/100","v":-0.13},{"$f":"'Nastavení příloh'!AQ80/100","v":-0.13},{"$f":"'Nastavení příloh'!AR80/100","v":-0.13},{"$f":"'Nastavení příloh'!AS80/100","v":-0.13},{"$f":"'Nastavení příloh'!AT80/100","v":-0.1},{"$f":"'Nastavení příloh'!AU80/100","v":-0.01},{"$f":"'Nastavení příloh'!AV80/100","v":0},null,null,null,null,null,null,null,null,null,null,null,null,null,null,null,null,null,null,null,null,null,null,null,null,6300,"-",6399,{"$f":"'Nastavení příloh'!BZ80/100","v":0},{"$f":"'Nastavení příloh'!CA80/100","v":0},{"$f":"'Nastavení příloh'!CB80/100","v":0.05},{"$f":"'Nastavení příloh'!CC80/100","v":0.12},{"$f":"'Nastavení příloh'!CD80/100","v":0.12},{"$f":"'Nastavení příloh'!CE80/100","v":0.12},{"$f":"'Nastavení příloh'!CF80/100","v":0.12},{"$f":"'Nastavení příloh'!CG80/100","v":0.12},{"$f":"'Nastavení příloh'!CH80/100","v":0.12},{"$f":"'Nastavení příloh'!CI80/100","v":0.12},{"$f":"'Nastavení příloh'!CJ80/100","v":0.12},{"$f":"'Nastavení příloh'!CK80/100","v":0.12},{"$f":"'Nastavení příloh'!CL80/100","v":0.12},{"$f":"'Nastavení příloh'!CM80/100","v":0.12},{"$f":"'Nastavení příloh'!CN80/100","v":0.12},{"$f":"'Nastavení příloh'!CO80/100","v":0.12},{"$f":"'Nastavení příloh'!CP80/100","v":0.15},{"$f":"'Nastavení příloh'!CQ80/100","v":0.24},{"$f":"'Nastavení příloh'!CR80/100","v":0.25}]
[null,6400,"-",6499,{"$f":"'Nastavení příloh'!F81/100","v":0},{"$f":"'Nastavení příloh'!G81/100","v":7.0000000000000007E-2},{"$f":"'Nastavení příloh'!H81/100","v":0.18},{"$f":"'Nastavení příloh'!I81/100","v":0.25},{"$f":"'Nastavení příloh'!J81/100","v":0.25},{"$f":"'Nastavení příloh'!K81/100","v":0.25},{"$f":"'Nastavení příloh'!L81/100","v":0.25},{"$f":"'Nastavení příloh'!M81/100","v":0.25},{"$f":"'Nastavení příloh'!N81/100","v":0.25},{"$f":"'Nastavení příloh'!O81/100","v":0.25},{"$f":"'Nastavení příloh'!P81/100","v":0.25},{"$f":"'Nastavení příloh'!Q81/100","v":0.25},{"$f":"'Nastavení příloh'!R81/100","v":0.25},{"$f":"'Nastavení příloh'!S81/100","v":0.25},{"$f":"'Nastavení příloh'!T81/100","v":0.25},{"$f":"'Nastavení příloh'!U81/100","v":0.25},{"$f":"'Nastavení příloh'!V81/100","v":0.25},{"$f":"'Nastavení příloh'!W81/100","v":0.25},{"$f":"'Nastavení příloh'!X81/100","v":0.25},null,6400,"-",6499,{"$f":"'Nastavení příloh'!AD81/100","v":-0.13},{"$f":"'Nastavení příloh'!AE81/100","v":-0.13},{"$f":"'Nastavení příloh'!AF81/100","v":-0.13},{"$f":"'Nastavení příloh'!AG81/100","v":-0.13},{"$f":"'Nastavení příloh'!AH81/100","v":-0.13},{"$f":"'Nastavení příloh'!AI81/100","v":-0.13},{"$f":"'Nastavení příloh'!AJ81/100","v":-0.13},{"$f":"'Nastavení příloh'!AK81/100","v":-0.13},{"$f":"'Nastavení příloh'!AL81/100","v":-0.13},{"$f":"'Nastavení příloh'!AM81/100","v":-0.13},{"$f":"'Nastavení příloh'!AN81/100","v":-0.13},{"$f":"'Nastavení příloh'!AO81/100","v":-0.13},{"$f":"'Nastavení příloh'!AP81/100","v":-0.13},{"$f":"'Nastavení příloh'!AQ81/100","v":-0.13},{"$f":"'Nastavení příloh'!AR81/100","v":-0.13},{"$f":"'Nastavení příloh'!AS81/100","v":-0.13},{"$f":"'Nastavení příloh'!AT81/100","v":-0.11},{"$f":"'Nastavení příloh'!AU81/100","v":-0.02},{"$f":"'Nastavení příloh'!AV81/100","v":0},null,null,null,null,null,null,null,null,null,null,null,null,null,null,null,null,null,null,null,null,null,null,null,null,6400,"-",6499,{"$f":"'Nastavení příloh'!BZ81/100","v":0},{"$f":"'Nastavení příloh'!CA81/100","v":0},{"$f":"'Nastavení příloh'!CB81/100","v":0.05},{"$f":"'Nastavení příloh'!CC81/100","v":0.12},{"$f":"'Nastavení příloh'!CD81/100","v":0.12},{"$f":"'Nastavení příloh'!CE81/100","v":0.12},{"$f":"'Nastavení příloh'!CF81/100","v":0.12},{"$f":"'Nastavení příloh'!CG81/100","v":0.12},{"$f":"'Nastavení příloh'!CH81/100","v":0.12},{"$f":"'Nastavení příloh'!CI81/100","v":0.12},{"$f":"'Nastavení příloh'!CJ81/100","v":0.12},{"$f":"'Nastavení příloh'!CK81/100","v":0.12},{"$f":"'Nastavení příloh'!CL81/100","v":0.12},{"$f":"'Nastavení příloh'!CM81/100","v":0.12},{"$f":"'Nastavení příloh'!CN81/100","v":0.12},{"$f":"'Nastavení příloh'!CO81/100","v":0.12},{"$f":"'Nastavení příloh'!CP81/100","v":0.14000000000000001},{"$f":"'Nastavení příloh'!CQ81/100","v":0.23},{"$f":"'Nastavení příloh'!CR81/100","v":0.25}]
[null,null,null,null,null,null,null,null,null,null,null,null,null,null,null,null,null,null,null,null,null,null,"Příloha č. 5 k OZV č. …/2015 Název obec/město",null,null,null,null,null,null,null,null,null,null,null,null,null,null,null,null,null,null,null,null,null,null,"Příloha č. 6 k OZV č. …/2015 Název obec/město"]
["Maximální roční bonusy za třídění odpadů (zkráceně BT) - procentuální úleva na poplatku placeného na následující rok",null,null,null,null,null,null,null,null,null,null,null,null,null,null,null,null,null,null,null,null,null,null,"Maximální roční bonusy za efektivní využívání nádob (BV)-procentuální úleva na poplatku placeného na následující rok",null,null,null,null,null,null,null,null,null,null,null,null,null,null,null,null,null,null,null,null,null,null,null,null,null,null,null,null,null,null,null,null,null,null,null,null,null,null,null,null,null,null,null,null,null,"Součet maximálních ročních bonusů (BT + BV + BS)"]
[]
["Bonus za třídění odpadů je udělen do výše 23% za plast, 20% za papír, 30% za bioodpad, 13% za sklo, 8% za textil, 2% za nápojový karton, 2% za jedlý olej a tuk a 2% za drobné elektrozařízení z hodnoty maximálního bonusu uvedeného v  této tabulce. ",null,null,null,"Procentuální zastoupení objemu obsloužených nádob na plast a na papír v celkovém objemu obsloužených nádob",null,null,null,null,null,null,null,null,null,null,null,null,null,null,null,null,null,null,"Bonus za efektivní využívání sběrných nádob je udělen do výše 100% z hodnoty maximálního bonusu uvedeného v této tabulce.",null,null,null,"Procentuální zastoupení objemu obsloužených nádob na plast a na papír v celkovém objemu obsloužených nádob",null,null,null,null,null,null,null,null,null,null,null,null,null,null,null,null,null,null,null,null,null,null,null,null,null,null,null,null,null,null,null,null,null,null,null,null,null,null,null,null,null,"Záporná hodnota součtu bonusů (BT + BV + BS) je nahrazena nulou.",null,null,null,"Procentuální zastoupení objemu obsloužených nádob na plast a na papír v celkovém objemu obsloužených nádob"]
[null,null,null,null,"0 %","1-5 %","6-10 %","11-15 %","16-20 %","21-25 %","26-30 %","31-35 %","36-40 %","41-45 %","46-50 %","51-55 %","56-60 %","61-65 %","66-70 %","71-75 %","76-80 %","81-85 %","více jak 85 %",null,null,null,null,"0 %","1-5 %","6-10 %","11-15 %","16-20 %","21-25 %","26-30 %","31-35 %","36-40 %","41-45 %","46-50 %","51-55 %","56-60 %","61-65 %","66-70 %","71-75 %","76-80 %","81-85 %","více jak 85 %",null,null,null,null,null,null,null,null,null,null,null,null,null,null,null,null,null,null,null,null,null,null,null,null,null,null,null,"0 %","1-5 %","6-10 %","11-15 %","16-20 %","21-25 %","26-30 %","31-35 %","36-40 %","41-45 %","46-50 %","51-55 %","56-60 %","61-65 %","66-70 %","71-75 %","76-80 %","81-85 %","více jak 85 %"]
[null,null,null,null,"\"Třídí málo\"                                                                                                                                   \"Třídí hodně\"",null,null,null,null,null,null,null,null,null,null,null,null,null,null,null,null,null,null,null,null,null,null,"\"Třídí málo\"                                                                                                                                   \"Třídí hodně\"",null,null,null,null,null,null,null,null,null,null,null,null,null,null,null,null,null,null,null,null,null,null,null,null,null,null,null,null,null,null,null,null,null,null,null,null,null,null,null,null,null,null,null,null,null,"\"Třídí málo\"                                                                                                                                   \"Třídí hodně\""]
["Roční celkový objem obsloužených nádob přepočtený na jednoho účastníka systému užívajícího dané nádoby (litry/účastník systému/rok)",6500,"-",6599,{"$f":"'Nastavení příloh'!F88/100","v":0},{"$f":"'Nastavení příloh'!G88/100","v":7.0000000000000007E-2},{"$f":"'Nastavení příloh'!H88/100","v":0.18},{"$f":"'Nastavení příloh'!I88/100","v":0.25},{"$f":"'Nastavení příloh'!J88/100","v":0.25},{"$f":"'Nastavení příloh'!K88/100","v":0.25},{"$f":"'Nastavení příloh'!L88/100","v":0.25},{"$f":"'Nastavení příloh'!M88/100","v":0.25},{"$f":"'Nastavení příloh'!N88/100","v":0.25},{"$f":"'Nastavení příloh'!O88/100","v":0.25},{"$f":"'Nastavení příloh'!P88/100","v":0.25},{"$f":"'Nastavení příloh'!Q88/100","v":0.25},{"$f":"'Nastavení příloh'!R88/100","v":0.25},{"$f":"'Nastavení příloh'!S88/100","v":0.25},{"$f":"'Nastavení příloh'!T88/100","v":0.25},{"$f":"'Nastavení příloh'!U88/100","v":0.25},{"$f":"'Nastavení příloh'!V88/100","v":0.25},{"$f":"'Nastavení příloh'!W88/100","v":0.25},{"$f":"'Nastavení příloh'!X88/100","v":0.25},"Roční celkový objem obsloužených nádob přepočtený na jednoho účastníka systému užívajícího dané nádoby (litry/účastník systému/rok)",6500,"-",6599,{"$f":"'Nastavení příloh'!AD88/100","v":-0.13},{"$f":"'Nastavení příloh'!AE88/100","v":-0.13},{"$f":"'Nastavení příloh'!AF88/100","v":-0.13},{"$f":"'Nastavení příloh'!AG88/100","v":-0.13},{"$f":"'Nastavení příloh'!AH88/100","v":-0.13},{"$f":"'Nastavení příloh'!AI88/100","v":-0.13},{"$f":"'Nastavení příloh'!AJ88/100","v":-0.13},{"$f":"'Nastavení příloh'!AK88/100","v":-0.13},{"$f":"'Nastavení příloh'!AL88/100","v":-0.13},{"$f":"'Nastavení příloh'!AM88/100","v":-0.13},{"$f":"'Nastavení příloh'!AN88/100","v":-0.13},{"$f":"'Nastavení příloh'!AO88/100","v":-0.13},{"$f":"'Nastavení příloh'!AP88/100","v":-0.13},{"$f":"'Nastavení příloh'!AQ88/100","v":-0.13},{"$f":"'Nastavení příloh'!AR88/100","v":-0.13},{"$f":"'Nastavení příloh'!AS88/100","v":-0.13},{"$f":"'Nastavení příloh'!AT88/100","v":-0.11},{"$f":"'Nastavení příloh'!AU88/100","v":-0.02},{"$f":"'Nastavení příloh'!AV88/100","v":0},null,null,null,null,null,null,null,null,null,null,null,null,null,null,null,null,null,null,null,null,null,null,null,"Roční celkový objem obsloužených nádob přepočtený na jednoho účastníka systému užívajícího dané nádoby (litry/účastník systému/rok)",6500,"-",6599,{"$f":"'Nastavení příloh'!BZ88/100","v":0},{"$f":"'Nastavení příloh'!CA88/100","v":0},{"$f":"'Nastavení příloh'!CB88/100","v":0.05},{"$f":"'Nastavení příloh'!CC88/100","v":0.12},{"$f":"'Nastavení příloh'!CD88/100","v":0.12},{"$f":"'Nastavení příloh'!CE88/100","v":0.12},{"$f":"'Nastavení příloh'!CF88/100","v":0.12},{"$f":"'Nastavení příloh'!CG88/100","v":0.12},{"$f":"'Nastavení příloh'!CH88/100","v":0.12},{"$f":"'Nastavení příloh'!CI88/100","v":0.12},{"$f":"'Nastavení příloh'!CJ88/100","v":0.12},{"$f":"'Nastavení příloh'!CK88/100","v":0.12},{"$f":"'Nastavení příloh'!CL88/100","v":0.12},{"$f":"'Nastavení příloh'!CM88/100","v":0.12},{"$f":"'Nastavení příloh'!CN88/100","v":0.12},{"$f":"'Nastavení příloh'!CO88/100","v":0.12},{"$f":"'Nastavení příloh'!CP88/100","v":0.14000000000000001},{"$f":"'Nastavení příloh'!CQ88/100","v":0.23},{"$f":"'Nastavení příloh'!CR88/100","v":0.25}]
[null,6600,"-",6699,{"$f":"'Nastavení příloh'!F89/100","v":0},{"$f":"'Nastavení příloh'!G89/100","v":7.0000000000000007E-2},{"$f":"'Nastavení příloh'!H89/100","v":0.19},{"$f":"'Nastavení příloh'!I89/100","v":0.25},{"$f":"'Nastavení příloh'!J89/100","v":0.25},{"$f":"'Nastavení příloh'!K89/100","v":0.25},{"$f":"'Nastavení příloh'!L89/100","v":0.25},{"$f":"'Nastavení příloh'!M89/100","v":0.25},{"$f":"'Nastavení příloh'!N89/100","v":0.25},{"$f":"'Nastavení příloh'!O89/100","v":0.25},{"$f":"'Nastavení příloh'!P89/100","v":0.25},{"$f":"'Nastavení příloh'!Q89/100","v":0.25},{"$f":"'Nastavení příloh'!R89/100","v":0.25},{"$f":"'Nastavení příloh'!S89/100","v":0.25},{"$f":"'Nastavení příloh'!T89/100","v":0.25},{"$f":"'Nastavení příloh'!U89/100","v":0.25},{"$f":"'Nastavení příloh'!V89/100","v":0.25},{"$f":"'Nastavení příloh'!W89/100","v":0.25},{"$f":"'Nastavení příloh'!X89/100","v":0.25},null,6600,"-",6699,{"$f":"'Nastavení příloh'!AD89/100","v":-0.13},{"$f":"'Nastavení příloh'!AE89/100","v":-0.13},{"$f":"'Nastavení příloh'!AF89/100","v":-0.13},{"$f":"'Nastavení příloh'!AG89/100","v":-0.13},{"$f":"'Nastavení příloh'!AH89/100","v":-0.13},{"$f":"'Nastavení příloh'!AI89/100","v":-0.13},{"$f":"'Nastavení příloh'!AJ89/100","v":-0.13},{"$f":"'Nastavení příloh'!AK89/100","v":-0.13},{"$f":"'Nastavení příloh'!AL89/100","v":-0.13},{"$f":"'Nastavení příloh'!AM89/100","v":-0.13},{"$f":"'Nastavení příloh'!AN89/100","v":-0.13},{"$f":"'Nastavení příloh'!AO89/100","v":-0.13},{"$f":"'Nastavení příloh'!AP89/100","v":-0.13},{"$f":"'Nastavení příloh'!AQ89/100","v":-0.13},{"$f":"'Nastavení příloh'!AR89/100","v":-0.13},{"$f":"'Nastavení příloh'!AS89/100","v":-0.13},{"$f":"'Nastavení příloh'!AT89/100","v":-0.12},{"$f":"'Nastavení příloh'!AU89/100","v":-0.03},{"$f":"'Nastavení příloh'!AV89/100","v":0},null,null,null,null,null,null,null,null,null,null,null,null,null,null,null,null,null,null,null,null,null,null,null,null,6600,"-",6699,{"$f":"'Nastavení příloh'!BZ89/100","v":0},{"$f":"'Nastavení příloh'!CA89/100","v":0},{"$f":"'Nastavení příloh'!CB89/100","v":0.06},{"$f":"'Nastavení příloh'!CC89/100","v":0.12},{"$f":"'Nastavení příloh'!CD89/100","v":0.12},{"$f":"'Nastavení příloh'!CE89/100","v":0.12},{"$f":"'Nastavení příloh'!CF89/100","v":0.12},{"$f":"'Nastavení příloh'!CG89/100","v":0.12},{"$f":"'Nastavení příloh'!CH89/100","v":0.12},{"$f":"'Nastavení příloh'!CI89/100","v":0.12},{"$f":"'Nastavení příloh'!CJ89/100","v":0.12},{"$f":"'Nastavení příloh'!CK89/100","v":0.12},{"$f":"'Nastavení příloh'!CL89/100","v":0.12},{"$f":"'Nastavení příloh'!CM89/100","v":0.12},{"$f":"'Nastavení příloh'!CN89/100","v":0.12},{"$f":"'Nastavení příloh'!CO89/100","v":0.12},{"$f":"'Nastavení příloh'!CP89/100","v":0.13},{"$f":"'Nastavení příloh'!CQ89/100","v":0.22},{"$f":"'Nastavení příloh'!CR89/100","v":0.25}]
[null,6700,"-",6799,{"$f":"'Nastavení příloh'!F90/100","v":0},{"$f":"'Nastavení příloh'!G90/100","v":7.0000000000000007E-2},{"$f":"'Nastavení příloh'!H90/100","v":0.19},{"$f":"'Nastavení příloh'!I90/100","v":0.25},{"$f":"'Nastavení příloh'!J90/100","v":0.25},{"$f":"'Nastavení příloh'!K90/100","v":0.25},{"$f":"'Nastavení příloh'!L90/100","v":0.25},{"$f":"'Nastavení příloh'!M90/100","v":0.25},{"$f":"'Nastavení příloh'!N90/100","v":0.25},{"$f":"'Nastavení příloh'!O90/100","v":0.25},{"$f":"'Nastavení příloh'!P90/100","v":0.25},{"$f":"'Nastavení příloh'!Q90/100","v":0.25},{"$f":"'Nastavení příloh'!R90/100","v":0.25},{"$f":"'Nastavení příloh'!S90/100","v":0.25},{"$f":"'Nastavení příloh'!T90/100","v":0.25},{"$f":"'Nastavení příloh'!U90/100","v":0.25},{"$f":"'Nastavení příloh'!V90/100","v":0.25},{"$f":"'Nastavení příloh'!W90/100","v":0.25},{"$f":"'Nastavení příloh'!X90/100","v":0.25},null,6700,"-",6799,{"$f":"'Nastavení příloh'!AD90/100","v":-0.13},{"$f":"'Nastavení příloh'!AE90/100","v":-0.13},{"$f":"'Nastavení příloh'!AF90/100","v":-0.13},{"$f":"'Nastavení příloh'!AG90/100","v":-0.13},{"$f":"'Nastavení příloh'!AH90/100","v":-0.13},{"$f":"'Nastavení příloh'!AI90/100","v":-0.13},{"$f":"'Nastavení příloh'!AJ90/100","v":-0.13},{"$f":"'Nastavení příloh'!AK90/100","v":-0.13},{"$f":"'Nastavení příloh'!AL90/100","v":-0.13},{"$f":"'Nastavení příloh'!AM90/100","v":-0.13},{"$f":"'Nastavení příloh'!AN90/100","v":-0.13},{"$f":"'Nastavení příloh'!AO90/100","v":-0.13},{"$f":"'Nastavení příloh'!AP90/100","v":-0.13},{"$f":"'Nastavení příloh'!AQ90/100","v":-0.13},{"$f":"'Nastavení příloh'!AR90/100","v":-0.13},{"$f":"'Nastavení příloh'!AS90/100","v":-0.13},{"$f":"'Nastavení příloh'!AT90/100","v":-0.13},{"$f":"'Nastavení příloh'!AU90/100","v":-0.03},{"$f":"'Nastavení příloh'!AV90/100","v":0},null,null,null,null,null,null,null,null,null,null,null,null,null,null,null,null,null,null,null,null,null,null,null,null,6700,"-",6799,{"$f":"'Nastavení příloh'!BZ90/100","v":0},{"$f":"'Nastavení příloh'!CA90/100","v":0},{"$f":"'Nastavení příloh'!CB90/100","v":0.06},{"$f":"'Nastavení příloh'!CC90/100","v":0.12},{"$f":"'Nastavení příloh'!CD90/100","v":0.12},{"$f":"'Nastavení příloh'!CE90/100","v":0.12},{"$f":"'Nastavení příloh'!CF90/100","v":0.12},{"$f":"'Nastavení příloh'!CG90/100","v":0.12},{"$f":"'Nastavení příloh'!CH90/100","v":0.12},{"$f":"'Nastavení příloh'!CI90/100","v":0.12},{"$f":"'Nastavení příloh'!CJ90/100","v":0.12},{"$f":"'Nastavení příloh'!CK90/100","v":0.12},{"$f":"'Nastavení příloh'!CL90/100","v":0.12},{"$f":"'Nastavení příloh'!CM90/100","v":0.12},{"$f":"'Nastavení příloh'!CN90/100","v":0.12},{"$f":"'Nastavení příloh'!CO90/100","v":0.12},{"$f":"'Nastavení příloh'!CP90/100","v":0.12},{"$f":"'Nastavení příloh'!CQ90/100","v":0.22},{"$f":"'Nastavení příloh'!CR90/100","v":0.25}]
[null,6800,"-",6899,{"$f":"'Nastavení příloh'!F91/100","v":0},{"$f":"'Nastavení příloh'!G91/100","v":7.0000000000000007E-2},{"$f":"'Nastavení příloh'!H91/100","v":0.19},{"$f":"'Nastavení příloh'!I91/100","v":0.25},{"$f":"'Nastavení příloh'!J91/100","v":0.25},{"$f":"'Nastavení příloh'!K91/100","v":0.25},{"$f":"'Nastavení příloh'!L91/100","v":0.25},{"$f":"'Nastavení příloh'!M91/100","v":0.25},{"$f":"'Nastavení příloh'!N91/100","v":0.25},{"$f":"'Nastavení příloh'!O91/100","v":0.25},{"$f":"'Nastavení příloh'!P91/100","v":0.25},{"$f":"'Nastavení příloh'!Q91/100","v":0.25},{"$f":"'Nastavení příloh'!R91/100","v":0.25},{"$f":"'Nastavení příloh'!S91/100","v":0.25},{"$f":"'Nastavení příloh'!T91/100","v":0.25},{"$f":"'Nastavení příloh'!U91/100","v":0.25},{"$f":"'Nastavení příloh'!V91/100","v":0.25},{"$f":"'Nastavení příloh'!W91/100","v":0.25},{"$f":"'Nastavení příloh'!X91/100","v":0.25},null,6800,"-",6899,{"$f":"'Nastavení příloh'!AD91/100","v":-0.13},{"$f":"'Nastavení příloh'!AE91/100","v":-0.13},{"$f":"'Nastavení příloh'!AF91/100","v":-0.13},{"$f":"'Nastavení příloh'!AG91/100","v":-0.13},{"$f":"'Nastavení příloh'!AH91/100","v":-0.13},{"$f":"'Nastavení příloh'!AI91/100","v":-0.13},{"$f":"'Nastavení příloh'!AJ91/100","v":-0.13},{"$f":"'Nastavení příloh'!AK91/100","v":-0.13},{"$f":"'Nastavení příloh'!AL91/100","v":-0.13},{"$f":"'Nastavení příloh'!AM91/100","v":-0.13},{"$f":"'Nastavení příloh'!AN91/100","v":-0.13},{"$f":"'Nastavení příloh'!AO91/100","v":-0.13},{"$f":"'Nastavení příloh'!AP91/100","v":-0.13},{"$f":"'Nastavení příloh'!AQ91/100","v":-0.13},{"$f":"'Nastavení příloh'!AR91/100","v":-0.13},{"$f":"'Nastavení příloh'!AS91/100","v":-0.13},{"$f":"'Nastavení příloh'!AT91/100","v":-0.13},{"$f":"'Nastavení příloh'!AU91/100","v":-0.03},{"$f":"'Nastavení příloh'!AV91/100","v":0},null,null,null,null,null,null,null,null,null,null,null,null,null,null,null,null,null,null,null,null,null,null,null,null,6800,"-",6899,{"$f":"'Nastavení příloh'!BZ91/100","v":0},{"$f":"'Nastavení příloh'!CA91/100","v":0},{"$f":"'Nastavení příloh'!CB91/100","v":0.06},{"$f":"'Nastavení příloh'!CC91/100","v":0.12},{"$f":"'Nastavení příloh'!CD91/100","v":0.12},{"$f":"'Nastavení příloh'!CE91/100","v":0.12},{"$f":"'Nastavení příloh'!CF91/100","v":0.12},{"$f":"'Nastavení příloh'!CG91/100","v":0.12},{"$f":"'Nastavení příloh'!CH91/100","v":0.12},{"$f":"'Nastavení příloh'!CI91/100","v":0.12},{"$f":"'Nastavení příloh'!CJ91/100","v":0.12},{"$f":"'Nastavení příloh'!CK91/100","v":0.12},{"$f":"'Nastavení příloh'!CL91/100","v":0.12},{"$f":"'Nastavení příloh'!CM91/100","v":0.12},{"$f":"'Nastavení příloh'!CN91/100","v":0.12},{"$f":"'Nastavení příloh'!CO91/100","v":0.12},{"$f":"'Nastavení příloh'!CP91/100","v":0.12},{"$f":"'Nastavení příloh'!CQ91/100","v":0.22},{"$f":"'Nastavení příloh'!CR91/100","v":0.25}]
[null,6900,"-",6999,{"$f":"'Nastavení příloh'!F92/100","v":0},{"$f":"'Nastavení příloh'!G92/100","v":7.0000000000000007E-2},{"$f":"'Nastavení příloh'!H92/100","v":0.19},{"$f":"'Nastavení příloh'!I92/100","v":0.25},{"$f":"'Nastavení příloh'!J92/100","v":0.25},{"$f":"'Nastavení příloh'!K92/100","v":0.25},{"$f":"'Nastavení příloh'!L92/100","v":0.25},{"$f":"'Nastavení příloh'!M92/100","v":0.25},{"$f":"'Nastavení příloh'!N92/100","v":0.25},{"$f":"'Nastavení příloh'!O92/100","v":0.25},{"$f":"'Nastavení příloh'!P92/100","v":0.25},{"$f":"'Nastavení příloh'!Q92/100","v":0.25},{"$f":"'Nastavení příloh'!R92/100","v":0.25},{"$f":"'Nastavení příloh'!S92/100","v":0.25},{"$f":"'Nastavení příloh'!T92/100","v":0.25},{"$f":"'Nastavení příloh'!U92/100","v":0.25},{"$f":"'Nastavení příloh'!V92/100","v":0.25},{"$f":"'Nastavení příloh'!W92/100","v":0.25},{"$f":"'Nastavení příloh'!X92/100","v":0.25},null,6900,"-",6999,{"$f":"'Nastavení příloh'!AD92/100","v":-0.13},{"$f":"'Nastavení příloh'!AE92/100","v":-0.13},{"$f":"'Nastavení příloh'!AF92/100","v":-0.13},{"$f":"'Nastavení příloh'!AG92/100","v":-0.13},{"$f":"'Nastavení příloh'!AH92/100","v":-0.13},{"$f":"'Nastavení příloh'!AI92/100","v":-0.13},{"$f":"'Nastavení příloh'!AJ92/100","v":-0.13},{"$f":"'Nastavení příloh'!AK92/100","v":-0.13},{"$f":"'Nastavení příloh'!AL92/100","v":-0.13},{"$f":"'Nastavení příloh'!AM92/100","v":-0.13},{"$f":"'Nastavení příloh'!AN92/100","v":-0.13},{"$f":"'Nastavení příloh'!AO92/100","v":-0.13},{"$f":"'Nastavení příloh'!AP92/100","v":-0.13},{"$f":"'Nastavení příloh'!AQ92/100","v":-0.13},{"$f":"'Nastavení příloh'!AR92/100","v":-0.13},{"$f":"'Nastavení příloh'!AS92/100","v":-0.13},{"$f":"'Nastavení příloh'!AT92/100","v":-0.13},{"$f":"'Nastavení příloh'!AU92/100","v":-0.04},{"$f":"'Nastavení příloh'!AV92/100","v":0},null,null,null,null,null,null,null,null,null,null,null,null,null,null,null,null,null,null,null,null,null,null,null,null,6900,"-",6999,{"$f":"'Nastavení příloh'!BZ92/100","v":0},{"$f":"'Nastavení příloh'!CA92/100","v":0},{"$f":"'Nastavení příloh'!CB92/100","v":0.06},{"$f":"'Nastavení příloh'!CC92/100","v":0.12},{"$f":"'Nastavení příloh'!CD92/100","v":0.12},{"$f":"'Nastavení příloh'!CE92/100","v":0.12},{"$f":"'Nastavení příloh'!CF92/100","v":0.12},{"$f":"'Nastavení příloh'!CG92/100","v":0.12},{"$f":"'Nastavení příloh'!CH92/100","v":0.12},{"$f":"'Nastavení příloh'!CI92/100","v":0.12},{"$f":"'Nastavení příloh'!CJ92/100","v":0.12},{"$f":"'Nastavení příloh'!CK92/100","v":0.12},{"$f":"'Nastavení příloh'!CL92/100","v":0.12},{"$f":"'Nastavení příloh'!CM92/100","v":0.12},{"$f":"'Nastavení příloh'!CN92/100","v":0.12},{"$f":"'Nastavení příloh'!CO92/100","v":0.12},{"$f":"'Nastavení příloh'!CP92/100","v":0.12},{"$f":"'Nastavení příloh'!CQ92/100","v":0.21},{"$f":"'Nastavení příloh'!CR92/100","v":0.25}]
[null,7000,"-",7099,{"$f":"'Nastavení příloh'!F93/100","v":0},{"$f":"'Nastavení příloh'!G93/100","v":7.0000000000000007E-2},{"$f":"'Nastavení příloh'!H93/100","v":0.2},{"$f":"'Nastavení příloh'!I93/100","v":0.25},{"$f":"'Nastavení příloh'!J93/100","v":0.25},{"$f":"'Nastavení příloh'!K93/100","v":0.25},{"$f":"'Nastavení příloh'!L93/100","v":0.25},{"$f":"'Nastavení příloh'!M93/100","v":0.25},{"$f":"'Nastavení příloh'!N93/100","v":0.25},{"$f":"'Nastavení příloh'!O93/100","v":0.25},{"$f":"'Nastavení příloh'!P93/100","v":0.25},{"$f":"'Nastavení příloh'!Q93/100","v":0.25},{"$f":"'Nastavení příloh'!R93/100","v":0.25},{"$f":"'Nastavení příloh'!S93/100","v":0.25},{"$f":"'Nastavení příloh'!T93/100","v":0.25},{"$f":"'Nastavení příloh'!U93/100","v":0.25},{"$f":"'Nastavení příloh'!V93/100","v":0.25},{"$f":"'Nastavení příloh'!W93/100","v":0.25},{"$f":"'Nastavení příloh'!X93/100","v":0.25},null,7000,"-",7099,{"$f":"'Nastavení příloh'!AD93/100","v":-0.13},{"$f":"'Nastavení příloh'!AE93/100","v":-0.13},{"$f":"'Nastavení příloh'!AF93/100","v":-0.13},{"$f":"'Nastavení příloh'!AG93/100","v":-0.13},{"$f":"'Nastavení příloh'!AH93/100","v":-0.13},{"$f":"'Nastavení příloh'!AI93/100","v":-0.13},{"$f":"'Nastavení příloh'!AJ93/100","v":-0.13},{"$f":"'Nastavení příloh'!AK93/100","v":-0.13},{"$f":"'Nastavení příloh'!AL93/100","v":-0.13},{"$f":"'Nastavení příloh'!AM93/100","v":-0.13},{"$f":"'Nastavení příloh'!AN93/100","v":-0.13},{"$f":"'Nastavení příloh'!AO93/100","v":-0.13},{"$f":"'Nastavení příloh'!AP93/100","v":-0.13},{"$f":"'Nastavení příloh'!AQ93/100","v":-0.13},{"$f":"'Nastavení příloh'!AR93/100","v":-0.13},{"$f":"'Nastavení příloh'!AS93/100","v":-0.13},{"$f":"'Nastavení příloh'!AT93/100","v":-0.13},{"$f":"'Nastavení příloh'!AU93/100","v":-0.04},{"$f":"'Nastavení příloh'!AV93/100","v":0},null,null,null,null,null,null,null,null,null,null,null,null,null,null,null,null,null,null,null,null,null,null,null,null,7000,"-",7099,{"$f":"'Nastavení příloh'!BZ93/100","v":0},{"$f":"'Nastavení příloh'!CA93/100","v":0},{"$f":"'Nastavení příloh'!CB93/100","v":7.0000000000000007E-2},{"$f":"'Nastavení příloh'!CC93/100","v":0.12},{"$f":"'Nastavení příloh'!CD93/100","v":0.12},{"$f":"'Nastavení příloh'!CE93/100","v":0.12},{"$f":"'Nastavení příloh'!CF93/100","v":0.12},{"$f":"'Nastavení příloh'!CG93/100","v":0.12},{"$f":"'Nastavení příloh'!CH93/100","v":0.12},{"$f":"'Nastavení příloh'!CI93/100","v":0.12},{"$f":"'Nastavení příloh'!CJ93/100","v":0.12},{"$f":"'Nastavení příloh'!CK93/100","v":0.12},{"$f":"'Nastavení příloh'!CL93/100","v":0.12},{"$f":"'Nastavení příloh'!CM93/100","v":0.12},{"$f":"'Nastavení příloh'!CN93/100","v":0.12},{"$f":"'Nastavení příloh'!CO93/100","v":0.12},{"$f":"'Nastavení příloh'!CP93/100","v":0.12},{"$f":"'Nastavení příloh'!CQ93/100","v":0.21},{"$f":"'Nastavení příloh'!CR93/100","v":0.25}]
[null,7100,"-",7199,{"$f":"'Nastavení příloh'!F94/100","v":0},{"$f":"'Nastavení příloh'!G94/100","v":0.08},{"$f":"'Nastavení příloh'!H94/100","v":0.2},{"$f":"'Nastavení příloh'!I94/100","v":0.25},{"$f":"'Nastavení příloh'!J94/100","v":0.25},{"$f":"'Nastavení příloh'!K94/100","v":0.25},{"$f":"'Nastavení příloh'!L94/100","v":0.25},{"$f":"'Nastavení příloh'!M94/100","v":0.25},{"$f":"'Nastavení příloh'!N94/100","v":0.25},{"$f":"'Nastavení příloh'!O94/100","v":0.25},{"$f":"'Nastavení příloh'!P94/100","v":0.25},{"$f":"'Nastavení příloh'!Q94/100","v":0.25},{"$f":"'Nastavení příloh'!R94/100","v":0.25},{"$f":"'Nastavení příloh'!S94/100","v":0.25},{"$f":"'Nastavení příloh'!T94/100","v":0.25},{"$f":"'Nastavení příloh'!U94/100","v":0.25},{"$f":"'Nastavení příloh'!V94/100","v":0.25},{"$f":"'Nastavení příloh'!W94/100","v":0.25},{"$f":"'Nastavení příloh'!X94/100","v":0.25},null,7100,"-",7199,{"$f":"'Nastavení příloh'!AD94/100","v":-0.13},{"$f":"'Nastavení příloh'!AE94/100","v":-0.13},{"$f":"'Nastavení příloh'!AF94/100","v":-0.13},{"$f":"'Nastavení příloh'!AG94/100","v":-0.13},{"$f":"'Nastavení příloh'!AH94/100","v":-0.13},{"$f":"'Nastavení příloh'!AI94/100","v":-0.13},{"$f":"'Nastavení příloh'!AJ94/100","v":-0.13},{"$f":"'Nastavení příloh'!AK94/100","v":-0.13},{"$f":"'Nastavení příloh'!AL94/100","v":-0.13},{"$f":"'Nastavení příloh'!AM94/100","v":-0.13},{"$f":"'Nastavení příloh'!AN94/100","v":-0.13},{"$f":"'Nastavení příloh'!AO94/100","v":-0.13},{"$f":"'Nastavení příloh'!AP94/100","v":-0.13},{"$f":"'Nastavení příloh'!AQ94/100","v":-0.13},{"$f":"'Nastavení příloh'!AR94/100","v":-0.13},{"$f":"'Nastavení příloh'!AS94/100","v":-0.13},{"$f":"'Nastavení příloh'!AT94/100","v":-0.13},{"$f":"'Nastavení příloh'!AU94/100","v":-0.05},{"$f":"'Nastavení příloh'!AV94/100","v":0},null,null,null,null,null,null,null,null,null,null,null,null,null,null,null,null,null,null,null,null,null,null,null,null,7100,"-",7199,{"$f":"'Nastavení příloh'!BZ94/100","v":0},{"$f":"'Nastavení příloh'!CA94/100","v":0},{"$f":"'Nastavení příloh'!CB94/100","v":7.0000000000000007E-2},{"$f":"'Nastavení příloh'!CC94/100","v":0.12},{"$f":"'Nastavení příloh'!CD94/100","v":0.12},{"$f":"'Nastavení příloh'!CE94/100","v":0.12},{"$f":"'Nastavení příloh'!CF94/100","v":0.12},{"$f":"'Nastavení příloh'!CG94/100","v":0.12},{"$f":"'Nastavení příloh'!CH94/100","v":0.12},{"$f":"'Nastavení příloh'!CI94/100","v":0.12},{"$f":"'Nastavení příloh'!CJ94/100","v":0.12},{"$f":"'Nastavení příloh'!CK94/100","v":0.12},{"$f":"'Nastavení příloh'!CL94/100","v":0.12},{"$f":"'Nastavení příloh'!CM94/100","v":0.12},{"$f":"'Nastavení příloh'!CN94/100","v":0.12},{"$f":"'Nastavení příloh'!CO94/100","v":0.12},{"$f":"'Nastavení příloh'!CP94/100","v":0.12},{"$f":"'Nastavení příloh'!CQ94/100","v":0.2},{"$f":"'Nastavení příloh'!CR94/100","v":0.25}]
[null,7200,"-",7299,{"$f":"'Nastavení příloh'!F95/100","v":0},{"$f":"'Nastavení příloh'!G95/100","v":0.08},{"$f":"'Nastavení příloh'!H95/100","v":0.2},{"$f":"'Nastavení příloh'!I95/100","v":0.25},{"$f":"'Nastavení příloh'!J95/100","v":0.25},{"$f":"'Nastavení příloh'!K95/100","v":0.25},{"$f":"'Nastavení příloh'!L95/100","v":0.25},{"$f":"'Nastavení příloh'!M95/100","v":0.25},{"$f":"'Nastavení příloh'!N95/100","v":0.25},{"$f":"'Nastavení příloh'!O95/100","v":0.25},{"$f":"'Nastavení příloh'!P95/100","v":0.25},{"$f":"'Nastavení příloh'!Q95/100","v":0.25},{"$f":"'Nastavení příloh'!R95/100","v":0.25},{"$f":"'Nastavení příloh'!S95/100","v":0.25},{"$f":"'Nastavení příloh'!T95/100","v":0.25},{"$f":"'Nastavení příloh'!U95/100","v":0.25},{"$f":"'Nastavení příloh'!V95/100","v":0.25},{"$f":"'Nastavení příloh'!W95/100","v":0.25},{"$f":"'Nastavení příloh'!X95/100","v":0.25},null,7200,"-",7299,{"$f":"'Nastavení příloh'!AD95/100","v":-0.13},{"$f":"'Nastavení příloh'!AE95/100","v":-0.13},{"$f":"'Nastavení příloh'!AF95/100","v":-0.13},{"$f":"'Nastavení příloh'!AG95/100","v":-0.13},{"$f":"'Nastavení příloh'!AH95/100","v":-0.13},{"$f":"'Nastavení příloh'!AI95/100","v":-0.13},{"$f":"'Nastavení příloh'!AJ95/100","v":-0.13},{"$f":"'Nastavení příloh'!AK95/100","v":-0.13},{"$f":"'Nastavení příloh'!AL95/100","v":-0.13},{"$f":"'Nastavení příloh'!AM95/100","v":-0.13},{"$f":"'Nastavení příloh'!AN95/100","v":-0.13},{"$f":"'Nastavení příloh'!AO95/100","v":-0.13},{"$f":"'Nastavení příloh'!AP95/100","v":-0.13},{"$f":"'Nastavení příloh'!AQ95/100","v":-0.13},{"$f":"'Nastavení příloh'!AR95/100","v":-0.13},{"$f":"'Nastavení příloh'!AS95/100","v":-0.13},{"$f":"'Nastavení příloh'!AT95/100","v":-0.13},{"$f":"'Nastavení příloh'!AU95/100","v":-0.05},{"$f":"'Nastavení příloh'!AV95/100","v":0},null,null,null,null,null,null,null,null,null,null,null,null,null,null,null,null,null,null,null,null,null,null,null,null,7200,"-",7299,{"$f":"'Nastavení příloh'!BZ95/100","v":0},{"$f":"'Nastavení příloh'!CA95/100","v":0},{"$f":"'Nastavení příloh'!CB95/100","v":7.0000000000000007E-2},{"$f":"'Nastavení příloh'!CC95/100","v":0.12},{"$f":"'Nastavení příloh'!CD95/100","v":0.12},{"$f":"'Nastavení příloh'!CE95/100","v":0.12},{"$f":"'Nastavení příloh'!CF95/100","v":0.12},{"$f":"'Nastavení příloh'!CG95/100","v":0.12},{"$f":"'Nastavení příloh'!CH95/100","v":0.12},{"$f":"'Nastavení příloh'!CI95/100","v":0.12},{"$f":"'Nastavení příloh'!CJ95/100","v":0.12},{"$f":"'Nastavení příloh'!CK95/100","v":0.12},{"$f":"'Nastavení příloh'!CL95/100","v":0.12},{"$f":"'Nastavení příloh'!CM95/100","v":0.12},{"$f":"'Nastavení příloh'!CN95/100","v":0.12},{"$f":"'Nastavení příloh'!CO95/100","v":0.12},{"$f":"'Nastavení příloh'!CP95/100","v":0.12},{"$f":"'Nastavení příloh'!CQ95/100","v":0.2},{"$f":"'Nastavení příloh'!CR95/100","v":0.25}]
[null,7300,"-",7399,{"$f":"'Nastavení příloh'!F96/100","v":0},{"$f":"'Nastavení příloh'!G96/100","v":0.08},{"$f":"'Nastavení příloh'!H96/100","v":0.21},{"$f":"'Nastavení příloh'!I96/100","v":0.25},{"$f":"'Nastavení příloh'!J96/100","v":0.25},{"$f":"'Nastavení příloh'!K96/100","v":0.25},{"$f":"'Nastavení příloh'!L96/100","v":0.25},{"$f":"'Nastavení příloh'!M96/100","v":0.25},{"$f":"'Nastavení příloh'!N96/100","v":0.25},{"$f":"'Nastavení příloh'!O96/100","v":0.25},{"$f":"'Nastavení příloh'!P96/100","v":0.25},{"$f":"'Nastavení příloh'!Q96/100","v":0.25},{"$f":"'Nastavení příloh'!R96/100","v":0.25},{"$f":"'Nastavení příloh'!S96/100","v":0.25},{"$f":"'Nastavení příloh'!T96/100","v":0.25},{"$f":"'Nastavení příloh'!U96/100","v":0.25},{"$f":"'Nastavení příloh'!V96/100","v":0.25},{"$f":"'Nastavení příloh'!W96/100","v":0.25},{"$f":"'Nastavení příloh'!X96/100","v":0.25},null,7300,"-",7399,{"$f":"'Nastavení příloh'!AD96/100","v":-0.13},{"$f":"'Nastavení příloh'!AE96/100","v":-0.13},{"$f":"'Nastavení příloh'!AF96/100","v":-0.13},{"$f":"'Nastavení příloh'!AG96/100","v":-0.13},{"$f":"'Nastavení příloh'!AH96/100","v":-0.13},{"$f":"'Nastavení příloh'!AI96/100","v":-0.13},{"$f":"'Nastavení příloh'!AJ96/100","v":-0.13},{"$f":"'Nastavení příloh'!AK96/100","v":-0.13},{"$f":"'Nastavení příloh'!AL96/100","v":-0.13},{"$f":"'Nastavení příloh'!AM96/100","v":-0.13},{"$f":"'Nastavení příloh'!AN96/100","v":-0.13},{"$f":"'Nastavení příloh'!AO96/100","v":-0.13},{"$f":"'Nastavení příloh'!AP96/100","v":-0.13},{"$f":"'Nastavení příloh'!AQ96/100","v":-0.13},{"$f":"'Nastavení příloh'!AR96/100","v":-0.13},{"$f":"'Nastavení příloh'!AS96/100","v":-0.13},{"$f":"'Nastavení příloh'!AT96/100","v":-0.13},{"$f":"'Nastavení příloh'!AU96/100","v":-0.06},{"$f":"'Nastavení příloh'!AV96/100","v":0},null,null,null,null,null,null,null,null,null,null,null,null,null,null,null,null,null,null,null,null,null,null,null,null,7300,"-",7399,{"$f":"'Nastavení příloh'!BZ96/100","v":0},{"$f":"'Nastavení příloh'!CA96/100","v":0},{"$f":"'Nastavení příloh'!CB96/100","v":0.08},{"$f":"'Nastavení příloh'!CC96/100","v":0.12},{"$f":"'Nastavení příloh'!CD96/100","v":0.12},{"$f":"'Nastavení příloh'!CE96/100","v":0.12},{"$f":"'Nastavení příloh'!CF96/100","v":0.12},{"$f":"'Nastavení příloh'!CG96/100","v":0.12},{"$f":"'Nastavení příloh'!CH96/100","v":0.12},{"$f":"'Nastavení příloh'!CI96/100","v":0.12},{"$f":"'Nastavení příloh'!CJ96/100","v":0.12},{"$f":"'Nastavení příloh'!CK96/100","v":0.12},{"$f":"'Nastavení příloh'!CL96/100","v":0.12},{"$f":"'Nastavení příloh'!CM96/100","v":0.12},{"$f":"'Nastavení příloh'!CN96/100","v":0.12},{"$f":"'Nastavení příloh'!CO96/100","v":0.12},{"$f":"'Nastavení příloh'!CP96/100","v":0.12},{"$f":"'Nastavení příloh'!CQ96/100","v":0.19},{"$f":"'Nastavení příloh'!CR96/100","v":0.25}]
[null,7400,"-",7499,{"$f":"'Nastavení příloh'!F97/100","v":0},{"$f":"'Nastavení příloh'!G97/100","v":0.08},{"$f":"'Nastavení příloh'!H97/100","v":0.21},{"$f":"'Nastavení příloh'!I97/100","v":0.25},{"$f":"'Nastavení příloh'!J97/100","v":0.25},{"$f":"'Nastavení příloh'!K97/100","v":0.25},{"$f":"'Nastavení příloh'!L97/100","v":0.25},{"$f":"'Nastavení příloh'!M97/100","v":0.25},{"$f":"'Nastavení příloh'!N97/100","v":0.25},{"$f":"'Nastavení příloh'!O97/100","v":0.25},{"$f":"'Nastavení příloh'!P97/100","v":0.25},{"$f":"'Nastavení příloh'!Q97/100","v":0.25},{"$f":"'Nastavení příloh'!R97/100","v":0.25},{"$f":"'Nastavení příloh'!S97/100","v":0.25},{"$f":"'Nastavení příloh'!T97/100","v":0.25},{"$f":"'Nastavení příloh'!U97/100","v":0.25},{"$f":"'Nastavení příloh'!V97/100","v":0.25},{"$f":"'Nastavení příloh'!W97/100","v":0.25},{"$f":"'Nastavení příloh'!X97/100","v":0.25},null,7400,"-",7499,{"$f":"'Nastavení příloh'!AD97/100","v":-0.13},{"$f":"'Nastavení příloh'!AE97/100","v":-0.13},{"$f":"'Nastavení příloh'!AF97/100","v":-0.13},{"$f":"'Nastavení příloh'!AG97/100","v":-0.13},{"$f":"'Nastavení příloh'!AH97/100","v":-0.13},{"$f":"'Nastavení příloh'!AI97/100","v":-0.13},{"$f":"'Nastavení příloh'!AJ97/100","v":-0.13},{"$f":"'Nastavení příloh'!AK97/100","v":-0.13},{"$f":"'Nastavení příloh'!AL97/100","v":-0.13},{"$f":"'Nastavení příloh'!AM97/100","v":-0.13},{"$f":"'Nastavení příloh'!AN97/100","v":-0.13},{"$f":"'Nastavení příloh'!AO97/100","v":-0.13},{"$f":"'Nastavení příloh'!AP97/100","v":-0.13},{"$f":"'Nastavení příloh'!AQ97/100","v":-0.13},{"$f":"'Nastavení příloh'!AR97/100","v":-0.13},{"$f":"'Nastavení příloh'!AS97/100","v":-0.13},{"$f":"'Nastavení příloh'!AT97/100","v":-0.13},{"$f":"'Nastavení příloh'!AU97/100","v":-0.06},{"$f":"'Nastavení příloh'!AV97/100","v":0},null,null,null,null,null,null,null,null,null,null,null,null,null,null,null,null,null,null,null,null,null,null,null,null,7400,"-",7499,{"$f":"'Nastavení příloh'!BZ97/100","v":0},{"$f":"'Nastavení příloh'!CA97/100","v":0},{"$f":"'Nastavení příloh'!CB97/100","v":0.08},{"$f":"'Nastavení příloh'!CC97/100","v":0.12},{"$f":"'Nastavení příloh'!CD97/100","v":0.12},{"$f":"'Nastavení příloh'!CE97/100","v":0.12},{"$f":"'Nastavení příloh'!CF97/100","v":0.12},{"$f":"'Nastavení příloh'!CG97/100","v":0.12},{"$f":"'Nastavení příloh'!CH97/100","v":0.12},{"$f":"'Nastavení příloh'!CI97/100","v":0.12},{"$f":"'Nastavení příloh'!CJ97/100","v":0.12},{"$f":"'Nastavení příloh'!CK97/100","v":0.12},{"$f":"'Nastavení příloh'!CL97/100","v":0.12},{"$f":"'Nastavení příloh'!CM97/100","v":0.12},{"$f":"'Nastavení příloh'!CN97/100","v":0.12},{"$f":"'Nastavení příloh'!CO97/100","v":0.12},{"$f":"'Nastavení příloh'!CP97/100","v":0.12},{"$f":"'Nastavení příloh'!CQ97/100","v":0.19},{"$f":"'Nastavení příloh'!CR97/100","v":0.25}]
[null,7500,"-",7599,{"$f":"'Nastavení příloh'!F98/100","v":0},{"$f":"'Nastavení příloh'!G98/100","v":0.08},{"$f":"'Nastavení příloh'!H98/100","v":0.21},{"$f":"'Nastavení příloh'!I98/100","v":0.25},{"$f":"'Nastavení příloh'!J98/100","v":0.25},{"$f":"'Nastavení příloh'!K98/100","v":0.25},{"$f":"'Nastavení příloh'!L98/100","v":0.25},{"$f":"'Nastavení příloh'!M98/100","v":0.25},{"$f":"'Nastavení příloh'!N98/100","v":0.25},{"$f":"'Nastavení příloh'!O98/100","v":0.25},{"$f":"'Nastavení příloh'!P98/100","v":0.25},{"$f":"'Nastavení příloh'!Q98/100","v":0.25},{"$f":"'Nastavení příloh'!R98/100","v":0.25},{"$f":"'Nastavení příloh'!S98/100","v":0.25},{"$f":"'Nastavení příloh'!T98/100","v":0.25},{"$f":"'Nastavení příloh'!U98/100","v":0.25},{"$f":"'Nastavení příloh'!V98/100","v":0.25},{"$f":"'Nastavení příloh'!W98/100","v":0.25},{"$f":"'Nastavení příloh'!X98/100","v":0.25},null,7500,"-",7599,{"$f":"'Nastavení příloh'!AD98/100","v":-0.13},{"$f":"'Nastavení příloh'!AE98/100","v":-0.13},{"$f":"'Nastavení příloh'!AF98/100","v":-0.13},{"$f":"'Nastavení příloh'!AG98/100","v":-0.13},{"$f":"'Nastavení příloh'!AH98/100","v":-0.13},{"$f":"'Nastavení příloh'!AI98/100","v":-0.13},{"$f":"'Nastavení příloh'!AJ98/100","v":-0.13},{"$f":"'Nastavení příloh'!AK98/100","v":-0.13},{"$f":"'Nastavení příloh'!AL98/100","v":-0.13},{"$f":"'Nastavení příloh'!AM98/100","v":-0.13},{"$f":"'Nastavení příloh'!AN98/100","v":-0.13},{"$f":"'Nastavení příloh'!AO98/100","v":-0.13},{"$f":"'Nastavení příloh'!AP98/100","v":-0.13},{"$f":"'Nastavení příloh'!AQ98/100","v":-0.13},{"$f":"'Nastavení příloh'!AR98/100","v":-0.13},{"$f":"'Nastavení příloh'!AS98/100","v":-0.13},{"$f":"'Nastavení příloh'!AT98/100","v":-0.13},{"$f":"'Nastavení příloh'!AU98/100","v":-7.0000000000000007E-2},{"$f":"'Nastavení příloh'!AV98/100","v":0},null,null,null,null,null,null,null,null,null,null,null,null,null,null,null,null,null,null,null,null,null,null,null,null,7500,"-",7599,{"$f":"'Nastavení příloh'!BZ98/100","v":0},{"$f":"'Nastavení příloh'!CA98/100","v":0},{"$f":"'Nastavení příloh'!CB98/100","v":0.08},{"$f":"'Nastavení příloh'!CC98/100","v":0.12},{"$f":"'Nastavení příloh'!CD98/100","v":0.12},{"$f":"'Nastavení příloh'!CE98/100","v":0.12},{"$f":"'Nastavení příloh'!CF98/100","v":0.12},{"$f":"'Nastavení příloh'!CG98/100","v":0.12},{"$f":"'Nastavení příloh'!CH98/100","v":0.12},{"$f":"'Nastavení příloh'!CI98/100","v":0.12},{"$f":"'Nastavení příloh'!CJ98/100","v":0.12},{"$f":"'Nastavení příloh'!CK98/100","v":0.12},{"$f":"'Nastavení příloh'!CL98/100","v":0.12},{"$f":"'Nastavení příloh'!CM98/100","v":0.12},{"$f":"'Nastavení příloh'!CN98/100","v":0.12},{"$f":"'Nastavení příloh'!CO98/100","v":0.12},{"$f":"'Nastavení příloh'!CP98/100","v":0.12},{"$f":"'Nastavení příloh'!CQ98/100","v":0.18},{"$f":"'Nastavení příloh'!CR98/100","v":0.25}]
[null,7600,"-",7699,{"$f":"'Nastavení příloh'!F99/100","v":0},{"$f":"'Nastavení příloh'!G99/100","v":0.08},{"$f":"'Nastavení příloh'!H99/100","v":0.21},{"$f":"'Nastavení příloh'!I99/100","v":0.25},{"$f":"'Nastavení příloh'!J99/100","v":0.25},{"$f":"'Nastavení příloh'!K99/100","v":0.25},{"$f":"'Nastavení příloh'!L99/100","v":0.25},{"$f":"'Nastavení příloh'!M99/100","v":0.25},{"$f":"'Nastavení příloh'!N99/100","v":0.25},{"$f":"'Nastavení příloh'!O99/100","v":0.25},{"$f":"'Nastavení příloh'!P99/100","v":0.25},{"$f":"'Nastavení příloh'!Q99/100","v":0.25},{"$f":"'Nastavení příloh'!R99/100","v":0.25},{"$f":"'Nastavení příloh'!S99/100","v":0.25},{"$f":"'Nastavení příloh'!T99/100","v":0.25},{"$f":"'Nastavení příloh'!U99/100","v":0.25},{"$f":"'Nastavení příloh'!V99/100","v":0.25},{"$f":"'Nastavení příloh'!W99/100","v":0.25},{"$f":"'Nastavení příloh'!X99/100","v":0.25},null,7600,"-",7699,{"$f":"'Nastavení příloh'!AD99/100","v":-0.13},{"$f":"'Nastavení příloh'!AE99/100","v":-0.13},{"$f":"'Nastavení příloh'!AF99/100","v":-0.13},{"$f":"'Nastavení příloh'!AG99/100","v":-0.13},{"$f":"'Nastavení příloh'!AH99/100","v":-0.13},{"$f":"'Nastavení příloh'!AI99/100","v":-0.13},{"$f":"'Nastavení příloh'!AJ99/100","v":-0.13},{"$f":"'Nastavení příloh'!AK99/100","v":-0.13},{"$f":"'Nastavení příloh'!AL99/100","v":-0.13},{"$f":"'Nastavení příloh'!AM99/100","v":-0.13},{"$f":"'Nastavení příloh'!AN99/100","v":-0.13},{"$f":"'Nastavení příloh'!AO99/100","v":-0.13},{"$f":"'Nastavení příloh'!AP99/100","v":-0.13},{"$f":"'Nastavení příloh'!AQ99/100","v":-0.13},{"$f":"'Nastavení příloh'!AR99/100","v":-0.13},{"$f":"'Nastavení příloh'!AS99/100","v":-0.13},{"$f":"'Nastavení příloh'!AT99/100","v":-0.13},{"$f":"'Nastavení příloh'!AU99/100","v":-7.0000000000000007E-2},{"$f":"'Nastavení příloh'!AV99/100","v":-0.01},null,null,null,null,null,null,null,null,null,null,null,null,null,null,null,null,null,null,null,null,null,null,null,null,7600,"-",7699,{"$f":"'Nastavení příloh'!BZ99/100","v":0},{"$f":"'Nastavení příloh'!CA99/100","v":0},{"$f":"'Nastavení příloh'!CB99/100","v":0.08},{"$f":"'Nastavení příloh'!CC99/100","v":0.12},{"$f":"'Nastavení příloh'!CD99/100","v":0.12},{"$f":"'Nastavení příloh'!CE99/100","v":0.12},{"$f":"'Nastavení příloh'!CF99/100","v":0.12},{"$f":"'Nastavení příloh'!CG99/100","v":0.12},{"$f":"'Nastavení příloh'!CH99/100","v":0.12},{"$f":"'Nastavení příloh'!CI99/100","v":0.12},{"$f":"'Nastavení příloh'!CJ99/100","v":0.12},{"$f":"'Nastavení příloh'!CK99/100","v":0.12},{"$f":"'Nastavení příloh'!CL99/100","v":0.12},{"$f":"'Nastavení příloh'!CM99/100","v":0.12},{"$f":"'Nastavení příloh'!CN99/100","v":0.12},{"$f":"'Nastavení příloh'!CO99/100","v":0.12},{"$f":"'Nastavení příloh'!CP99/100","v":0.12},{"$f":"'Nastavení příloh'!CQ99/100","v":0.18},{"$f":"'Nastavení příloh'!CR99/100","v":0.24}]
[null,7700,"-",7799,{"$f":"'Nastavení příloh'!F100/100","v":0},{"$f":"'Nastavení příloh'!G100/100","v":0.08},{"$f":"'Nastavení příloh'!H100/100","v":0.22},{"$f":"'Nastavení příloh'!I100/100","v":0.25},{"$f":"'Nastavení příloh'!J100/100","v":0.25},{"$f":"'Nastavení příloh'!K100/100","v":0.25},{"$f":"'Nastavení příloh'!L100/100","v":0.25},{"$f":"'Nastavení příloh'!M100/100","v":0.25},{"$f":"'Nastavení příloh'!N100/100","v":0.25},{"$f":"'Nastavení příloh'!O100/100","v":0.25},{"$f":"'Nastavení příloh'!P100/100","v":0.25},{"$f":"'Nastavení příloh'!Q100/100","v":0.25},{"$f":"'Nastavení příloh'!R100/100","v":0.25},{"$f":"'Nastavení příloh'!S100/100","v":0.25},{"$f":"'Nastavení příloh'!T100/100","v":0.25},{"$f":"'Nastavení příloh'!U100/100","v":0.25},{"$f":"'Nastavení příloh'!V100/100","v":0.25},{"$f":"'Nastavení příloh'!W100/100","v":0.25},{"$f":"'Nastavení příloh'!X100/100","v":0.25},null,7700,"-",7799,{"$f":"'Nastavení příloh'!AD100/100","v":-0.13},{"$f":"'Nastavení příloh'!AE100/100","v":-0.13},{"$f":"'Nastavení příloh'!AF100/100","v":-0.13},{"$f":"'Nastavení příloh'!AG100/100","v":-0.13},{"$f":"'Nastavení příloh'!AH100/100","v":-0.13},{"$f":"'Nastavení příloh'!AI100/100","v":-0.13},{"$f":"'Nastavení příloh'!AJ100/100","v":-0.13},{"$f":"'Nastavení příloh'!AK100/100","v":-0.13},{"$f":"'Nastavení příloh'!AL100/100","v":-0.13},{"$f":"'Nastavení příloh'!AM100/100","v":-0.13},{"$f":"'Nastavení příloh'!AN100/100","v":-0.13},{"$f":"'Nastavení příloh'!AO100/100","v":-0.13},{"$f":"'Nastavení příloh'!AP100/100","v":-0.13},{"$f":"'Nastavení příloh'!AQ100/100","v":-0.13},{"$f":"'Nastavení příloh'!AR100/100","v":-0.13},{"$f":"'Nastavení příloh'!AS100/100","v":-0.13},{"$f":"'Nastavení příloh'!AT100/100","v":-0.13},{"$f":"'Nastavení příloh'!AU100/100","v":-0.08},{"$f":"'Nastavení příloh'!AV100/100","v":-0.01},null,null,null,null,null,null,null,null,null,null,null,null,null,null,null,null,null,null,null,null,null,null,null,null,7700,"-",7799,{"$f":"'Nastavení příloh'!BZ100/100","v":0},{"$f":"'Nastavení příloh'!CA100/100","v":0},{"$f":"'Nastavení příloh'!CB100/100","v":0.09},{"$f":"'Nastavení příloh'!CC100/100","v":0.12},{"$f":"'Nastavení příloh'!CD100/100","v":0.12},{"$f":"'Nastavení příloh'!CE100/100","v":0.12},{"$f":"'Nastavení příloh'!CF100/100","v":0.12},{"$f":"'Nastavení příloh'!CG100/100","v":0.12},{"$f":"'Nastavení příloh'!CH100/100","v":0.12},{"$f":"'Nastavení příloh'!CI100/100","v":0.12},{"$f":"'Nastavení příloh'!CJ100/100","v":0.12},{"$f":"'Nastavení příloh'!CK100/100","v":0.12},{"$f":"'Nastavení příloh'!CL100/100","v":0.12},{"$f":"'Nastavení příloh'!CM100/100","v":0.12},{"$f":"'Nastavení příloh'!CN100/100","v":0.12},{"$f":"'Nastavení příloh'!CO100/100","v":0.12},{"$f":"'Nastavení příloh'!CP100/100","v":0.12},{"$f":"'Nastavení příloh'!CQ100/100","v":0.17},{"$f":"'Nastavení příloh'!CR100/100","v":0.24}]
[null,7800,"-",7899,{"$f":"'Nastavení příloh'!F101/100","v":0},{"$f":"'Nastavení příloh'!G101/100","v":0.08},{"$f":"'Nastavení příloh'!H101/100","v":0.22},{"$f":"'Nastavení příloh'!I101/100","v":0.25},{"$f":"'Nastavení příloh'!J101/100","v":0.25},{"$f":"'Nastavení příloh'!K101/100","v":0.25},{"$f":"'Nastavení příloh'!L101/100","v":0.25},{"$f":"'Nastavení příloh'!M101/100","v":0.25},{"$f":"'Nastavení příloh'!N101/100","v":0.25},{"$f":"'Nastavení příloh'!O101/100","v":0.25},{"$f":"'Nastavení příloh'!P101/100","v":0.25},{"$f":"'Nastavení příloh'!Q101/100","v":0.25},{"$f":"'Nastavení příloh'!R101/100","v":0.25},{"$f":"'Nastavení příloh'!S101/100","v":0.25},{"$f":"'Nastavení příloh'!T101/100","v":0.25},{"$f":"'Nastavení příloh'!U101/100","v":0.25},{"$f":"'Nastavení příloh'!V101/100","v":0.25},{"$f":"'Nastavení příloh'!W101/100","v":0.25},{"$f":"'Nastavení příloh'!X101/100","v":0.25},null,7800,"-",7899,{"$f":"'Nastavení příloh'!AD101/100","v":-0.13},{"$f":"'Nastavení příloh'!AE101/100","v":-0.13},{"$f":"'Nastavení příloh'!AF101/100","v":-0.13},{"$f":"'Nastavení příloh'!AG101/100","v":-0.13},{"$f":"'Nastavení příloh'!AH101/100","v":-0.13},{"$f":"'Nastavení příloh'!AI101/100","v":-0.13},{"$f":"'Nastavení příloh'!AJ101/100","v":-0.13},{"$f":"'Nastavení příloh'!AK101/100","v":-0.13},{"$f":"'Nastavení příloh'!AL101/100","v":-0.13},{"$f":"'Nastavení příloh'!AM101/100","v":-0.13},{"$f":"'Nastavení příloh'!AN101/100","v":-0.13},{"$f":"'Nastavení příloh'!AO101/100","v":-0.13},{"$f":"'Nastavení příloh'!AP101/100","v":-0.13},{"$f":"'Nastavení příloh'!AQ101/100","v":-0.13},{"$f":"'Nastavení příloh'!AR101/100","v":-0.13},{"$f":"'Nastavení příloh'!AS101/100","v":-0.13},{"$f":"'Nastavení příloh'!AT101/100","v":-0.13},{"$f":"'Nastavení příloh'!AU101/100","v":-0.08},{"$f":"'Nastavení příloh'!AV101/100","v":-0.02},null,null,null,null,null,null,null,null,null,null,null,null,null,null,null,null,null,null,null,null,null,null,null,null,7800,"-",7899,{"$f":"'Nastavení příloh'!BZ101/100","v":0},{"$f":"'Nastavení příloh'!CA101/100","v":0},{"$f":"'Nastavení příloh'!CB101/100","v":0.09},{"$f":"'Nastavení příloh'!CC101/100","v":0.12},{"$f":"'Nastavení příloh'!CD101/100","v":0.12},{"$f":"'Nastavení příloh'!CE101/100","v":0.12},{"$f":"'Nastavení příloh'!CF101/100","v":0.12},{"$f":"'Nastavení příloh'!CG101/100","v":0.12},{"$f":"'Nastavení příloh'!CH101/100","v":0.12},{"$f":"'Nastavení příloh'!CI101/100","v":0.12},{"$f":"'Nastavení příloh'!CJ101/100","v":0.12},{"$f":"'Nastavení příloh'!CK101/100","v":0.12},{"$f":"'Nastavení příloh'!CL101/100","v":0.12},{"$f":"'Nastavení příloh'!CM101/100","v":0.12},{"$f":"'Nastavení příloh'!CN101/100","v":0.12},{"$f":"'Nastavení příloh'!CO101/100","v":0.12},{"$f":"'Nastavení příloh'!CP101/100","v":0.12},{"$f":"'Nastavení příloh'!CQ101/100","v":0.17},{"$f":"'Nastavení příloh'!CR101/100","v":0.23}]
[null,7900,"-",7999,{"$f":"'Nastavení příloh'!F102/100","v":0},{"$f":"'Nastavení příloh'!G102/100","v":0.08},{"$f":"'Nastavení příloh'!H102/100","v":0.22},{"$f":"'Nastavení příloh'!I102/100","v":0.25},{"$f":"'Nastavení příloh'!J102/100","v":0.25},{"$f":"'Nastavení příloh'!K102/100","v":0.25},{"$f":"'Nastavení příloh'!L102/100","v":0.25},{"$f":"'Nastavení příloh'!M102/100","v":0.25},{"$f":"'Nastavení příloh'!N102/100","v":0.25},{"$f":"'Nastavení příloh'!O102/100","v":0.25},{"$f":"'Nastavení příloh'!P102/100","v":0.25},{"$f":"'Nastavení příloh'!Q102/100","v":0.25},{"$f":"'Nastavení příloh'!R102/100","v":0.25},{"$f":"'Nastavení příloh'!S102/100","v":0.25},{"$f":"'Nastavení příloh'!T102/100","v":0.25},{"$f":"'Nastavení příloh'!U102/100","v":0.25},{"$f":"'Nastavení příloh'!V102/100","v":0.25},{"$f":"'Nastavení příloh'!W102/100","v":0.25},{"$f":"'Nastavení příloh'!X102/100","v":0.25},null,7900,"-",7999,{"$f":"'Nastavení příloh'!AD102/100","v":-0.13},{"$f":"'Nastavení příloh'!AE102/100","v":-0.13},{"$f":"'Nastavení příloh'!AF102/100","v":-0.13},{"$f":"'Nastavení příloh'!AG102/100","v":-0.13},{"$f":"'Nastavení příloh'!AH102/100","v":-0.13},{"$f":"'Nastavení příloh'!AI102/100","v":-0.13},{"$f":"'Nastavení příloh'!AJ102/100","v":-0.13},{"$f":"'Nastavení příloh'!AK102/100","v":-0.13},{"$f":"'Nastavení příloh'!AL102/100","v":-0.13},{"$f":"'Nastavení příloh'!AM102/100","v":-0.13},{"$f":"'Nastavení příloh'!AN102/100","v":-0.13},{"$f":"'Nastavení příloh'!AO102/100","v":-0.13},{"$f":"'Nastavení příloh'!AP102/100","v":-0.13},{"$f":"'Nastavení příloh'!AQ102/100","v":-0.13},{"$f":"'Nastavení příloh'!AR102/100","v":-0.13},{"$f":"'Nastavení příloh'!AS102/100","v":-0.13},{"$f":"'Nastavení příloh'!AT102/100","v":-0.13},{"$f":"'Nastavení příloh'!AU102/100","v":-0.09},{"$f":"'Nastavení příloh'!AV102/100","v":-0.02},null,null,null,null,null,null,null,null,null,null,null,null,null,null,null,null,null,null,null,null,null,null,null,null,7900,"-",7999,{"$f":"'Nastavení příloh'!BZ102/100","v":0},{"$f":"'Nastavení příloh'!CA102/100","v":0},{"$f":"'Nastavení příloh'!CB102/100","v":0.09},{"$f":"'Nastavení příloh'!CC102/100","v":0.12},{"$f":"'Nastavení příloh'!CD102/100","v":0.12},{"$f":"'Nastavení příloh'!CE102/100","v":0.12},{"$f":"'Nastavení příloh'!CF102/100","v":0.12},{"$f":"'Nastavení příloh'!CG102/100","v":0.12},{"$f":"'Nastavení příloh'!CH102/100","v":0.12},{"$f":"'Nastavení příloh'!CI102/100","v":0.12},{"$f":"'Nastavení příloh'!CJ102/100","v":0.12},{"$f":"'Nastavení příloh'!CK102/100","v":0.12},{"$f":"'Nastavení příloh'!CL102/100","v":0.12},{"$f":"'Nastavení příloh'!CM102/100","v":0.12},{"$f":"'Nastavení příloh'!CN102/100","v":0.12},{"$f":"'Nastavení příloh'!CO102/100","v":0.12},{"$f":"'Nastavení příloh'!CP102/100","v":0.12},{"$f":"'Nastavení příloh'!CQ102/100","v":0.16},{"$f":"'Nastavení příloh'!CR102/100","v":0.23}]
[null,8000,"-",8099,{"$f":"'Nastavení příloh'!F103/100","v":0},{"$f":"'Nastavení příloh'!G103/100","v":0.08},{"$f":"'Nastavení příloh'!H103/100","v":0.23},{"$f":"'Nastavení příloh'!I103/100","v":0.25},{"$f":"'Nastavení příloh'!J103/100","v":0.25},{"$f":"'Nastavení příloh'!K103/100","v":0.25},{"$f":"'Nastavení příloh'!L103/100","v":0.25},{"$f":"'Nastavení příloh'!M103/100","v":0.25},{"$f":"'Nastavení příloh'!N103/100","v":0.25},{"$f":"'Nastavení příloh'!O103/100","v":0.25},{"$f":"'Nastavení příloh'!P103/100","v":0.25},{"$f":"'Nastavení příloh'!Q103/100","v":0.25},{"$f":"'Nastavení příloh'!R103/100","v":0.25},{"$f":"'Nastavení příloh'!S103/100","v":0.25},{"$f":"'Nastavení příloh'!T103/100","v":0.25},{"$f":"'Nastavení příloh'!U103/100","v":0.25},{"$f":"'Nastavení příloh'!V103/100","v":0.25},{"$f":"'Nastavení příloh'!W103/100","v":0.25},{"$f":"'Nastavení příloh'!X103/100","v":0.25},null,8000,"-",8099,{"$f":"'Nastavení příloh'!AD103/100","v":-0.13},{"$f":"'Nastavení příloh'!AE103/100","v":-0.13},{"$f":"'Nastavení příloh'!AF103/100","v":-0.13},{"$f":"'Nastavení příloh'!AG103/100","v":-0.13},{"$f":"'Nastavení příloh'!AH103/100","v":-0.13},{"$f":"'Nastavení příloh'!AI103/100","v":-0.13},{"$f":"'Nastavení příloh'!AJ103/100","v":-0.13},{"$f":"'Nastavení příloh'!AK103/100","v":-0.13},{"$f":"'Nastavení příloh'!AL103/100","v":-0.13},{"$f":"'Nastavení příloh'!AM103/100","v":-0.13},{"$f":"'Nastavení příloh'!AN103/100","v":-0.13},{"$f":"'Nastavení příloh'!AO103/100","v":-0.13},{"$f":"'Nastavení příloh'!AP103/100","v":-0.13},{"$f":"'Nastavení příloh'!AQ103/100","v":-0.13},{"$f":"'Nastavení příloh'!AR103/100","v":-0.13},{"$f":"'Nastavení příloh'!AS103/100","v":-0.13},{"$f":"'Nastavení příloh'!AT103/100","v":-0.13},{"$f":"'Nastavení příloh'!AU103/100","v":-0.09},{"$f":"'Nastavení příloh'!AV103/100","v":-0.02},null,null,null,null,null,null,null,null,null,null,null,null,null,null,null,null,null,null,null,null,null,null,null,null,8000,"-",8099,{"$f":"'Nastavení příloh'!BZ103/100","v":0},{"$f":"'Nastavení příloh'!CA103/100","v":0},{"$f":"'Nastavení příloh'!CB103/100","v":0.1},{"$f":"'Nastavení příloh'!CC103/100","v":0.12},{"$f":"'Nastavení příloh'!CD103/100","v":0.12},{"$f":"'Nastavení příloh'!CE103/100","v":0.12},{"$f":"'Nastavení příloh'!CF103/100","v":0.12},{"$f":"'Nastavení příloh'!CG103/100","v":0.12},{"$f":"'Nastavení příloh'!CH103/100","v":0.12},{"$f":"'Nastavení příloh'!CI103/100","v":0.12},{"$f":"'Nastavení příloh'!CJ103/100","v":0.12},{"$f":"'Nastavení příloh'!CK103/100","v":0.12},{"$f":"'Nastavení příloh'!CL103/100","v":0.12},{"$f":"'Nastavení příloh'!CM103/100","v":0.12},{"$f":"'Nastavení příloh'!CN103/100","v":0.12},{"$f":"'Nastavení příloh'!CO103/100","v":0.12},{"$f":"'Nastavení příloh'!CP103/100","v":0.12},{"$f":"'Nastavení příloh'!CQ103/100","v":0.16},{"$f":"'Nastavení příloh'!CR103/100","v":0.23}]
[null,8100,"-",8199,{"$f":"'Nastavení příloh'!F104/100","v":0},{"$f":"'Nastavení příloh'!G104/100","v":0.09},{"$f":"'Nastavení příloh'!H104/100","v":0.23},{"$f":"'Nastavení příloh'!I104/100","v":0.25},{"$f":"'Nastavení příloh'!J104/100","v":0.25},{"$f":"'Nastavení příloh'!K104/100","v":0.25},{"$f":"'Nastavení příloh'!L104/100","v":0.25},{"$f":"'Nastavení příloh'!M104/100","v":0.25},{"$f":"'Nastavení příloh'!N104/100","v":0.25},{"$f":"'Nastavení příloh'!O104/100","v":0.25},{"$f":"'Nastavení příloh'!P104/100","v":0.25},{"$f":"'Nastavení příloh'!Q104/100","v":0.25},{"$f":"'Nastavení příloh'!R104/100","v":0.25},{"$f":"'Nastavení příloh'!S104/100","v":0.25},{"$f":"'Nastavení příloh'!T104/100","v":0.25},{"$f":"'Nastavení příloh'!U104/100","v":0.25},{"$f":"'Nastavení příloh'!V104/100","v":0.25},{"$f":"'Nastavení příloh'!W104/100","v":0.25},{"$f":"'Nastavení příloh'!X104/100","v":0.25},null,8100,"-",8199,{"$f":"'Nastavení příloh'!AD104/100","v":-0.13},{"$f":"'Nastavení příloh'!AE104/100","v":-0.13},{"$f":"'Nastavení příloh'!AF104/100","v":-0.13},{"$f":"'Nastavení příloh'!AG104/100","v":-0.13},{"$f":"'Nastavení příloh'!AH104/100","v":-0.13},{"$f":"'Nastavení příloh'!AI104/100","v":-0.13},{"$f":"'Nastavení příloh'!AJ104/100","v":-0.13},{"$f":"'Nastavení příloh'!AK104/100","v":-0.13},{"$f":"'Nastavení příloh'!AL104/100","v":-0.13},{"$f":"'Nastavení příloh'!AM104/100","v":-0.13},{"$f":"'Nastavení příloh'!AN104/100","v":-0.13},{"$f":"'Nastavení příloh'!AO104/100","v":-0.13},{"$f":"'Nastavení příloh'!AP104/100","v":-0.13},{"$f":"'Nastavení příloh'!AQ104/100","v":-0.13},{"$f":"'Nastavení příloh'!AR104/100","v":-0.13},{"$f":"'Nastavení příloh'!AS104/100","v":-0.13},{"$f":"'Nastavení příloh'!AT104/100","v":-0.13},{"$f":"'Nastavení příloh'!AU104/100","v":-0.1},{"$f":"'Nastavení příloh'!AV104/100","v":-0.03},null,null,null,null,null,null,null,null,null,null,null,null,null,null,null,null,null,null,null,null,null,null,null,null,8100,"-",8199,{"$f":"'Nastavení příloh'!BZ104/100","v":0},{"$f":"'Nastavení příloh'!CA104/100","v":0},{"$f":"'Nastavení příloh'!CB104/100","v":0.1},{"$f":"'Nastavení příloh'!CC104/100","v":0.12},{"$f":"'Nastavení příloh'!CD104/100","v":0.12},{"$f":"'Nastavení příloh'!CE104/100","v":0.12},{"$f":"'Nastavení příloh'!CF104/100","v":0.12},{"$f":"'Nastavení příloh'!CG104/100","v":0.12},{"$f":"'Nastavení příloh'!CH104/100","v":0.12},{"$f":"'Nastavení příloh'!CI104/100","v":0.12},{"$f":"'Nastavení příloh'!CJ104/100","v":0.12},{"$f":"'Nastavení příloh'!CK104/100","v":0.12},{"$f":"'Nastavení příloh'!CL104/100","v":0.12},{"$f":"'Nastavení příloh'!CM104/100","v":0.12},{"$f":"'Nastavení příloh'!CN104/100","v":0.12},{"$f":"'Nastavení příloh'!CO104/100","v":0.12},{"$f":"'Nastavení příloh'!CP104/100","v":0.12},{"$f":"'Nastavení příloh'!CQ104/100","v":0.15},{"$f":"'Nastavení příloh'!CR104/100","v":0.22}]
[null,8200,"-",8299,{"$f":"'Nastavení příloh'!F105/100","v":0},{"$f":"'Nastavení příloh'!G105/100","v":0.09},{"$f":"'Nastavení příloh'!H105/100","v":0.23},{"$f":"'Nastavení příloh'!I105/100","v":0.25},{"$f":"'Nastavení příloh'!J105/100","v":0.25},{"$f":"'Nastavení příloh'!K105/100","v":0.25},{"$f":"'Nastavení příloh'!L105/100","v":0.25},{"$f":"'Nastavení příloh'!M105/100","v":0.25},{"$f":"'Nastavení příloh'!N105/100","v":0.25},{"$f":"'Nastavení příloh'!O105/100","v":0.25},{"$f":"'Nastavení příloh'!P105/100","v":0.25},{"$f":"'Nastavení příloh'!Q105/100","v":0.25},{"$f":"'Nastavení příloh'!R105/100","v":0.25},{"$f":"'Nastavení příloh'!S105/100","v":0.25},{"$f":"'Nastavení příloh'!T105/100","v":0.25},{"$f":"'Nastavení příloh'!U105/100","v":0.25},{"$f":"'Nastavení příloh'!V105/100","v":0.25},{"$f":"'Nastavení příloh'!W105/100","v":0.25},{"$f":"'Nastavení příloh'!X105/100","v":0.25},null,8200,"-",8299,{"$f":"'Nastavení příloh'!AD105/100","v":-0.13},{"$f":"'Nastavení příloh'!AE105/100","v":-0.13},{"$f":"'Nastavení příloh'!AF105/100","v":-0.13},{"$f":"'Nastavení příloh'!AG105/100","v":-0.13},{"$f":"'Nastavení příloh'!AH105/100","v":-0.13},{"$f":"'Nastavení příloh'!AI105/100","v":-0.13},{"$f":"'Nastavení příloh'!AJ105/100","v":-0.13},{"$f":"'Nastavení příloh'!AK105/100","v":-0.13},{"$f":"'Nastavení příloh'!AL105/100","v":-0.13},{"$f":"'Nastavení příloh'!AM105/100","v":-0.13},{"$f":"'Nastavení příloh'!AN105/100","v":-0.13},{"$f":"'Nastavení příloh'!AO105/100","v":-0.13},{"$f":"'Nastavení příloh'!AP105/100","v":-0.13},{"$f":"'Nastavení příloh'!AQ105/100","v":-0.13},{"$f":"'Nastavení příloh'!AR105/100","v":-0.13},{"$f":"'Nastavení příloh'!AS105/100","v":-0.13},{"$f":"'Nastavení příloh'!AT105/100","v":-0.13},{"$f":"'Nastavení příloh'!AU105/100","v":-0.1},{"$f":"'Nastavení příloh'!AV105/100","v":-0.03},null,null,null,null,null,null,null,null,null,null,null,null,null,null,null,null,null,null,null,null,null,null,null,null,8200,"-",8299,{"$f":"'Nastavení příloh'!BZ105/100","v":0},{"$f":"'Nastavení příloh'!CA105/100","v":0},{"$f":"'Nastavení příloh'!CB105/100","v":0.1},{"$f":"'Nastavení příloh'!CC105/100","v":0.12},{"$f":"'Nastavení příloh'!CD105/100","v":0.12},{"$f":"'Nastavení příloh'!CE105/100","v":0.12},{"$f":"'Nastavení příloh'!CF105/100","v":0.12},{"$f":"'Nastavení příloh'!CG105/100","v":0.12},{"$f":"'Nastavení příloh'!CH105/100","v":0.12},{"$f":"'Nastavení příloh'!CI105/100","v":0.12},{"$f":"'Nastavení příloh'!CJ105/100","v":0.12},{"$f":"'Nastavení příloh'!CK105/100","v":0.12},{"$f":"'Nastavení příloh'!CL105/100","v":0.12},{"$f":"'Nastavení příloh'!CM105/100","v":0.12},{"$f":"'Nastavení příloh'!CN105/100","v":0.12},{"$f":"'Nastavení příloh'!CO105/100","v":0.12},{"$f":"'Nastavení příloh'!CP105/100","v":0.12},{"$f":"'Nastavení příloh'!CQ105/100","v":0.15},{"$f":"'Nastavení příloh'!CR105/100","v":0.22}]
[null,8300,"-",8399,{"$f":"'Nastavení příloh'!F106/100","v":0},{"$f":"'Nastavení příloh'!G106/100","v":0.09},{"$f":"'Nastavení příloh'!H106/100","v":0.23},{"$f":"'Nastavení příloh'!I106/100","v":0.25},{"$f":"'Nastavení příloh'!J106/100","v":0.25},{"$f":"'Nastavení příloh'!K106/100","v":0.25},{"$f":"'Nastavení příloh'!L106/100","v":0.25},{"$f":"'Nastavení příloh'!M106/100","v":0.25},{"$f":"'Nastavení příloh'!N106/100","v":0.25},{"$f":"'Nastavení příloh'!O106/100","v":0.25},{"$f":"'Nastavení příloh'!P106/100","v":0.25},{"$f":"'Nastavení příloh'!Q106/100","v":0.25},{"$f":"'Nastavení příloh'!R106/100","v":0.25},{"$f":"'Nastavení příloh'!S106/100","v":0.25},{"$f":"'Nastavení příloh'!T106/100","v":0.25},{"$f":"'Nastavení příloh'!U106/100","v":0.25},{"$f":"'Nastavení příloh'!V106/100","v":0.25},{"$f":"'Nastavení příloh'!W106/100","v":0.25},{"$f":"'Nastavení příloh'!X106/100","v":0.25},null,8300,"-",8399,{"$f":"'Nastavení příloh'!AD106/100","v":-0.13},{"$f":"'Nastavení příloh'!AE106/100","v":-0.13},{"$f":"'Nastavení příloh'!AF106/100","v":-0.13},{"$f":"'Nastavení příloh'!AG106/100","v":-0.13},{"$f":"'Nastavení příloh'!AH106/100","v":-0.13},{"$f":"'Nastavení příloh'!AI106/100","v":-0.13},{"$f":"'Nastavení příloh'!AJ106/100","v":-0.13},{"$f":"'Nastavení příloh'!AK106/100","v":-0.13},{"$f":"'Nastavení příloh'!AL106/100","v":-0.13},{"$f":"'Nastavení příloh'!AM106/100","v":-0.13},{"$f":"'Nastavení příloh'!AN106/100","v":-0.13},{"$f":"'Nastavení příloh'!AO106/100","v":-0.13},{"$f":"'Nastavení příloh'!AP106/100","v":-0.13},{"$f":"'Nastavení příloh'!AQ106/100","v":-0.13},{"$f":"'Nastavení příloh'!AR106/100","v":-0.13},{"$f":"'Nastavení příloh'!AS106/100","v":-0.13},{"$f":"'Nastavení příloh'!AT106/100","v":-0.13},{"$f":"'Nastavení příloh'!AU106/100","v":-0.11},{"$f":"'Nastavení příloh'!AV106/100","v":-0.04},null,null,null,null,null,null,null,null,null,null,null,null,null,null,null,null,null,null,null,null,null,null,null,null,8300,"-",8399,{"$f":"'Nastavení příloh'!BZ106/100","v":0},{"$f":"'Nastavení příloh'!CA106/100","v":0},{"$f":"'Nastavení příloh'!CB106/100","v":0.1},{"$f":"'Nastavení příloh'!CC106/100","v":0.12},{"$f":"'Nastavení příloh'!CD106/100","v":0.12},{"$f":"'Nastavení příloh'!CE106/100","v":0.12},{"$f":"'Nastavení příloh'!CF106/100","v":0.12},{"$f":"'Nastavení příloh'!CG106/100","v":0.12},{"$f":"'Nastavení příloh'!CH106/100","v":0.12},{"$f":"'Nastavení příloh'!CI106/100","v":0.12},{"$f":"'Nastavení příloh'!CJ106/100","v":0.12},{"$f":"'Nastavení příloh'!CK106/100","v":0.12},{"$f":"'Nastavení příloh'!CL106/100","v":0.12},{"$f":"'Nastavení příloh'!CM106/100","v":0.12},{"$f":"'Nastavení příloh'!CN106/100","v":0.12},{"$f":"'Nastavení příloh'!CO106/100","v":0.12},{"$f":"'Nastavení příloh'!CP106/100","v":0.12},{"$f":"'Nastavení příloh'!CQ106/100","v":0.14000000000000001},{"$f":"'Nastavení příloh'!CR106/100","v":0.21}]
[null,8400,"-",8499,{"$f":"'Nastavení příloh'!F107/100","v":0},{"$f":"'Nastavení příloh'!G107/100","v":0.09},{"$f":"'Nastavení příloh'!H107/100","v":0.24},{"$f":"'Nastavení příloh'!I107/100","v":0.25},{"$f":"'Nastavení příloh'!J107/100","v":0.25},{"$f":"'Nastavení příloh'!K107/100","v":0.25},{"$f":"'Nastavení příloh'!L107/100","v":0.25},{"$f":"'Nastavení příloh'!M107/100","v":0.25},{"$f":"'Nastavení příloh'!N107/100","v":0.25},{"$f":"'Nastavení příloh'!O107/100","v":0.25},{"$f":"'Nastavení příloh'!P107/100","v":0.25},{"$f":"'Nastavení příloh'!Q107/100","v":0.25},{"$f":"'Nastavení příloh'!R107/100","v":0.25},{"$f":"'Nastavení příloh'!S107/100","v":0.25},{"$f":"'Nastavení příloh'!T107/100","v":0.25},{"$f":"'Nastavení příloh'!U107/100","v":0.25},{"$f":"'Nastavení příloh'!V107/100","v":0.25},{"$f":"'Nastavení příloh'!W107/100","v":0.25},{"$f":"'Nastavení příloh'!X107/100","v":0.25},null,8400,"-",8499,{"$f":"'Nastavení příloh'!AD107/100","v":-0.13},{"$f":"'Nastavení příloh'!AE107/100","v":-0.13},{"$f":"'Nastavení příloh'!AF107/100","v":-0.13},{"$f":"'Nastavení příloh'!AG107/100","v":-0.13},{"$f":"'Nastavení příloh'!AH107/100","v":-0.13},{"$f":"'Nastavení příloh'!AI107/100","v":-0.13},{"$f":"'Nastavení příloh'!AJ107/100","v":-0.13},{"$f":"'Nastavení příloh'!AK107/100","v":-0.13},{"$f":"'Nastavení příloh'!AL107/100","v":-0.13},{"$f":"'Nastavení příloh'!AM107/100","v":-0.13},{"$f":"'Nastavení příloh'!AN107/100","v":-0.13},{"$f":"'Nastavení příloh'!AO107/100","v":-0.13},{"$f":"'Nastavení příloh'!AP107/100","v":-0.13},{"$f":"'Nastavení příloh'!AQ107/100","v":-0.13},{"$f":"'Nastavení příloh'!AR107/100","v":-0.13},{"$f":"'Nastavení příloh'!AS107/100","v":-0.13},{"$f":"'Nastavení příloh'!AT107/100","v":-0.13},{"$f":"'Nastavení příloh'!AU107/100","v":-0.11},{"$f":"'Nastavení příloh'!AV107/100","v":-0.04},null,null,null,null,null,null,null,null,null,null,null,null,null,null,null,null,null,null,null,null,null,null,null,null,8400,"-",8499,{"$f":"'Nastavení příloh'!BZ107/100","v":0},{"$f":"'Nastavení příloh'!CA107/100","v":0},{"$f":"'Nastavení příloh'!CB107/100","v":0.11},{"$f":"'Nastavení příloh'!CC107/100","v":0.12},{"$f":"'Nastavení příloh'!CD107/100","v":0.12},{"$f":"'Nastavení příloh'!CE107/100","v":0.12},{"$f":"'Nastavení příloh'!CF107/100","v":0.12},{"$f":"'Nastavení příloh'!CG107/100","v":0.12},{"$f":"'Nastavení příloh'!CH107/100","v":0.12},{"$f":"'Nastavení příloh'!CI107/100","v":0.12},{"$f":"'Nastavení příloh'!CJ107/100","v":0.12},{"$f":"'Nastavení příloh'!CK107/100","v":0.12},{"$f":"'Nastavení příloh'!CL107/100","v":0.12},{"$f":"'Nastavení příloh'!CM107/100","v":0.12},{"$f":"'Nastavení příloh'!CN107/100","v":0.12},{"$f":"'Nastavení příloh'!CO107/100","v":0.12},{"$f":"'Nastavení příloh'!CP107/100","v":0.12},{"$f":"'Nastavení příloh'!CQ107/100","v":0.14000000000000001},{"$f":"'Nastavení příloh'!CR107/100","v":0.21}]
[null,8500,"-",8599,{"$f":"'Nastavení příloh'!F108/100","v":0},{"$f":"'Nastavení příloh'!G108/100","v":0.09},{"$f":"'Nastavení příloh'!H108/100","v":0.24},{"$f":"'Nastavení příloh'!I108/100","v":0.25},{"$f":"'Nastavení příloh'!J108/100","v":0.25},{"$f":"'Nastavení příloh'!K108/100","v":0.25},{"$f":"'Nastavení příloh'!L108/100","v":0.25},{"$f":"'Nastavení příloh'!M108/100","v":0.25},{"$f":"'Nastavení příloh'!N108/100","v":0.25},{"$f":"'Nastavení příloh'!O108/100","v":0.25},{"$f":"'Nastavení příloh'!P108/100","v":0.25},{"$f":"'Nastavení příloh'!Q108/100","v":0.25},{"$f":"'Nastavení příloh'!R108/100","v":0.25},{"$f":"'Nastavení příloh'!S108/100","v":0.25},{"$f":"'Nastavení příloh'!T108/100","v":0.25},{"$f":"'Nastavení příloh'!U108/100","v":0.25},{"$f":"'Nastavení příloh'!V108/100","v":0.25},{"$f":"'Nastavení příloh'!W108/100","v":0.25},{"$f":"'Nastavení příloh'!X108/100","v":0.25},null,8500,"-",8599,{"$f":"'Nastavení příloh'!AD108/100","v":-0.13},{"$f":"'Nastavení příloh'!AE108/100","v":-0.13},{"$f":"'Nastavení příloh'!AF108/100","v":-0.13},{"$f":"'Nastavení příloh'!AG108/100","v":-0.13},{"$f":"'Nastavení příloh'!AH108/100","v":-0.13},{"$f":"'Nastavení příloh'!AI108/100","v":-0.13},{"$f":"'Nastavení příloh'!AJ108/100","v":-0.13},{"$f":"'Nastavení příloh'!AK108/100","v":-0.13},{"$f":"'Nastavení příloh'!AL108/100","v":-0.13},{"$f":"'Nastavení příloh'!AM108/100","v":-0.13},{"$f":"'Nastavení příloh'!AN108/100","v":-0.13},{"$f":"'Nastavení příloh'!AO108/100","v":-0.13},{"$f":"'Nastavení příloh'!AP108/100","v":-0.13},{"$f":"'Nastavení příloh'!AQ108/100","v":-0.13},{"$f":"'Nastavení příloh'!AR108/100","v":-0.13},{"$f":"'Nastavení příloh'!AS108/100","v":-0.13},{"$f":"'Nastavení příloh'!AT108/100","v":-0.13},{"$f":"'Nastavení příloh'!AU108/100","v":-0.12},{"$f":"'Nastavení příloh'!AV108/100","v":-0.04},null,null,null,null,null,null,null,null,null,null,null,null,null,null,null,null,null,null,null,null,null,null,null,null,8500,"-",8599,{"$f":"'Nastavení příloh'!BZ108/100","v":0},{"$f":"'Nastavení příloh'!CA108/100","v":0},{"$f":"'Nastavení příloh'!CB108/100","v":0.11},{"$f":"'Nastavení příloh'!CC108/100","v":0.12},{"$f":"'Nastavení příloh'!CD108/100","v":0.12},{"$f":"'Nastavení příloh'!CE108/100","v":0.12},{"$f":"'Nastavení příloh'!CF108/100","v":0.12},{"$f":"'Nastavení příloh'!CG108/100","v":0.12},{"$f":"'Nastavení příloh'!CH108/100","v":0.12},{"$f":"'Nastavení příloh'!CI108/100","v":0.12},{"$f":"'Nastavení příloh'!CJ108/100","v":0.12},{"$f":"'Nastavení příloh'!CK108/100","v":0.12},{"$f":"'Nastavení příloh'!CL108/100","v":0.12},{"$f":"'Nastavení příloh'!CM108/100","v":0.12},{"$f":"'Nastavení příloh'!CN108/100","v":0.12},{"$f":"'Nastavení příloh'!CO108/100","v":0.12},{"$f":"'Nastavení příloh'!CP108/100","v":0.12},{"$f":"'Nastavení příloh'!CQ108/100","v":0.13},{"$f":"'Nastavení příloh'!CR108/100","v":0.21}]
[null,8600,"-",8699,{"$f":"'Nastavení příloh'!F109/100","v":0},{"$f":"'Nastavení příloh'!G109/100","v":0.09},{"$f":"'Nastavení příloh'!H109/100","v":0.24},{"$f":"'Nastavení příloh'!I109/100","v":0.25},{"$f":"'Nastavení příloh'!J109/100","v":0.25},{"$f":"'Nastavení příloh'!K109/100","v":0.25},{"$f":"'Nastavení příloh'!L109/100","v":0.25},{"$f":"'Nastavení příloh'!M109/100","v":0.25},{"$f":"'Nastavení příloh'!N109/100","v":0.25},{"$f":"'Nastavení příloh'!O109/100","v":0.25},{"$f":"'Nastavení příloh'!P109/100","v":0.25},{"$f":"'Nastavení příloh'!Q109/100","v":0.25},{"$f":"'Nastavení příloh'!R109/100","v":0.25},{"$f":"'Nastavení příloh'!S109/100","v":0.25},{"$f":"'Nastavení příloh'!T109/100","v":0.25},{"$f":"'Nastavení příloh'!U109/100","v":0.25},{"$f":"'Nastavení příloh'!V109/100","v":0.25},{"$f":"'Nastavení příloh'!W109/100","v":0.25},{"$f":"'Nastavení příloh'!X109/100","v":0.25},null,8600,"-",8699,{"$f":"'Nastavení příloh'!AD109/100","v":-0.13},{"$f":"'Nastavení příloh'!AE109/100","v":-0.13},{"$f":"'Nastavení příloh'!AF109/100","v":-0.13},{"$f":"'Nastavení příloh'!AG109/100","v":-0.13},{"$f":"'Nastavení příloh'!AH109/100","v":-0.13},{"$f":"'Nastavení příloh'!AI109/100","v":-0.13},{"$f":"'Nastavení příloh'!AJ109/100","v":-0.13},{"$f":"'Nastavení příloh'!AK109/100","v":-0.13},{"$f":"'Nastavení příloh'!AL109/100","v":-0.13},{"$f":"'Nastavení příloh'!AM109/100","v":-0.13},{"$f":"'Nastavení příloh'!AN109/100","v":-0.13},{"$f":"'Nastavení příloh'!AO109/100","v":-0.13},{"$f":"'Nastavení příloh'!AP109/100","v":-0.13},{"$f":"'Nastavení příloh'!AQ109/100","v":-0.13},{"$f":"'Nastavení příloh'!AR109/100","v":-0.13},{"$f":"'Nastavení příloh'!AS109/100","v":-0.13},{"$f":"'Nastavení příloh'!AT109/100","v":-0.13},{"$f":"'Nastavení příloh'!AU109/100","v":-0.12},{"$f":"'Nastavení příloh'!AV109/100","v":-0.05},null,null,null,null,null,null,null,null,null,null,null,null,null,null,null,null,null,null,null,null,null,null,null,null,8600,"-",8699,{"$f":"'Nastavení příloh'!BZ109/100","v":0},{"$f":"'Nastavení příloh'!CA109/100","v":0},{"$f":"'Nastavení příloh'!CB109/100","v":0.11},{"$f":"'Nastavení příloh'!CC109/100","v":0.12},{"$f":"'Nastavení příloh'!CD109/100","v":0.12},{"$f":"'Nastavení příloh'!CE109/100","v":0.12},{"$f":"'Nastavení příloh'!CF109/100","v":0.12},{"$f":"'Nastavení příloh'!CG109/100","v":0.12},{"$f":"'Nastavení příloh'!CH109/100","v":0.12},{"$f":"'Nastavení příloh'!CI109/100","v":0.12},{"$f":"'Nastavení příloh'!CJ109/100","v":0.12},{"$f":"'Nastavení příloh'!CK109/100","v":0.12},{"$f":"'Nastavení příloh'!CL109/100","v":0.12},{"$f":"'Nastavení příloh'!CM109/100","v":0.12},{"$f":"'Nastavení příloh'!CN109/100","v":0.12},{"$f":"'Nastavení příloh'!CO109/100","v":0.12},{"$f":"'Nastavení příloh'!CP109/100","v":0.12},{"$f":"'Nastavení příloh'!CQ109/100","v":0.13},{"$f":"'Nastavení příloh'!CR109/100","v":0.2}]
[null,8700,"-",8799,{"$f":"'Nastavení příloh'!F110/100","v":0},{"$f":"'Nastavení příloh'!G110/100","v":0.09},{"$f":"'Nastavení příloh'!H110/100","v":0.25},{"$f":"'Nastavení příloh'!I110/100","v":0.25},{"$f":"'Nastavení příloh'!J110/100","v":0.25},{"$f":"'Nastavení příloh'!K110/100","v":0.25},{"$f":"'Nastavení příloh'!L110/100","v":0.25},{"$f":"'Nastavení příloh'!M110/100","v":0.25},{"$f":"'Nastavení příloh'!N110/100","v":0.25},{"$f":"'Nastavení příloh'!O110/100","v":0.25},{"$f":"'Nastavení příloh'!P110/100","v":0.25},{"$f":"'Nastavení příloh'!Q110/100","v":0.25},{"$f":"'Nastavení příloh'!R110/100","v":0.25},{"$f":"'Nastavení příloh'!S110/100","v":0.25},{"$f":"'Nastavení příloh'!T110/100","v":0.25},{"$f":"'Nastavení příloh'!U110/100","v":0.25},{"$f":"'Nastavení příloh'!V110/100","v":0.25},{"$f":"'Nastavení příloh'!W110/100","v":0.25},{"$f":"'Nastavení příloh'!X110/100","v":0.25},null,8700,"-",8799,{"$f":"'Nastavení příloh'!AD110/100","v":-0.13},{"$f":"'Nastavení příloh'!AE110/100","v":-0.13},{"$f":"'Nastavení příloh'!AF110/100","v":-0.13},{"$f":"'Nastavení příloh'!AG110/100","v":-0.13},{"$f":"'Nastavení příloh'!AH110/100","v":-0.13},{"$f":"'Nastavení příloh'!AI110/100","v":-0.13},{"$f":"'Nastavení příloh'!AJ110/100","v":-0.13},{"$f":"'Nastavení příloh'!AK110/100","v":-0.13},{"$f":"'Nastavení příloh'!AL110/100","v":-0.13},{"$f":"'Nastavení příloh'!AM110/100","v":-0.13},{"$f":"'Nastavení příloh'!AN110/100","v":-0.13},{"$f":"'Nastavení příloh'!AO110/100","v":-0.13},{"$f":"'Nastavení příloh'!AP110/100","v":-0.13},{"$f":"'Nastavení příloh'!AQ110/100","v":-0.13},{"$f":"'Nastavení příloh'!AR110/100","v":-0.13},{"$f":"'Nastavení příloh'!AS110/100","v":-0.13},{"$f":"'Nastavení příloh'!AT110/100","v":-0.13},{"$f":"'Nastavení příloh'!AU110/100","v":-0.13},{"$f":"'Nastavení příloh'!AV110/100","v":-0.05},null,null,null,null,null,null,null,null,null,null,null,null,null,null,null,null,null,null,null,null,null,null,null,null,8700,"-",8799,{"$f":"'Nastavení příloh'!BZ110/100","v":0},{"$f":"'Nastavení příloh'!CA110/100","v":0},{"$f":"'Nastavení příloh'!CB110/100","v":0.12},{"$f":"'Nastavení příloh'!CC110/100","v":0.12},{"$f":"'Nastavení příloh'!CD110/100","v":0.12},{"$f":"'Nastavení příloh'!CE110/100","v":0.12},{"$f":"'Nastavení příloh'!CF110/100","v":0.12},{"$f":"'Nastavení příloh'!CG110/100","v":0.12},{"$f":"'Nastavení příloh'!CH110/100","v":0.12},{"$f":"'Nastavení příloh'!CI110/100","v":0.12},{"$f":"'Nastavení příloh'!CJ110/100","v":0.12},{"$f":"'Nastavení příloh'!CK110/100","v":0.12},{"$f":"'Nastavení příloh'!CL110/100","v":0.12},{"$f":"'Nastavení příloh'!CM110/100","v":0.12},{"$f":"'Nastavení příloh'!CN110/100","v":0.12},{"$f":"'Nastavení příloh'!CO110/100","v":0.12},{"$f":"'Nastavení příloh'!CP110/100","v":0.12},{"$f":"'Nastavení příloh'!CQ110/100","v":0.12},{"$f":"'Nastavení příloh'!CR110/100","v":0.2}]
[null,8800,"-",8899,{"$f":"'Nastavení příloh'!F111/100","v":0},{"$f":"'Nastavení příloh'!G111/100","v":0.09},{"$f":"'Nastavení příloh'!H111/100","v":0.25},{"$f":"'Nastavení příloh'!I111/100","v":0.25},{"$f":"'Nastavení příloh'!J111/100","v":0.25},{"$f":"'Nastavení příloh'!K111/100","v":0.25},{"$f":"'Nastavení příloh'!L111/100","v":0.25},{"$f":"'Nastavení příloh'!M111/100","v":0.25},{"$f":"'Nastavení příloh'!N111/100","v":0.25},{"$f":"'Nastavení příloh'!O111/100","v":0.25},{"$f":"'Nastavení příloh'!P111/100","v":0.25},{"$f":"'Nastavení příloh'!Q111/100","v":0.25},{"$f":"'Nastavení příloh'!R111/100","v":0.25},{"$f":"'Nastavení příloh'!S111/100","v":0.25},{"$f":"'Nastavení příloh'!T111/100","v":0.25},{"$f":"'Nastavení příloh'!U111/100","v":0.25},{"$f":"'Nastavení příloh'!V111/100","v":0.25},{"$f":"'Nastavení příloh'!W111/100","v":0.25},{"$f":"'Nastavení příloh'!X111/100","v":0.25},null,8800,"-",8899,{"$f":"'Nastavení příloh'!AD111/100","v":-0.13},{"$f":"'Nastavení příloh'!AE111/100","v":-0.13},{"$f":"'Nastavení příloh'!AF111/100","v":-0.13},{"$f":"'Nastavení příloh'!AG111/100","v":-0.13},{"$f":"'Nastavení příloh'!AH111/100","v":-0.13},{"$f":"'Nastavení příloh'!AI111/100","v":-0.13},{"$f":"'Nastavení příloh'!AJ111/100","v":-0.13},{"$f":"'Nastavení příloh'!AK111/100","v":-0.13},{"$f":"'Nastavení příloh'!AL111/100","v":-0.13},{"$f":"'Nastavení příloh'!AM111/100","v":-0.13},{"$f":"'Nastavení příloh'!AN111/100","v":-0.13},{"$f":"'Nastavení příloh'!AO111/100","v":-0.13},{"$f":"'Nastavení příloh'!AP111/100","v":-0.13},{"$f":"'Nastavení příloh'!AQ111/100","v":-0.13},{"$f":"'Nastavení příloh'!AR111/100","v":-0.13},{"$f":"'Nastavení příloh'!AS111/100","v":-0.13},{"$f":"'Nastavení příloh'!AT111/100","v":-0.13},{"$f":"'Nastavení příloh'!AU111/100","v":-0.13},{"$f":"'Nastavení příloh'!AV111/100","v":-0.06},null,null,null,null,null,null,null,null,null,null,null,null,null,null,null,null,null,null,null,null,null,null,null,null,8800,"-",8899,{"$f":"'Nastavení příloh'!BZ111/100","v":0},{"$f":"'Nastavení příloh'!CA111/100","v":0},{"$f":"'Nastavení příloh'!CB111/100","v":0.12},{"$f":"'Nastavení příloh'!CC111/100","v":0.12},{"$f":"'Nastavení příloh'!CD111/100","v":0.12},{"$f":"'Nastavení příloh'!CE111/100","v":0.12},{"$f":"'Nastavení příloh'!CF111/100","v":0.12},{"$f":"'Nastavení příloh'!CG111/100","v":0.12},{"$f":"'Nastavení příloh'!CH111/100","v":0.12},{"$f":"'Nastavení příloh'!CI111/100","v":0.12},{"$f":"'Nastavení příloh'!CJ111/100","v":0.12},{"$f":"'Nastavení příloh'!CK111/100","v":0.12},{"$f":"'Nastavení příloh'!CL111/100","v":0.12},{"$f":"'Nastavení příloh'!CM111/100","v":0.12},{"$f":"'Nastavení příloh'!CN111/100","v":0.12},{"$f":"'Nastavení příloh'!CO111/100","v":0.12},{"$f":"'Nastavení příloh'!CP111/100","v":0.12},{"$f":"'Nastavení příloh'!CQ111/100","v":0.12},{"$f":"'Nastavení příloh'!CR111/100","v":0.19}]
[null,8900,"-",8999,{"$f":"'Nastavení příloh'!F112/100","v":0},{"$f":"'Nastavení příloh'!G112/100","v":0.09},{"$f":"'Nastavení příloh'!H112/100","v":0.25},{"$f":"'Nastavení příloh'!I112/100","v":0.25},{"$f":"'Nastavení příloh'!J112/100","v":0.25},{"$f":"'Nastavení příloh'!K112/100","v":0.25},{"$f":"'Nastavení příloh'!L112/100","v":0.25},{"$f":"'Nastavení příloh'!M112/100","v":0.25},{"$f":"'Nastavení příloh'!N112/100","v":0.25},{"$f":"'Nastavení příloh'!O112/100","v":0.25},{"$f":"'Nastavení příloh'!P112/100","v":0.25},{"$f":"'Nastavení příloh'!Q112/100","v":0.25},{"$f":"'Nastavení příloh'!R112/100","v":0.25},{"$f":"'Nastavení příloh'!S112/100","v":0.25},{"$f":"'Nastavení příloh'!T112/100","v":0.25},{"$f":"'Nastavení příloh'!U112/100","v":0.25},{"$f":"'Nastavení příloh'!V112/100","v":0.25},{"$f":"'Nastavení příloh'!W112/100","v":0.25},{"$f":"'Nastavení příloh'!X112/100","v":0.25},null,8900,"-",8999,{"$f":"'Nastavení příloh'!AD112/100","v":-0.13},{"$f":"'Nastavení příloh'!AE112/100","v":-0.13},{"$f":"'Nastavení příloh'!AF112/100","v":-0.13},{"$f":"'Nastavení příloh'!AG112/100","v":-0.13},{"$f":"'Nastavení příloh'!AH112/100","v":-0.13},{"$f":"'Nastavení příloh'!AI112/100","v":-0.13},{"$f":"'Nastavení příloh'!AJ112/100","v":-0.13},{"$f":"'Nastavení příloh'!AK112/100","v":-0.13},{"$f":"'Nastavení příloh'!AL112/100","v":-0.13},{"$f":"'Nastavení příloh'!AM112/100","v":-0.13},{"$f":"'Nastavení příloh'!AN112/100","v":-0.13},{"$f":"'Nastavení příloh'!AO112/100","v":-0.13},{"$f":"'Nastavení příloh'!AP112/100","v":-0.13},{"$f":"'Nastavení příloh'!AQ112/100","v":-0.13},{"$f":"'Nastavení příloh'!AR112/100","v":-0.13},{"$f":"'Nastavení příloh'!AS112/100","v":-0.13},{"$f":"'Nastavení příloh'!AT112/100","v":-0.13},{"$f":"'Nastavení příloh'!AU112/100","v":-0.13},{"$f":"'Nastavení příloh'!AV112/100","v":-0.06},null,null,null,null,null,null,null,null,null,null,null,null,null,null,null,null,null,null,null,null,null,null,null,null,8900,"-",8999,{"$f":"'Nastavení příloh'!BZ112/100","v":0},{"$f":"'Nastavení příloh'!CA112/100","v":0},{"$f":"'Nastavení příloh'!CB112/100","v":0.12},{"$f":"'Nastavení příloh'!CC112/100","v":0.12},{"$f":"'Nastavení příloh'!CD112/100","v":0.12},{"$f":"'Nastavení příloh'!CE112/100","v":0.12},{"$f":"'Nastavení příloh'!CF112/100","v":0.12},{"$f":"'Nastavení příloh'!CG112/100","v":0.12},{"$f":"'Nastavení příloh'!CH112/100","v":0.12},{"$f":"'Nastavení příloh'!CI112/100","v":0.12},{"$f":"'Nastavení příloh'!CJ112/100","v":0.12},{"$f":"'Nastavení příloh'!CK112/100","v":0.12},{"$f":"'Nastavení příloh'!CL112/100","v":0.12},{"$f":"'Nastavení příloh'!CM112/100","v":0.12},{"$f":"'Nastavení příloh'!CN112/100","v":0.12},{"$f":"'Nastavení příloh'!CO112/100","v":0.12},{"$f":"'Nastavení příloh'!CP112/100","v":0.12},{"$f":"'Nastavení příloh'!CQ112/100","v":0.12},{"$f":"'Nastavení příloh'!CR112/100","v":0.19}]
[null,9000,"-",9099,{"$f":"'Nastavení příloh'!F113/100","v":0},{"$f":"'Nastavení příloh'!G113/100","v":0.1},{"$f":"'Nastavení příloh'!H113/100","v":0.25},{"$f":"'Nastavení příloh'!I113/100","v":0.25},{"$f":"'Nastavení příloh'!J113/100","v":0.25},{"$f":"'Nastavení příloh'!K113/100","v":0.25},{"$f":"'Nastavení příloh'!L113/100","v":0.25},{"$f":"'Nastavení příloh'!M113/100","v":0.25},{"$f":"'Nastavení příloh'!N113/100","v":0.25},{"$f":"'Nastavení příloh'!O113/100","v":0.25},{"$f":"'Nastavení příloh'!P113/100","v":0.25},{"$f":"'Nastavení příloh'!Q113/100","v":0.25},{"$f":"'Nastavení příloh'!R113/100","v":0.25},{"$f":"'Nastavení příloh'!S113/100","v":0.25},{"$f":"'Nastavení příloh'!T113/100","v":0.25},{"$f":"'Nastavení příloh'!U113/100","v":0.25},{"$f":"'Nastavení příloh'!V113/100","v":0.25},{"$f":"'Nastavení příloh'!W113/100","v":0.25},{"$f":"'Nastavení příloh'!X113/100","v":0.25},null,9000,"-",9099,{"$f":"'Nastavení příloh'!AD113/100","v":-0.13},{"$f":"'Nastavení příloh'!AE113/100","v":-0.13},{"$f":"'Nastavení příloh'!AF113/100","v":-0.13},{"$f":"'Nastavení příloh'!AG113/100","v":-0.13},{"$f":"'Nastavení příloh'!AH113/100","v":-0.13},{"$f":"'Nastavení příloh'!AI113/100","v":-0.13},{"$f":"'Nastavení příloh'!AJ113/100","v":-0.13},{"$f":"'Nastavení příloh'!AK113/100","v":-0.13},{"$f":"'Nastavení příloh'!AL113/100","v":-0.13},{"$f":"'Nastavení příloh'!AM113/100","v":-0.13},{"$f":"'Nastavení příloh'!AN113/100","v":-0.13},{"$f":"'Nastavení příloh'!AO113/100","v":-0.13},{"$f":"'Nastavení příloh'!AP113/100","v":-0.13},{"$f":"'Nastavení příloh'!AQ113/100","v":-0.13},{"$f":"'Nastavení příloh'!AR113/100","v":-0.13},{"$f":"'Nastavení příloh'!AS113/100","v":-0.13},{"$f":"'Nastavení příloh'!AT113/100","v":-0.13},{"$f":"'Nastavení příloh'!AU113/100","v":-0.13},{"$f":"'Nastavení příloh'!AV113/100","v":-0.06},null,null,null,null,null,null,null,null,null,null,null,null,null,null,null,null,null,null,null,null,null,null,null,null,9000,"-",9099,{"$f":"'Nastavení příloh'!BZ113/100","v":0},{"$f":"'Nastavení příloh'!CA113/100","v":0},{"$f":"'Nastavení příloh'!CB113/100","v":0.12},{"$f":"'Nastavení příloh'!CC113/100","v":0.12},{"$f":"'Nastavení příloh'!CD113/100","v":0.12},{"$f":"'Nastavení příloh'!CE113/100","v":0.12},{"$f":"'Nastavení příloh'!CF113/100","v":0.12},{"$f":"'Nastavení příloh'!CG113/100","v":0.12},{"$f":"'Nastavení příloh'!CH113/100","v":0.12},{"$f":"'Nastavení příloh'!CI113/100","v":0.12},{"$f":"'Nastavení příloh'!CJ113/100","v":0.12},{"$f":"'Nastavení příloh'!CK113/100","v":0.12},{"$f":"'Nastavení příloh'!CL113/100","v":0.12},{"$f":"'Nastavení příloh'!CM113/100","v":0.12},{"$f":"'Nastavení příloh'!CN113/100","v":0.12},{"$f":"'Nastavení příloh'!CO113/100","v":0.12},{"$f":"'Nastavení příloh'!CP113/100","v":0.12},{"$f":"'Nastavení příloh'!CQ113/100","v":0.12},{"$f":"'Nastavení příloh'!CR113/100","v":0.19}]
[null,9100,"-",9199,{"$f":"'Nastavení příloh'!F114/100","v":0},{"$f":"'Nastavení příloh'!G114/100","v":0.1},{"$f":"'Nastavení příloh'!H114/100","v":0.25},{"$f":"'Nastavení příloh'!I114/100","v":0.25},{"$f":"'Nastavení příloh'!J114/100","v":0.25},{"$f":"'Nastavení příloh'!K114/100","v":0.25},{"$f":"'Nastavení příloh'!L114/100","v":0.25},{"$f":"'Nastavení příloh'!M114/100","v":0.25},{"$f":"'Nastavení příloh'!N114/100","v":0.25},{"$f":"'Nastavení příloh'!O114/100","v":0.25},{"$f":"'Nastavení příloh'!P114/100","v":0.25},{"$f":"'Nastavení příloh'!Q114/100","v":0.25},{"$f":"'Nastavení příloh'!R114/100","v":0.25},{"$f":"'Nastavení příloh'!S114/100","v":0.25},{"$f":"'Nastavení příloh'!T114/100","v":0.25},{"$f":"'Nastavení příloh'!U114/100","v":0.25},{"$f":"'Nastavení příloh'!V114/100","v":0.25},{"$f":"'Nastavení příloh'!W114/100","v":0.25},{"$f":"'Nastavení příloh'!X114/100","v":0.25},null,9100,"-",9199,{"$f":"'Nastavení příloh'!AD114/100","v":-0.13},{"$f":"'Nastavení příloh'!AE114/100","v":-0.13},{"$f":"'Nastavení příloh'!AF114/100","v":-0.13},{"$f":"'Nastavení příloh'!AG114/100","v":-0.13},{"$f":"'Nastavení příloh'!AH114/100","v":-0.13},{"$f":"'Nastavení příloh'!AI114/100","v":-0.13},{"$f":"'Nastavení příloh'!AJ114/100","v":-0.13},{"$f":"'Nastavení příloh'!AK114/100","v":-0.13},{"$f":"'Nastavení příloh'!AL114/100","v":-0.13},{"$f":"'Nastavení příloh'!AM114/100","v":-0.13},{"$f":"'Nastavení příloh'!AN114/100","v":-0.13},{"$f":"'Nastavení příloh'!AO114/100","v":-0.13},{"$f":"'Nastavení příloh'!AP114/100","v":-0.13},{"$f":"'Nastavení příloh'!AQ114/100","v":-0.13},{"$f":"'Nastavení příloh'!AR114/100","v":-0.13},{"$f":"'Nastavení příloh'!AS114/100","v":-0.13},{"$f":"'Nastavení příloh'!AT114/100","v":-0.13},{"$f":"'Nastavení příloh'!AU114/100","v":-0.13},{"$f":"'Nastavení příloh'!AV114/100","v":-7.0000000000000007E-2},null,null,null,null,null,null,null,null,null,null,null,null,null,null,null,null,null,null,null,null,null,null,null,null,9100,"-",9199,{"$f":"'Nastavení příloh'!BZ114/100","v":0},{"$f":"'Nastavení příloh'!CA114/100","v":0},{"$f":"'Nastavení příloh'!CB114/100","v":0.12},{"$f":"'Nastavení příloh'!CC114/100","v":0.12},{"$f":"'Nastavení příloh'!CD114/100","v":0.12},{"$f":"'Nastavení příloh'!CE114/100","v":0.12},{"$f":"'Nastavení příloh'!CF114/100","v":0.12},{"$f":"'Nastavení příloh'!CG114/100","v":0.12},{"$f":"'Nastavení příloh'!CH114/100","v":0.12},{"$f":"'Nastavení příloh'!CI114/100","v":0.12},{"$f":"'Nastavení příloh'!CJ114/100","v":0.12},{"$f":"'Nastavení příloh'!CK114/100","v":0.12},{"$f":"'Nastavení příloh'!CL114/100","v":0.12},{"$f":"'Nastavení příloh'!CM114/100","v":0.12},{"$f":"'Nastavení příloh'!CN114/100","v":0.12},{"$f":"'Nastavení příloh'!CO114/100","v":0.12},{"$f":"'Nastavení příloh'!CP114/100","v":0.12},{"$f":"'Nastavení příloh'!CQ114/100","v":0.12},{"$f":"'Nastavení příloh'!CR114/100","v":0.18}]
[null,9200,"-",9299,{"$f":"'Nastavení příloh'!F115/100","v":0},{"$f":"'Nastavení příloh'!G115/100","v":0.1},{"$f":"'Nastavení příloh'!H115/100","v":0.25},{"$f":"'Nastavení příloh'!I115/100","v":0.25},{"$f":"'Nastavení příloh'!J115/100","v":0.25},{"$f":"'Nastavení příloh'!K115/100","v":0.25},{"$f":"'Nastavení příloh'!L115/100","v":0.25},{"$f":"'Nastavení příloh'!M115/100","v":0.25},{"$f":"'Nastavení příloh'!N115/100","v":0.25},{"$f":"'Nastavení příloh'!O115/100","v":0.25},{"$f":"'Nastavení příloh'!P115/100","v":0.25},{"$f":"'Nastavení příloh'!Q115/100","v":0.25},{"$f":"'Nastavení příloh'!R115/100","v":0.25},{"$f":"'Nastavení příloh'!S115/100","v":0.25},{"$f":"'Nastavení příloh'!T115/100","v":0.25},{"$f":"'Nastavení příloh'!U115/100","v":0.25},{"$f":"'Nastavení příloh'!V115/100","v":0.25},{"$f":"'Nastavení příloh'!W115/100","v":0.25},{"$f":"'Nastavení příloh'!X115/100","v":0.25},null,9200,"-",9299,{"$f":"'Nastavení příloh'!AD115/100","v":-0.13},{"$f":"'Nastavení příloh'!AE115/100","v":-0.13},{"$f":"'Nastavení příloh'!AF115/100","v":-0.13},{"$f":"'Nastavení příloh'!AG115/100","v":-0.13},{"$f":"'Nastavení příloh'!AH115/100","v":-0.13},{"$f":"'Nastavení příloh'!AI115/100","v":-0.13},{"$f":"'Nastavení příloh'!AJ115/100","v":-0.13},{"$f":"'Nastavení příloh'!AK115/100","v":-0.13},{"$f":"'Nastavení příloh'!AL115/100","v":-0.13},{"$f":"'Nastavení příloh'!AM115/100","v":-0.13},{"$f":"'Nastavení příloh'!AN115/100","v":-0.13},{"$f":"'Nastavení příloh'!AO115/100","v":-0.13},{"$f":"'Nastavení příloh'!AP115/100","v":-0.13},{"$f":"'Nastavení příloh'!AQ115/100","v":-0.13},{"$f":"'Nastavení příloh'!AR115/100","v":-0.13},{"$f":"'Nastavení příloh'!AS115/100","v":-0.13},{"$f":"'Nastavení příloh'!AT115/100","v":-0.13},{"$f":"'Nastavení příloh'!AU115/100","v":-0.13},{"$f":"'Nastavení příloh'!AV115/100","v":-7.0000000000000007E-2},null,null,null,null,null,null,null,null,null,null,null,null,null,null,null,null,null,null,null,null,null,null,null,null,9200,"-",9299,{"$f":"'Nastavení příloh'!BZ115/100","v":0},{"$f":"'Nastavení příloh'!CA115/100","v":0},{"$f":"'Nastavení příloh'!CB115/100","v":0.12},{"$f":"'Nastavení příloh'!CC115/100","v":0.12},{"$f":"'Nastavení příloh'!CD115/100","v":0.12},{"$f":"'Nastavení příloh'!CE115/100","v":0.12},{"$f":"'Nastavení příloh'!CF115/100","v":0.12},{"$f":"'Nastavení příloh'!CG115/100","v":0.12},{"$f":"'Nastavení příloh'!CH115/100","v":0.12},{"$f":"'Nastavení příloh'!CI115/100","v":0.12},{"$f":"'Nastavení příloh'!CJ115/100","v":0.12},{"$f":"'Nastavení příloh'!CK115/100","v":0.12},{"$f":"'Nastavení příloh'!CL115/100","v":0.12},{"$f":"'Nastavení příloh'!CM115/100","v":0.12},{"$f":"'Nastavení příloh'!CN115/100","v":0.12},{"$f":"'Nastavení příloh'!CO115/100","v":0.12},{"$f":"'Nastavení příloh'!CP115/100","v":0.12},{"$f":"'Nastavení příloh'!CQ115/100","v":0.12},{"$f":"'Nastavení příloh'!CR115/100","v":0.18}]
[null,9300,"-",9399,{"$f":"'Nastavení příloh'!F116/100","v":0},{"$f":"'Nastavení příloh'!G116/100","v":0.1},{"$f":"'Nastavení příloh'!H116/100","v":0.25},{"$f":"'Nastavení příloh'!I116/100","v":0.25},{"$f":"'Nastavení příloh'!J116/100","v":0.25},{"$f":"'Nastavení příloh'!K116/100","v":0.25},{"$f":"'Nastavení příloh'!L116/100","v":0.25},{"$f":"'Nastavení příloh'!M116/100","v":0.25},{"$f":"'Nastavení příloh'!N116/100","v":0.25},{"$f":"'Nastavení příloh'!O116/100","v":0.25},{"$f":"'Nastavení příloh'!P116/100","v":0.25},{"$f":"'Nastavení příloh'!Q116/100","v":0.25},{"$f":"'Nastavení příloh'!R116/100","v":0.25},{"$f":"'Nastavení příloh'!S116/100","v":0.25},{"$f":"'Nastavení příloh'!T116/100","v":0.25},{"$f":"'Nastavení příloh'!U116/100","v":0.25},{"$f":"'Nastavení příloh'!V116/100","v":0.25},{"$f":"'Nastavení příloh'!W116/100","v":0.25},{"$f":"'Nastavení příloh'!X116/100","v":0.25},null,9300,"-",9399,{"$f":"'Nastavení příloh'!AD116/100","v":-0.13},{"$f":"'Nastavení příloh'!AE116/100","v":-0.13},{"$f":"'Nastavení příloh'!AF116/100","v":-0.13},{"$f":"'Nastavení příloh'!AG116/100","v":-0.13},{"$f":"'Nastavení příloh'!AH116/100","v":-0.13},{"$f":"'Nastavení příloh'!AI116/100","v":-0.13},{"$f":"'Nastavení příloh'!AJ116/100","v":-0.13},{"$f":"'Nastavení příloh'!AK116/100","v":-0.13},{"$f":"'Nastavení příloh'!AL116/100","v":-0.13},{"$f":"'Nastavení příloh'!AM116/100","v":-0.13},{"$f":"'Nastavení příloh'!AN116/100","v":-0.13},{"$f":"'Nastavení příloh'!AO116/100","v":-0.13},{"$f":"'Nastavení příloh'!AP116/100","v":-0.13},{"$f":"'Nastavení příloh'!AQ116/100","v":-0.13},{"$f":"'Nastavení příloh'!AR116/100","v":-0.13},{"$f":"'Nastavení příloh'!AS116/100","v":-0.13},{"$f":"'Nastavení příloh'!AT116/100","v":-0.13},{"$f":"'Nastavení příloh'!AU116/100","v":-0.13},{"$f":"'Nastavení příloh'!AV116/100","v":-0.08},null,null,null,null,null,null,null,null,null,null,null,null,null,null,null,null,null,null,null,null,null,null,null,null,9300,"-",9399,{"$f":"'Nastavení příloh'!BZ116/100","v":0},{"$f":"'Nastavení příloh'!CA116/100","v":0},{"$f":"'Nastavení příloh'!CB116/100","v":0.12},{"$f":"'Nastavení příloh'!CC116/100","v":0.12},{"$f":"'Nastavení příloh'!CD116/100","v":0.12},{"$f":"'Nastavení příloh'!CE116/100","v":0.12},{"$f":"'Nastavení příloh'!CF116/100","v":0.12},{"$f":"'Nastavení příloh'!CG116/100","v":0.12},{"$f":"'Nastavení příloh'!CH116/100","v":0.12},{"$f":"'Nastavení příloh'!CI116/100","v":0.12},{"$f":"'Nastavení příloh'!CJ116/100","v":0.12},{"$f":"'Nastavení příloh'!CK116/100","v":0.12},{"$f":"'Nastavení příloh'!CL116/100","v":0.12},{"$f":"'Nastavení příloh'!CM116/100","v":0.12},{"$f":"'Nastavení příloh'!CN116/100","v":0.12},{"$f":"'Nastavení příloh'!CO116/100","v":0.12},{"$f":"'Nastavení příloh'!CP116/100","v":0.12},{"$f":"'Nastavení příloh'!CQ116/100","v":0.12},{"$f":"'Nastavení příloh'!CR116/100","v":0.17}]
[null,"více jak 9400",null,null,{"$f":"'Nastavení příloh'!F117/100","v":0},{"$f":"'Nastavení příloh'!G117/100","v":0.1},{"$f":"'Nastavení příloh'!H117/100","v":0.25},{"$f":"'Nastavení příloh'!I117/100","v":0.25},{"$f":"'Nastavení příloh'!J117/100","v":0.25},{"$f":"'Nastavení příloh'!K117/100","v":0.25},{"$f":"'Nastavení příloh'!L117/100","v":0.25},{"$f":"'Nastavení příloh'!M117/100","v":0.25},{"$f":"'Nastavení příloh'!N117/100","v":0.25},{"$f":"'Nastavení příloh'!O117/100","v":0.25},{"$f":"'Nastavení příloh'!P117/100","v":0.25},{"$f":"'Nastavení příloh'!Q117/100","v":0.25},{"$f":"'Nastavení příloh'!R117/100","v":0.25},{"$f":"'Nastavení příloh'!S117/100","v":0.25},{"$f":"'Nastavení příloh'!T117/100","v":0.25},{"$f":"'Nastavení příloh'!U117/100","v":0.25},{"$f":"'Nastavení příloh'!V117/100","v":0.25},{"$f":"'Nastavení příloh'!W117/100","v":0.25},{"$f":"'Nastavení příloh'!X117/100","v":0.25},null,"více jak 9400",null,null,{"$f":"'Nastavení příloh'!AD117/100","v":-0.13},{"$f":"'Nastavení příloh'!AE117/100","v":-0.13},{"$f":"'Nastavení příloh'!AF117/100","v":-0.13},{"$f":"'Nastavení příloh'!AG117/100","v":-0.13},{"$f":"'Nastavení příloh'!AH117/100","v":-0.13},{"$f":"'Nastavení příloh'!AI117/100","v":-0.13},{"$f":"'Nastavení příloh'!AJ117/100","v":-0.13},{"$f":"'Nastavení příloh'!AK117/100","v":-0.13},{"$f":"'Nastavení příloh'!AL117/100","v":-0.13},{"$f":"'Nastavení příloh'!AM117/100","v":-0.13},{"$f":"'Nastavení příloh'!AN117/100","v":-0.13},{"$f":"'Nastavení příloh'!AO117/100","v":-0.13},{"$f":"'Nastavení příloh'!AP117/100","v":-0.13},{"$f":"'Nastavení příloh'!AQ117/100","v":-0.13},{"$f":"'Nastavení příloh'!AR117/100","v":-0.13},{"$f":"'Nastavení příloh'!AS117/100","v":-0.13},{"$f":"'Nastavení příloh'!AT117/100","v":-0.13},{"$f":"'Nastavení příloh'!AU117/100","v":-0.13},{"$f":"'Nastavení příloh'!AV117/100","v":-0.08},null,null,null,null,null,null,null,null,null,null,null,null,null,null,null,null,null,null,null,null,null,null,null,null,"více jak 9400",null,null,{"$f":"'Nastavení příloh'!BZ117/100","v":0},{"$f":"'Nastavení příloh'!CA117/100","v":0},{"$f":"'Nastavení příloh'!CB117/100","v":0.12},{"$f":"'Nastavení příloh'!CC117/100","v":0.12},{"$f":"'Nastavení příloh'!CD117/100","v":0.12},{"$f":"'Nastavení příloh'!CE117/100","v":0.12},{"$f":"'Nastavení příloh'!CF117/100","v":0.12},{"$f":"'Nastavení příloh'!CG117/100","v":0.12},{"$f":"'Nastavení příloh'!CH117/100","v":0.12},{"$f":"'Nastavení příloh'!CI117/100","v":0.12},{"$f":"'Nastavení příloh'!CJ117/100","v":0.12},{"$f":"'Nastavení příloh'!CK117/100","v":0.12},{"$f":"'Nastavení příloh'!CL117/100","v":0.12},{"$f":"'Nastavení příloh'!CM117/100","v":0.12},{"$f":"'Nastavení příloh'!CN117/100","v":0.12},{"$f":"'Nastavení příloh'!CO117/100","v":0.12},{"$f":"'Nastavení příloh'!CP117/100","v":0.12},{"$f":"'Nastavení příloh'!CQ117/100","v":0.12},{"$f":"'Nastavení příloh'!CR117/100","v":0.17}]

{"sheet":"PO+SPO s procentama","index":10,"n_rows":36,"n_cols":46,"rows_kept":36,"cut":false,"hidden":true,"merged":[[6,0,35,0],[6,23,35,23],[5,4,5,22],[5,27,5,45],[1,0,1,22],[1,23,1,45],[3,0,5,3],[3,4,3,22],[3,23,5,26],[3,27,3,45]]}
[null,null,null,null,null,null,null,null,null,null,null,null,null,null,null,null,null,null,null,null,null,null,"Příloha č. 6 k OZV č. …/2015",null,null,null,null,null,null,null,null,null,null,null,null,null,null,null,null,null,null,null,null,null,null,"Příloha č. 7 k OZV č. …/2015"]
["Maximální roční paušální odměna (zkráceně PO)",null,null,null,null,null,null,null,null,null,null,null,null,null,null,null,null,null,null,null,null,null,null,"Maximální roční odměna za snižování produkce odpadů (zkráceně SPO)"]
[]
["Paušální odměna je udělena do výše 60% za třídění bioodpadu, 25% za třídění skla a 15% za třídění textilu z hodnoty maximální roční paušální odměny uvedené v  této tabulce. ",null,null,null,"Procentuální zastoupení objemu obsloužených pytlů/nádob na plast a na papír v celkovém objemu obsloužených pytlů/nádob",null,null,null,null,null,null,null,null,null,null,null,null,null,null,null,null,null,null,"Odměna za snižování produkce odpadů je udělena do výše 20% za každý způsob snižování produkce odpadů uvedený v odpadovém dotazníku z hodnoty maximální roční odměny za snižování produkce odpadů uvedené v této tabulce.",null,null,null,"Procentuální zastoupení objemu obsloužených pytlů/nádob na plast a na papír v celkovém objemu obsloužených pytlů/nádob"]
[null,null,null,null,"0 %","1-5 %","6-10 %","11-15 %","16-20 %","21-25 %","26-30 %","31-35 %","36-40 %","41-45 %","46-50 %","51-55 %","56-60 %","61-65 %","66-70 %","71-75 %","76-80 %","81-85 %","více jak 85 %",null,null,null,null,"0 %","1-5 %","6-10 %","11-15 %","16-20 %","21-25 %","26-30 %","31-35 %","36-40 %","41-45 %","46-50 %","51-55 %","56-60 %","61-65 %","66-70 %","71-75 %","76-80 %","81-85 %","více jak 85 %"]
[null,null,null,null,"\"Třídí málo\"                                                                                                                                   \"Třídí hodně\"",null,null,null,null,null,null,null,null,null,null,null,null,null,null,null,null,null,null,null,null,null,null,"\"Třídí málo\"                                                                                                                                   \"Třídí hodně\""]
["Roční celkový objem obsloužených pytlů/nádob přepočtený na jednoho účastníka \nsystému užívajícího dané pytle/nádoby (litry/účastník systému/rok)",0,"-",599,{"$f":"'Nastavení příloh'!AD16/100","v":0},{"$f":"'Nastavení příloh'!AE16/100","v":0.09},{"$f":"'Nastavení příloh'!AF16/100","v":0.1},{"$f":"'Nastavení příloh'!AG16/100","v":0.12},{"$f":"'Nastavení příloh'!AH16/100","v":0.13},{"$f":"'Nastavení příloh'!AI16/100","v":0.15},{"$f":"'Nastavení příloh'!AJ16/100","v":0.17},{"$f":"'Nastavení příloh'!AK16/100","v":0.18},{"$f":"'Nastavení příloh'!AL16/100","v":0.2},{"$f":"'Nastavení příloh'!AM16/100","v":0.21},{"$f":"'Nastavení příloh'!AN16/100","v":0.23},{"$f":"'Nastavení příloh'!AO16/100","v":0.24},{"$f":"'Nastavení příloh'!AP16/100","v":0.25},{"$f":"'Nastavení příloh'!AQ16/100","v":0.25},{"$f":"'Nastavení příloh'!AR16/100","v":0.25},{"$f":"'Nastavení příloh'!AS16/100","v":0.25},{"$f":"'Nastavení příloh'!AT16/100","v":0.25},{"$f":"'Nastavení příloh'!AU16/100","v":0.25},{"$f":"'Nastavení příloh'!AV16/100","v":0.25},"Roční celkový objem obsloužených pytlů/nádob přepočtený na jednoho účastníka \nsystému užívajícího dané pytle/nádoby (litry/účastník systému/rok)",0,"-",599,{"$f":"'Nastavení příloh'!BB16/100","v":0},{"$f":"'Nastavení příloh'!BC16/100","v":0},{"$f":"'Nastavení příloh'!BD16/100","v":0},{"$f":"'Nastavení příloh'!BE16/100","v":0},{"$f":"'Nastavení příloh'!BF16/100","v":0},{"$f":"'Nastavení příloh'!BG16/100","v":0},{"$f":"'Nastavení příloh'!BH16/100","v":0},{"$f":"'Nastavení příloh'!BI16/100","v":0},{"$f":"'Nastavení příloh'!BJ16/100","v":0.2},{"$f":"'Nastavení příloh'!BK16/100","v":0.2},{"$f":"'Nastavení příloh'!BL16/100","v":0.2},{"$f":"'Nastavení příloh'!BM16/100","v":0.2},{"$f":"'Nastavení příloh'!BN16/100","v":0.2},{"$f":"'Nastavení příloh'!BO16/100","v":0.2},{"$f":"'Nastavení příloh'!BP16/100","v":0.2},{"$f":"'Nastavení příloh'!BQ16/100","v":0.2},{"$f":"'Nastavení příloh'!BR16/100","v":0.2},{"$f":"'Nastavení příloh'!BS16/100","v":0.2},{"$f":"'Nastavení příloh'!BT16/100","v":0}]
[null,600,"-",699,{"$f":"'Nastavení příloh'!AD17/100","v":0},{"$f":"'Nastavení příloh'!AE17/100","v":0.03},{"$f":"'Nastavení příloh'!AF17/100","v":0.05},{"$f":"'Nastavení příloh'!AG17/100","v":7.0000000000000007E-2},{"$f":"'Nastavení příloh'!AH17/100","v":0.09},{"$f":"'Nastavení příloh'!AI17/100","v":0.11},{"$f":"'Nastavení příloh'!AJ17/100","v":0.12},{"$f":"'Nastavení příloh'!AK17/100","v":0.14000000000000001},{"$f":"'Nastavení příloh'!AL17/100","v":0.16},{"$f":"'Nastavení příloh'!AM17/100","v":0.18},{"$f":"'Nastavení příloh'!AN17/100","v":0.2},{"$f":"'Nastavení příloh'!AO17/100","v":0.22},{"$f":"'Nastavení příloh'!AP17/100","v":0.24},{"$f":"'Nastavení příloh'!AQ17/100","v":0.25},{"$f":"'Nastavení příloh'!AR17/100","v":0.25},{"$f":"'Nastavení příloh'!AS17/100","v":0.25},{"$f":"'Nastavení příloh'!AT17/100","v":0.25},{"$f":"'Nastavení příloh'!AU17/100","v":0.25},{"$f":"'Nastavení příloh'!AV17/100","v":0.25},null,600,"-",699,{"$f":"'Nastavení příloh'!BB17/100","v":0},{"$f":"'Nastavení příloh'!BC17/100","v":0},{"$f":"'Nastavení příloh'!BD17/100","v":0},{"$f":"'Nastavení příloh'!BE17/100","v":0},{"$f":"'Nastavení příloh'!BF17/100","v":0},{"$f":"'Nastavení příloh'!BG17/100","v":0},{"$f":"'Nastavení příloh'!BH17/100","v":0},{"$f":"'Nastavení příloh'!BI17/100","v":0},{"$f":"'Nastavení příloh'!BJ17/100","v":0.2},{"$f":"'Nastavení příloh'!BK17/100","v":0.2},{"$f":"'Nastavení příloh'!BL17/100","v":0.2},{"$f":"'Nastavení příloh'!BM17/100","v":0.2},{"$f":"'Nastavení příloh'!BN17/100","v":0.2},{"$f":"'Nastavení příloh'!BO17/100","v":0.2},{"$f":"'Nastavení příloh'!BP17/100","v":0.2},{"$f":"'Nastavení příloh'!BQ17/100","v":0.2},{"$f":"'Nastavení příloh'!BR17/100","v":0.2},{"$f":"'Nastavení příloh'!BS17/100","v":0.2},{"$f":"'Nastavení příloh'!BT17/100","v":0}]
[null,700,"-",799,{"$f":"'Nastavení příloh'!AD18/100","v":0},{"$f":"'Nastavení příloh'!AE18/100","v":0},{"$f":"'Nastavení příloh'!AF18/100","v":0},{"$f":"'Nastavení příloh'!AG18/100","v":0.02},{"$f":"'Nastavení příloh'!AH18/100","v":0.04},{"$f":"'Nastavení příloh'!AI18/100","v":0.06},{"$f":"'Nastavení příloh'!AJ18/100","v":0.08},{"$f":"'Nastavení příloh'!AK18/100","v":0.11},{"$f":"'Nastavení příloh'!AL18/100","v":0.13},{"$f":"'Nastavení příloh'!AM18/100","v":0.15},{"$f":"'Nastavení příloh'!AN18/100","v":0.17},{"$f":"'Nastavení příloh'!AO18/100","v":0.19},{"$f":"'Nastavení příloh'!AP18/100","v":0.21},{"$f":"'Nastavení příloh'!AQ18/100","v":0.23},{"$f":"'Nastavení příloh'!AR18/100","v":0.25},{"$f":"'Nastavení příloh'!AS18/100","v":0.25},{"$f":"'Nastavení příloh'!AT18/100","v":0.25},{"$f":"'Nastavení příloh'!AU18/100","v":0.25},{"$f":"'Nastavení příloh'!AV18/100","v":0.25},null,700,"-",799,{"$f":"'Nastavení příloh'!BB18/100","v":0},{"$f":"'Nastavení příloh'!BC18/100","v":0},{"$f":"'Nastavení příloh'!BD18/100","v":0},{"$f":"'Nastavení příloh'!BE18/100","v":0},{"$f":"'Nastavení příloh'!BF18/100","v":0},{"$f":"'Nastavení příloh'!BG18/100","v":0},{"$f":"'Nastavení příloh'!BH18/100","v":0},{"$f":"'Nastavení příloh'!BI18/100","v":0},{"$f":"'Nastavení příloh'!BJ18/100","v":0.2},{"$f":"'Nastavení příloh'!BK18/100","v":0.2},{"$f":"'Nastavení příloh'!BL18/100","v":0.2},{"$f":"'Nastavení příloh'!BM18/100","v":0.2},{"$f":"'Nastavení příloh'!BN18/100","v":0.2},{"$f":"'Nastavení příloh'!BO18/100","v":0.2},{"$f":"'Nastavení příloh'!BP18/100","v":0.2},{"$f":"'Nastavení příloh'!BQ18/100","v":0.2},{"$f":"'Nastavení příloh'!BR18/100","v":0.2},{"$f":"'Nastavení příloh'!BS18/100","v":0.2},{"$f":"'Nastavení příloh'!BT18/100","v":0}]
[null,800,"-",899,{"$f":"'Nastavení příloh'!AD19/100","v":0},{"$f":"'Nastavení příloh'!AE19/100","v":0},{"$f":"'Nastavení příloh'!AF19/100","v":0},{"$f":"'Nastavení příloh'!AG19/100","v":0},{"$f":"'Nastavení příloh'!AH19/100","v":0},{"$f":"'Nastavení příloh'!AI19/100","v":0.02},{"$f":"'Nastavení příloh'!AJ19/100","v":0.04},{"$f":"'Nastavení příloh'!AK19/100","v":7.0000000000000007E-2},{"$f":"'Nastavení příloh'!AL19/100","v":0.09},{"$f":"'Nastavení příloh'!AM19/100","v":0.12},{"$f":"'Nastavení příloh'!AN19/100","v":0.14000000000000001},{"$f":"'Nastavení příloh'!AO19/100","v":0.16},{"$f":"'Nastavení příloh'!AP19/100","v":0.19},{"$f":"'Nastavení příloh'!AQ19/100","v":0.21},{"$f":"'Nastavení příloh'!AR19/100","v":0.24},{"$f":"'Nastavení příloh'!AS19/100","v":0.25},{"$f":"'Nastavení příloh'!AT19/100","v":0.25},{"$f":"'Nastavení příloh'!AU19/100","v":0.25},{"$f":"'Nastavení příloh'!AV19/100","v":0.24},null,800,"-",899,{"$f":"'Nastavení příloh'!BB19/100","v":0},{"$f":"'Nastavení příloh'!BC19/100","v":0},{"$f":"'Nastavení příloh'!BD19/100","v":0},{"$f":"'Nastavení příloh'!BE19/100","v":0},{"$f":"'Nastavení příloh'!BF19/100","v":0},{"$f":"'Nastavení příloh'!BG19/100","v":0},{"$f":"'Nastavení příloh'!BH19/100","v":0},{"$f":"'Nastavení příloh'!BI19/100","v":0},{"$f":"'Nastavení příloh'!BJ19/100","v":0.2},{"$f":"'Nastavení příloh'!BK19/100","v":0.2},{"$f":"'Nastavení příloh'!BL19/100","v":0.2},{"$f":"'Nastavení příloh'!BM19/100","v":0.2},{"$f":"'Nastavení příloh'!BN19/100","v":0.2},{"$f":"'Nastavení příloh'!BO19/100","v":0.2},{"$f":"'Nastavení příloh'!BP19/100","v":0.2},{"$f":"'Nastavení příloh'!BQ19/100","v":0.2},{"$f":"'Nastavení příloh'!BR19/100","v":0.2},{"$f":"'Nastavení příloh'!BS19/100","v":0.2},{"$f":"'Nastavení příloh'!BT19/100","v":0}]
[null,900,"-",999,{"$f":"'Nastavení příloh'!AD20/100","v":0},{"$f":"'Nastavení příloh'!AE20/100","v":0},{"$f":"'Nastavení příloh'!AF20/100","v":0},{"$f":"'Nastavení příloh'!AG20/100","v":0},{"$f":"'Nastavení příloh'!AH20/100","v":0},{"$f":"'Nastavení příloh'!AI20/100","v":0},{"$f":"'Nastavení příloh'!AJ20/100","v":0},{"$f":"'Nastavení příloh'!AK20/100","v":0.03},{"$f":"'Nastavení příloh'!AL20/100","v":0.06},{"$f":"'Nastavení příloh'!AM20/100","v":0.08},{"$f":"'Nastavení příloh'!AN20/100","v":0.11},{"$f":"'Nastavení příloh'!AO20/100","v":0.14000000000000001},{"$f":"'Nastavení příloh'!AP20/100","v":0.16},{"$f":"'Nastavení příloh'!AQ20/100","v":0.19},{"$f":"'Nastavení příloh'!AR20/100","v":0.22},{"$f":"'Nastavení příloh'!AS20/100","v":0.25},{"$f":"'Nastavení příloh'!AT20/100","v":0.25},{"$f":"'Nastavení příloh'!AU20/100","v":0.24},{"$f":"'Nastavení příloh'!AV20/100","v":0.22},null,900,"-",999,{"$f":"'Nastavení příloh'!BB20/100","v":0},{"$f":"'Nastavení příloh'!BC20/100","v":0},{"$f":"'Nastavení příloh'!BD20/100","v":0},{"$f":"'Nastavení příloh'!BE20/100","v":0},{"$f":"'Nastavení příloh'!BF20/100","v":0},{"$f":"'Nastavení příloh'!BG20/100","v":0},{"$f":"'Nastavení příloh'!BH20/100","v":0},{"$f":"'Nastavení příloh'!BI20/100","v":0},{"$f":"'Nastavení příloh'!BJ20/100","v":0.2},{"$f":"'Nastavení příloh'!BK20/100","v":0.2},{"$f":"'Nastavení příloh'!BL20/100","v":0.2},{"$f":"'Nastavení příloh'!BM20/100","v":0.2},{"$f":"'Nastavení příloh'!BN20/100","v":0.2},{"$f":"'Nastavení příloh'!BO20/100","v":0.2},{"$f":"'Nastavení příloh'!BP20/100","v":0.2},{"$f":"'Nastavení příloh'!BQ20/100","v":0.2},{"$f":"'Nastavení příloh'!BR20/100","v":0.2},{"$f":"'Nastavení příloh'!BS20/100","v":0.2},{"$f":"'Nastavení příloh'!BT20/100","v":0}]
[null,1000,"-",1099,0,0,0,0,0,0,{"$f":"'Nastavení příloh'!AJ21/100","v":0},{"$f":"'Nastavení příloh'!AK21/100","v":0},{"$f":"'Nastavení příloh'!AL21/100","v":0.02},{"$f":"'Nastavení příloh'!AM21/100","v":0.05},{"$f":"'Nastavení příloh'!AN21/100","v":0.08},{"$f":"'Nastavení příloh'!AO21/100","v":0.11},{"$f":"'Nastavení příloh'!AP21/100","v":0.14000000000000001},{"$f":"'Nastavení příloh'!AQ21/100","v":0.17},{"$f":"'Nastavení příloh'!AR21/100","v":0.2},{"$f":"'Nastavení příloh'!AS21/100","v":0.23},{"$f":"'Nastavení příloh'!AT21/100","v":0.25},{"$f":"'Nastavení příloh'!AU21/100","v":0.23},{"$f":"'Nastavení příloh'!AV21/100","v":0.2},null,1000,"-",1099,{"$f":"'Nastavení příloh'!BB21/100","v":0},{"$f":"'Nastavení příloh'!BC21/100","v":0},{"$f":"'Nastavení příloh'!BD21/100","v":0},{"$f":"'Nastavení příloh'!BE21/100","v":0},{"$f":"'Nastavení příloh'!BF21/100","v":0},{"$f":"'Nastavení příloh'!BG21/100","v":0},{"$f":"'Nastavení příloh'!BH21/100","v":0},{"$f":"'Nastavení příloh'!BI21/100","v":0},{"$f":"'Nastavení příloh'!BJ21/100","v":0.2},{"$f":"'Nastavení příloh'!BK21/100","v":0.2},{"$f":"'Nastavení příloh'!BL21/100","v":0.2},{"$f":"'Nastavení příloh'!BM21/100","v":0.2},{"$f":"'Nastavení příloh'!BN21/100","v":0.2},{"$f":"'Nastavení příloh'!BO21/100","v":0.2},{"$f":"'Nastavení příloh'!BP21/100","v":0.2},{"$f":"'Nastavení příloh'!BQ21/100","v":0.2},{"$f":"'Nastavení příloh'!BR21/100","v":0.2},{"$f":"'Nastavení příloh'!BS21/100","v":0.2},{"$f":"'Nastavení příloh'!BT21/100","v":0}]
[null,1100,"-",1199,0,0,0,0,0,0,{"$f":"'Nastavení příloh'!AJ22/100","v":0},{"$f":"'Nastavení příloh'!AK22/100","v":0},{"$f":"'Nastavení příloh'!AL22/100","v":0},{"$f":"'Nastavení příloh'!AM22/100","v":0.02},{"$f":"'Nastavení příloh'!AN22/100","v":0.05},{"$f":"'Nastavení příloh'!AO22/100","v":0.08},{"$f":"'Nastavení příloh'!AP22/100","v":0.12},{"$f":"'Nastavení příloh'!AQ22/100","v":0.15},{"$f":"'Nastavení příloh'!AR22/100","v":0.18},{"$f":"'Nastavení příloh'!AS22/100","v":0.21},{"$f":"'Nastavení příloh'!AT22/100","v":0.25},{"$f":"'Nastavení příloh'!AU22/100","v":0.21},{"$f":"'Nastavení příloh'!AV22/100","v":0.18},null,1100,"-",1199,{"$f":"'Nastavení příloh'!BB22/100","v":0},{"$f":"'Nastavení příloh'!BC22/100","v":0},{"$f":"'Nastavení příloh'!BD22/100","v":0},{"$f":"'Nastavení příloh'!BE22/100","v":0},{"$f":"'Nastavení příloh'!BF22/100","v":0},{"$f":"'Nastavení příloh'!BG22/100","v":0},{"$f":"'Nastavení příloh'!BH22/100","v":0},{"$f":"'Nastavení příloh'!BI22/100","v":0},{"$f":"'Nastavení příloh'!BJ22/100","v":0},{"$f":"'Nastavení příloh'!BK22/100","v":0.2},{"$f":"'Nastavení příloh'!BL22/100","v":0.2},{"$f":"'Nastavení příloh'!BM22/100","v":0.2},{"$f":"'Nastavení příloh'!BN22/100","v":0.2},{"$f":"'Nastavení příloh'!BO22/100","v":0.2},{"$f":"'Nastavení příloh'!BP22/100","v":0.2},{"$f":"'Nastavení příloh'!BQ22/100","v":0.2},{"$f":"'Nastavení příloh'!BR22/100","v":0.2},{"$f":"'Nastavení příloh'!BS22/100","v":0.2},{"$f":"'Nastavení příloh'!BT22/100","v":0}]
[null,1200,"-",1299,0,0,0,0,0,0,{"$f":"'Nastavení příloh'!AJ23/100","v":0},{"$f":"'Nastavení příloh'!AK23/100","v":0},{"$f":"'Nastavení příloh'!AL23/100","v":0},{"$f":"'Nastavení příloh'!AM23/100","v":0},{"$f":"'Nastavení příloh'!AN23/100","v":0.02},{"$f":"'Nastavení příloh'!AO23/100","v":0.06},{"$f":"'Nastavení příloh'!AP23/100","v":0.09},{"$f":"'Nastavení příloh'!AQ23/100","v":0.13},{"$f":"'Nastavení příloh'!AR23/100","v":0.16},{"$f":"'Nastavení příloh'!AS23/100","v":0.2},{"$f":"'Nastavení příloh'!AT23/100","v":0.23},{"$f":"'Nastavení příloh'!AU23/100","v":0.2},{"$f":"'Nastavení příloh'!AV23/100","v":0.16},null,1200,"-",1299,{"$f":"'Nastavení příloh'!BB23/100","v":0},{"$f":"'Nastavení příloh'!BC23/100","v":0},{"$f":"'Nastavení příloh'!BD23/100","v":0},{"$f":"'Nastavení příloh'!BE23/100","v":0},{"$f":"'Nastavení příloh'!BF23/100","v":0},{"$f":"'Nastavení příloh'!BG23/100","v":0},{"$f":"'Nastavení příloh'!BH23/100","v":0},{"$f":"'Nastavení příloh'!BI23/100","v":0},{"$f":"'Nastavení příloh'!BJ23/100","v":0},{"$f":"'Nastavení příloh'!BK23/100","v":0.19},{"$f":"'Nastavení příloh'!BL23/100","v":0.2},{"$f":"'Nastavení příloh'!BM23/100","v":0.2},{"$f":"'Nastavení příloh'!BN23/100","v":0.2},{"$f":"'Nastavení příloh'!BO23/100","v":0.2},{"$f":"'Nastavení příloh'!BP23/100","v":0.2},{"$f":"'Nastavení příloh'!BQ23/100","v":0.2},{"$f":"'Nastavení příloh'!BR23/100","v":0.2},{"$f":"'Nastavení příloh'!BS23/100","v":0.2},{"$f":"'Nastavení příloh'!BT23/100","v":0}]
[null,1300,"-",1399,0,0,0,0,0,0,{"$f":"'Nastavení příloh'!AJ24/100","v":0},{"$f":"'Nastavení příloh'!AK24/100","v":0},{"$f":"'Nastavení příloh'!AL24/100","v":0},{"$f":"'Nastavení příloh'!AM24/100","v":0},{"$f":"'Nastavení příloh'!AN24/100","v":0},{"$f":"'Nastavení příloh'!AO24/100","v":0.03},{"$f":"'Nastavení příloh'!AP24/100","v":7.0000000000000007E-2},{"$f":"'Nastavení příloh'!AQ24/100","v":0.11},{"$f":"'Nastavení příloh'!AR24/100","v":0.15},{"$f":"'Nastavení příloh'!AS24/100","v":0.18},{"$f":"'Nastavení příloh'!AT24/100","v":0.22},{"$f":"'Nastavení příloh'!AU24/100","v":0.18},{"$f":"'Nastavení příloh'!AV24/100","v":0.15},null,1300,"-",1399,{"$f":"'Nastavení příloh'!BB24/100","v":0},{"$f":"'Nastavení příloh'!BC24/100","v":0},{"$f":"'Nastavení příloh'!BD24/100","v":0},{"$f":"'Nastavení příloh'!BE24/100","v":0},{"$f":"'Nastavení příloh'!BF24/100","v":0},{"$f":"'Nastavení příloh'!BG24/100","v":0},{"$f":"'Nastavení příloh'!BH24/100","v":0},{"$f":"'Nastavení příloh'!BI24/100","v":0},{"$f":"'Nastavení příloh'!BJ24/100","v":0},{"$f":"'Nastavení příloh'!BK24/100","v":0},{"$f":"'Nastavení příloh'!BL24/100","v":0.19},{"$f":"'Nastavení příloh'!BM24/100","v":0.2},{"$f":"'Nastavení příloh'!BN24/100","v":0.2},{"$f":"'Nastavení příloh'!BO24/100","v":0.2},{"$f":"'Nastavení příloh'!BP24/100","v":0.2},{"$f":"'Nastavení příloh'!BQ24/100","v":0.2},{"$f":"'Nastavení příloh'!BR24/100","v":0.2},{"$f":"'Nastavení příloh'!BS24/100","v":0.19},{"$f":"'Nastavení příloh'!BT24/100","v":0}]
[null,1400,"-",1499,0,0,0,0,0,0,0,0,0,0,{"$f":"'Nastavení příloh'!AN25/100","v":0},{"$f":"'Nastavení příloh'!AO25/100","v":0},{"$f":"'Nastavení příloh'!AP25/100","v":0.04},{"$f":"'Nastavení příloh'!AQ25/100","v":0.09},{"$f":"'Nastavení příloh'!AR25/100","v":0.13},{"$f":"'Nastavení příloh'!AS25/100","v":0.17},{"$f":"'Nastavení příloh'!AT25/100","v":0.21},{"$f":"'Nastavení příloh'!AU25/100","v":0.17},{"$f":"'Nastavení příloh'!AV25/100","v":0.13},null,1400,"-",1499,{"$f":"'Nastavení příloh'!BB25/100","v":0},{"$f":"'Nastavení příloh'!BC25/100","v":0},{"$f":"'Nastavení příloh'!BD25/100","v":0},{"$f":"'Nastavení příloh'!BE25/100","v":0},{"$f":"'Nastavení příloh'!BF25/100","v":0},{"$f":"'Nastavení příloh'!BG25/100","v":0},{"$f":"'Nastavení příloh'!BH25/100","v":0},{"$f":"'Nastavení příloh'!BI25/100","v":0},{"$f":"'Nastavení příloh'!BJ25/100","v":0},{"$f":"'Nastavení příloh'!BK25/100","v":0},{"$f":"'Nastavení příloh'!BL25/100","v":0.16},{"$f":"'Nastavení příloh'!BM25/100","v":0.2},{"$f":"'Nastavení příloh'!BN25/100","v":0.2},{"$f":"'Nastavení příloh'!BO25/100","v":0.2},{"$f":"'Nastavení příloh'!BP25/100","v":0.2},{"$f":"'Nastavení příloh'!BQ25/100","v":0.2},{"$f":"'Nastavení příloh'!BR25/100","v":0.19},{"$f":"'Nastavení příloh'!BS25/100","v":0},{"$f":"'Nastavení příloh'!BT25/100","v":0}]
[null,1500,"-",1599,0,0,0,0,0,0,0,0,0,0,{"$f":"'Nastavení příloh'!AN26/100","v":0},{"$f":"'Nastavení příloh'!AO26/100","v":0},{"$f":"'Nastavení příloh'!AP26/100","v":0.02},{"$f":"'Nastavení příloh'!AQ26/100","v":7.0000000000000007E-2},{"$f":"'Nastavení příloh'!AR26/100","v":0.11},{"$f":"'Nastavení příloh'!AS26/100","v":0.15},{"$f":"'Nastavení příloh'!AT26/100","v":0.2},{"$f":"'Nastavení příloh'!AU26/100","v":0.15},{"$f":"'Nastavení příloh'!AV26/100","v":0.11},null,1500,"-",1599,{"$f":"'Nastavení příloh'!BB26/100","v":0},{"$f":"'Nastavení příloh'!BC26/100","v":0},{"$f":"'Nastavení příloh'!BD26/100","v":0},{"$f":"'Nastavení příloh'!BE26/100","v":0},{"$f":"'Nastavení příloh'!BF26/100","v":0},{"$f":"'Nastavení příloh'!BG26/100","v":0},{"$f":"'Nastavení příloh'!BH26/100","v":0},{"$f":"'Nastavení příloh'!BI26/100","v":0},{"$f":"'Nastavení příloh'!BJ26/100","v":0},{"$f":"'Nastavení příloh'!BK26/100","v":0},{"$f":"'Nastavení příloh'!BL26/100","v":0},{"$f":"'Nastavení příloh'!BM26/100","v":0.18},{"$f":"'Nastavení příloh'!BN26/100","v":0.2},{"$f":"'Nastavení příloh'!BO26/100","v":0.2},{"$f":"'Nastavení příloh'!BP26/100","v":0.2},{"$f":"'Nastavení příloh'!BQ26/100","v":0.19},{"$f":"'Nastavení příloh'!BR26/100","v":0.17},{"$f":"'Nastavení příloh'!BS26/100","v":0},{"$f":"'Nastavení příloh'!BT26/100","v":0}]
[null,1600,"-",1699,0,0,0,0,0,0,0,0,0,0,{"$f":"'Nastavení příloh'!AN27/100","v":0},{"$f":"'Nastavení příloh'!AO27/100","v":0},{"$f":"'Nastavení příloh'!AP27/100","v":0},{"$f":"'Nastavení příloh'!AQ27/100","v":0.04},{"$f":"'Nastavení příloh'!AR27/100","v":0.09},{"$f":"'Nastavení příloh'!AS27/100","v":0.14000000000000001},{"$f":"'Nastavení příloh'!AT27/100","v":0.18},{"$f":"'Nastavení příloh'!AU27/100","v":0.14000000000000001},{"$f":"'Nastavení příloh'!AV27/100","v":0.09},null,1600,"-",1699,{"$f":"'Nastavení příloh'!BB27/100","v":0},{"$f":"'Nastavení příloh'!BC27/100","v":0},{"$f":"'Nastavení příloh'!BD27/100","v":0},{"$f":"'Nastavení příloh'!BE27/100","v":0},{"$f":"'Nastavení příloh'!BF27/100","v":0},{"$f":"'Nastavení příloh'!BG27/100","v":0},{"$f":"'Nastavení příloh'!BH27/100","v":0},{"$f":"'Nastavení příloh'!BI27/100","v":0},{"$f":"'Nastavení příloh'!BJ27/100","v":0},{"$f":"'Nastavení příloh'!BK27/100","v":0},{"$f":"'Nastavení příloh'!BL27/100","v":0},{"$f":"'Nastavení příloh'!BM27/100","v":0.15},{"$f":"'Nastavení příloh'!BN27/100","v":0.2},{"$f":"'Nastavení příloh'!BO27/100","v":0.2},{"$f":"'Nastavení příloh'!BP27/100","v":0.19},{"$f":"'Nastavení příloh'!BQ27/100","v":0.17},{"$f":"'Nastavení příloh'!BR27/100","v":0},{"$f":"'Nastavení příloh'!BS27/100","v":0},{"$f":"'Nastavení příloh'!BT27/100","v":0}]
[null,1700,"-",1799,0,0,0,0,0,0,0,0,0,0,{"$f":"'Nastavení příloh'!AN28/100","v":0},{"$f":"'Nastavení příloh'!AO28/100","v":0},{"$f":"'Nastavení příloh'!AP28/100","v":0},{"$f":"'Nastavení příloh'!AQ28/100","v":0.02},{"$f":"'Nastavení příloh'!AR28/100","v":7.0000000000000007E-2},{"$f":"'Nastavení příloh'!AS28/100","v":0.12},{"$f":"'Nastavení příloh'!AT28/100","v":0.17},{"$f":"'Nastavení příloh'!AU28/100","v":0.12},{"$f":"'Nastavení příloh'!AV28/100","v":7.0000000000000007E-2},null,1700,"-",1799,{"$f":"'Nastavení příloh'!BB28/100","v":0},{"$f":"'Nastavení příloh'!BC28/100","v":0},{"$f":"'Nastavení příloh'!BD28/100","v":0},{"$f":"'Nastavení příloh'!BE28/100","v":0},{"$f":"'Nastavení příloh'!BF28/100","v":0},{"$f":"'Nastavení příloh'!BG28/100","v":0},{"$f":"'Nastavení příloh'!BH28/100","v":0},{"$f":"'Nastavení příloh'!BI28/100","v":0},{"$f":"'Nastavení příloh'!BJ28/100","v":0},{"$f":"'Nastavení příloh'!BK28/100","v":0},{"$f":"'Nastavení příloh'!BL28/100","v":0},{"$f":"'Nastavení příloh'!BM28/100","v":0},{"$f":"'Nastavení příloh'!BN28/100","v":0.17},{"$f":"'Nastavení příloh'!BO28/100","v":0.19},{"$f":"'Nastavení příloh'!BP28/100","v":0.17},{"$f":"'Nastavení příloh'!BQ28/100","v":0},{"$f":"'Nastavení příloh'!BR28/100","v":0},{"$f":"'Nastavení příloh'!BS28/100","v":0},{"$f":"'Nastavení příloh'!BT28/100","v":0}]
[null,1800,"-",1899,0,0,0,0,0,0,0,0,0,0,{"$f":"'Nastavení příloh'!AN29/100","v":0},{"$f":"'Nastavení příloh'!AO29/100","v":0},{"$f":"'Nastavení příloh'!AP29/100","v":0},{"$f":"'Nastavení příloh'!AQ29/100","v":0},{"$f":"'Nastavení příloh'!AR29/100","v":0.05},{"$f":"'Nastavení příloh'!AS29/100","v":0.11},{"$f":"'Nastavení příloh'!AT29/100","v":0.16},{"$f":"'Nastavení příloh'!AU29/100","v":0.11},{"$f":"'Nastavení příloh'!AV29/100","v":0.05},null,1800,"-",1899,{"$f":"'Nastavení příloh'!BB29/100","v":0},{"$f":"'Nastavení příloh'!BC29/100","v":0},{"$f":"'Nastavení příloh'!BD29/100","v":0},{"$f":"'Nastavení příloh'!BE29/100","v":0},{"$f":"'Nastavení příloh'!BF29/100","v":0},{"$f":"'Nastavení příloh'!BG29/100","v":0},{"$f":"'Nastavení příloh'!BH29/100","v":0},{"$f":"'Nastavení příloh'!BI29/100","v":0},{"$f":"'Nastavení příloh'!BJ29/100","v":0},{"$f":"'Nastavení příloh'!BK29/100","v":0},{"$f":"'Nastavení příloh'!BL29/100","v":0},{"$f":"'Nastavení příloh'!BM29/100","v":0},{"$f":"'Nastavení příloh'!BN29/100","v":0},{"$f":"'Nastavení příloh'!BO29/100","v":0},{"$f":"'Nastavení příloh'!BP29/100","v":0},{"$f":"'Nastavení příloh'!BQ29/100","v":0},{"$f":"'Nastavení příloh'!BR29/100","v":0},{"$f":"'Nastavení příloh'!BS29/100","v":0},{"$f":"'Nastavení příloh'!BT29/100","v":0}]
[null,1900,"-",1999,0,0,0,0,0,0,0,0,0,0,0,0,0,{"$f":"'Nastavení příloh'!AQ30/100","v":0},{"$f":"'Nastavení příloh'!AR30/100","v":0.04},{"$f":"'Nastavení příloh'!AS30/100","v":0.09},{"$f":"'Nastavení příloh'!AT30/100","v":0.15},{"$f":"'Nastavení příloh'!AU30/100","v":0.09},{"$f":"'Nastavení příloh'!AV30/100","v":0.04},null,1900,"-",1999,{"$f":"'Nastavení příloh'!BB30/100","v":0},{"$f":"'Nastavení příloh'!BC30/100","v":0},{"$f":"'Nastavení příloh'!BD30/100","v":0},{"$f":"'Nastavení příloh'!BE30/100","v":0},{"$f":"'Nastavení příloh'!BF30/100","v":0},{"$f":"'Nastavení příloh'!BG30/100","v":0},{"$f":"'Nastavení příloh'!BH30/100","v":0},{"$f":"'Nastavení příloh'!BI30/100","v":0},{"$f":"'Nastavení příloh'!BJ30/100","v":0},{"$f":"'Nastavení příloh'!BK30/100","v":0},{"$f":"'Nastavení příloh'!BL30/100","v":0},{"$f":"'Nastavení příloh'!BM30/100","v":0},{"$f":"'Nastavení příloh'!BN30/100","v":0},{"$f":"'Nastavení příloh'!BO30/100","v":0},{"$f":"'Nastavení příloh'!BP30/100","v":0},{"$f":"'Nastavení příloh'!BQ30/100","v":0},{"$f":"'Nastavení příloh'!BR30/100","v":0},{"$f":"'Nastavení příloh'!BS30/100","v":0},{"$f":"'Nastavení příloh'!BT30/100","v":0}]
[null,2000,"-",2099,0,0,0,0,0,0,0,0,0,0,0,0,0,{"$f":"'Nastavení příloh'!AQ31/100","v":0},{"$f":"'Nastavení příloh'!AR31/100","v":0.02},{"$f":"'Nastavení příloh'!AS31/100","v":0.08},{"$f":"'Nastavení příloh'!AT31/100","v":0.13},{"$f":"'Nastavení příloh'!AU31/100","v":0.08},{"$f":"'Nastavení příloh'!AV31/100","v":0.02},null,2000,"-",2099,{"$f":"'Nastavení příloh'!BB31/100","v":0},{"$f":"'Nastavení příloh'!BC31/100","v":0},{"$f":"'Nastavení příloh'!BD31/100","v":0},{"$f":"'Nastavení příloh'!BE31/100","v":0},{"$f":"'Nastavení příloh'!BF31/100","v":0},{"$f":"'Nastavení příloh'!BG31/100","v":0},{"$f":"'Nastavení příloh'!BH31/100","v":0},{"$f":"'Nastavení příloh'!BI31/100","v":0},{"$f":"'Nastavení příloh'!BJ31/100","v":0},{"$f":"'Nastavení příloh'!BK31/100","v":0},{"$f":"'Nastavení příloh'!BL31/100","v":0},{"$f":"'Nastavení příloh'!BM31/100","v":0},{"$f":"'Nastavení příloh'!BN31/100","v":0},{"$f":"'Nastavení příloh'!BO31/100","v":0},{"$f":"'Nastavení příloh'!BP31/100","v":0},{"$f":"'Nastavení příloh'!BQ31/100","v":0},{"$f":"'Nastavení příloh'!BR31/100","v":0},{"$f":"'Nastavení příloh'!BS31/100","v":0},{"$f":"'Nastavení příloh'!BT31/100","v":0}]
[null,2100,"-",2199,0,0,0,0,0,0,0,0,0,0,0,0,0,{"$f":"'Nastavení příloh'!AQ32/100","v":0},{"$f":"'Nastavení příloh'!AR32/100","v":0},{"$f":"'Nastavení příloh'!AS32/100","v":0.06},{"$f":"'Nastavení příloh'!AT32/100","v":0.12},{"$f":"'Nastavení příloh'!AU32/100","v":0.06},{"$f":"'Nastavení příloh'!AV32/100","v":0},null,2100,"-",2199,{"$f":"'Nastavení příloh'!BB32/100","v":0},{"$f":"'Nastavení příloh'!BC32/100","v":0},{"$f":"'Nastavení příloh'!BD32/100","v":0},{"$f":"'Nastavení příloh'!BE32/100","v":0},{"$f":"'Nastavení příloh'!BF32/100","v":0},{"$f":"'Nastavení příloh'!BG32/100","v":0},{"$f":"'Nastavení příloh'!BH32/100","v":0},{"$f":"'Nastavení příloh'!BI32/100","v":0},{"$f":"'Nastavení příloh'!BJ32/100","v":0},{"$f":"'Nastavení příloh'!BK32/100","v":0},{"$f":"'Nastavení příloh'!BL32/100","v":0},{"$f":"'Nastavení příloh'!BM32/100","v":0},{"$f":"'Nastavení příloh'!BN32/100","v":0},{"$f":"'Nastavení příloh'!BO32/100","v":0},{"$f":"'Nastavení příloh'!BP32/100","v":0},{"$f":"'Nastavení příloh'!BQ32/100","v":0},{"$f":"'Nastavení příloh'!BR32/100","v":0},{"$f":"'Nastavení příloh'!BS32/100","v":0},{"$f":"'Nastavení příloh'!BT32/100","v":0}]
[null,2200,"-",2299,0,0,0,0,0,0,0,0,0,0,0,0,0,{"$f":"'Nastavení příloh'!AQ33/100","v":0},{"$f":"'Nastavení příloh'!AR33/100","v":0},{"$f":"'Nastavení příloh'!AS33/100","v":0.05},{"$f":"'Nastavení příloh'!AT33/100","v":0.11},{"$f":"'Nastavení příloh'!AU33/100","v":0.05},{"$f":"'Nastavení příloh'!AV33/100","v":0},null,2200,"-",2299,{"$f":"'Nastavení příloh'!BB33/100","v":0},{"$f":"'Nastavení příloh'!BC33/100","v":0},{"$f":"'Nastavení příloh'!BD33/100","v":0},{"$f":"'Nastavení příloh'!BE33/100","v":0},{"$f":"'Nastavení příloh'!BF33/100","v":0},{"$f":"'Nastavení příloh'!BG33/100","v":0},{"$f":"'Nastavení příloh'!BH33/100","v":0},{"$f":"'Nastavení příloh'!BI33/100","v":0},{"$f":"'Nastavení příloh'!BJ33/100","v":0},{"$f":"'Nastavení příloh'!BK33/100","v":0},{"$f":"'Nastavení příloh'!BL33/100","v":0},{"$f":"'Nastavení příloh'!BM33/100","v":0},{"$f":"'Nastavení příloh'!BN33/100","v":0},{"$f":"'Nastavení příloh'!BO33/100","v":0},{"$f":"'Nastavení příloh'!BP33/100","v":0},{"$f":"'Nastavení příloh'!BQ33/100","v":0},{"$f":"'Nastavení příloh'!BR33/100","v":0},{"$f":"'Nastavení příloh'!BS33/100","v":0},{"$f":"'Nastavení příloh'!BT33/100","v":0}]
[null,2300,"-",2399,0,0,0,0,0,0,0,0,0,0,0,0,0,{"$f":"'Nastavení příloh'!AQ34/100","v":0},{"$f":"'Nastavení příloh'!AR34/100","v":0},{"$f":"'Nastavení příloh'!AS34/100","v":0.03},{"$f":"'Nastavení příloh'!AT34/100","v":0.1},{"$f":"'Nastavení příloh'!AU34/100","v":0.03},{"$f":"'Nastavení příloh'!AV34/100","v":0},null,2300,"-",2399,{"$f":"'Nastavení příloh'!BB34/100","v":0},{"$f":"'Nastavení příloh'!BC34/100","v":0},{"$f":"'Nastavení příloh'!BD34/100","v":0},{"$f":"'Nastavení příloh'!BE34/100","v":0},{"$f":"'Nastavení příloh'!BF34/100","v":0},{"$f":"'Nastavení příloh'!BG34/100","v":0},{"$f":"'Nastavení příloh'!BH34/100","v":0},{"$f":"'Nastavení příloh'!BI34/100","v":0},{"$f":"'Nastavení příloh'!BJ34/100","v":0},{"$f":"'Nastavení příloh'!BK34/100","v":0},{"$f":"'Nastavení příloh'!BL34/100","v":0},{"$f":"'Nastavení příloh'!BM34/100","v":0},{"$f":"'Nastavení příloh'!BN34/100","v":0},{"$f":"'Nastavení příloh'!BO34/100","v":0},{"$f":"'Nastavení příloh'!BP34/100","v":0},{"$f":"'Nastavení příloh'!BQ34/100","v":0},{"$f":"'Nastavení příloh'!BR34/100","v":0},{"$f":"'Nastavení příloh'!BS34/100","v":0},{"$f":"'Nastavení příloh'!BT34/100","v":0}]
[null,2400,"-",2499,0,0,0,0,0,0,0,0,0,0,0,0,0,{"$f":"'Nastavení příloh'!AQ35/100","v":0},{"$f":"'Nastavení příloh'!AR35/100","v":0},{"$f":"'Nastavení příloh'!AS35/100","v":0.02},{"$f":"'Nastavení příloh'!AT35/100","v":0.08},{"$f":"'Nastavení příloh'!AU35/100","v":0.02},{"$f":"'Nastavení příloh'!AV35/100","v":0},null,2400,"-",2499,{"$f":"'Nastavení příloh'!BB35/100","v":0},{"$f":"'Nastavení příloh'!BC35/100","v":0},{"$f":"'Nastavení příloh'!BD35/100","v":0},{"$f":"'Nastavení příloh'!BE35/100","v":0},{"$f":"'Nastavení příloh'!BF35/100","v":0},{"$f":"'Nastavení příloh'!BG35/100","v":0},{"$f":"'Nastavení příloh'!BH35/100","v":0},{"$f":"'Nastavení příloh'!BI35/100","v":0},{"$f":"'Nastavení příloh'!BJ35/100","v":0},{"$f":"'Nastavení příloh'!BK35/100","v":0},{"$f":"'Nastavení příloh'!BL35/100","v":0},{"$f":"'Nastavení příloh'!BM35/100","v":0},{"$f":"'Nastavení příloh'!BN35/100","v":0},{"$f":"'Nastavení příloh'!BO35/100","v":0},{"$f":"'Nastavení příloh'!BP35/100","v":0},{"$f":"'Nastavení příloh'!BQ35/100","v":0},{"$f":"'Nastavení příloh'!BR35/100","v":0},{"$f":"'Nastavení příloh'!BS35/100","v":0},{"$f":"'Nastavení příloh'!BT35/100","v":0}]
[null,2500,"-",2599,0,0,0,0,0,0,0,0,0,0,0,0,0,{"$f":"'Nastavení příloh'!AQ36/100","v":0},{"$f":"'Nastavení příloh'!AR36/100","v":0},{"$f":"'Nastavení příloh'!AS36/100","v":0},{"$f":"'Nastavení příloh'!AT36/100","v":7.0000000000000007E-2},{"$f":"'Nastavení příloh'!AU36/100","v":0},{"$f":"'Nastavení příloh'!AV36/100","v":0},null,2500,"-",2599,{"$f":"'Nastavení příloh'!BB36/100","v":0},{"$f":"'Nastavení příloh'!BC36/100","v":0},{"$f":"'Nastavení příloh'!BD36/100","v":0},{"$f":"'Nastavení příloh'!BE36/100","v":0},{"$f":"'Nastavení příloh'!BF36/100","v":0},{"$f":"'Nastavení příloh'!BG36/100","v":0},{"$f":"'Nastavení příloh'!BH36/100","v":0},{"$f":"'Nastavení příloh'!BI36/100","v":0},{"$f":"'Nastavení příloh'!BJ36/100","v":0},{"$f":"'Nastavení příloh'!BK36/100","v":0},{"$f":"'Nastavení příloh'!BL36/100","v":0},{"$f":"'Nastavení příloh'!BM36/100","v":0},{"$f":"'Nastavení příloh'!BN36/100","v":0},{"$f":"'Nastavení příloh'!BO36/100","v":0},{"$f":"'Nastavení příloh'!BP36/100","v":0},{"$f":"'Nastavení příloh'!BQ36/100","v":0},{"$f":"'Nastavení příloh'!BR36/100","v":0},{"$f":"'Nastavení příloh'!BS36/100","v":0},{"$f":"'Nastavení příloh'!BT36/100","v":0}]
[null,2600,"-",2699,0,0,0,0,0,0,0,0,0,0,0,0,0,{"$f":"'Nastavení příloh'!AQ37/100","v":0},{"$f":"'Nastavení příloh'!AR37/100","v":0},{"$f":"'Nastavení příloh'!AS37/100","v":0},{"$f":"'Nastavení příloh'!AT37/100","v":0.06},{"$f":"'Nastavení příloh'!AU37/100","v":0},{"$f":"'Nastavení příloh'!AV37/100","v":0},null,2600,"-",2699,{"$f":"'Nastavení příloh'!BB37/100","v":0},{"$f":"'Nastavení příloh'!BC37/100","v":0},{"$f":"'Nastavení příloh'!BD37/100","v":0},{"$f":"'Nastavení příloh'!BE37/100","v":0},{"$f":"'Nastavení příloh'!BF37/100","v":0},{"$f":"'Nastavení příloh'!BG37/100","v":0},{"$f":"'Nastavení příloh'!BH37/100","v":0},{"$f":"'Nastavení příloh'!BI37/100","v":0},{"$f":"'Nastavení příloh'!BJ37/100","v":0},{"$f":"'Nastavení příloh'!BK37/100","v":0},{"$f":"'Nastavení příloh'!BL37/100","v":0},{"$f":"'Nastavení příloh'!BM37/100","v":0},{"$f":"'Nastavení příloh'!BN37/100","v":0},{"$f":"'Nastavení příloh'!BO37/100","v":0},{"$f":"'Nastavení příloh'!BP37/100","v":0},{"$f":"'Nastavení příloh'!BQ37/100","v":0},{"$f":"'Nastavení příloh'!BR37/100","v":0},{"$f":"'Nastavení příloh'!BS37/100","v":0},{"$f":"'Nastavení příloh'!BT37/100","v":0}]
[null,2700,"-",2799,0,0,0,0,0,0,0,0,0,0,0,0,0,{"$f":"'Nastavení příloh'!AQ38/100","v":0},{"$f":"'Nastavení příloh'!AR38/100","v":0},{"$f":"'Nastavení příloh'!AS38/100","v":0},{"$f":"'Nastavení příloh'!AT38/100","v":0.05},{"$f":"'Nastavení příloh'!AU38/100","v":0},{"$f":"'Nastavení příloh'!AV38/100","v":0},null,2700,"-",2799,{"$f":"'Nastavení příloh'!BB38/100","v":0},{"$f":"'Nastavení příloh'!BC38/100","v":0},{"$f":"'Nastavení příloh'!BD38/100","v":0},{"$f":"'Nastavení příloh'!BE38/100","v":0},{"$f":"'Nastavení příloh'!BF38/100","v":0},{"$f":"'Nastavení příloh'!BG38/100","v":0},{"$f":"'Nastavení příloh'!BH38/100","v":0},{"$f":"'Nastavení příloh'!BI38/100","v":0},{"$f":"'Nastavení příloh'!BJ38/100","v":0},{"$f":"'Nastavení příloh'!BK38/100","v":0},{"$f":"'Nastavení příloh'!BL38/100","v":0},{"$f":"'Nastavení příloh'!BM38/100","v":0},{"$f":"'Nastavení příloh'!BN38/100","v":0},{"$f":"'Nastavení příloh'!BO38/100","v":0},{"$f":"'Nastavení příloh'!BP38/100","v":0},{"$f":"'Nastavení příloh'!BQ38/100","v":0},{"$f":"'Nastavení příloh'!BR38/100","v":0},{"$f":"'Nastavení příloh'!BS38/100","v":0},{"$f":"'Nastavení příloh'!BT38/100","v":0}]
[null,2800,"-",2899,0,0,0,0,0,0,0,0,0,0,0,0,0,0,0,{"$f":"'Nastavení příloh'!AS39/100","v":0},{"$f":"'Nastavení příloh'!AT39/100","v":0},{"$f":"'Nastavení příloh'!AU39/100","v":0},{"$f":"'Nastavení příloh'!AV39/100","v":0},null,2800,"-",2899,{"$f":"'Nastavení příloh'!BB39/100","v":0},{"$f":"'Nastavení příloh'!BC39/100","v":0},{"$f":"'Nastavení příloh'!BD39/100","v":0},{"$f":"'Nastavení příloh'!BE39/100","v":0},{"$f":"'Nastavení příloh'!BF39/100","v":0},{"$f":"'Nastavení příloh'!BG39/100","v":0},{"$f":"'Nastavení příloh'!BH39/100","v":0},{"$f":"'Nastavení příloh'!BI39/100","v":0},{"$f":"'Nastavení příloh'!BJ39/100","v":0},{"$f":"'Nastavení příloh'!BK39/100","v":0},{"$f":"'Nastavení příloh'!BL39/100","v":0},{"$f":"'Nastavení příloh'!BM39/100","v":0},{"$f":"'Nastavení příloh'!BN39/100","v":0},{"$f":"'Nastavení příloh'!BO39/100","v":0},{"$f":"'Nastavení příloh'!BP39/100","v":0},{"$f":"'Nastavení příloh'!BQ39/100","v":0},{"$f":"'Nastavení příloh'!BR39/100","v":0},{"$f":"'Nastavení příloh'!BS39/100","v":0},{"$f":"'Nastavení příloh'!BT39/100","v":0}]
[null,2900,"-",2999,0,0,0,0,0,0,0,0,0,0,0,0,0,0,0,{"$f":"'Nastavení příloh'!AS40/100","v":0},{"$f":"'Nastavení příloh'!AT40/100","v":0},{"$f":"'Nastavení příloh'!AU40/100","v":0},{"$f":"'Nastavení příloh'!AV40/100","v":0},null,2900,"-",2999,{"$f":"'Nastavení příloh'!BB40/100","v":0},{"$f":"'Nastavení příloh'!BC40/100","v":0},{"$f":"'Nastavení příloh'!BD40/100","v":0},{"$f":"'Nastavení příloh'!BE40/100","v":0},{"$f":"'Nastavení příloh'!BF40/100","v":0},{"$f":"'Nastavení příloh'!BG40/100","v":0},{"$f":"'Nastavení příloh'!BH40/100","v":0},{"$f":"'Nastavení příloh'!BI40/100","v":0},{"$f":"'Nastavení příloh'!BJ40/100","v":0},{"$f":"'Nastavení příloh'!BK40/100","v":0},{"$f":"'Nastavení příloh'!BL40/100","v":0},{"$f":"'Nastavení příloh'!BM40/100","v":0},{"$f":"'Nastavení příloh'!BN40/100","v":0},{"$f":"'Nastavení příloh'!BO40/100","v":0},{"$f":"'Nastavení příloh'!BP40/100","v":0},{"$f":"'Nastavení příloh'!BQ40/100","v":0},{"$f":"'Nastavení příloh'!BR40/100","v":0},{"$f":"'Nastavení příloh'!BS40/100","v":0},{"$f":"'Nastavení příloh'!BT40/100","v":0}]
[null,3000,"-",3099,0,0,0,0,0,0,0,0,0,0,0,0,0,0,0,{"$f":"'Nastavení příloh'!AS41/100","v":0},{"$f":"'Nastavení příloh'!AT41/100","v":0},{"$f":"'Nastavení příloh'!AU41/100","v":0},{"$f":"'Nastavení příloh'!AV41/100","v":0},null,3000,"-",3099,{"$f":"'Nastavení příloh'!BB41/100","v":0},{"$f":"'Nastavení příloh'!BC41/100","v":0},{"$f":"'Nastavení příloh'!BD41/100","v":0},{"$f":"'Nastavení příloh'!BE41/100","v":0},{"$f":"'Nastavení příloh'!BF41/100","v":0},{"$f":"'Nastavení příloh'!BG41/100","v":0},{"$f":"'Nastavení příloh'!BH41/100","v":0},{"$f":"'Nastavení příloh'!BI41/100","v":0},{"$f":"'Nastavení příloh'!BJ41/100","v":0},{"$f":"'Nastavení příloh'!BK41/100","v":0},{"$f":"'Nastavení příloh'!BL41/100","v":0},{"$f":"'Nastavení příloh'!BM41/100","v":0},{"$f":"'Nastavení příloh'!BN41/100","v":0},{"$f":"'Nastavení příloh'!BO41/100","v":0},{"$f":"'Nastavení příloh'!BP41/100","v":0},{"$f":"'Nastavení příloh'!BQ41/100","v":0},{"$f":"'Nastavení příloh'!BR41/100","v":0},{"$f":"'Nastavení příloh'!BS41/100","v":0},{"$f":"'Nastavení příloh'!BT41/100","v":0}]
[null,3100,"-",3199,0,0,0,0,0,0,0,0,0,0,0,0,0,0,0,{"$f":"'Nastavení příloh'!AS42/100","v":0},{"$f":"'Nastavení příloh'!AT42/100","v":0},{"$f":"'Nastavení příloh'!AU42/100","v":0},{"$f":"'Nastavení příloh'!AV42/100","v":0},null,3100,"-",3199,{"$f":"'Nastavení příloh'!BB42/100","v":0},{"$f":"'Nastavení příloh'!BC42/100","v":0},{"$f":"'Nastavení příloh'!BD42/100","v":0},{"$f":"'Nastavení příloh'!BE42/100","v":0},{"$f":"'Nastavení příloh'!BF42/100","v":0},{"$f":"'Nastavení příloh'!BG42/100","v":0},{"$f":"'Nastavení příloh'!BH42/100","v":0},{"$f":"'Nastavení příloh'!BI42/100","v":0},{"$f":"'Nastavení příloh'!BJ42/100","v":0},{"$f":"'Nastavení příloh'!BK42/100","v":0},{"$f":"'Nastavení příloh'!BL42/100","v":0},{"$f":"'Nastavení příloh'!BM42/100","v":0},{"$f":"'Nastavení příloh'!BN42/100","v":0},{"$f":"'Nastavení příloh'!BO42/100","v":0},{"$f":"'Nastavení příloh'!BP42/100","v":0},{"$f":"'Nastavení příloh'!BQ42/100","v":0},{"$f":"'Nastavení příloh'!BR42/100","v":0},{"$f":"'Nastavení příloh'!BS42/100","v":0},{"$f":"'Nastavení příloh'!BT42/100","v":0}]
[null,3200,"-",3299,0,0,0,0,0,0,0,0,0,0,0,0,0,0,0,{"$f":"'Nastavení příloh'!AS43/100","v":0},{"$f":"'Nastavení příloh'!AT43/100","v":0},{"$f":"'Nastavení příloh'!AU43/100","v":0},{"$f":"'Nastavení příloh'!AV43/100","v":0},null,3200,"-",3299,{"$f":"'Nastavení příloh'!BB43/100","v":0},{"$f":"'Nastavení příloh'!BC43/100","v":0},{"$f":"'Nastavení příloh'!BD43/100","v":0},{"$f":"'Nastavení příloh'!BE43/100","v":0},{"$f":"'Nastavení příloh'!BF43/100","v":0},{"$f":"'Nastavení příloh'!BG43/100","v":0},{"$f":"'Nastavení příloh'!BH43/100","v":0},{"$f":"'Nastavení příloh'!BI43/100","v":0},{"$f":"'Nastavení příloh'!BJ43/100","v":0},{"$f":"'Nastavení příloh'!BK43/100","v":0},{"$f":"'Nastavení příloh'!BL43/100","v":0},{"$f":"'Nastavení příloh'!BM43/100","v":0},{"$f":"'Nastavení příloh'!BN43/100","v":0},{"$f":"'Nastavení příloh'!BO43/100","v":0},{"$f":"'Nastavení příloh'!BP43/100","v":0},{"$f":"'Nastavení příloh'!BQ43/100","v":0},{"$f":"'Nastavení příloh'!BR43/100","v":0},{"$f":"'Nastavení příloh'!BS43/100","v":0},{"$f":"'Nastavení příloh'!BT43/100","v":0}]
[null,3300,"-",3399,0,0,0,0,0,0,0,0,0,0,0,0,0,0,0,{"$f":"'Nastavení příloh'!AS44/100","v":0},{"$f":"'Nastavení příloh'!AT44/100","v":0},{"$f":"'Nastavení příloh'!AU44/100","v":0},{"$f":"'Nastavení příloh'!AV44/100","v":0},null,3300,"-",3399,{"$f":"'Nastavení příloh'!BB44/100","v":0},{"$f":"'Nastavení příloh'!BC44/100","v":0},{"$f":"'Nastavení příloh'!BD44/100","v":0},{"$f":"'Nastavení příloh'!BE44/100","v":0},{"$f":"'Nastavení příloh'!BF44/100","v":0},{"$f":"'Nastavení příloh'!BG44/100","v":0},{"$f":"'Nastavení příloh'!BH44/100","v":0},{"$f":"'Nastavení příloh'!BI44/100","v":0},{"$f":"'Nastavení příloh'!BJ44/100","v":0},{"$f":"'Nastavení příloh'!BK44/100","v":0},{"$f":"'Nastavení příloh'!BL44/100","v":0},{"$f":"'Nastavení příloh'!BM44/100","v":0},{"$f":"'Nastavení příloh'!BN44/100","v":0},{"$f":"'Nastavení příloh'!BO44/100","v":0},{"$f":"'Nastavení příloh'!BP44/100","v":0},{"$f":"'Nastavení příloh'!BQ44/100","v":0},{"$f":"'Nastavení příloh'!BR44/100","v":0},{"$f":"'Nastavení příloh'!BS44/100","v":0},{"$f":"'Nastavení příloh'!BT44/100","v":0}]
[null,"   více jak 3400",null,null,0,0,0,0,0,0,0,0,0,0,0,0,0,0,0,{"$f":"'Nastavení příloh'!AS45/100","v":0},{"$f":"'Nastavení příloh'!AT45/100","v":0},{"$f":"'Nastavení příloh'!AU45/100","v":0},{"$f":"'Nastavení příloh'!AV45/100","v":0},null,"   více jak 3400",null,null,{"$f":"'Nastavení příloh'!BB45/100","v":0},{"$f":"'Nastavení příloh'!BC45/100","v":0},{"$f":"'Nastavení příloh'!BD45/100","v":0},{"$f":"'Nastavení příloh'!BE45/100","v":0},{"$f":"'Nastavení příloh'!BF45/100","v":0},{"$f":"'Nastavení příloh'!BG45/100","v":0},{"$f":"'Nastavení příloh'!BH45/100","v":0},{"$f":"'Nastavení příloh'!BI45/100","v":0},{"$f":"'Nastavení příloh'!BJ45/100","v":0},{"$f":"'Nastavení příloh'!BK45/100","v":0},{"$f":"'Nastavení příloh'!BL45/100","v":0},{"$f":"'Nastavení příloh'!BM45/100","v":0},{"$f":"'Nastavení příloh'!BN45/100","v":0},{"$f":"'Nastavení příloh'!BO45/100","v":0},{"$f":"'Nastavení příloh'!BP45/100","v":0},{"$f":"'Nastavení příloh'!BQ45/100","v":0},{"$f":"'Nastavení příloh'!BR45/100","v":0},{"$f":"'Nastavení příloh'!BS45/100","v":0},{"$f":"'Nastavení příloh'!BT45/100","v":0}]

{"sheet":"Hybrid ekobody kg","index":11,"n_rows":36,"n_cols":76,"rows_kept":36,"cut":false,"hidden":true,"merged":[[1,0,1,6],[3,0,4,0],[3,1,4,1],[3,2,4,2],[3,3,4,3],[3,4,4,4],[3,5,4,5],[3,6,4,6],[6,7,35,7],[6,30,35,30],[6,53,35,53],[3,53,5,56],[3,57,3,75],[5,11,5,29],[5,34,5,52],[5,57,5,75],[1,7,1,29],[1,30,1,52],[1,53,1,75],[3,7,5,10],[3,11,3,29],[3,30,5,33],[3,34,3,52]]}
[null,null,null,null,null,null,"Příloha č. 5 k OZV č. …/2015",null,null,null,null,null,null,null,null,null,null,null,null,null,null,null,null,null,null,null,null,null,null,"Příloha č. 6 k OZV č. …/2015 ",null,null,null,null,null,null,null,null,null,null,null,null,null,null,null,null,null,null,null,null,null,null,"Příloha č. 7 k OZV č. …/2015 "]
["Eko body za třídění odpadů (BT)",null,null,null,null,null,null,"Maximální roční počet eko bodů za efektivní využívání nádob a pytlů (BV)",null,null,null,null,null,null,null,null,null,null,null,null,null,null,null,null,null,null,null,null,null,null,"Maximální roční počet eko bodů za snižování produkce odpadů (BS)",null,null,null,null,null,null,null,null,null,null,null,null,null,null,null,null,null,null,null,null,null,null,"Součet maximálních ročních eko bodů (BT + BV + BS)"]
[]
["Druh odpadu","Typ sběru","Obsloužený objem (l)","Hmotnost (kg)","Čistota","Složení","Eko body/kg","Eko body jsou uděleny do výše 60% za třídění bioodpadu, 25% za třídění skla a 15% za třídění textilu ze získaného maximálního ročního počtu eko bodů uvedeného v  této tabulce.",null,null,null,"Procentuální zastoupení objemu obsloužených pytlů/nádob na plast a na papír v celkovém objemu obsloužených pytlů/nádob",null,null,null,null,null,null,null,null,null,null,null,null,null,null,null,null,null,null,"Eko body za snižování produkce odpadů jsou uděleny do výše 20% za každý způsob snižování produkce odpadů uvedený v odpadovém dotazníku ze získaného maximálního ročního počtu eko bodů uvedeného v této tabulce.",null,null,null,"Procentuální zastoupení objemu obsloužených pytlů/nádob na plast a na papír v celkovém objemu obsloužených pytlů/nádob",null,null,null,null,null,null,null,null,null,null,null,null,null,null,null,null,null,null,"Záporná hodnota součtu eko bodů (BT + BV + BS) je nahrazena nulou.",null,null,null,"Procentuální zastoupení objemu obsloužených pytlů/nádob na plast a na papír v celkovém objemu obsloužených pytlů/nádob"]
[null,null,null,null,null,null,null,null,null,null,null,"0 %","1-5 %","6-10 %","11-15 %","16-20 %","21-25 %","26-30 %","31-35 %","36-40 %","41-45 %","46-50 %","51-55 %","56-60 %","61-65 %","66-70 %","71-75 %","76-80 %","81-85 %","více jak 85 %",null,null,null,null,"0 %","1-5 %","6-10 %","11-15 %","16-20 %","21-25 %","26-30 %","31-35 %","36-40 %","41-45 %","46-50 %","51-55 %","56-60 %","61-65 %","66-70 %","71-75 %","76-80 %","81-85 %","více jak 85 %",null,null,null,null,"0 %","1-5 %","6-10 %","11-15 %","16-20 %","21-25 %","26-30 %","31-35 %","36-40 %","41-45 %","46-50 %","51-55 %","56-60 %","61-65 %","66-70 %","71-75 %","76-80 %","81-85 %","více jak 85 %"]
["Papír","Balík",0,"5 kg a více","V pořádku","-",0.2,null,null,null,null,"\"Třídí málo\"                                                                                                                                   \"Třídí hodně\"",null,null,null,null,null,null,null,null,null,null,null,null,null,null,null,null,null,null,null,null,null,null,"\"Třídí málo\"                                                                                                                                   \"Třídí hodně\"",null,null,null,null,null,null,null,null,null,null,null,null,null,null,null,null,null,null,null,null,null,null,"\"Třídí málo\"                                                                                                                                   \"Třídí hodně\""]
["Papír","Taška nebo pytel o neznámém objemu; Pytel 120l",120,{"$f":"\"5 kg - 10 kg\"","v":"5 kg - 10 kg"},"V pořádku","Samotné tiskoviny",0.1,"Roční celkový objem obsloužených pytlů/nádob přepočtený na jednoho účastníka \nsystému užívajícího dané pytle/nádoby (litry/účastník systému/rok)",0,"-",599,{"$f":"'Nastavení příloh'!AD16","v":0},{"$f":"'Nastavení příloh'!AE16","v":9},{"$f":"'Nastavení příloh'!AF16","v":10},{"$f":"'Nastavení příloh'!AG16","v":12},{"$f":"'Nastavení příloh'!AH16","v":13},{"$f":"'Nastavení příloh'!AI16","v":15},{"$f":"'Nastavení příloh'!AJ16","v":17},{"$f":"'Nastavení příloh'!AK16","v":18},{"$f":"'Nastavení příloh'!AL16","v":20},{"$f":"'Nastavení příloh'!AM16","v":21},{"$f":"'Nastavení příloh'!AN16","v":23},{"$f":"'Nastavení příloh'!AO16","v":24},{"$f":"'Nastavení příloh'!AP16","v":25},{"$f":"'Nastavení příloh'!AQ16","v":25},{"$f":"'Nastavení příloh'!AR16","v":25},{"$f":"'Nastavení příloh'!AS16","v":25},{"$f":"'Nastavení příloh'!AT16","v":25},{"$f":"'Nastavení příloh'!AU16","v":25},{"$f":"'Nastavení příloh'!AV16","v":25},"Roční celkový objem obsloužených pytlů/nádob přepočtený na jednoho účastníka \nsystému užívajícího dané pytle/nádoby (litry/účastník systému/rok)",0,"-",599,{"$f":"'Nastavení příloh'!BB16","v":0},{"$f":"'Nastavení příloh'!BC16","v":0},{"$f":"'Nastavení příloh'!BD16","v":0},{"$f":"'Nastavení příloh'!BE16","v":0},{"$f":"'Nastavení příloh'!BF16","v":0},{"$f":"'Nastavení příloh'!BG16","v":0},{"$f":"'Nastavení příloh'!BH16","v":0},{"$f":"'Nastavení příloh'!BI16","v":0},{"$f":"'Nastavení příloh'!BJ16","v":20},{"$f":"'Nastavení příloh'!BK16","v":20},{"$f":"'Nastavení příloh'!BL16","v":20},{"$f":"'Nastavení příloh'!BM16","v":20},{"$f":"'Nastavení příloh'!BN16","v":20},{"$f":"'Nastavení příloh'!BO16","v":20},{"$f":"'Nastavení příloh'!BP16","v":20},{"$f":"'Nastavení příloh'!BQ16","v":20},{"$f":"'Nastavení příloh'!BR16","v":20},{"$f":"'Nastavení příloh'!BS16","v":20},{"$f":"'Nastavení příloh'!BT16","v":0},"Roční celkový objem obsloužených pytlů/nádob přepočtený na jednoho účastníka \nsystému užívajícího dané pytle/nádoby (litry/účastník systému/rok)",0,"-",599,{"$f":"'Nastavení příloh'!BZ16","v":0},{"$f":"'Nastavení příloh'!CA16","v":10},{"$f":"'Nastavení příloh'!CB16","v":12},{"$f":"'Nastavení příloh'!CC16","v":15},{"$f":"'Nastavení příloh'!CD16","v":16},{"$f":"'Nastavení příloh'!CE16","v":19},{"$f":"'Nastavení příloh'!CF16","v":22},{"$f":"'Nastavení příloh'!CG16","v":24},{"$f":"'Nastavení příloh'!CH16","v":47},{"$f":"'Nastavení příloh'!CI16","v":49},{"$f":"'Nastavení příloh'!CJ16","v":52},{"$f":"'Nastavení příloh'!CK16","v":54},{"$f":"'Nastavení příloh'!CL16","v":56},{"$f":"'Nastavení příloh'!CM16","v":57},{"$f":"'Nastavení příloh'!CN16","v":58},{"$f":"'Nastavení příloh'!CO16","v":59},{"$f":"'Nastavení příloh'!CP16","v":60},{"$f":"'Nastavení příloh'!CQ16","v":61},{"$f":"'Nastavení příloh'!CR16","v":42}]
["Papír","Taška nebo pytel o neznámém objemu; Pytel 120l",120,"5 kg - 10 kg","V pořádku","-",0.4,null,600,"-",699,{"$f":"'Nastavení příloh'!AD17","v":0},{"$f":"'Nastavení příloh'!AE17","v":3},{"$f":"'Nastavení příloh'!AF17","v":5},{"$f":"'Nastavení příloh'!AG17","v":7},{"$f":"'Nastavení příloh'!AH17","v":9},{"$f":"'Nastavení příloh'!AI17","v":11},{"$f":"'Nastavení příloh'!AJ17","v":12},{"$f":"'Nastavení příloh'!AK17","v":14},{"$f":"'Nastavení příloh'!AL17","v":16},{"$f":"'Nastavení příloh'!AM17","v":18},{"$f":"'Nastavení příloh'!AN17","v":20},{"$f":"'Nastavení příloh'!AO17","v":22},{"$f":"'Nastavení příloh'!AP17","v":24},{"$f":"'Nastavení příloh'!AQ17","v":25},{"$f":"'Nastavení příloh'!AR17","v":25},{"$f":"'Nastavení příloh'!AS17","v":25},{"$f":"'Nastavení příloh'!AT17","v":25},{"$f":"'Nastavení příloh'!AU17","v":25},{"$f":"'Nastavení příloh'!AV17","v":25},null,600,"-",699,{"$f":"'Nastavení příloh'!BB17","v":0},{"$f":"'Nastavení příloh'!BC17","v":0},{"$f":"'Nastavení příloh'!BD17","v":0},{"$f":"'Nastavení příloh'!BE17","v":0},{"$f":"'Nastavení příloh'!BF17","v":0},{"$f":"'Nastavení příloh'!BG17","v":0},{"$f":"'Nastavení příloh'!BH17","v":0},{"$f":"'Nastavení příloh'!BI17","v":0},{"$f":"'Nastavení příloh'!BJ17","v":20},{"$f":"'Nastavení příloh'!BK17","v":20},{"$f":"'Nastavení příloh'!BL17","v":20},{"$f":"'Nastavení příloh'!BM17","v":20},{"$f":"'Nastavení příloh'!BN17","v":20},{"$f":"'Nastavení příloh'!BO17","v":20},{"$f":"'Nastavení příloh'!BP17","v":20},{"$f":"'Nastavení příloh'!BQ17","v":20},{"$f":"'Nastavení příloh'!BR17","v":20},{"$f":"'Nastavení příloh'!BS17","v":20},{"$f":"'Nastavení příloh'!BT17","v":0},null,600,"-",699,{"$f":"'Nastavení příloh'!BZ17","v":0},{"$f":"'Nastavení příloh'!CA17","v":4},{"$f":"'Nastavení příloh'!CB17","v":7},{"$f":"'Nastavení příloh'!CC17","v":10},{"$f":"'Nastavení příloh'!CD17","v":13},{"$f":"'Nastavení příloh'!CE17","v":16},{"$f":"'Nastavení příloh'!CF17","v":18},{"$f":"'Nastavení příloh'!CG17","v":22},{"$f":"'Nastavení příloh'!CH17","v":45},{"$f":"'Nastavení příloh'!CI17","v":48},{"$f":"'Nastavení příloh'!CJ17","v":51},{"$f":"'Nastavení příloh'!CK17","v":54},{"$f":"'Nastavení příloh'!CL17","v":57},{"$f":"'Nastavení příloh'!CM17","v":59},{"$f":"'Nastavení příloh'!CN17","v":60},{"$f":"'Nastavení příloh'!CO17","v":62},{"$f":"'Nastavení příloh'!CP17","v":63},{"$f":"'Nastavení příloh'!CQ17","v":64},{"$f":"'Nastavení příloh'!CR17","v":45}]
["Papír","Kontejner",1100,"Dle zaplněnosti","V pořádku","-",0.4,null,700,"-",799,{"$f":"'Nastavení příloh'!AD18","v":0},{"$f":"'Nastavení příloh'!AE18","v":0},{"$f":"'Nastavení příloh'!AF18","v":0},{"$f":"'Nastavení příloh'!AG18","v":2},{"$f":"'Nastavení příloh'!AH18","v":4},{"$f":"'Nastavení příloh'!AI18","v":6},{"$f":"'Nastavení příloh'!AJ18","v":8},{"$f":"'Nastavení příloh'!AK18","v":11},{"$f":"'Nastavení příloh'!AL18","v":13},{"$f":"'Nastavení příloh'!AM18","v":15},{"$f":"'Nastavení příloh'!AN18","v":17},{"$f":"'Nastavení příloh'!AO18","v":19},{"$f":"'Nastavení příloh'!AP18","v":21},{"$f":"'Nastavení příloh'!AQ18","v":23},{"$f":"'Nastavení příloh'!AR18","v":25},{"$f":"'Nastavení příloh'!AS18","v":25},{"$f":"'Nastavení příloh'!AT18","v":25},{"$f":"'Nastavení příloh'!AU18","v":25},{"$f":"'Nastavení příloh'!AV18","v":25},null,700,"-",799,{"$f":"'Nastavení příloh'!BB18","v":0},{"$f":"'Nastavení příloh'!BC18","v":0},{"$f":"'Nastavení příloh'!BD18","v":0},{"$f":"'Nastavení příloh'!BE18","v":0},{"$f":"'Nastavení příloh'!BF18","v":0},{"$f":"'Nastavení příloh'!BG18","v":0},{"$f":"'Nastavení příloh'!BH18","v":0},{"$f":"'Nastavení příloh'!BI18","v":0},{"$f":"'Nastavení příloh'!BJ18","v":20},{"$f":"'Nastavení příloh'!BK18","v":20},{"$f":"'Nastavení příloh'!BL18","v":20},{"$f":"'Nastavení příloh'!BM18","v":20},{"$f":"'Nastavení příloh'!BN18","v":20},{"$f":"'Nastavení příloh'!BO18","v":20},{"$f":"'Nastavení příloh'!BP18","v":20},{"$f":"'Nastavení příloh'!BQ18","v":20},{"$f":"'Nastavení příloh'!BR18","v":20},{"$f":"'Nastavení příloh'!BS18","v":20},{"$f":"'Nastavení příloh'!BT18","v":0},null,700,"-",799,{"$f":"'Nastavení příloh'!BZ18","v":0},{"$f":"'Nastavení příloh'!CA18","v":1},{"$f":"'Nastavení příloh'!CB18","v":2},{"$f":"'Nastavení příloh'!CC18","v":5},{"$f":"'Nastavení příloh'!CD18","v":9},{"$f":"'Nastavení příloh'!CE18","v":12},{"$f":"'Nastavení příloh'!CF18","v":15},{"$f":"'Nastavení příloh'!CG18","v":20},{"$f":"'Nastavení příloh'!CH18","v":43},{"$f":"'Nastavení příloh'!CI18","v":46},{"$f":"'Nastavení příloh'!CJ18","v":50},{"$f":"'Nastavení příloh'!CK18","v":53},{"$f":"'Nastavení příloh'!CL18","v":56},{"$f":"'Nastavení příloh'!CM18","v":60},{"$f":"'Nastavení příloh'!CN18","v":63},{"$f":"'Nastavení příloh'!CO18","v":64},{"$f":"'Nastavení příloh'!CP18","v":65},{"$f":"'Nastavení příloh'!CQ18","v":67},{"$f":"'Nastavení příloh'!CR18","v":48}]
["Plast","Volně",0,"Více jak 0 kg","V pořádku","-",0.2,null,800,"-",899,{"$f":"'Nastavení příloh'!AD19","v":0},{"$f":"'Nastavení příloh'!AE19","v":0},{"$f":"'Nastavení příloh'!AF19","v":0},{"$f":"'Nastavení příloh'!AG19","v":0},{"$f":"'Nastavení příloh'!AH19","v":0},{"$f":"'Nastavení příloh'!AI19","v":2},{"$f":"'Nastavení příloh'!AJ19","v":4},{"$f":"'Nastavení příloh'!AK19","v":7},{"$f":"'Nastavení příloh'!AL19","v":9},{"$f":"'Nastavení příloh'!AM19","v":12},{"$f":"'Nastavení příloh'!AN19","v":14},{"$f":"'Nastavení příloh'!AO19","v":16},{"$f":"'Nastavení příloh'!AP19","v":19},{"$f":"'Nastavení příloh'!AQ19","v":21},{"$f":"'Nastavení příloh'!AR19","v":24},{"$f":"'Nastavení příloh'!AS19","v":25},{"$f":"'Nastavení příloh'!AT19","v":25},{"$f":"'Nastavení příloh'!AU19","v":25},{"$f":"'Nastavení příloh'!AV19","v":24},null,800,"-",899,{"$f":"'Nastavení příloh'!BB19","v":0},{"$f":"'Nastavení příloh'!BC19","v":0},{"$f":"'Nastavení příloh'!BD19","v":0},{"$f":"'Nastavení příloh'!BE19","v":0},{"$f":"'Nastavení příloh'!BF19","v":0},{"$f":"'Nastavení příloh'!BG19","v":0},{"$f":"'Nastavení příloh'!BH19","v":0},{"$f":"'Nastavení příloh'!BI19","v":0},{"$f":"'Nastavení příloh'!BJ19","v":20},{"$f":"'Nastavení příloh'!BK19","v":20},{"$f":"'Nastavení příloh'!BL19","v":20},{"$f":"'Nastavení příloh'!BM19","v":20},{"$f":"'Nastavení příloh'!BN19","v":20},{"$f":"'Nastavení příloh'!BO19","v":20},{"$f":"'Nastavení příloh'!BP19","v":20},{"$f":"'Nastavení příloh'!BQ19","v":20},{"$f":"'Nastavení příloh'!BR19","v":20},{"$f":"'Nastavení příloh'!BS19","v":20},{"$f":"'Nastavení příloh'!BT19","v":0},null,800,"-",899,{"$f":"'Nastavení příloh'!BZ19","v":0},{"$f":"'Nastavení příloh'!CA19","v":1},{"$f":"'Nastavení příloh'!CB19","v":2},{"$f":"'Nastavení příloh'!CC19","v":4},{"$f":"'Nastavení příloh'!CD19","v":5},{"$f":"'Nastavení příloh'!CE19","v":9},{"$f":"'Nastavení příloh'!CF19","v":12},{"$f":"'Nastavení příloh'!CG19","v":17},{"$f":"'Nastavení příloh'!CH19","v":40},{"$f":"'Nastavení příloh'!CI19","v":45},{"$f":"'Nastavení příloh'!CJ19","v":48},{"$f":"'Nastavení příloh'!CK19","v":52},{"$f":"'Nastavení příloh'!CL19","v":56},{"$f":"'Nastavení příloh'!CM19","v":60},{"$f":"'Nastavení příloh'!CN19","v":64},{"$f":"'Nastavení příloh'!CO19","v":67},{"$f":"'Nastavení příloh'!CP19","v":68},{"$f":"'Nastavení příloh'!CQ19","v":70},{"$f":"'Nastavení příloh'!CR19","v":49}]
["Plast","Volně",0,"Více jak 0 kg","V pořádku","Polystyren",1.2,null,900,"-",999,{"$f":"'Nastavení příloh'!AD20","v":0},{"$f":"'Nastavení příloh'!AE20","v":0},{"$f":"'Nastavení příloh'!AF20","v":0},{"$f":"'Nastavení příloh'!AG20","v":0},{"$f":"'Nastavení příloh'!AH20","v":0},{"$f":"'Nastavení příloh'!AI20","v":0},{"$f":"'Nastavení příloh'!AJ20","v":0},{"$f":"'Nastavení příloh'!AK20","v":3},{"$f":"'Nastavení příloh'!AL20","v":6},{"$f":"'Nastavení příloh'!AM20","v":8},{"$f":"'Nastavení příloh'!AN20","v":11},{"$f":"'Nastavení příloh'!AO20","v":14},{"$f":"'Nastavení příloh'!AP20","v":16},{"$f":"'Nastavení příloh'!AQ20","v":19},{"$f":"'Nastavení příloh'!AR20","v":22},{"$f":"'Nastavení příloh'!AS20","v":25},{"$f":"'Nastavení příloh'!AT20","v":25},{"$f":"'Nastavení příloh'!AU20","v":24},{"$f":"'Nastavení příloh'!AV20","v":22},null,900,"-",999,{"$f":"'Nastavení příloh'!BB20","v":0},{"$f":"'Nastavení příloh'!BC20","v":0},{"$f":"'Nastavení příloh'!BD20","v":0},{"$f":"'Nastavení příloh'!BE20","v":0},{"$f":"'Nastavení příloh'!BF20","v":0},{"$f":"'Nastavení příloh'!BG20","v":0},{"$f":"'Nastavení příloh'!BH20","v":0},{"$f":"'Nastavení příloh'!BI20","v":0},{"$f":"'Nastavení příloh'!BJ20","v":20},{"$f":"'Nastavení příloh'!BK20","v":20},{"$f":"'Nastavení příloh'!BL20","v":20},{"$f":"'Nastavení příloh'!BM20","v":20},{"$f":"'Nastavení příloh'!BN20","v":20},{"$f":"'Nastavení příloh'!BO20","v":20},{"$f":"'Nastavení příloh'!BP20","v":20},{"$f":"'Nastavení příloh'!BQ20","v":20},{"$f":"'Nastavení příloh'!BR20","v":20},{"$f":"'Nastavení příloh'!BS20","v":20},{"$f":"'Nastavení příloh'!BT20","v":0},null,900,"-",999,{"$f":"'Nastavení příloh'!BZ20","v":0},{"$f":"'Nastavení příloh'!CA20","v":1},{"$f":"'Nastavení příloh'!CB20","v":3},{"$f":"'Nastavení příloh'!CC20","v":4},{"$f":"'Nastavení příloh'!CD20","v":6},{"$f":"'Nastavení příloh'!CE20","v":8},{"$f":"'Nastavení příloh'!CF20","v":9},{"$f":"'Nastavení příloh'!CG20","v":14},{"$f":"'Nastavení příloh'!CH20","v":39},{"$f":"'Nastavení příloh'!CI20","v":42},{"$f":"'Nastavení příloh'!CJ20","v":47},{"$f":"'Nastavení příloh'!CK20","v":52},{"$f":"'Nastavení příloh'!CL20","v":55},{"$f":"'Nastavení příloh'!CM20","v":60},{"$f":"'Nastavení příloh'!CN20","v":65},{"$f":"'Nastavení příloh'!CO20","v":69},{"$f":"'Nastavení příloh'!CP20","v":70},{"$f":"'Nastavení příloh'!CQ20","v":69},{"$f":"'Nastavení příloh'!CR20","v":47}]
["Plast","Pytel o neznámém objemu; Pytel 120l",120,"Více jak 0 kg","V pořádku","Polystyren",1,null,1000,"-",1099,{"$f":"'Nastavení příloh'!AD21","v":0},{"$f":"'Nastavení příloh'!AE21","v":0},{"$f":"'Nastavení příloh'!AF21","v":0},{"$f":"'Nastavení příloh'!AG21","v":0},{"$f":"'Nastavení příloh'!AH21","v":0},{"$f":"'Nastavení příloh'!AI21","v":0},{"$f":"'Nastavení příloh'!AJ21","v":0},{"$f":"'Nastavení příloh'!AK21","v":0},{"$f":"'Nastavení příloh'!AL21","v":2},{"$f":"'Nastavení příloh'!AM21","v":5},{"$f":"'Nastavení příloh'!AN21","v":8},{"$f":"'Nastavení příloh'!AO21","v":11},{"$f":"'Nastavení příloh'!AP21","v":14},{"$f":"'Nastavení příloh'!AQ21","v":17},{"$f":"'Nastavení příloh'!AR21","v":20},{"$f":"'Nastavení příloh'!AS21","v":23},{"$f":"'Nastavení příloh'!AT21","v":25},{"$f":"'Nastavení příloh'!AU21","v":23},{"$f":"'Nastavení příloh'!AV21","v":20},null,1000,"-",1099,{"$f":"'Nastavení příloh'!BB21","v":0},{"$f":"'Nastavení příloh'!BC21","v":0},{"$f":"'Nastavení příloh'!BD21","v":0},{"$f":"'Nastavení příloh'!BE21","v":0},{"$f":"'Nastavení příloh'!BF21","v":0},{"$f":"'Nastavení příloh'!BG21","v":0},{"$f":"'Nastavení příloh'!BH21","v":0},{"$f":"'Nastavení příloh'!BI21","v":0},{"$f":"'Nastavení příloh'!BJ21","v":20},{"$f":"'Nastavení příloh'!BK21","v":20},{"$f":"'Nastavení příloh'!BL21","v":20},{"$f":"'Nastavení příloh'!BM21","v":20},{"$f":"'Nastavení příloh'!BN21","v":20},{"$f":"'Nastavení příloh'!BO21","v":20},{"$f":"'Nastavení příloh'!BP21","v":20},{"$f":"'Nastavení příloh'!BQ21","v":20},{"$f":"'Nastavení příloh'!BR21","v":20},{"$f":"'Nastavení příloh'!BS21","v":20},{"$f":"'Nastavení příloh'!BT21","v":0},null,1000,"-",1099,{"$f":"'Nastavení příloh'!BZ21","v":0},{"$f":"'Nastavení příloh'!CA21","v":1},{"$f":"'Nastavení příloh'!CB21","v":3},{"$f":"'Nastavení příloh'!CC21","v":5},{"$f":"'Nastavení příloh'!CD21","v":7},{"$f":"'Nastavení příloh'!CE21","v":8},{"$f":"'Nastavení příloh'!CF21","v":10},{"$f":"'Nastavení příloh'!CG21","v":12},{"$f":"'Nastavení příloh'!CH21","v":36},{"$f":"'Nastavení příloh'!CI21","v":41},{"$f":"'Nastavení příloh'!CJ21","v":46},{"$f":"'Nastavení příloh'!CK21","v":50},{"$f":"'Nastavení příloh'!CL21","v":55},{"$f":"'Nastavení příloh'!CM21","v":60},{"$f":"'Nastavení příloh'!CN21","v":65},{"$f":"'Nastavení příloh'!CO21","v":68},{"$f":"'Nastavení příloh'!CP21","v":70},{"$f":"'Nastavení příloh'!CQ21","v":68},{"$f":"'Nastavení příloh'!CR21","v":45}]
["Plast; Plast s nápojovým kartonem","Pytel o neznámém objemu; Pytel 120l",120,"2,5 kg - 4,5 kg","V pořádku","-",1,null,1100,"-",1199,0,0,0,{"$f":"'Nastavení příloh'!AG22","v":0},{"$f":"'Nastavení příloh'!AH22","v":0},{"$f":"'Nastavení příloh'!AI22","v":0},{"$f":"'Nastavení příloh'!AJ22","v":0},{"$f":"'Nastavení příloh'!AK22","v":0},{"$f":"'Nastavení příloh'!AL22","v":0},{"$f":"'Nastavení příloh'!AM22","v":2},{"$f":"'Nastavení příloh'!AN22","v":5},{"$f":"'Nastavení příloh'!AO22","v":8},{"$f":"'Nastavení příloh'!AP22","v":12},{"$f":"'Nastavení příloh'!AQ22","v":15},{"$f":"'Nastavení příloh'!AR22","v":18},{"$f":"'Nastavení příloh'!AS22","v":21},{"$f":"'Nastavení příloh'!AT22","v":25},{"$f":"'Nastavení příloh'!AU22","v":21},{"$f":"'Nastavení příloh'!AV22","v":18},null,1100,"-",1199,{"$f":"'Nastavení příloh'!BB22","v":0},{"$f":"'Nastavení příloh'!BC22","v":0},{"$f":"'Nastavení příloh'!BD22","v":0},{"$f":"'Nastavení příloh'!BE22","v":0},{"$f":"'Nastavení příloh'!BF22","v":0},{"$f":"'Nastavení příloh'!BG22","v":0},{"$f":"'Nastavení příloh'!BH22","v":0},{"$f":"'Nastavení příloh'!BI22","v":0},{"$f":"'Nastavení příloh'!BJ22","v":0},{"$f":"'Nastavení příloh'!BK22","v":20},{"$f":"'Nastavení příloh'!BL22","v":20},{"$f":"'Nastavení příloh'!BM22","v":20},{"$f":"'Nastavení příloh'!BN22","v":20},{"$f":"'Nastavení příloh'!BO22","v":20},{"$f":"'Nastavení příloh'!BP22","v":20},{"$f":"'Nastavení příloh'!BQ22","v":20},{"$f":"'Nastavení příloh'!BR22","v":20},{"$f":"'Nastavení příloh'!BS22","v":20},{"$f":"'Nastavení příloh'!BT22","v":0},null,1100,"-",1199,{"$f":"'Nastavení příloh'!BZ22","v":0},{"$f":"'Nastavení příloh'!CA22","v":0},{"$f":"'Nastavení příloh'!CB22","v":3},{"$f":"'Nastavení příloh'!CC22","v":5},{"$f":"'Nastavení příloh'!CD22","v":7},{"$f":"'Nastavení příloh'!CE22","v":9},{"$f":"'Nastavení příloh'!CF22","v":11},{"$f":"'Nastavení příloh'!CG22","v":13},{"$f":"'Nastavení příloh'!CH22","v":15},{"$f":"'Nastavení příloh'!CI22","v":39},{"$f":"'Nastavení příloh'!CJ22","v":44},{"$f":"'Nastavení příloh'!CK22","v":49},{"$f":"'Nastavení příloh'!CL22","v":55},{"$f":"'Nastavení příloh'!CM22","v":60},{"$f":"'Nastavení příloh'!CN22","v":63},{"$f":"'Nastavení příloh'!CO22","v":66},{"$f":"'Nastavení příloh'!CP22","v":70},{"$f":"'Nastavení příloh'!CQ22","v":66},{"$f":"'Nastavení příloh'!CR22","v":43}]
["Plast; Plast s nápojovým kartonem","Kontejner",1100,"Dle zaplněnosti","V pořádku","-",1,null,1200,"-",1299,0,0,0,0,{"$f":"'Nastavení příloh'!AH23","v":0},{"$f":"'Nastavení příloh'!AI23","v":0},{"$f":"'Nastavení příloh'!AJ23","v":0},{"$f":"'Nastavení příloh'!AK23","v":0},{"$f":"'Nastavení příloh'!AL23","v":0},{"$f":"'Nastavení příloh'!AM23","v":0},{"$f":"'Nastavení příloh'!AN23","v":2},{"$f":"'Nastavení příloh'!AO23","v":6},{"$f":"'Nastavení příloh'!AP23","v":9},{"$f":"'Nastavení příloh'!AQ23","v":13},{"$f":"'Nastavení příloh'!AR23","v":16},{"$f":"'Nastavení příloh'!AS23","v":20},{"$f":"'Nastavení příloh'!AT23","v":23},{"$f":"'Nastavení příloh'!AU23","v":20},{"$f":"'Nastavení příloh'!AV23","v":16},null,1200,"-",1299,{"$f":"'Nastavení příloh'!BB23","v":0},{"$f":"'Nastavení příloh'!BC23","v":0},{"$f":"'Nastavení příloh'!BD23","v":0},{"$f":"'Nastavení příloh'!BE23","v":0},{"$f":"'Nastavení příloh'!BF23","v":0},{"$f":"'Nastavení příloh'!BG23","v":0},{"$f":"'Nastavení příloh'!BH23","v":0},{"$f":"'Nastavení příloh'!BI23","v":0},{"$f":"'Nastavení příloh'!BJ23","v":0},{"$f":"'Nastavení příloh'!BK23","v":19},{"$f":"'Nastavení příloh'!BL23","v":20},{"$f":"'Nastavení příloh'!BM23","v":20},{"$f":"'Nastavení příloh'!BN23","v":20},{"$f":"'Nastavení příloh'!BO23","v":20},{"$f":"'Nastavení příloh'!BP23","v":20},{"$f":"'Nastavení příloh'!BQ23","v":20},{"$f":"'Nastavení příloh'!BR23","v":20},{"$f":"'Nastavení příloh'!BS23","v":20},{"$f":"'Nastavení příloh'!BT23","v":0},null,1200,"-",1299,{"$f":"'Nastavení příloh'!BZ23","v":0},{"$f":"'Nastavení příloh'!CA23","v":0},{"$f":"'Nastavení příloh'!CB23","v":1},{"$f":"'Nastavení příloh'!CC23","v":5},{"$f":"'Nastavení příloh'!CD23","v":8},{"$f":"'Nastavení příloh'!CE23","v":10},{"$f":"'Nastavení příloh'!CF23","v":12},{"$f":"'Nastavení příloh'!CG23","v":14},{"$f":"'Nastavení příloh'!CH23","v":17},{"$f":"'Nastavení příloh'!CI23","v":38},{"$f":"'Nastavení příloh'!CJ23","v":43},{"$f":"'Nastavení příloh'!CK23","v":49},{"$f":"'Nastavení příloh'!CL23","v":54},{"$f":"'Nastavení příloh'!CM23","v":58},{"$f":"'Nastavení příloh'!CN23","v":61},{"$f":"'Nastavení příloh'!CO23","v":65},{"$f":"'Nastavení příloh'!CP23","v":68},{"$f":"'Nastavení příloh'!CQ23","v":65},{"$f":"'Nastavení příloh'!CR23","v":41}]
["Nápojový karton","Pytel o neznámém objemu; Pytel 120l","-","1 kg a více","V pořádku","-",1,null,1300,"-",1399,0,0,0,0,0,0,0,{"$f":"'Nastavení příloh'!AK24","v":0},{"$f":"'Nastavení příloh'!AL24","v":0},{"$f":"'Nastavení příloh'!AM24","v":0},{"$f":"'Nastavení příloh'!AN24","v":0},{"$f":"'Nastavení příloh'!AO24","v":3},{"$f":"'Nastavení příloh'!AP24","v":7},{"$f":"'Nastavení příloh'!AQ24","v":11},{"$f":"'Nastavení příloh'!AR24","v":15},{"$f":"'Nastavení příloh'!AS24","v":18},{"$f":"'Nastavení příloh'!AT24","v":22},{"$f":"'Nastavení příloh'!AU24","v":18},{"$f":"'Nastavení příloh'!AV24","v":15},null,1300,"-",1399,{"$f":"'Nastavení příloh'!BB24","v":0},{"$f":"'Nastavení příloh'!BC24","v":0},{"$f":"'Nastavení příloh'!BD24","v":0},{"$f":"'Nastavení příloh'!BE24","v":0},{"$f":"'Nastavení příloh'!BF24","v":0},{"$f":"'Nastavení příloh'!BG24","v":0},{"$f":"'Nastavení příloh'!BH24","v":0},{"$f":"'Nastavení příloh'!BI24","v":0},{"$f":"'Nastavení příloh'!BJ24","v":0},{"$f":"'Nastavení příloh'!BK24","v":0},{"$f":"'Nastavení příloh'!BL24","v":19},{"$f":"'Nastavení příloh'!BM24","v":20},{"$f":"'Nastavení příloh'!BN24","v":20},{"$f":"'Nastavení příloh'!BO24","v":20},{"$f":"'Nastavení příloh'!BP24","v":20},{"$f":"'Nastavení příloh'!BQ24","v":20},{"$f":"'Nastavení příloh'!BR24","v":20},{"$f":"'Nastavení příloh'!BS24","v":19},{"$f":"'Nastavení příloh'!BT24","v":0},null,1300,"-",1399,{"$f":"'Nastavení příloh'!BZ24","v":0},{"$f":"'Nastavení příloh'!CA24","v":0},{"$f":"'Nastavení příloh'!CB24","v":0},{"$f":"'Nastavení příloh'!CC24","v":2},{"$f":"'Nastavení příloh'!CD24","v":7},{"$f":"'Nastavení příloh'!CE24","v":11},{"$f":"'Nastavení příloh'!CF24","v":13},{"$f":"'Nastavení příloh'!CG24","v":16},{"$f":"'Nastavení příloh'!CH24","v":18},{"$f":"'Nastavení příloh'!CI24","v":20},{"$f":"'Nastavení příloh'!CJ24","v":42},{"$f":"'Nastavení příloh'!CK24","v":48},{"$f":"'Nastavení příloh'!CL24","v":52},{"$f":"'Nastavení příloh'!CM24","v":56},{"$f":"'Nastavení příloh'!CN24","v":60},{"$f":"'Nastavení příloh'!CO24","v":63},{"$f":"'Nastavení příloh'!CP24","v":67},{"$f":"'Nastavení příloh'!CQ24","v":62},{"$f":"'Nastavení příloh'!CR24","v":40}]
["Plechovky","Taška nebo pytel o neznámém objemu","-","Více jak 0 kg","V pořádku","-",0.5,null,1400,"-",1499,0,0,0,0,0,0,0,{"$f":"'Nastavení příloh'!AK25","v":0},{"$f":"'Nastavení příloh'!AL25","v":0},{"$f":"'Nastavení příloh'!AM25","v":0},{"$f":"'Nastavení příloh'!AN25","v":0},{"$f":"'Nastavení příloh'!AO25","v":0},{"$f":"'Nastavení příloh'!AP25","v":4},{"$f":"'Nastavení příloh'!AQ25","v":9},{"$f":"'Nastavení příloh'!AR25","v":13},{"$f":"'Nastavení příloh'!AS25","v":17},{"$f":"'Nastavení příloh'!AT25","v":21},{"$f":"'Nastavení příloh'!AU25","v":17},{"$f":"'Nastavení příloh'!AV25","v":13},null,1400,"-",1499,{"$f":"'Nastavení příloh'!BB25","v":0},{"$f":"'Nastavení příloh'!BC25","v":0},{"$f":"'Nastavení příloh'!BD25","v":0},{"$f":"'Nastavení příloh'!BE25","v":0},{"$f":"'Nastavení příloh'!BF25","v":0},{"$f":"'Nastavení příloh'!BG25","v":0},{"$f":"'Nastavení příloh'!BH25","v":0},{"$f":"'Nastavení příloh'!BI25","v":0},{"$f":"'Nastavení příloh'!BJ25","v":0},{"$f":"'Nastavení příloh'!BK25","v":0},{"$f":"'Nastavení příloh'!BL25","v":16},{"$f":"'Nastavení příloh'!BM25","v":20},{"$f":"'Nastavení příloh'!BN25","v":20},{"$f":"'Nastavení příloh'!BO25","v":20},{"$f":"'Nastavení příloh'!BP25","v":20},{"$f":"'Nastavení příloh'!BQ25","v":20},{"$f":"'Nastavení příloh'!BR25","v":19},{"$f":"'Nastavení příloh'!BS25","v":0},{"$f":"'Nastavení příloh'!BT25","v":0},null,1400,"-",1499,{"$f":"'Nastavení příloh'!BZ25","v":0},{"$f":"'Nastavení příloh'!CA25","v":0},{"$f":"'Nastavení příloh'!CB25","v":0},{"$f":"'Nastavení příloh'!CC25","v":1},{"$f":"'Nastavení příloh'!CD25","v":5},{"$f":"'Nastavení příloh'!CE25","v":10},{"$f":"'Nastavení příloh'!CF25","v":14},{"$f":"'Nastavení příloh'!CG25","v":17},{"$f":"'Nastavení příloh'!CH25","v":19},{"$f":"'Nastavení příloh'!CI25","v":22},{"$f":"'Nastavení příloh'!CJ25","v":40},{"$f":"'Nastavení příloh'!CK25","v":45},{"$f":"'Nastavení příloh'!CL25","v":49},{"$f":"'Nastavení příloh'!CM25","v":54},{"$f":"'Nastavení příloh'!CN25","v":58},{"$f":"'Nastavení příloh'!CO25","v":62},{"$f":"'Nastavení příloh'!CP25","v":65},{"$f":"'Nastavení příloh'!CQ25","v":42},{"$f":"'Nastavení příloh'!CR25","v":38}]
["Plechovky","Pytel 120l","-",{"$f":"\"5 kg - 10 kg\"","v":"5 kg - 10 kg"},"V pořádku","-",0.5,null,1500,"-",1599,0,0,0,0,0,0,0,{"$f":"'Nastavení příloh'!AK26","v":0},{"$f":"'Nastavení příloh'!AL26","v":0},{"$f":"'Nastavení příloh'!AM26","v":0},{"$f":"'Nastavení příloh'!AN26","v":0},{"$f":"'Nastavení příloh'!AO26","v":0},{"$f":"'Nastavení příloh'!AP26","v":2},{"$f":"'Nastavení příloh'!AQ26","v":7},{"$f":"'Nastavení příloh'!AR26","v":11},{"$f":"'Nastavení příloh'!AS26","v":15},{"$f":"'Nastavení příloh'!AT26","v":20},{"$f":"'Nastavení příloh'!AU26","v":15},{"$f":"'Nastavení příloh'!AV26","v":11},null,1500,"-",1599,{"$f":"'Nastavení příloh'!BB26","v":0},{"$f":"'Nastavení příloh'!BC26","v":0},{"$f":"'Nastavení příloh'!BD26","v":0},{"$f":"'Nastavení příloh'!BE26","v":0},{"$f":"'Nastavení příloh'!BF26","v":0},{"$f":"'Nastavení příloh'!BG26","v":0},{"$f":"'Nastavení příloh'!BH26","v":0},{"$f":"'Nastavení příloh'!BI26","v":0},{"$f":"'Nastavení příloh'!BJ26","v":0},{"$f":"'Nastavení příloh'!BK26","v":0},{"$f":"'Nastavení příloh'!BL26","v":0},{"$f":"'Nastavení příloh'!BM26","v":18},{"$f":"'Nastavení příloh'!BN26","v":20},{"$f":"'Nastavení příloh'!BO26","v":20},{"$f":"'Nastavení příloh'!BP26","v":20},{"$f":"'Nastavení příloh'!BQ26","v":19},{"$f":"'Nastavení příloh'!BR26","v":17},{"$f":"'Nastavení příloh'!BS26","v":0},{"$f":"'Nastavení příloh'!BT26","v":0},null,1500,"-",1599,{"$f":"'Nastavení příloh'!BZ26","v":0},{"$f":"'Nastavení příloh'!CA26","v":0},{"$f":"'Nastavení příloh'!CB26","v":0},{"$f":"'Nastavení příloh'!CC26","v":0},{"$f":"'Nastavení příloh'!CD26","v":3},{"$f":"'Nastavení příloh'!CE26","v":8},{"$f":"'Nastavení příloh'!CF26","v":13},{"$f":"'Nastavení příloh'!CG26","v":18},{"$f":"'Nastavení příloh'!CH26","v":21},{"$f":"'Nastavení příloh'!CI26","v":23},{"$f":"'Nastavení příloh'!CJ26","v":25},{"$f":"'Nastavení příloh'!CK26","v":43},{"$f":"'Nastavení příloh'!CL26","v":47},{"$f":"'Nastavení příloh'!CM26","v":52},{"$f":"'Nastavení příloh'!CN26","v":56},{"$f":"'Nastavení příloh'!CO26","v":59},{"$f":"'Nastavení příloh'!CP26","v":62},{"$f":"'Nastavení příloh'!CQ26","v":40},{"$f":"'Nastavení příloh'!CR26","v":36}]
["Plechovky","Kontejner","-","Dle zaplněnosti","V pořádku","-",0.5,null,1600,"-",1699,0,0,0,0,0,0,0,0,{"$f":"'Nastavení příloh'!AL27","v":0},{"$f":"'Nastavení příloh'!AM27","v":0},{"$f":"'Nastavení příloh'!AN27","v":0},{"$f":"'Nastavení příloh'!AO27","v":0},{"$f":"'Nastavení příloh'!AP27","v":0},{"$f":"'Nastavení příloh'!AQ27","v":4},{"$f":"'Nastavení příloh'!AR27","v":9},{"$f":"'Nastavení příloh'!AS27","v":14},{"$f":"'Nastavení příloh'!AT27","v":18},{"$f":"'Nastavení příloh'!AU27","v":14},{"$f":"'Nastavení příloh'!AV27","v":9},null,1600,"-",1699,{"$f":"'Nastavení příloh'!BB27","v":0},{"$f":"'Nastavení příloh'!BC27","v":0},{"$f":"'Nastavení příloh'!BD27","v":0},{"$f":"'Nastavení příloh'!BE27","v":0},{"$f":"'Nastavení příloh'!BF27","v":0},{"$f":"'Nastavení příloh'!BG27","v":0},{"$f":"'Nastavení příloh'!BH27","v":0},{"$f":"'Nastavení příloh'!BI27","v":0},{"$f":"'Nastavení příloh'!BJ27","v":0},{"$f":"'Nastavení příloh'!BK27","v":0},{"$f":"'Nastavení příloh'!BL27","v":0},{"$f":"'Nastavení příloh'!BM27","v":15},{"$f":"'Nastavení příloh'!BN27","v":20},{"$f":"'Nastavení příloh'!BO27","v":20},{"$f":"'Nastavení příloh'!BP27","v":19},{"$f":"'Nastavení příloh'!BQ27","v":17},{"$f":"'Nastavení příloh'!BR27","v":0},{"$f":"'Nastavení příloh'!BS27","v":0},{"$f":"'Nastavení příloh'!BT27","v":0},null,1600,"-",1699,{"$f":"'Nastavení příloh'!BZ27","v":0},{"$f":"'Nastavení příloh'!CA27","v":0},{"$f":"'Nastavení příloh'!CB27","v":0},{"$f":"'Nastavení příloh'!CC27","v":0},{"$f":"'Nastavení příloh'!CD27","v":1},{"$f":"'Nastavení příloh'!CE27","v":7},{"$f":"'Nastavení příloh'!CF27","v":12},{"$f":"'Nastavení příloh'!CG27","v":17},{"$f":"'Nastavení příloh'!CH27","v":22},{"$f":"'Nastavení příloh'!CI27","v":25},{"$f":"'Nastavení příloh'!CJ27","v":25},{"$f":"'Nastavení příloh'!CK27","v":40},{"$f":"'Nastavení příloh'!CL27","v":45},{"$f":"'Nastavení příloh'!CM27","v":49},{"$f":"'Nastavení příloh'!CN27","v":53},{"$f":"'Nastavení příloh'!CO27","v":56},{"$f":"'Nastavení příloh'!CP27","v":43},{"$f":"'Nastavení příloh'!CQ27","v":39},{"$f":"'Nastavení příloh'!CR27","v":34}]
["Drobné elektrozařízení","Taška nebo pytel o neznámém objemu","-","Více jak 0 kg","V pořádku","-",0.5,null,1700,"-",1799,0,0,0,0,0,0,0,0,0,0,{"$f":"'Nastavení příloh'!AN28","v":0},{"$f":"'Nastavení příloh'!AO28","v":0},{"$f":"'Nastavení příloh'!AP28","v":0},{"$f":"'Nastavení příloh'!AQ28","v":2},{"$f":"'Nastavení příloh'!AR28","v":7},{"$f":"'Nastavení příloh'!AS28","v":12},{"$f":"'Nastavení příloh'!AT28","v":17},{"$f":"'Nastavení příloh'!AU28","v":12},{"$f":"'Nastavení příloh'!AV28","v":7},null,1700,"-",1799,{"$f":"'Nastavení příloh'!BB28","v":0},{"$f":"'Nastavení příloh'!BC28","v":0},{"$f":"'Nastavení příloh'!BD28","v":0},{"$f":"'Nastavení příloh'!BE28","v":0},{"$f":"'Nastavení příloh'!BF28","v":0},{"$f":"'Nastavení příloh'!BG28","v":0},{"$f":"'Nastavení příloh'!BH28","v":0},{"$f":"'Nastavení příloh'!BI28","v":0},{"$f":"'Nastavení příloh'!BJ28","v":0},{"$f":"'Nastavení příloh'!BK28","v":0},{"$f":"'Nastavení příloh'!BL28","v":0},{"$f":"'Nastavení příloh'!BM28","v":0},{"$f":"'Nastavení příloh'!BN28","v":17},{"$f":"'Nastavení příloh'!BO28","v":19},{"$f":"'Nastavení příloh'!BP28","v":17},{"$f":"'Nastavení příloh'!BQ28","v":0},{"$f":"'Nastavení příloh'!BR28","v":0},{"$f":"'Nastavení příloh'!BS28","v":0},{"$f":"'Nastavení příloh'!BT28","v":0},null,1700,"-",1799,{"$f":"'Nastavení příloh'!BZ28","v":0},{"$f":"'Nastavení příloh'!CA28","v":0},{"$f":"'Nastavení příloh'!CB28","v":0},{"$f":"'Nastavení příloh'!CC28","v":0},{"$f":"'Nastavení příloh'!CD28","v":0},{"$f":"'Nastavení příloh'!CE28","v":5},{"$f":"'Nastavení příloh'!CF28","v":11},{"$f":"'Nastavení příloh'!CG28","v":16},{"$f":"'Nastavení příloh'!CH28","v":22},{"$f":"'Nastavení příloh'!CI28","v":25},{"$f":"'Nastavení příloh'!CJ28","v":25},{"$f":"'Nastavení příloh'!CK28","v":25},{"$f":"'Nastavení příloh'!CL28","v":42},{"$f":"'Nastavení příloh'!CM28","v":46},{"$f":"'Nastavení příloh'!CN28","v":49},{"$f":"'Nastavení příloh'!CO28","v":37},{"$f":"'Nastavení příloh'!CP28","v":42},{"$f":"'Nastavení příloh'!CQ28","v":37},{"$f":"'Nastavení příloh'!CR28","v":32}]
["Jedlý olej a tuk","PET lahev","-","1,5 kg a více","V pořádku","-",0.5,null,1800,"-",1899,0,0,0,0,0,0,0,0,0,0,{"$f":"'Nastavení příloh'!AN29","v":0},{"$f":"'Nastavení příloh'!AO29","v":0},{"$f":"'Nastavení příloh'!AP29","v":0},{"$f":"'Nastavení příloh'!AQ29","v":0},{"$f":"'Nastavení příloh'!AR29","v":5},{"$f":"'Nastavení příloh'!AS29","v":11},{"$f":"'Nastavení příloh'!AT29","v":16},{"$f":"'Nastavení příloh'!AU29","v":11},{"$f":"'Nastavení příloh'!AV29","v":5},null,1800,"-",1899,{"$f":"'Nastavení příloh'!BB29","v":0},{"$f":"'Nastavení příloh'!BC29","v":0},{"$f":"'Nastavení příloh'!BD29","v":0},{"$f":"'Nastavení příloh'!BE29","v":0},{"$f":"'Nastavení příloh'!BF29","v":0},{"$f":"'Nastavení příloh'!BG29","v":0},{"$f":"'Nastavení příloh'!BH29","v":0},{"$f":"'Nastavení příloh'!BI29","v":0},{"$f":"'Nastavení příloh'!BJ29","v":0},{"$f":"'Nastavení příloh'!BK29","v":0},{"$f":"'Nastavení příloh'!BL29","v":0},{"$f":"'Nastavení příloh'!BM29","v":0},{"$f":"'Nastavení příloh'!BN29","v":0},{"$f":"'Nastavení příloh'!BO29","v":0},{"$f":"'Nastavení příloh'!BP29","v":0},{"$f":"'Nastavení příloh'!BQ29","v":0},{"$f":"'Nastavení příloh'!BR29","v":0},{"$f":"'Nastavení příloh'!BS29","v":0},{"$f":"'Nastavení příloh'!BT29","v":0},null,1800,"-",1899,{"$f":"'Nastavení příloh'!BZ29","v":0},{"$f":"'Nastavení příloh'!CA29","v":0},{"$f":"'Nastavení příloh'!CB29","v":0},{"$f":"'Nastavení příloh'!CC29","v":0},{"$f":"'Nastavení příloh'!CD29","v":0},{"$f":"'Nastavení příloh'!CE29","v":4},{"$f":"'Nastavení příloh'!CF29","v":10},{"$f":"'Nastavení příloh'!CG29","v":15},{"$f":"'Nastavení příloh'!CH29","v":22},{"$f":"'Nastavení příloh'!CI29","v":25},{"$f":"'Nastavení příloh'!CJ29","v":25},{"$f":"'Nastavení příloh'!CK29","v":25},{"$f":"'Nastavení příloh'!CL29","v":25},{"$f":"'Nastavení příloh'!CM29","v":25},{"$f":"'Nastavení příloh'!CN29","v":30},{"$f":"'Nastavení příloh'!CO29","v":36},{"$f":"'Nastavení příloh'!CP29","v":41},{"$f":"'Nastavení příloh'!CQ29","v":36},{"$f":"'Nastavení příloh'!CR29","v":30}]
[null,null,null,null,null,null,null,null,1900,"-",1999,0,0,0,0,0,0,0,0,0,0,{"$f":"'Nastavení příloh'!AN30","v":0},{"$f":"'Nastavení příloh'!AO30","v":0},{"$f":"'Nastavení příloh'!AP30","v":0},{"$f":"'Nastavení příloh'!AQ30","v":0},{"$f":"'Nastavení příloh'!AR30","v":4},{"$f":"'Nastavení příloh'!AS30","v":9},{"$f":"'Nastavení příloh'!AT30","v":15},{"$f":"'Nastavení příloh'!AU30","v":9},{"$f":"'Nastavení příloh'!AV30","v":4},null,1900,"-",1999,{"$f":"'Nastavení příloh'!BB30","v":0},{"$f":"'Nastavení příloh'!BC30","v":0},{"$f":"'Nastavení příloh'!BD30","v":0},{"$f":"'Nastavení příloh'!BE30","v":0},{"$f":"'Nastavení příloh'!BF30","v":0},{"$f":"'Nastavení příloh'!BG30","v":0},{"$f":"'Nastavení příloh'!BH30","v":0},{"$f":"'Nastavení příloh'!BI30","v":0},{"$f":"'Nastavení příloh'!BJ30","v":0},{"$f":"'Nastavení příloh'!BK30","v":0},{"$f":"'Nastavení příloh'!BL30","v":0},{"$f":"'Nastavení příloh'!BM30","v":0},{"$f":"'Nastavení příloh'!BN30","v":0},{"$f":"'Nastavení příloh'!BO30","v":0},{"$f":"'Nastavení příloh'!BP30","v":0},{"$f":"'Nastavení příloh'!BQ30","v":0},{"$f":"'Nastavení příloh'!BR30","v":0},{"$f":"'Nastavení příloh'!BS30","v":0},{"$f":"'Nastavení příloh'!BT30","v":0},null,1900,"-",1999,{"$f":"'Nastavení příloh'!BZ30","v":0},{"$f":"'Nastavení příloh'!CA30","v":0},{"$f":"'Nastavení příloh'!CB30","v":0},{"$f":"'Nastavení příloh'!CC30","v":0},{"$f":"'Nastavení příloh'!CD30","v":0},{"$f":"'Nastavení příloh'!CE30","v":3},{"$f":"'Nastavení příloh'!CF30","v":9},{"$f":"'Nastavení příloh'!CG30","v":15},{"$f":"'Nastavení příloh'!CH30","v":20},{"$f":"'Nastavení příloh'!CI30","v":23},{"$f":"'Nastavení příloh'!CJ30","v":25},{"$f":"'Nastavení příloh'!CK30","v":25},{"$f":"'Nastavení příloh'!CL30","v":25},{"$f":"'Nastavení příloh'!CM30","v":25},{"$f":"'Nastavení příloh'!CN30","v":29},{"$f":"'Nastavení příloh'!CO30","v":34},{"$f":"'Nastavení příloh'!CP30","v":40},{"$f":"'Nastavení příloh'!CQ30","v":34},{"$f":"'Nastavení příloh'!CR30","v":29}]
["Součet získaných eko bodů za třídění odpadů je dělen počtem aktivních účastníků daného stanoviště, přičemž maximální možný počet eko bodů za třídění odpadů ",null,null,null,null,null,null,null,2000,"-",2099,0,0,0,0,0,0,0,0,0,0,0,0,{"$f":"'Nastavení příloh'!AP31","v":0},{"$f":"'Nastavení příloh'!AQ31","v":0},{"$f":"'Nastavení příloh'!AR31","v":2},{"$f":"'Nastavení příloh'!AS31","v":8},{"$f":"'Nastavení příloh'!AT31","v":13},{"$f":"'Nastavení příloh'!AU31","v":8},{"$f":"'Nastavení příloh'!AV31","v":2},null,2000,"-",2099,{"$f":"'Nastavení příloh'!BB31","v":0},{"$f":"'Nastavení příloh'!BC31","v":0},{"$f":"'Nastavení příloh'!BD31","v":0},{"$f":"'Nastavení příloh'!BE31","v":0},{"$f":"'Nastavení příloh'!BF31","v":0},{"$f":"'Nastavení příloh'!BG31","v":0},{"$f":"'Nastavení příloh'!BH31","v":0},{"$f":"'Nastavení příloh'!BI31","v":0},{"$f":"'Nastavení příloh'!BJ31","v":0},{"$f":"'Nastavení příloh'!BK31","v":0},{"$f":"'Nastavení příloh'!BL31","v":0},{"$f":"'Nastavení příloh'!BM31","v":0},{"$f":"'Nastavení příloh'!BN31","v":0},{"$f":"'Nastavení příloh'!BO31","v":0},{"$f":"'Nastavení příloh'!BP31","v":0},{"$f":"'Nastavení příloh'!BQ31","v":0},{"$f":"'Nastavení příloh'!BR31","v":0},{"$f":"'Nastavení příloh'!BS31","v":0},{"$f":"'Nastavení příloh'!BT31","v":0},null,2000,"-",2099,{"$f":"'Nastavení příloh'!BZ31","v":0},{"$f":"'Nastavení příloh'!CA31","v":0},{"$f":"'Nastavení příloh'!CB31","v":0},{"$f":"'Nastavení příloh'!CC31","v":0},{"$f":"'Nastavení příloh'!CD31","v":0},{"$f":"'Nastavení příloh'!CE31","v":4},{"$f":"'Nastavení příloh'!CF31","v":8},{"$f":"'Nastavení příloh'!CG31","v":15},{"$f":"'Nastavení příloh'!CH31","v":18},{"$f":"'Nastavení příloh'!CI31","v":21},{"$f":"'Nastavení příloh'!CJ31","v":24},{"$f":"'Nastavení příloh'!CK31","v":25},{"$f":"'Nastavení příloh'!CL31","v":25},{"$f":"'Nastavení příloh'!CM31","v":25},{"$f":"'Nastavení příloh'!CN31","v":27},{"$f":"'Nastavení příloh'!CO31","v":33},{"$f":"'Nastavení příloh'!CP31","v":38},{"$f":"'Nastavení příloh'!CQ31","v":33},{"$f":"'Nastavení příloh'!CR31","v":27}]
["činí 25 eko bodů na jednoho účastníka systému za rok.",null,null,null,null,null,null,null,2100,"-",2199,0,0,0,0,0,0,0,0,0,0,0,0,{"$f":"'Nastavení příloh'!AP32","v":0},{"$f":"'Nastavení příloh'!AQ32","v":0},{"$f":"'Nastavení příloh'!AR32","v":0},{"$f":"'Nastavení příloh'!AS32","v":6},{"$f":"'Nastavení příloh'!AT32","v":12},{"$f":"'Nastavení příloh'!AU32","v":6},{"$f":"'Nastavení příloh'!AV32","v":0},null,2100,"-",2199,{"$f":"'Nastavení příloh'!BB32","v":0},{"$f":"'Nastavení příloh'!BC32","v":0},{"$f":"'Nastavení příloh'!BD32","v":0},{"$f":"'Nastavení příloh'!BE32","v":0},{"$f":"'Nastavení příloh'!BF32","v":0},{"$f":"'Nastavení příloh'!BG32","v":0},{"$f":"'Nastavení příloh'!BH32","v":0},{"$f":"'Nastavení příloh'!BI32","v":0},{"$f":"'Nastavení příloh'!BJ32","v":0},{"$f":"'Nastavení příloh'!BK32","v":0},{"$f":"'Nastavení příloh'!BL32","v":0},{"$f":"'Nastavení příloh'!BM32","v":0},{"$f":"'Nastavení příloh'!BN32","v":0},{"$f":"'Nastavení příloh'!BO32","v":0},{"$f":"'Nastavení příloh'!BP32","v":0},{"$f":"'Nastavení příloh'!BQ32","v":0},{"$f":"'Nastavení příloh'!BR32","v":0},{"$f":"'Nastavení příloh'!BS32","v":0},{"$f":"'Nastavení příloh'!BT32","v":0},null,2100,"-",2199,{"$f":"'Nastavení příloh'!BZ32","v":0},{"$f":"'Nastavení příloh'!CA32","v":0},{"$f":"'Nastavení příloh'!CB32","v":0},{"$f":"'Nastavení příloh'!CC32","v":0},{"$f":"'Nastavení příloh'!CD32","v":1},{"$f":"'Nastavení příloh'!CE32","v":4},{"$f":"'Nastavení příloh'!CF32","v":8},{"$f":"'Nastavení příloh'!CG32","v":14},{"$f":"'Nastavení příloh'!CH32","v":17},{"$f":"'Nastavení příloh'!CI32","v":20},{"$f":"'Nastavení příloh'!CJ32","v":23},{"$f":"'Nastavení příloh'!CK32","v":25},{"$f":"'Nastavení příloh'!CL32","v":25},{"$f":"'Nastavení příloh'!CM32","v":25},{"$f":"'Nastavení příloh'!CN32","v":25},{"$f":"'Nastavení příloh'!CO32","v":31},{"$f":"'Nastavení příloh'!CP32","v":37},{"$f":"'Nastavení příloh'!CQ32","v":31},{"$f":"'Nastavení příloh'!CR32","v":25}]
[null,null,null,null,null,null,null,null,2200,"-",2299,0,0,0,0,0,0,0,0,0,0,0,0,{"$f":"'Nastavení příloh'!AP33","v":0},{"$f":"'Nastavení příloh'!AQ33","v":0},{"$f":"'Nastavení příloh'!AR33","v":0},{"$f":"'Nastavení příloh'!AS33","v":5},{"$f":"'Nastavení příloh'!AT33","v":11},{"$f":"'Nastavení příloh'!AU33","v":5},{"$f":"'Nastavení příloh'!AV33","v":0},null,2200,"-",2299,{"$f":"'Nastavení příloh'!BB33","v":0},{"$f":"'Nastavení příloh'!BC33","v":0},{"$f":"'Nastavení příloh'!BD33","v":0},{"$f":"'Nastavení příloh'!BE33","v":0},{"$f":"'Nastavení příloh'!BF33","v":0},{"$f":"'Nastavení příloh'!BG33","v":0},{"$f":"'Nastavení příloh'!BH33","v":0},{"$f":"'Nastavení příloh'!BI33","v":0},{"$f":"'Nastavení příloh'!BJ33","v":0},{"$f":"'Nastavení příloh'!BK33","v":0},{"$f":"'Nastavení příloh'!BL33","v":0},{"$f":"'Nastavení příloh'!BM33","v":0},{"$f":"'Nastavení příloh'!BN33","v":0},{"$f":"'Nastavení příloh'!BO33","v":0},{"$f":"'Nastavení příloh'!BP33","v":0},{"$f":"'Nastavení příloh'!BQ33","v":0},{"$f":"'Nastavení příloh'!BR33","v":0},{"$f":"'Nastavení příloh'!BS33","v":0},{"$f":"'Nastavení příloh'!BT33","v":0},null,2200,"-",2299,{"$f":"'Nastavení příloh'!BZ33","v":0},{"$f":"'Nastavení příloh'!CA33","v":0},{"$f":"'Nastavení příloh'!CB33","v":0},{"$f":"'Nastavení příloh'!CC33","v":0},{"$f":"'Nastavení příloh'!CD33","v":1},{"$f":"'Nastavení příloh'!CE33","v":5},{"$f":"'Nastavení příloh'!CF33","v":9},{"$f":"'Nastavení příloh'!CG33","v":12},{"$f":"'Nastavení příloh'!CH33","v":15},{"$f":"'Nastavení příloh'!CI33","v":18},{"$f":"'Nastavení příloh'!CJ33","v":21},{"$f":"'Nastavení příloh'!CK33","v":25},{"$f":"'Nastavení příloh'!CL33","v":25},{"$f":"'Nastavení příloh'!CM33","v":25},{"$f":"'Nastavení příloh'!CN33","v":25},{"$f":"'Nastavení příloh'!CO33","v":30},{"$f":"'Nastavení příloh'!CP33","v":36},{"$f":"'Nastavení příloh'!CQ33","v":30},{"$f":"'Nastavení příloh'!CR33","v":25}]
[null,null,null,null,null,null,null,null,2300,"-",2399,0,0,0,0,0,0,0,0,0,0,0,0,{"$f":"'Nastavení příloh'!AP34","v":0},{"$f":"'Nastavení příloh'!AQ34","v":0},{"$f":"'Nastavení příloh'!AR34","v":0},{"$f":"'Nastavení příloh'!AS34","v":3},{"$f":"'Nastavení příloh'!AT34","v":10},{"$f":"'Nastavení příloh'!AU34","v":3},{"$f":"'Nastavení příloh'!AV34","v":0},null,2300,"-",2399,{"$f":"'Nastavení příloh'!BB34","v":0},{"$f":"'Nastavení příloh'!BC34","v":0},{"$f":"'Nastavení příloh'!BD34","v":0},{"$f":"'Nastavení příloh'!BE34","v":0},{"$f":"'Nastavení příloh'!BF34","v":0},{"$f":"'Nastavení příloh'!BG34","v":0},{"$f":"'Nastavení příloh'!BH34","v":0},{"$f":"'Nastavení příloh'!BI34","v":0},{"$f":"'Nastavení příloh'!BJ34","v":0},{"$f":"'Nastavení příloh'!BK34","v":0},{"$f":"'Nastavení příloh'!BL34","v":0},{"$f":"'Nastavení příloh'!BM34","v":0},{"$f":"'Nastavení příloh'!BN34","v":0},{"$f":"'Nastavení příloh'!BO34","v":0},{"$f":"'Nastavení příloh'!BP34","v":0},{"$f":"'Nastavení příloh'!BQ34","v":0},{"$f":"'Nastavení příloh'!BR34","v":0},{"$f":"'Nastavení příloh'!BS34","v":0},{"$f":"'Nastavení příloh'!BT34","v":0},null,2300,"-",2399,{"$f":"'Nastavení příloh'!BZ34","v":0},{"$f":"'Nastavení příloh'!CA34","v":0},{"$f":"'Nastavení příloh'!CB34","v":0},{"$f":"'Nastavení příloh'!CC34","v":0},{"$f":"'Nastavení příloh'!CD34","v":2},{"$f":"'Nastavení příloh'!CE34","v":6},{"$f":"'Nastavení příloh'!CF34","v":10},{"$f":"'Nastavení příloh'!CG34","v":12},{"$f":"'Nastavení příloh'!CH34","v":13},{"$f":"'Nastavení příloh'!CI34","v":17},{"$f":"'Nastavení příloh'!CJ34","v":20},{"$f":"'Nastavení příloh'!CK34","v":23},{"$f":"'Nastavení příloh'!CL34","v":25},{"$f":"'Nastavení příloh'!CM34","v":25},{"$f":"'Nastavení příloh'!CN34","v":25},{"$f":"'Nastavení příloh'!CO34","v":28},{"$f":"'Nastavení příloh'!CP34","v":35},{"$f":"'Nastavení příloh'!CQ34","v":28},{"$f":"'Nastavení příloh'!CR34","v":25}]
[null,null,null,null,null,null,null,null,2400,"-",2499,0,0,0,0,0,0,0,0,0,0,0,0,{"$f":"'Nastavení příloh'!AP35","v":0},{"$f":"'Nastavení příloh'!AQ35","v":0},{"$f":"'Nastavení příloh'!AR35","v":0},{"$f":"'Nastavení příloh'!AS35","v":2},{"$f":"'Nastavení příloh'!AT35","v":8},{"$f":"'Nastavení příloh'!AU35","v":2},{"$f":"'Nastavení příloh'!AV35","v":0},null,2400,"-",2499,{"$f":"'Nastavení příloh'!BB35","v":0},{"$f":"'Nastavení příloh'!BC35","v":0},{"$f":"'Nastavení příloh'!BD35","v":0},{"$f":"'Nastavení příloh'!BE35","v":0},{"$f":"'Nastavení příloh'!BF35","v":0},{"$f":"'Nastavení příloh'!BG35","v":0},{"$f":"'Nastavení příloh'!BH35","v":0},{"$f":"'Nastavení příloh'!BI35","v":0},{"$f":"'Nastavení příloh'!BJ35","v":0},{"$f":"'Nastavení příloh'!BK35","v":0},{"$f":"'Nastavení příloh'!BL35","v":0},{"$f":"'Nastavení příloh'!BM35","v":0},{"$f":"'Nastavení příloh'!BN35","v":0},{"$f":"'Nastavení příloh'!BO35","v":0},{"$f":"'Nastavení příloh'!BP35","v":0},{"$f":"'Nastavení příloh'!BQ35","v":0},{"$f":"'Nastavení příloh'!BR35","v":0},{"$f":"'Nastavení příloh'!BS35","v":0},{"$f":"'Nastavení příloh'!BT35","v":0},null,2400,"-",2499,{"$f":"'Nastavení příloh'!BZ35","v":0},{"$f":"'Nastavení příloh'!CA35","v":0},{"$f":"'Nastavení příloh'!CB35","v":0},{"$f":"'Nastavení příloh'!CC35","v":0},{"$f":"'Nastavení příloh'!CD35","v":2},{"$f":"'Nastavení příloh'!CE35","v":7},{"$f":"'Nastavení příloh'!CF35","v":11},{"$f":"'Nastavení příloh'!CG35","v":12},{"$f":"'Nastavení příloh'!CH35","v":12},{"$f":"'Nastavení příloh'!CI35","v":15},{"$f":"'Nastavení příloh'!CJ35","v":18},{"$f":"'Nastavení příloh'!CK35","v":22},{"$f":"'Nastavení příloh'!CL35","v":25},{"$f":"'Nastavení příloh'!CM35","v":25},{"$f":"'Nastavení příloh'!CN35","v":25},{"$f":"'Nastavení příloh'!CO35","v":27},{"$f":"'Nastavení příloh'!CP35","v":33},{"$f":"'Nastavení příloh'!CQ35","v":27},{"$f":"'Nastavení příloh'!CR35","v":25}]
[null,null,null,null,null,null,null,null,2500,"-",2599,0,0,0,0,0,0,0,0,0,0,0,0,0,{"$f":"'Nastavení příloh'!AQ36","v":0},{"$f":"'Nastavení příloh'!AR36","v":0},{"$f":"'Nastavení příloh'!AS36","v":0},{"$f":"'Nastavení příloh'!AT36","v":7},{"$f":"'Nastavení příloh'!AU36","v":0},{"$f":"'Nastavení příloh'!AV36","v":0},null,2500,"-",2599,{"$f":"'Nastavení příloh'!BB36","v":0},{"$f":"'Nastavení příloh'!BC36","v":0},{"$f":"'Nastavení příloh'!BD36","v":0},{"$f":"'Nastavení příloh'!BE36","v":0},{"$f":"'Nastavení příloh'!BF36","v":0},{"$f":"'Nastavení příloh'!BG36","v":0},{"$f":"'Nastavení příloh'!BH36","v":0},{"$f":"'Nastavení příloh'!BI36","v":0},{"$f":"'Nastavení příloh'!BJ36","v":0},{"$f":"'Nastavení příloh'!BK36","v":0},{"$f":"'Nastavení příloh'!BL36","v":0},{"$f":"'Nastavení příloh'!BM36","v":0},{"$f":"'Nastavení příloh'!BN36","v":0},{"$f":"'Nastavení příloh'!BO36","v":0},{"$f":"'Nastavení příloh'!BP36","v":0},{"$f":"'Nastavení příloh'!BQ36","v":0},{"$f":"'Nastavení příloh'!BR36","v":0},{"$f":"'Nastavení příloh'!BS36","v":0},{"$f":"'Nastavení příloh'!BT36","v":0},null,2500,"-",2599,{"$f":"'Nastavení příloh'!BZ36","v":0},{"$f":"'Nastavení příloh'!CA36","v":0},{"$f":"'Nastavení příloh'!CB36","v":0},{"$f":"'Nastavení příloh'!CC36","v":0},{"$f":"'Nastavení příloh'!CD36","v":3},{"$f":"'Nastavení příloh'!CE36","v":8},{"$f":"'Nastavení příloh'!CF36","v":12},{"$f":"'Nastavení příloh'!CG36","v":12},{"$f":"'Nastavení příloh'!CH36","v":12},{"$f":"'Nastavení příloh'!CI36","v":13},{"$f":"'Nastavení příloh'!CJ36","v":17},{"$f":"'Nastavení příloh'!CK36","v":21},{"$f":"'Nastavení příloh'!CL36","v":24},{"$f":"'Nastavení příloh'!CM36","v":25},{"$f":"'Nastavení příloh'!CN36","v":25},{"$f":"'Nastavení příloh'!CO36","v":25},{"$f":"'Nastavení příloh'!CP36","v":32},{"$f":"'Nastavení příloh'!CQ36","v":25},{"$f":"'Nastavení příloh'!CR36","v":25}]
[null,null,null,null,null,null,null,null,2600,"-",2699,0,0,0,0,0,0,0,0,0,0,0,0,0,{"$f":"'Nastavení příloh'!AQ37","v":0},{"$f":"'Nastavení příloh'!AR37","v":0},{"$f":"'Nastavení příloh'!AS37","v":0},{"$f":"'Nastavení příloh'!AT37","v":6},{"$f":"'Nastavení příloh'!AU37","v":0},{"$f":"'Nastavení příloh'!AV37","v":0},null,2600,"-",2699,{"$f":"'Nastavení příloh'!BB37","v":0},{"$f":"'Nastavení příloh'!BC37","v":0},{"$f":"'Nastavení příloh'!BD37","v":0},{"$f":"'Nastavení příloh'!BE37","v":0},{"$f":"'Nastavení příloh'!BF37","v":0},{"$f":"'Nastavení příloh'!BG37","v":0},{"$f":"'Nastavení příloh'!BH37","v":0},{"$f":"'Nastavení příloh'!BI37","v":0},{"$f":"'Nastavení příloh'!BJ37","v":0},{"$f":"'Nastavení příloh'!BK37","v":0},{"$f":"'Nastavení příloh'!BL37","v":0},{"$f":"'Nastavení příloh'!BM37","v":0},{"$f":"'Nastavení příloh'!BN37","v":0},{"$f":"'Nastavení příloh'!BO37","v":0},{"$f":"'Nastavení příloh'!BP37","v":0},{"$f":"'Nastavení příloh'!BQ37","v":0},{"$f":"'Nastavení příloh'!BR37","v":0},{"$f":"'Nastavení příloh'!BS37","v":0},{"$f":"'Nastavení příloh'!BT37","v":0},null,2600,"-",2699,{"$f":"'Nastavení příloh'!BZ37","v":0},{"$f":"'Nastavení příloh'!CA37","v":0},{"$f":"'Nastavení příloh'!CB37","v":0},{"$f":"'Nastavení příloh'!CC37","v":0},{"$f":"'Nastavení příloh'!CD37","v":4},{"$f":"'Nastavení příloh'!CE37","v":8},{"$f":"'Nastavení příloh'!CF37","v":12},{"$f":"'Nastavení příloh'!CG37","v":12},{"$f":"'Nastavení příloh'!CH37","v":12},{"$f":"'Nastavení příloh'!CI37","v":12},{"$f":"'Nastavení příloh'!CJ37","v":15},{"$f":"'Nastavení příloh'!CK37","v":19},{"$f":"'Nastavení příloh'!CL37","v":23},{"$f":"'Nastavení příloh'!CM37","v":25},{"$f":"'Nastavení příloh'!CN37","v":25},{"$f":"'Nastavení příloh'!CO37","v":25},{"$f":"'Nastavení příloh'!CP37","v":31},{"$f":"'Nastavení příloh'!CQ37","v":25},{"$f":"'Nastavení příloh'!CR37","v":25}]
[null,null,null,null,null,null,null,null,2700,"-",2799,0,0,0,0,0,0,0,0,0,0,0,0,0,{"$f":"'Nastavení příloh'!AQ38","v":0},{"$f":"'Nastavení příloh'!AR38","v":0},{"$f":"'Nastavení příloh'!AS38","v":0},{"$f":"'Nastavení příloh'!AT38","v":5},{"$f":"'Nastavení příloh'!AU38","v":0},{"$f":"'Nastavení příloh'!AV38","v":0},null,2700,"-",2799,{"$f":"'Nastavení příloh'!BB38","v":0},{"$f":"'Nastavení příloh'!BC38","v":0},{"$f":"'Nastavení příloh'!BD38","v":0},{"$f":"'Nastavení příloh'!BE38","v":0},{"$f":"'Nastavení příloh'!BF38","v":0},{"$f":"'Nastavení příloh'!BG38","v":0},{"$f":"'Nastavení příloh'!BH38","v":0},{"$f":"'Nastavení příloh'!BI38","v":0},{"$f":"'Nastavení příloh'!BJ38","v":0},{"$f":"'Nastavení příloh'!BK38","v":0},{"$f":"'Nastavení příloh'!BL38","v":0},{"$f":"'Nastavení příloh'!BM38","v":0},{"$f":"'Nastavení příloh'!BN38","v":0},{"$f":"'Nastavení příloh'!BO38","v":0},{"$f":"'Nastavení příloh'!BP38","v":0},{"$f":"'Nastavení příloh'!BQ38","v":0},{"$f":"'Nastavení příloh'!BR38","v":0},{"$f":"'Nastavení příloh'!BS38","v":0},{"$f":"'Nastavení příloh'!BT38","v":0},null,2700,"-",2799,{"$f":"'Nastavení příloh'!BZ38","v":0},{"$f":"'Nastavení příloh'!CA38","v":0},{"$f":"'Nastavení příloh'!CB38","v":0},{"$f":"'Nastavení příloh'!CC38","v":0},{"$f":"'Nastavení příloh'!CD38","v":4},{"$f":"'Nastavení příloh'!CE38","v":9},{"$f":"'Nastavení příloh'!CF38","v":12},{"$f":"'Nastavení příloh'!CG38","v":12},{"$f":"'Nastavení příloh'!CH38","v":12},{"$f":"'Nastavení příloh'!CI38","v":12},{"$f":"'Nastavení příloh'!CJ38","v":14},{"$f":"'Nastavení příloh'!CK38","v":18},{"$f":"'Nastavení příloh'!CL38","v":22},{"$f":"'Nastavení příloh'!CM38","v":25},{"$f":"'Nastavení příloh'!CN38","v":25},{"$f":"'Nastavení příloh'!CO38","v":25},{"$f":"'Nastavení příloh'!CP38","v":30},{"$f":"'Nastavení příloh'!CQ38","v":25},{"$f":"'Nastavení příloh'!CR38","v":25}]
[null,null,null,null,null,null,null,null,2800,"-",2899,0,0,0,0,0,0,0,0,0,0,0,0,0,{"$f":"'Nastavení příloh'!AQ39","v":0},{"$f":"'Nastavení příloh'!AR39","v":0},{"$f":"'Nastavení příloh'!AS39","v":0},{"$f":"'Nastavení příloh'!AT39","v":0},{"$f":"'Nastavení příloh'!AU39","v":0},{"$f":"'Nastavení příloh'!AV39","v":0},null,2800,"-",2899,{"$f":"'Nastavení příloh'!BB39","v":0},{"$f":"'Nastavení příloh'!BC39","v":0},{"$f":"'Nastavení příloh'!BD39","v":0},{"$f":"'Nastavení příloh'!BE39","v":0},{"$f":"'Nastavení příloh'!BF39","v":0},{"$f":"'Nastavení příloh'!BG39","v":0},{"$f":"'Nastavení příloh'!BH39","v":0},{"$f":"'Nastavení příloh'!BI39","v":0},{"$f":"'Nastavení příloh'!BJ39","v":0},{"$f":"'Nastavení příloh'!BK39","v":0},{"$f":"'Nastavení příloh'!BL39","v":0},{"$f":"'Nastavení příloh'!BM39","v":0},{"$f":"'Nastavení příloh'!BN39","v":0},{"$f":"'Nastavení příloh'!BO39","v":0},{"$f":"'Nastavení příloh'!BP39","v":0},{"$f":"'Nastavení příloh'!BQ39","v":0},{"$f":"'Nastavení příloh'!BR39","v":0},{"$f":"'Nastavení příloh'!BS39","v":0},{"$f":"'Nastavení příloh'!BT39","v":0},null,2800,"-",2899,{"$f":"'Nastavení příloh'!BZ39","v":0},{"$f":"'Nastavení příloh'!CA39","v":0},{"$f":"'Nastavení příloh'!CB39","v":0},{"$f":"'Nastavení příloh'!CC39","v":0},{"$f":"'Nastavení příloh'!CD39","v":5},{"$f":"'Nastavení příloh'!CE39","v":10},{"$f":"'Nastavení příloh'!CF39","v":12},{"$f":"'Nastavení příloh'!CG39","v":12},{"$f":"'Nastavení příloh'!CH39","v":12},{"$f":"'Nastavení příloh'!CI39","v":12},{"$f":"'Nastavení příloh'!CJ39","v":13},{"$f":"'Nastavení příloh'!CK39","v":17},{"$f":"'Nastavení příloh'!CL39","v":21},{"$f":"'Nastavení příloh'!CM39","v":25},{"$f":"'Nastavení příloh'!CN39","v":25},{"$f":"'Nastavení příloh'!CO39","v":25},{"$f":"'Nastavení příloh'!CP39","v":25},{"$f":"'Nastavení příloh'!CQ39","v":25},{"$f":"'Nastavení příloh'!CR39","v":25}]
[null,null,null,null,null,null,null,null,2900,"-",2999,0,0,0,0,0,0,0,0,0,0,0,0,0,0,{"$f":"'Nastavení příloh'!AR40","v":0},{"$f":"'Nastavení příloh'!AS40","v":0},{"$f":"'Nastavení příloh'!AT40","v":0},{"$f":"'Nastavení příloh'!AU40","v":0},{"$f":"'Nastavení příloh'!AV40","v":0},null,2900,"-",2999,{"$f":"'Nastavení příloh'!BB40","v":0},{"$f":"'Nastavení příloh'!BC40","v":0},{"$f":"'Nastavení příloh'!BD40","v":0},{"$f":"'Nastavení příloh'!BE40","v":0},{"$f":"'Nastavení příloh'!BF40","v":0},{"$f":"'Nastavení příloh'!BG40","v":0},{"$f":"'Nastavení příloh'!BH40","v":0},{"$f":"'Nastavení příloh'!BI40","v":0},{"$f":"'Nastavení příloh'!BJ40","v":0},{"$f":"'Nastavení příloh'!BK40","v":0},{"$f":"'Nastavení příloh'!BL40","v":0},{"$f":"'Nastavení příloh'!BM40","v":0},{"$f":"'Nastavení příloh'!BN40","v":0},{"$f":"'Nastavení příloh'!BO40","v":0},{"$f":"'Nastavení příloh'!BP40","v":0},{"$f":"'Nastavení příloh'!BQ40","v":0},{"$f":"'Nastavení příloh'!BR40","v":0},{"$f":"'Nastavení příloh'!BS40","v":0},{"$f":"'Nastavení příloh'!BT40","v":0},null,2900,"-",2999,{"$f":"'Nastavení příloh'!BZ40","v":0},{"$f":"'Nastavení příloh'!CA40","v":0},{"$f":"'Nastavení příloh'!CB40","v":0},{"$f":"'Nastavení příloh'!CC40","v":0},{"$f":"'Nastavení příloh'!CD40","v":6},{"$f":"'Nastavení příloh'!CE40","v":11},{"$f":"'Nastavení příloh'!CF40","v":12},{"$f":"'Nastavení příloh'!CG40","v":12},{"$f":"'Nastavení příloh'!CH40","v":12},{"$f":"'Nastavení příloh'!CI40","v":12},{"$f":"'Nastavení příloh'!CJ40","v":12},{"$f":"'Nastavení příloh'!CK40","v":15},{"$f":"'Nastavení příloh'!CL40","v":19},{"$f":"'Nastavení příloh'!CM40","v":24},{"$f":"'Nastavení příloh'!CN40","v":25},{"$f":"'Nastavení příloh'!CO40","v":25},{"$f":"'Nastavení příloh'!CP40","v":25},{"$f":"'Nastavení příloh'!CQ40","v":25},{"$f":"'Nastavení příloh'!CR40","v":25}]
[null,null,null,null,null,null,null,null,3000,"-",3099,0,0,0,0,0,0,0,0,0,0,0,0,0,0,{"$f":"'Nastavení příloh'!AR41","v":0},{"$f":"'Nastavení příloh'!AS41","v":0},{"$f":"'Nastavení příloh'!AT41","v":0},{"$f":"'Nastavení příloh'!AU41","v":0},{"$f":"'Nastavení příloh'!AV41","v":0},null,3000,"-",3099,{"$f":"'Nastavení příloh'!BB41","v":0},{"$f":"'Nastavení příloh'!BC41","v":0},{"$f":"'Nastavení příloh'!BD41","v":0},{"$f":"'Nastavení příloh'!BE41","v":0},{"$f":"'Nastavení příloh'!BF41","v":0},{"$f":"'Nastavení příloh'!BG41","v":0},{"$f":"'Nastavení příloh'!BH41","v":0},{"$f":"'Nastavení příloh'!BI41","v":0},{"$f":"'Nastavení příloh'!BJ41","v":0},{"$f":"'Nastavení příloh'!BK41","v":0},{"$f":"'Nastavení příloh'!BL41","v":0},{"$f":"'Nastavení příloh'!BM41","v":0},{"$f":"'Nastavení příloh'!BN41","v":0},{"$f":"'Nastavení příloh'!BO41","v":0},{"$f":"'Nastavení příloh'!BP41","v":0},{"$f":"'Nastavení příloh'!BQ41","v":0},{"$f":"'Nastavení příloh'!BR41","v":0},{"$f":"'Nastavení příloh'!BS41","v":0},{"$f":"'Nastavení příloh'!BT41","v":0},null,3000,"-",3099,{"$f":"'Nastavení příloh'!BZ41","v":0},{"$f":"'Nastavení příloh'!CA41","v":0},{"$f":"'Nastavení příloh'!CB41","v":0},{"$f":"'Nastavení příloh'!CC41","v":1},{"$f":"'Nastavení příloh'!CD41","v":6},{"$f":"'Nastavení příloh'!CE41","v":12},{"$f":"'Nastavení příloh'!CF41","v":12},{"$f":"'Nastavení příloh'!CG41","v":12},{"$f":"'Nastavení příloh'!CH41","v":12},{"$f":"'Nastavení příloh'!CI41","v":12},{"$f":"'Nastavení příloh'!CJ41","v":12},{"$f":"'Nastavení příloh'!CK41","v":14},{"$f":"'Nastavení příloh'!CL41","v":18},{"$f":"'Nastavení příloh'!CM41","v":23},{"$f":"'Nastavení příloh'!CN41","v":25},{"$f":"'Nastavení příloh'!CO41","v":25},{"$f":"'Nastavení příloh'!CP41","v":25},{"$f":"'Nastavení příloh'!CQ41","v":25},{"$f":"'Nastavení příloh'!CR41","v":25}]
[null,null,null,null,null,null,null,null,3100,"-",3199,0,0,0,0,0,0,0,0,0,0,0,0,0,0,{"$f":"'Nastavení příloh'!AR42","v":0},{"$f":"'Nastavení příloh'!AS42","v":0},{"$f":"'Nastavení příloh'!AT42","v":0},{"$f":"'Nastavení příloh'!AU42","v":0},{"$f":"'Nastavení příloh'!AV42","v":0},null,3100,"-",3199,{"$f":"'Nastavení příloh'!BB42","v":0},{"$f":"'Nastavení příloh'!BC42","v":0},{"$f":"'Nastavení příloh'!BD42","v":0},{"$f":"'Nastavení příloh'!BE42","v":0},{"$f":"'Nastavení příloh'!BF42","v":0},{"$f":"'Nastavení příloh'!BG42","v":0},{"$f":"'Nastavení příloh'!BH42","v":0},{"$f":"'Nastavení příloh'!BI42","v":0},{"$f":"'Nastavení příloh'!BJ42","v":0},{"$f":"'Nastavení příloh'!BK42","v":0},{"$f":"'Nastavení příloh'!BL42","v":0},{"$f":"'Nastavení příloh'!BM42","v":0},{"$f":"'Nastavení příloh'!BN42","v":0},{"$f":"'Nastavení příloh'!BO42","v":0},{"$f":"'Nastavení příloh'!BP42","v":0},{"$f":"'Nastavení příloh'!BQ42","v":0},{"$f":"'Nastavení příloh'!BR42","v":0},{"$f":"'Nastavení příloh'!BS42","v":0},{"$f":"'Nastavení příloh'!BT42","v":0},null,3100,"-",3199,{"$f":"'Nastavení příloh'!BZ42","v":0},{"$f":"'Nastavení příloh'!CA42","v":0},{"$f":"'Nastavení příloh'!CB42","v":0},{"$f":"'Nastavení příloh'!CC42","v":1},{"$f":"'Nastavení příloh'!CD42","v":7},{"$f":"'Nastavení příloh'!CE42","v":12},{"$f":"'Nastavení příloh'!CF42","v":12},{"$f":"'Nastavení příloh'!CG42","v":12},{"$f":"'Nastavení příloh'!CH42","v":12},{"$f":"'Nastavení příloh'!CI42","v":12},{"$f":"'Nastavení příloh'!CJ42","v":12},{"$f":"'Nastavení příloh'!CK42","v":13},{"$f":"'Nastavení příloh'!CL42","v":17},{"$f":"'Nastavení příloh'!CM42","v":21},{"$f":"'Nastavení příloh'!CN42","v":25},{"$f":"'Nastavení příloh'!CO42","v":25},{"$f":"'Nastavení příloh'!CP42","v":25},{"$f":"'Nastavení příloh'!CQ42","v":25},{"$f":"'Nastavení příloh'!CR42","v":25}]
[null,null,null,null,null,null,null,null,3200,"-",3299,0,0,0,0,0,0,0,0,0,0,0,0,0,0,0,{"$f":"'Nastavení příloh'!AS43","v":0},{"$f":"'Nastavení příloh'!AT43","v":0},{"$f":"'Nastavení příloh'!AU43","v":0},{"$f":"'Nastavení příloh'!AV43","v":0},null,3200,"-",3299,{"$f":"'Nastavení příloh'!BB43","v":0},{"$f":"'Nastavení příloh'!BC43","v":0},{"$f":"'Nastavení příloh'!BD43","v":0},{"$f":"'Nastavení příloh'!BE43","v":0},{"$f":"'Nastavení příloh'!BF43","v":0},{"$f":"'Nastavení příloh'!BG43","v":0},{"$f":"'Nastavení příloh'!BH43","v":0},{"$f":"'Nastavení příloh'!BI43","v":0},{"$f":"'Nastavení příloh'!BJ43","v":0},{"$f":"'Nastavení příloh'!BK43","v":0},{"$f":"'Nastavení příloh'!BL43","v":0},{"$f":"'Nastavení příloh'!BM43","v":0},{"$f":"'Nastavení příloh'!BN43","v":0},{"$f":"'Nastavení příloh'!BO43","v":0},{"$f":"'Nastavení příloh'!BP43","v":0},{"$f":"'Nastavení příloh'!BQ43","v":0},{"$f":"'Nastavení příloh'!BR43","v":0},{"$f":"'Nastavení příloh'!BS43","v":0},{"$f":"'Nastavení příloh'!BT43","v":0},null,3200,"-",3299,{"$f":"'Nastavení příloh'!BZ43","v":0},{"$f":"'Nastavení příloh'!CA43","v":0},{"$f":"'Nastavení příloh'!CB43","v":0},{"$f":"'Nastavení příloh'!CC43","v":2},{"$f":"'Nastavení příloh'!CD43","v":7},{"$f":"'Nastavení příloh'!CE43","v":12},{"$f":"'Nastavení příloh'!CF43","v":12},{"$f":"'Nastavení příloh'!CG43","v":12},{"$f":"'Nastavení příloh'!CH43","v":12},{"$f":"'Nastavení příloh'!CI43","v":12},{"$f":"'Nastavení příloh'!CJ43","v":12},{"$f":"'Nastavení příloh'!CK43","v":12},{"$f":"'Nastavení příloh'!CL43","v":16},{"$f":"'Nastavení příloh'!CM43","v":20},{"$f":"'Nastavení příloh'!CN43","v":25},{"$f":"'Nastavení příloh'!CO43","v":25},{"$f":"'Nastavení příloh'!CP43","v":25},{"$f":"'Nastavení příloh'!CQ43","v":25},{"$f":"'Nastavení příloh'!CR43","v":25}]
[null,null,null,null,null,null,null,null,3300,"-",3399,0,0,0,0,0,0,0,0,0,0,0,0,0,0,0,{"$f":"'Nastavení příloh'!AS44","v":0},{"$f":"'Nastavení příloh'!AT44","v":0},{"$f":"'Nastavení příloh'!AU44","v":0},{"$f":"'Nastavení příloh'!AV44","v":0},null,3300,"-",3399,{"$f":"'Nastavení příloh'!BB44","v":0},{"$f":"'Nastavení příloh'!BC44","v":0},{"$f":"'Nastavení příloh'!BD44","v":0},{"$f":"'Nastavení příloh'!BE44","v":0},{"$f":"'Nastavení příloh'!BF44","v":0},{"$f":"'Nastavení příloh'!BG44","v":0},{"$f":"'Nastavení příloh'!BH44","v":0},{"$f":"'Nastavení příloh'!BI44","v":0},{"$f":"'Nastavení příloh'!BJ44","v":0},{"$f":"'Nastavení příloh'!BK44","v":0},{"$f":"'Nastavení příloh'!BL44","v":0},{"$f":"'Nastavení příloh'!BM44","v":0},{"$f":"'Nastavení příloh'!BN44","v":0},{"$f":"'Nastavení příloh'!BO44","v":0},{"$f":"'Nastavení příloh'!BP44","v":0},{"$f":"'Nastavení příloh'!BQ44","v":0},{"$f":"'Nastavení příloh'!BR44","v":0},{"$f":"'Nastavení příloh'!BS44","v":0},{"$f":"'Nastavení příloh'!BT44","v":0},null,3300,"-",3399,{"$f":"'Nastavení příloh'!BZ44","v":0},{"$f":"'Nastavení příloh'!CA44","v":0},{"$f":"'Nastavení příloh'!CB44","v":0},{"$f":"'Nastavení příloh'!CC44","v":2},{"$f":"'Nastavení příloh'!CD44","v":8},{"$f":"'Nastavení příloh'!CE44","v":12},{"$f":"'Nastavení příloh'!CF44","v":12},{"$f":"'Nastavení příloh'!CG44","v":12},{"$f":"'Nastavení příloh'!CH44","v":12},{"$f":"'Nastavení příloh'!CI44","v":12},{"$f":"'Nastavení příloh'!CJ44","v":12},{"$f":"'Nastavení příloh'!CK44","v":12},{"$f":"'Nastavení příloh'!CL44","v":15},{"$f":"'Nastavení příloh'!CM44","v":19},{"$f":"'Nastavení příloh'!CN44","v":24},{"$f":"'Nastavení příloh'!CO44","v":25},{"$f":"'Nastavení příloh'!CP44","v":25},{"$f":"'Nastavení příloh'!CQ44","v":25},{"$f":"'Nastavení příloh'!CR44","v":25}]
[null,null,null,null,null,null,null,null,"   více jak 3400",null,null,0,0,0,0,0,0,0,0,0,0,0,0,0,0,0,{"$f":"'Nastavení příloh'!AS45","v":0},{"$f":"'Nastavení příloh'!AT45","v":0},{"$f":"'Nastavení příloh'!AU45","v":0},{"$f":"'Nastavení příloh'!AV45","v":0},null,"   více jak 3400",null,null,{"$f":"'Nastavení příloh'!BB45","v":0},{"$f":"'Nastavení příloh'!BC45","v":0},{"$f":"'Nastavení příloh'!BD45","v":0},{"$f":"'Nastavení příloh'!BE45","v":0},{"$f":"'Nastavení příloh'!BF45","v":0},{"$f":"'Nastavení příloh'!BG45","v":0},{"$f":"'Nastavení příloh'!BH45","v":0},{"$f":"'Nastavení příloh'!BI45","v":0},{"$f":"'Nastavení příloh'!BJ45","v":0},{"$f":"'Nastavení příloh'!BK45","v":0},{"$f":"'Nastavení příloh'!BL45","v":0},{"$f":"'Nastavení příloh'!BM45","v":0},{"$f":"'Nastavení příloh'!BN45","v":0},{"$f":"'Nastavení příloh'!BO45","v":0},{"$f":"'Nastavení příloh'!BP45","v":0},{"$f":"'Nastavení příloh'!BQ45","v":0},{"$f":"'Nastavení příloh'!BR45","v":0},{"$f":"'Nastavení příloh'!BS45","v":0},{"$f":"'Nastavení příloh'!BT45","v":0},null,3400,"-",3499,{"$f":"'Nastavení příloh'!BZ45","v":0},{"$f":"'Nastavení příloh'!CA45","v":0},{"$f":"'Nastavení příloh'!CB45","v":0},{"$f":"'Nastavení příloh'!CC45","v":3},{"$f":"'Nastavení příloh'!CD45","v":9},{"$f":"'Nastavení příloh'!CE45","v":12},{"$f":"'Nastavení příloh'!CF45","v":12},{"$f":"'Nastavení příloh'!CG45","v":12},{"$f":"'Nastavení příloh'!CH45","v":12},{"$f":"'Nastavení příloh'!CI45","v":12},{"$f":"'Nastavení příloh'!CJ45","v":12},{"$f":"'Nastavení příloh'!CK45","v":12},{"$f":"'Nastavení příloh'!CL45","v":13},{"$f":"'Nastavení příloh'!CM45","v":18},{"$f":"'Nastavení příloh'!CN45","v":23},{"$f":"'Nastavení příloh'!CO45","v":25},{"$f":"'Nastavení příloh'!CP45","v":25},{"$f":"'Nastavení příloh'!CQ45","v":25},{"$f":"'Nastavení příloh'!CR45","v":25}]

{"sheet":"Hybrid ekobody obsloužení","index":12,"n_rows":36,"n_cols":74,"rows_kept":36,"cut":false,"hidden":true,"merged":[[1,0,1,4],[3,51,5,54],[3,55,3,73],[5,9,5,27],[5,32,5,50],[5,55,5,73],[1,5,1,27],[1,28,1,50],[1,51,1,73],[3,0,4,0],[3,1,4,1],[3,2,4,2],[3,3,4,3],[6,5,35,5],[6,28,35,28],[6,51,35,51],[3,4,4,4],[3,5,5,8],[3,9,3,27],[3,28,5,31],[3,32,3,50]]}
[null,null,null,null,"Příloha č. 5 k OZV č. …/2015",null,null,null,null,null,null,null,null,null,null,null,null,null,null,null,null,null,null,null,null,null,null,"Příloha č. 6 k OZV č. …/2015 ",null,null,null,null,null,null,null,null,null,null,null,null,null,null,null,null,null,null,null,null,null,null,"Příloha č. 7 k OZV č. …/2015 "]
["Eko body za třídění odpadů (BT)",null,null,null,null,"Maximální roční počet eko bodů za efektivní využívání nádob a pytlů (BV)",null,null,null,null,null,null,null,null,null,null,null,null,null,null,null,null,null,null,null,null,null,null,"Maximální roční počet eko bodů za snižování produkce odpadů (BS)",null,null,null,null,null,null,null,null,null,null,null,null,null,null,null,null,null,null,null,null,null,null,"Součet maximálních ročních eko bodů (BT + BV + BS)"]
[]
["Druh odpadu","Typ sběru","Obsloužený objem (l)","Čistota","Eko body/obsloužení","Eko body jsou uděleny do výše 60% za třídění bioodpadu, 25% za třídění skla a 15% za třídění textilu ze získaného maximálního ročního počtu eko bodů uvedeného v  této tabulce.",null,null,null,"Procentuální zastoupení objemu obsloužených pytlů/nádob na plast a na papír v celkovém objemu obsloužených pytlů/nádob",null,null,null,null,null,null,null,null,null,null,null,null,null,null,null,null,null,null,"Eko body za snižování produkce odpadů jsou uděleny do výše 20% za každý způsob snižování produkce odpadů uvedený v odpadovém dotazníku ze získaného maximálního ročního počtu eko bodů uvedeného v této tabulce.",null,null,null,"Procentuální zastoupení objemu obsloužených pytlů/nádob na plast a na papír v celkovém objemu obsloužených pytlů/nádob",null,null,null,null,null,null,null,null,null,null,null,null,null,null,null,null,null,null,"Záporná hodnota součtu eko bodů (BT + BV + BS) je nahrazena nulou.",null,null,null,"Procentuální zastoupení objemu obsloužených pytlů/nádob na plast a na papír v celkovém objemu obsloužených pytlů/nádob"]
[null,null,null,null,null,null,null,null,null,"0 %","1-5 %","6-10 %","11-15 %","16-20 %","21-25 %","26-30 %","31-35 %","36-40 %","41-45 %","46-50 %","51-55 %","56-60 %","61-65 %","66-70 %","71-75 %","76-80 %","81-85 %","více jak 85 %",null,null,null,null,"0 %","1-5 %","6-10 %","11-15 %","16-20 %","21-25 %","26-30 %","31-35 %","36-40 %","41-45 %","46-50 %","51-55 %","56-60 %","61-65 %","66-70 %","71-75 %","76-80 %","81-85 %","více jak 85 %",null,null,null,null,"0 %","1-5 %","6-10 %","11-15 %","16-20 %","21-25 %","26-30 %","31-35 %","36-40 %","41-45 %","46-50 %","51-55 %","56-60 %","61-65 %","66-70 %","71-75 %","76-80 %","81-85 %","více jak 85 %"]
["Papír","Pytel o neznámém objemu; Pytel 120l",120,"V pořádku",3,null,null,null,null,"\"Třídí málo\"                                                                                                                                   \"Třídí hodně\"",null,null,null,null,null,null,null,null,null,null,null,null,null,null,null,null,null,null,null,null,null,null,"\"Třídí málo\"                                                                                                                                   \"Třídí hodně\"",null,null,null,null,null,null,null,null,null,null,null,null,null,null,null,null,null,null,null,null,null,null,"\"Třídí málo\"                                                                                                                                   \"Třídí hodně\""]
["Papír","Kontejner",1100,"V pořádku",28,"Roční celkový objem obsloužených pytlů/nádob přepočtený na jednoho účastníka \nsystému užívajícího dané pytle/nádoby (litry/účastník systému/rok)",0,"-",599,{"$f":"'Nastavení příloh'!AD16","v":0},{"$f":"'Nastavení příloh'!AE16","v":9},{"$f":"'Nastavení příloh'!AF16","v":10},{"$f":"'Nastavení příloh'!AG16","v":12},{"$f":"'Nastavení příloh'!AH16","v":13},{"$f":"'Nastavení příloh'!AI16","v":15},{"$f":"'Nastavení příloh'!AJ16","v":17},{"$f":"'Nastavení příloh'!AK16","v":18},{"$f":"'Nastavení příloh'!AL16","v":20},{"$f":"'Nastavení příloh'!AM16","v":21},{"$f":"'Nastavení příloh'!AN16","v":23},{"$f":"'Nastavení příloh'!AO16","v":24},{"$f":"'Nastavení příloh'!AP16","v":25},{"$f":"'Nastavení příloh'!AQ16","v":25},{"$f":"'Nastavení příloh'!AR16","v":25},{"$f":"'Nastavení příloh'!AS16","v":25},{"$f":"'Nastavení příloh'!AT16","v":25},{"$f":"'Nastavení příloh'!AU16","v":25},{"$f":"'Nastavení příloh'!AV16","v":25},"Roční celkový objem obsloužených pytlů/nádob přepočtený na jednoho účastníka \nsystému užívajícího dané pytle/nádoby (litry/účastník systému/rok)",0,"-",599,{"$f":"'Nastavení příloh'!BB16","v":0},{"$f":"'Nastavení příloh'!BC16","v":0},{"$f":"'Nastavení příloh'!BD16","v":0},{"$f":"'Nastavení příloh'!BE16","v":0},{"$f":"'Nastavení příloh'!BF16","v":0},{"$f":"'Nastavení příloh'!BG16","v":0},{"$f":"'Nastavení příloh'!BH16","v":0},{"$f":"'Nastavení příloh'!BI16","v":0},{"$f":"'Nastavení příloh'!BJ16","v":20},{"$f":"'Nastavení příloh'!BK16","v":20},{"$f":"'Nastavení příloh'!BL16","v":20},{"$f":"'Nastavení příloh'!BM16","v":20},{"$f":"'Nastavení příloh'!BN16","v":20},{"$f":"'Nastavení příloh'!BO16","v":20},{"$f":"'Nastavení příloh'!BP16","v":20},{"$f":"'Nastavení příloh'!BQ16","v":20},{"$f":"'Nastavení příloh'!BR16","v":20},{"$f":"'Nastavení příloh'!BS16","v":20},{"$f":"'Nastavení příloh'!BT16","v":0},"Roční celkový objem obsloužených pytlů/nádob přepočtený na jednoho účastníka \nsystému užívajícího dané pytle/nádoby (litry/účastník systému/rok)",0,"-",599,{"$f":"'Nastavení příloh'!BZ16","v":0},{"$f":"'Nastavení příloh'!CA16","v":10},{"$f":"'Nastavení příloh'!CB16","v":12},{"$f":"'Nastavení příloh'!CC16","v":15},{"$f":"'Nastavení příloh'!CD16","v":16},{"$f":"'Nastavení příloh'!CE16","v":19},{"$f":"'Nastavení příloh'!CF16","v":22},{"$f":"'Nastavení příloh'!CG16","v":24},{"$f":"'Nastavení příloh'!CH16","v":47},{"$f":"'Nastavení příloh'!CI16","v":49},{"$f":"'Nastavení příloh'!CJ16","v":52},{"$f":"'Nastavení příloh'!CK16","v":54},{"$f":"'Nastavení příloh'!CL16","v":56},{"$f":"'Nastavení příloh'!CM16","v":57},{"$f":"'Nastavení příloh'!CN16","v":58},{"$f":"'Nastavení příloh'!CO16","v":59},{"$f":"'Nastavení příloh'!CP16","v":60},{"$f":"'Nastavení příloh'!CQ16","v":61},{"$f":"'Nastavení příloh'!CR16","v":42}]
["Plast; Plast s nápojovým kartonem","Pytel o neznámém objemu; Pytel 120l",120,"V pořádku",3.5,null,600,"-",699,{"$f":"'Nastavení příloh'!AD17","v":0},{"$f":"'Nastavení příloh'!AE17","v":3},{"$f":"'Nastavení příloh'!AF17","v":5},{"$f":"'Nastavení příloh'!AG17","v":7},{"$f":"'Nastavení příloh'!AH17","v":9},{"$f":"'Nastavení příloh'!AI17","v":11},{"$f":"'Nastavení příloh'!AJ17","v":12},{"$f":"'Nastavení příloh'!AK17","v":14},{"$f":"'Nastavení příloh'!AL17","v":16},{"$f":"'Nastavení příloh'!AM17","v":18},{"$f":"'Nastavení příloh'!AN17","v":20},{"$f":"'Nastavení příloh'!AO17","v":22},{"$f":"'Nastavení příloh'!AP17","v":24},{"$f":"'Nastavení příloh'!AQ17","v":25},{"$f":"'Nastavení příloh'!AR17","v":25},{"$f":"'Nastavení příloh'!AS17","v":25},{"$f":"'Nastavení příloh'!AT17","v":25},{"$f":"'Nastavení příloh'!AU17","v":25},{"$f":"'Nastavení příloh'!AV17","v":25},null,600,"-",699,{"$f":"'Nastavení příloh'!BB17","v":0},{"$f":"'Nastavení příloh'!BC17","v":0},{"$f":"'Nastavení příloh'!BD17","v":0},{"$f":"'Nastavení příloh'!BE17","v":0},{"$f":"'Nastavení příloh'!BF17","v":0},{"$f":"'Nastavení příloh'!BG17","v":0},{"$f":"'Nastavení příloh'!BH17","v":0},{"$f":"'Nastavení příloh'!BI17","v":0},{"$f":"'Nastavení příloh'!BJ17","v":20},{"$f":"'Nastavení příloh'!BK17","v":20},{"$f":"'Nastavení příloh'!BL17","v":20},{"$f":"'Nastavení příloh'!BM17","v":20},{"$f":"'Nastavení příloh'!BN17","v":20},{"$f":"'Nastavení příloh'!BO17","v":20},{"$f":"'Nastavení příloh'!BP17","v":20},{"$f":"'Nastavení příloh'!BQ17","v":20},{"$f":"'Nastavení příloh'!BR17","v":20},{"$f":"'Nastavení příloh'!BS17","v":20},{"$f":"'Nastavení příloh'!BT17","v":0},null,600,"-",699,{"$f":"'Nastavení příloh'!BZ17","v":0},{"$f":"'Nastavení příloh'!CA17","v":4},{"$f":"'Nastavení příloh'!CB17","v":7},{"$f":"'Nastavení příloh'!CC17","v":10},{"$f":"'Nastavení příloh'!CD17","v":13},{"$f":"'Nastavení příloh'!CE17","v":16},{"$f":"'Nastavení příloh'!CF17","v":18},{"$f":"'Nastavení příloh'!CG17","v":22},{"$f":"'Nastavení příloh'!CH17","v":45},{"$f":"'Nastavení příloh'!CI17","v":48},{"$f":"'Nastavení příloh'!CJ17","v":51},{"$f":"'Nastavení příloh'!CK17","v":54},{"$f":"'Nastavení příloh'!CL17","v":57},{"$f":"'Nastavení příloh'!CM17","v":59},{"$f":"'Nastavení příloh'!CN17","v":60},{"$f":"'Nastavení příloh'!CO17","v":62},{"$f":"'Nastavení příloh'!CP17","v":63},{"$f":"'Nastavení příloh'!CQ17","v":64},{"$f":"'Nastavení příloh'!CR17","v":45}]
["Plast; Plast s nápojovým kartonem","Kontejner",1100,"V pořádku",32,null,700,"-",799,{"$f":"'Nastavení příloh'!AD18","v":0},{"$f":"'Nastavení příloh'!AE18","v":0},{"$f":"'Nastavení příloh'!AF18","v":0},{"$f":"'Nastavení příloh'!AG18","v":2},{"$f":"'Nastavení příloh'!AH18","v":4},{"$f":"'Nastavení příloh'!AI18","v":6},{"$f":"'Nastavení příloh'!AJ18","v":8},{"$f":"'Nastavení příloh'!AK18","v":11},{"$f":"'Nastavení příloh'!AL18","v":13},{"$f":"'Nastavení příloh'!AM18","v":15},{"$f":"'Nastavení příloh'!AN18","v":17},{"$f":"'Nastavení příloh'!AO18","v":19},{"$f":"'Nastavení příloh'!AP18","v":21},{"$f":"'Nastavení příloh'!AQ18","v":23},{"$f":"'Nastavení příloh'!AR18","v":25},{"$f":"'Nastavení příloh'!AS18","v":25},{"$f":"'Nastavení příloh'!AT18","v":25},{"$f":"'Nastavení příloh'!AU18","v":25},{"$f":"'Nastavení příloh'!AV18","v":25},null,700,"-",799,{"$f":"'Nastavení příloh'!BB18","v":0},{"$f":"'Nastavení příloh'!BC18","v":0},{"$f":"'Nastavení příloh'!BD18","v":0},{"$f":"'Nastavení příloh'!BE18","v":0},{"$f":"'Nastavení příloh'!BF18","v":0},{"$f":"'Nastavení příloh'!BG18","v":0},{"$f":"'Nastavení příloh'!BH18","v":0},{"$f":"'Nastavení příloh'!BI18","v":0},{"$f":"'Nastavení příloh'!BJ18","v":20},{"$f":"'Nastavení příloh'!BK18","v":20},{"$f":"'Nastavení příloh'!BL18","v":20},{"$f":"'Nastavení příloh'!BM18","v":20},{"$f":"'Nastavení příloh'!BN18","v":20},{"$f":"'Nastavení příloh'!BO18","v":20},{"$f":"'Nastavení příloh'!BP18","v":20},{"$f":"'Nastavení příloh'!BQ18","v":20},{"$f":"'Nastavení příloh'!BR18","v":20},{"$f":"'Nastavení příloh'!BS18","v":20},{"$f":"'Nastavení příloh'!BT18","v":0},null,700,"-",799,{"$f":"'Nastavení příloh'!BZ18","v":0},{"$f":"'Nastavení příloh'!CA18","v":1},{"$f":"'Nastavení příloh'!CB18","v":2},{"$f":"'Nastavení příloh'!CC18","v":5},{"$f":"'Nastavení příloh'!CD18","v":9},{"$f":"'Nastavení příloh'!CE18","v":12},{"$f":"'Nastavení příloh'!CF18","v":15},{"$f":"'Nastavení příloh'!CG18","v":20},{"$f":"'Nastavení příloh'!CH18","v":43},{"$f":"'Nastavení příloh'!CI18","v":46},{"$f":"'Nastavení příloh'!CJ18","v":50},{"$f":"'Nastavení příloh'!CK18","v":53},{"$f":"'Nastavení příloh'!CL18","v":56},{"$f":"'Nastavení příloh'!CM18","v":60},{"$f":"'Nastavení příloh'!CN18","v":63},{"$f":"'Nastavení příloh'!CO18","v":64},{"$f":"'Nastavení příloh'!CP18","v":65},{"$f":"'Nastavení příloh'!CQ18","v":67},{"$f":"'Nastavení příloh'!CR18","v":48}]
["Nápojový karton","Pytel o neznámém objemu; Pytel 120l","-","V pořádku",2,null,800,"-",899,{"$f":"'Nastavení příloh'!AD19","v":0},{"$f":"'Nastavení příloh'!AE19","v":0},{"$f":"'Nastavení příloh'!AF19","v":0},{"$f":"'Nastavení příloh'!AG19","v":0},{"$f":"'Nastavení příloh'!AH19","v":0},{"$f":"'Nastavení příloh'!AI19","v":2},{"$f":"'Nastavení příloh'!AJ19","v":4},{"$f":"'Nastavení příloh'!AK19","v":7},{"$f":"'Nastavení příloh'!AL19","v":9},{"$f":"'Nastavení příloh'!AM19","v":12},{"$f":"'Nastavení příloh'!AN19","v":14},{"$f":"'Nastavení příloh'!AO19","v":16},{"$f":"'Nastavení příloh'!AP19","v":19},{"$f":"'Nastavení příloh'!AQ19","v":21},{"$f":"'Nastavení příloh'!AR19","v":24},{"$f":"'Nastavení příloh'!AS19","v":25},{"$f":"'Nastavení příloh'!AT19","v":25},{"$f":"'Nastavení příloh'!AU19","v":25},{"$f":"'Nastavení příloh'!AV19","v":24},null,800,"-",899,{"$f":"'Nastavení příloh'!BB19","v":0},{"$f":"'Nastavení příloh'!BC19","v":0},{"$f":"'Nastavení příloh'!BD19","v":0},{"$f":"'Nastavení příloh'!BE19","v":0},{"$f":"'Nastavení příloh'!BF19","v":0},{"$f":"'Nastavení příloh'!BG19","v":0},{"$f":"'Nastavení příloh'!BH19","v":0},{"$f":"'Nastavení příloh'!BI19","v":0},{"$f":"'Nastavení příloh'!BJ19","v":20},{"$f":"'Nastavení příloh'!BK19","v":20},{"$f":"'Nastavení příloh'!BL19","v":20},{"$f":"'Nastavení příloh'!BM19","v":20},{"$f":"'Nastavení příloh'!BN19","v":20},{"$f":"'Nastavení příloh'!BO19","v":20},{"$f":"'Nastavení příloh'!BP19","v":20},{"$f":"'Nastavení příloh'!BQ19","v":20},{"$f":"'Nastavení příloh'!BR19","v":20},{"$f":"'Nastavení příloh'!BS19","v":20},{"$f":"'Nastavení příloh'!BT19","v":0},null,800,"-",899,{"$f":"'Nastavení příloh'!BZ19","v":0},{"$f":"'Nastavení příloh'!CA19","v":1},{"$f":"'Nastavení příloh'!CB19","v":2},{"$f":"'Nastavení příloh'!CC19","v":4},{"$f":"'Nastavení příloh'!CD19","v":5},{"$f":"'Nastavení příloh'!CE19","v":9},{"$f":"'Nastavení příloh'!CF19","v":12},{"$f":"'Nastavení příloh'!CG19","v":17},{"$f":"'Nastavení příloh'!CH19","v":40},{"$f":"'Nastavení příloh'!CI19","v":45},{"$f":"'Nastavení příloh'!CJ19","v":48},{"$f":"'Nastavení příloh'!CK19","v":52},{"$f":"'Nastavení příloh'!CL19","v":56},{"$f":"'Nastavení příloh'!CM19","v":60},{"$f":"'Nastavení příloh'!CN19","v":64},{"$f":"'Nastavení příloh'!CO19","v":67},{"$f":"'Nastavení příloh'!CP19","v":68},{"$f":"'Nastavení příloh'!CQ19","v":70},{"$f":"'Nastavení příloh'!CR19","v":49}]
["Plechovky","Pytel o neznámém objemu; Pytel 120l","-","V pořádku",3,null,900,"-",999,{"$f":"'Nastavení příloh'!AD20","v":0},{"$f":"'Nastavení příloh'!AE20","v":0},{"$f":"'Nastavení příloh'!AF20","v":0},{"$f":"'Nastavení příloh'!AG20","v":0},{"$f":"'Nastavení příloh'!AH20","v":0},{"$f":"'Nastavení příloh'!AI20","v":0},{"$f":"'Nastavení příloh'!AJ20","v":0},{"$f":"'Nastavení příloh'!AK20","v":3},{"$f":"'Nastavení příloh'!AL20","v":6},{"$f":"'Nastavení příloh'!AM20","v":8},{"$f":"'Nastavení příloh'!AN20","v":11},{"$f":"'Nastavení příloh'!AO20","v":14},{"$f":"'Nastavení příloh'!AP20","v":16},{"$f":"'Nastavení příloh'!AQ20","v":19},{"$f":"'Nastavení příloh'!AR20","v":22},{"$f":"'Nastavení příloh'!AS20","v":25},{"$f":"'Nastavení příloh'!AT20","v":25},{"$f":"'Nastavení příloh'!AU20","v":24},{"$f":"'Nastavení příloh'!AV20","v":22},null,900,"-",999,{"$f":"'Nastavení příloh'!BB20","v":0},{"$f":"'Nastavení příloh'!BC20","v":0},{"$f":"'Nastavení příloh'!BD20","v":0},{"$f":"'Nastavení příloh'!BE20","v":0},{"$f":"'Nastavení příloh'!BF20","v":0},{"$f":"'Nastavení příloh'!BG20","v":0},{"$f":"'Nastavení příloh'!BH20","v":0},{"$f":"'Nastavení příloh'!BI20","v":0},{"$f":"'Nastavení příloh'!BJ20","v":20},{"$f":"'Nastavení příloh'!BK20","v":20},{"$f":"'Nastavení příloh'!BL20","v":20},{"$f":"'Nastavení příloh'!BM20","v":20},{"$f":"'Nastavení příloh'!BN20","v":20},{"$f":"'Nastavení příloh'!BO20","v":20},{"$f":"'Nastavení příloh'!BP20","v":20},{"$f":"'Nastavení příloh'!BQ20","v":20},{"$f":"'Nastavení příloh'!BR20","v":20},{"$f":"'Nastavení příloh'!BS20","v":20},{"$f":"'Nastavení příloh'!BT20","v":0},null,900,"-",999,{"$f":"'Nastavení příloh'!BZ20","v":0},{"$f":"'Nastavení příloh'!CA20","v":1},{"$f":"'Nastavení příloh'!CB20","v":3},{"$f":"'Nastavení příloh'!CC20","v":4},{"$f":"'Nastavení příloh'!CD20","v":6},{"$f":"'Nastavení příloh'!CE20","v":8},{"$f":"'Nastavení příloh'!CF20","v":9},{"$f":"'Nastavení příloh'!CG20","v":14},{"$f":"'Nastavení příloh'!CH20","v":39},{"$f":"'Nastavení příloh'!CI20","v":42},{"$f":"'Nastavení příloh'!CJ20","v":47},{"$f":"'Nastavení příloh'!CK20","v":52},{"$f":"'Nastavení příloh'!CL20","v":55},{"$f":"'Nastavení příloh'!CM20","v":60},{"$f":"'Nastavení příloh'!CN20","v":65},{"$f":"'Nastavení příloh'!CO20","v":69},{"$f":"'Nastavení příloh'!CP20","v":70},{"$f":"'Nastavení příloh'!CQ20","v":69},{"$f":"'Nastavení příloh'!CR20","v":47}]
["Plechovky","Kontejner","-","V pořádku",28,null,1000,"-",1099,{"$f":"'Nastavení příloh'!AD21","v":0},{"$f":"'Nastavení příloh'!AE21","v":0},{"$f":"'Nastavení příloh'!AF21","v":0},{"$f":"'Nastavení příloh'!AG21","v":0},{"$f":"'Nastavení příloh'!AH21","v":0},{"$f":"'Nastavení příloh'!AI21","v":0},{"$f":"'Nastavení příloh'!AJ21","v":0},{"$f":"'Nastavení příloh'!AK21","v":0},{"$f":"'Nastavení příloh'!AL21","v":2},{"$f":"'Nastavení příloh'!AM21","v":5},{"$f":"'Nastavení příloh'!AN21","v":8},{"$f":"'Nastavení příloh'!AO21","v":11},{"$f":"'Nastavení příloh'!AP21","v":14},{"$f":"'Nastavení příloh'!AQ21","v":17},{"$f":"'Nastavení příloh'!AR21","v":20},{"$f":"'Nastavení příloh'!AS21","v":23},{"$f":"'Nastavení příloh'!AT21","v":25},{"$f":"'Nastavení příloh'!AU21","v":23},{"$f":"'Nastavení příloh'!AV21","v":20},null,1000,"-",1099,{"$f":"'Nastavení příloh'!BB21","v":0},{"$f":"'Nastavení příloh'!BC21","v":0},{"$f":"'Nastavení příloh'!BD21","v":0},{"$f":"'Nastavení příloh'!BE21","v":0},{"$f":"'Nastavení příloh'!BF21","v":0},{"$f":"'Nastavení příloh'!BG21","v":0},{"$f":"'Nastavení příloh'!BH21","v":0},{"$f":"'Nastavení příloh'!BI21","v":0},{"$f":"'Nastavení příloh'!BJ21","v":20},{"$f":"'Nastavení příloh'!BK21","v":20},{"$f":"'Nastavení příloh'!BL21","v":20},{"$f":"'Nastavení příloh'!BM21","v":20},{"$f":"'Nastavení příloh'!BN21","v":20},{"$f":"'Nastavení příloh'!BO21","v":20},{"$f":"'Nastavení příloh'!BP21","v":20},{"$f":"'Nastavení příloh'!BQ21","v":20},{"$f":"'Nastavení příloh'!BR21","v":20},{"$f":"'Nastavení příloh'!BS21","v":20},{"$f":"'Nastavení příloh'!BT21","v":0},null,1000,"-",1099,{"$f":"'Nastavení příloh'!BZ21","v":0},{"$f":"'Nastavení příloh'!CA21","v":1},{"$f":"'Nastavení příloh'!CB21","v":3},{"$f":"'Nastavení příloh'!CC21","v":5},{"$f":"'Nastavení příloh'!CD21","v":7},{"$f":"'Nastavení příloh'!CE21","v":8},{"$f":"'Nastavení příloh'!CF21","v":10},{"$f":"'Nastavení příloh'!CG21","v":12},{"$f":"'Nastavení příloh'!CH21","v":36},{"$f":"'Nastavení příloh'!CI21","v":41},{"$f":"'Nastavení příloh'!CJ21","v":46},{"$f":"'Nastavení příloh'!CK21","v":50},{"$f":"'Nastavení příloh'!CL21","v":55},{"$f":"'Nastavení příloh'!CM21","v":60},{"$f":"'Nastavení příloh'!CN21","v":65},{"$f":"'Nastavení příloh'!CO21","v":68},{"$f":"'Nastavení příloh'!CP21","v":70},{"$f":"'Nastavení příloh'!CQ21","v":68},{"$f":"'Nastavení příloh'!CR21","v":45}]
["Drobné elektrozařízení","Taška nebo pytel o neznámém objemu","-","V pořádku",1,null,1100,"-",1199,0,0,0,{"$f":"'Nastavení příloh'!AG22","v":0},{"$f":"'Nastavení příloh'!AH22","v":0},{"$f":"'Nastavení příloh'!AI22","v":0},{"$f":"'Nastavení příloh'!AJ22","v":0},{"$f":"'Nastavení příloh'!AK22","v":0},{"$f":"'Nastavení příloh'!AL22","v":0},{"$f":"'Nastavení příloh'!AM22","v":2},{"$f":"'Nastavení příloh'!AN22","v":5},{"$f":"'Nastavení příloh'!AO22","v":8},{"$f":"'Nastavení příloh'!AP22","v":12},{"$f":"'Nastavení příloh'!AQ22","v":15},{"$f":"'Nastavení příloh'!AR22","v":18},{"$f":"'Nastavení příloh'!AS22","v":21},{"$f":"'Nastavení příloh'!AT22","v":25},{"$f":"'Nastavení příloh'!AU22","v":21},{"$f":"'Nastavení příloh'!AV22","v":18},null,1100,"-",1199,{"$f":"'Nastavení příloh'!BB22","v":0},{"$f":"'Nastavení příloh'!BC22","v":0},{"$f":"'Nastavení příloh'!BD22","v":0},{"$f":"'Nastavení příloh'!BE22","v":0},{"$f":"'Nastavení příloh'!BF22","v":0},{"$f":"'Nastavení příloh'!BG22","v":0},{"$f":"'Nastavení příloh'!BH22","v":0},{"$f":"'Nastavení příloh'!BI22","v":0},{"$f":"'Nastavení příloh'!BJ22","v":0},{"$f":"'Nastavení příloh'!BK22","v":20},{"$f":"'Nastavení příloh'!BL22","v":20},{"$f":"'Nastavení příloh'!BM22","v":20},{"$f":"'Nastavení příloh'!BN22","v":20},{"$f":"'Nastavení příloh'!BO22","v":20},{"$f":"'Nastavení příloh'!BP22","v":20},{"$f":"'Nastavení příloh'!BQ22","v":20},{"$f":"'Nastavení příloh'!BR22","v":20},{"$f":"'Nastavení příloh'!BS22","v":20},{"$f":"'Nastavení příloh'!BT22","v":0},null,1100,"-",1199,{"$f":"'Nastavení příloh'!BZ22","v":0},{"$f":"'Nastavení příloh'!CA22","v":0},{"$f":"'Nastavení příloh'!CB22","v":3},{"$f":"'Nastavení příloh'!CC22","v":5},{"$f":"'Nastavení příloh'!CD22","v":7},{"$f":"'Nastavení příloh'!CE22","v":9},{"$f":"'Nastavení příloh'!CF22","v":11},{"$f":"'Nastavení příloh'!CG22","v":13},{"$f":"'Nastavení příloh'!CH22","v":15},{"$f":"'Nastavení příloh'!CI22","v":39},{"$f":"'Nastavení příloh'!CJ22","v":44},{"$f":"'Nastavení příloh'!CK22","v":49},{"$f":"'Nastavení příloh'!CL22","v":55},{"$f":"'Nastavení příloh'!CM22","v":60},{"$f":"'Nastavení příloh'!CN22","v":63},{"$f":"'Nastavení příloh'!CO22","v":66},{"$f":"'Nastavení příloh'!CP22","v":70},{"$f":"'Nastavení příloh'!CQ22","v":66},{"$f":"'Nastavení příloh'!CR22","v":43}]
["Jedlý olej a tuk","PET lahev","-","V pořádku",1,null,1200,"-",1299,0,0,0,0,{"$f":"'Nastavení příloh'!AH23","v":0},{"$f":"'Nastavení příloh'!AI23","v":0},{"$f":"'Nastavení příloh'!AJ23","v":0},{"$f":"'Nastavení příloh'!AK23","v":0},{"$f":"'Nastavení příloh'!AL23","v":0},{"$f":"'Nastavení příloh'!AM23","v":0},{"$f":"'Nastavení příloh'!AN23","v":2},{"$f":"'Nastavení příloh'!AO23","v":6},{"$f":"'Nastavení příloh'!AP23","v":9},{"$f":"'Nastavení příloh'!AQ23","v":13},{"$f":"'Nastavení příloh'!AR23","v":16},{"$f":"'Nastavení příloh'!AS23","v":20},{"$f":"'Nastavení příloh'!AT23","v":23},{"$f":"'Nastavení příloh'!AU23","v":20},{"$f":"'Nastavení příloh'!AV23","v":16},null,1200,"-",1299,{"$f":"'Nastavení příloh'!BB23","v":0},{"$f":"'Nastavení příloh'!BC23","v":0},{"$f":"'Nastavení příloh'!BD23","v":0},{"$f":"'Nastavení příloh'!BE23","v":0},{"$f":"'Nastavení příloh'!BF23","v":0},{"$f":"'Nastavení příloh'!BG23","v":0},{"$f":"'Nastavení příloh'!BH23","v":0},{"$f":"'Nastavení příloh'!BI23","v":0},{"$f":"'Nastavení příloh'!BJ23","v":0},{"$f":"'Nastavení příloh'!BK23","v":19},{"$f":"'Nastavení příloh'!BL23","v":20},{"$f":"'Nastavení příloh'!BM23","v":20},{"$f":"'Nastavení příloh'!BN23","v":20},{"$f":"'Nastavení příloh'!BO23","v":20},{"$f":"'Nastavení příloh'!BP23","v":20},{"$f":"'Nastavení příloh'!BQ23","v":20},{"$f":"'Nastavení příloh'!BR23","v":20},{"$f":"'Nastavení příloh'!BS23","v":20},{"$f":"'Nastavení příloh'!BT23","v":0},null,1200,"-",1299,{"$f":"'Nastavení příloh'!BZ23","v":0},{"$f":"'Nastavení příloh'!CA23","v":0},{"$f":"'Nastavení příloh'!CB23","v":1},{"$f":"'Nastavení příloh'!CC23","v":5},{"$f":"'Nastavení příloh'!CD23","v":8},{"$f":"'Nastavení příloh'!CE23","v":10},{"$f":"'Nastavení příloh'!CF23","v":12},{"$f":"'Nastavení příloh'!CG23","v":14},{"$f":"'Nastavení příloh'!CH23","v":17},{"$f":"'Nastavení příloh'!CI23","v":38},{"$f":"'Nastavení příloh'!CJ23","v":43},{"$f":"'Nastavení příloh'!CK23","v":49},{"$f":"'Nastavení příloh'!CL23","v":54},{"$f":"'Nastavení příloh'!CM23","v":58},{"$f":"'Nastavení příloh'!CN23","v":61},{"$f":"'Nastavení příloh'!CO23","v":65},{"$f":"'Nastavení příloh'!CP23","v":68},{"$f":"'Nastavení příloh'!CQ23","v":65},{"$f":"'Nastavení příloh'!CR23","v":41}]
[null,null,null,null,null,null,1300,"-",1399,0,0,0,0,0,0,0,{"$f":"'Nastavení příloh'!AK24","v":0},{"$f":"'Nastavení příloh'!AL24","v":0},{"$f":"'Nastavení příloh'!AM24","v":0},{"$f":"'Nastavení příloh'!AN24","v":0},{"$f":"'Nastavení příloh'!AO24","v":3},{"$f":"'Nastavení příloh'!AP24","v":7},{"$f":"'Nastavení příloh'!AQ24","v":11},{"$f":"'Nastavení příloh'!AR24","v":15},{"$f":"'Nastavení příloh'!AS24","v":18},{"$f":"'Nastavení příloh'!AT24","v":22},{"$f":"'Nastavení příloh'!AU24","v":18},{"$f":"'Nastavení příloh'!AV24","v":15},null,1300,"-",1399,{"$f":"'Nastavení příloh'!BB24","v":0},{"$f":"'Nastavení příloh'!BC24","v":0},{"$f":"'Nastavení příloh'!BD24","v":0},{"$f":"'Nastavení příloh'!BE24","v":0},{"$f":"'Nastavení příloh'!BF24","v":0},{"$f":"'Nastavení příloh'!BG24","v":0},{"$f":"'Nastavení příloh'!BH24","v":0},{"$f":"'Nastavení příloh'!BI24","v":0},{"$f":"'Nastavení příloh'!BJ24","v":0},{"$f":"'Nastavení příloh'!BK24","v":0},{"$f":"'Nastavení příloh'!BL24","v":19},{"$f":"'Nastavení příloh'!BM24","v":20},{"$f":"'Nastavení příloh'!BN24","v":20},{"$f":"'Nastavení příloh'!BO24","v":20},{"$f":"'Nastavení příloh'!BP24","v":20},{"$f":"'Nastavení příloh'!BQ24","v":20},{"$f":"'Nastavení příloh'!BR24","v":20},{"$f":"'Nastavení příloh'!BS24","v":19},{"$f":"'Nastavení příloh'!BT24","v":0},null,1300,"-",1399,{"$f":"'Nastavení příloh'!BZ24","v":0},{"$f":"'Nastavení příloh'!CA24","v":0},{"$f":"'Nastavení příloh'!CB24","v":0},{"$f":"'Nastavení příloh'!CC24","v":2},{"$f":"'Nastavení příloh'!CD24","v":7},{"$f":"'Nastavení příloh'!CE24","v":11},{"$f":"'Nastavení příloh'!CF24","v":13},{"$f":"'Nastavení příloh'!CG24","v":16},{"$f":"'Nastavení příloh'!CH24","v":18},{"$f":"'Nastavení příloh'!CI24","v":20},{"$f":"'Nastavení příloh'!CJ24","v":42},{"$f":"'Nastavení příloh'!CK24","v":48},{"$f":"'Nastavení příloh'!CL24","v":52},{"$f":"'Nastavení příloh'!CM24","v":56},{"$f":"'Nastavení příloh'!CN24","v":60},{"$f":"'Nastavení příloh'!CO24","v":63},{"$f":"'Nastavení příloh'!CP24","v":67},{"$f":"'Nastavení příloh'!CQ24","v":62},{"$f":"'Nastavení příloh'!CR24","v":40}]
["Součet získaných eko bodů za třídění odpadů je dělen počtem aktivních účastníků daného stanoviště, přičemž maximální možný počet eko bodů za třídění odpadů ",null,null,null,null,null,1400,"-",1499,0,0,0,0,0,0,0,{"$f":"'Nastavení příloh'!AK25","v":0},{"$f":"'Nastavení příloh'!AL25","v":0},{"$f":"'Nastavení příloh'!AM25","v":0},{"$f":"'Nastavení příloh'!AN25","v":0},{"$f":"'Nastavení příloh'!AO25","v":0},{"$f":"'Nastavení příloh'!AP25","v":4},{"$f":"'Nastavení příloh'!AQ25","v":9},{"$f":"'Nastavení příloh'!AR25","v":13},{"$f":"'Nastavení příloh'!AS25","v":17},{"$f":"'Nastavení příloh'!AT25","v":21},{"$f":"'Nastavení příloh'!AU25","v":17},{"$f":"'Nastavení příloh'!AV25","v":13},null,1400,"-",1499,{"$f":"'Nastavení příloh'!BB25","v":0},{"$f":"'Nastavení příloh'!BC25","v":0},{"$f":"'Nastavení příloh'!BD25","v":0},{"$f":"'Nastavení příloh'!BE25","v":0},{"$f":"'Nastavení příloh'!BF25","v":0},{"$f":"'Nastavení příloh'!BG25","v":0},{"$f":"'Nastavení příloh'!BH25","v":0},{"$f":"'Nastavení příloh'!BI25","v":0},{"$f":"'Nastavení příloh'!BJ25","v":0},{"$f":"'Nastavení příloh'!BK25","v":0},{"$f":"'Nastavení příloh'!BL25","v":16},{"$f":"'Nastavení příloh'!BM25","v":20},{"$f":"'Nastavení příloh'!BN25","v":20},{"$f":"'Nastavení příloh'!BO25","v":20},{"$f":"'Nastavení příloh'!BP25","v":20},{"$f":"'Nastavení příloh'!BQ25","v":20},{"$f":"'Nastavení příloh'!BR25","v":19},{"$f":"'Nastavení příloh'!BS25","v":0},{"$f":"'Nastavení příloh'!BT25","v":0},null,1400,"-",1499,{"$f":"'Nastavení příloh'!BZ25","v":0},{"$f":"'Nastavení příloh'!CA25","v":0},{"$f":"'Nastavení příloh'!CB25","v":0},{"$f":"'Nastavení příloh'!CC25","v":1},{"$f":"'Nastavení příloh'!CD25","v":5},{"$f":"'Nastavení příloh'!CE25","v":10},{"$f":"'Nastavení příloh'!CF25","v":14},{"$f":"'Nastavení příloh'!CG25","v":17},{"$f":"'Nastavení příloh'!CH25","v":19},{"$f":"'Nastavení příloh'!CI25","v":22},{"$f":"'Nastavení příloh'!CJ25","v":40},{"$f":"'Nastavení příloh'!CK25","v":45},{"$f":"'Nastavení příloh'!CL25","v":49},{"$f":"'Nastavení příloh'!CM25","v":54},{"$f":"'Nastavení příloh'!CN25","v":58},{"$f":"'Nastavení příloh'!CO25","v":62},{"$f":"'Nastavení příloh'!CP25","v":65},{"$f":"'Nastavení příloh'!CQ25","v":42},{"$f":"'Nastavení příloh'!CR25","v":38}]
["činí 25 eko bodů na jednoho účastníka systému za rok.",null,null,null,null,null,1500,"-",1599,0,0,0,0,0,0,0,{"$f":"'Nastavení příloh'!AK26","v":0},{"$f":"'Nastavení příloh'!AL26","v":0},{"$f":"'Nastavení příloh'!AM26","v":0},{"$f":"'Nastavení příloh'!AN26","v":0},{"$f":"'Nastavení příloh'!AO26","v":0},{"$f":"'Nastavení příloh'!AP26","v":2},{"$f":"'Nastavení příloh'!AQ26","v":7},{"$f":"'Nastavení příloh'!AR26","v":11},{"$f":"'Nastavení příloh'!AS26","v":15},{"$f":"'Nastavení příloh'!AT26","v":20},{"$f":"'Nastavení příloh'!AU26","v":15},{"$f":"'Nastavení příloh'!AV26","v":11},null,1500,"-",1599,{"$f":"'Nastavení příloh'!BB26","v":0},{"$f":"'Nastavení příloh'!BC26","v":0},{"$f":"'Nastavení příloh'!BD26","v":0},{"$f":"'Nastavení příloh'!BE26","v":0},{"$f":"'Nastavení příloh'!BF26","v":0},{"$f":"'Nastavení příloh'!BG26","v":0},{"$f":"'Nastavení příloh'!BH26","v":0},{"$f":"'Nastavení příloh'!BI26","v":0},{"$f":"'Nastavení příloh'!BJ26","v":0},{"$f":"'Nastavení příloh'!BK26","v":0},{"$f":"'Nastavení příloh'!BL26","v":0},{"$f":"'Nastavení příloh'!BM26","v":18},{"$f":"'Nastavení příloh'!BN26","v":20},{"$f":"'Nastavení příloh'!BO26","v":20},{"$f":"'Nastavení příloh'!BP26","v":20},{"$f":"'Nastavení příloh'!BQ26","v":19},{"$f":"'Nastavení příloh'!BR26","v":17},{"$f":"'Nastavení příloh'!BS26","v":0},{"$f":"'Nastavení příloh'!BT26","v":0},null,1500,"-",1599,{"$f":"'Nastavení příloh'!BZ26","v":0},{"$f":"'Nastavení příloh'!CA26","v":0},{"$f":"'Nastavení příloh'!CB26","v":0},{"$f":"'Nastavení příloh'!CC26","v":0},{"$f":"'Nastavení příloh'!CD26","v":3},{"$f":"'Nastavení příloh'!CE26","v":8},{"$f":"'Nastavení příloh'!CF26","v":13},{"$f":"'Nastavení příloh'!CG26","v":18},{"$f":"'Nastavení příloh'!CH26","v":21},{"$f":"'Nastavení příloh'!CI26","v":23},{"$f":"'Nastavení příloh'!CJ26","v":25},{"$f":"'Nastavení příloh'!CK26","v":43},{"$f":"'Nastavení příloh'!CL26","v":47},{"$f":"'Nastavení příloh'!CM26","v":52},{"$f":"'Nastavení příloh'!CN26","v":56},{"$f":"'Nastavení příloh'!CO26","v":59},{"$f":"'Nastavení příloh'!CP26","v":62},{"$f":"'Nastavení příloh'!CQ26","v":40},{"$f":"'Nastavení příloh'!CR26","v":36}]
[null,null,null,null,null,null,1600,"-",1699,0,0,0,0,0,0,0,0,{"$f":"'Nastavení příloh'!AL27","v":0},{"$f":"'Nastavení příloh'!AM27","v":0},{"$f":"'Nastavení příloh'!AN27","v":0},{"$f":"'Nastavení příloh'!AO27","v":0},{"$f":"'Nastavení příloh'!AP27","v":0},{"$f":"'Nastavení příloh'!AQ27","v":4},{"$f":"'Nastavení příloh'!AR27","v":9},{"$f":"'Nastavení příloh'!AS27","v":14},{"$f":"'Nastavení příloh'!AT27","v":18},{"$f":"'Nastavení příloh'!AU27","v":14},{"$f":"'Nastavení příloh'!AV27","v":9},null,1600,"-",1699,{"$f":"'Nastavení příloh'!BB27","v":0},{"$f":"'Nastavení příloh'!BC27","v":0},{"$f":"'Nastavení příloh'!BD27","v":0},{"$f":"'Nastavení příloh'!BE27","v":0},{"$f":"'Nastavení příloh'!BF27","v":0},{"$f":"'Nastavení příloh'!BG27","v":0},{"$f":"'Nastavení příloh'!BH27","v":0},{"$f":"'Nastavení příloh'!BI27","v":0},{"$f":"'Nastavení příloh'!BJ27","v":0},{"$f":"'Nastavení příloh'!BK27","v":0},{"$f":"'Nastavení příloh'!BL27","v":0},{"$f":"'Nastavení příloh'!BM27","v":15},{"$f":"'Nastavení příloh'!BN27","v":20},{"$f":"'Nastavení příloh'!BO27","v":20},{"$f":"'Nastavení příloh'!BP27","v":19},{"$f":"'Nastavení příloh'!BQ27","v":17},{"$f":"'Nastavení příloh'!BR27","v":0},{"$f":"'Nastavení příloh'!BS27","v":0},{"$f":"'Nastavení příloh'!BT27","v":0},null,1600,"-",1699,{"$f":"'Nastavení příloh'!BZ27","v":0},{"$f":"'Nastavení příloh'!CA27","v":0},{"$f":"'Nastavení příloh'!CB27","v":0},{"$f":"'Nastavení příloh'!CC27","v":0},{"$f":"'Nastavení příloh'!CD27","v":1},{"$f":"'Nastavení příloh'!CE27","v":7},{"$f":"'Nastavení příloh'!CF27","v":12},{"$f":"'Nastavení příloh'!CG27","v":17},{"$f":"'Nastavení příloh'!CH27","v":22},{"$f":"'Nastavení příloh'!CI27","v":25},{"$f":"'Nastavení příloh'!CJ27","v":25},{"$f":"'Nastavení příloh'!CK27","v":40},{"$f":"'Nastavení příloh'!CL27","v":45},{"$f":"'Nastavení příloh'!CM27","v":49},{"$f":"'Nastavení příloh'!CN27","v":53},{"$f":"'Nastavení příloh'!CO27","v":56},{"$f":"'Nastavení příloh'!CP27","v":43},{"$f":"'Nastavení příloh'!CQ27","v":39},{"$f":"'Nastavení příloh'!CR27","v":34}]
[null,null,null,null,null,null,1700,"-",1799,0,0,0,0,0,0,0,0,0,0,{"$f":"'Nastavení příloh'!AN28","v":0},{"$f":"'Nastavení příloh'!AO28","v":0},{"$f":"'Nastavení příloh'!AP28","v":0},{"$f":"'Nastavení příloh'!AQ28","v":2},{"$f":"'Nastavení příloh'!AR28","v":7},{"$f":"'Nastavení příloh'!AS28","v":12},{"$f":"'Nastavení příloh'!AT28","v":17},{"$f":"'Nastavení příloh'!AU28","v":12},{"$f":"'Nastavení příloh'!AV28","v":7},null,1700,"-",1799,{"$f":"'Nastavení příloh'!BB28","v":0},{"$f":"'Nastavení příloh'!BC28","v":0},{"$f":"'Nastavení příloh'!BD28","v":0},{"$f":"'Nastavení příloh'!BE28","v":0},{"$f":"'Nastavení příloh'!BF28","v":0},{"$f":"'Nastavení příloh'!BG28","v":0},{"$f":"'Nastavení příloh'!BH28","v":0},{"$f":"'Nastavení příloh'!BI28","v":0},{"$f":"'Nastavení příloh'!BJ28","v":0},{"$f":"'Nastavení příloh'!BK28","v":0},{"$f":"'Nastavení příloh'!BL28","v":0},{"$f":"'Nastavení příloh'!BM28","v":0},{"$f":"'Nastavení příloh'!BN28","v":17},{"$f":"'Nastavení příloh'!BO28","v":19},{"$f":"'Nastavení příloh'!BP28","v":17},{"$f":"'Nastavení příloh'!BQ28","v":0},{"$f":"'Nastavení příloh'!BR28","v":0},{"$f":"'Nastavení příloh'!BS28","v":0},{"$f":"'Nastavení příloh'!BT28","v":0},null,1700,"-",1799,{"$f":"'Nastavení příloh'!BZ28","v":0},{"$f":"'Nastavení příloh'!CA28","v":0},{"$f":"'Nastavení příloh'!CB28","v":0},{"$f":"'Nastavení příloh'!CC28","v":0},{"$f":"'Nastavení příloh'!CD28","v":0},{"$f":"'Nastavení příloh'!CE28","v":5},{"$f":"'Nastavení příloh'!CF28","v":11},{"$f":"'Nastavení příloh'!CG28","v":16},{"$f":"'Nastavení příloh'!CH28","v":22},{"$f":"'Nastavení příloh'!CI28","v":25},{"$f":"'Nastavení příloh'!CJ28","v":25},{"$f":"'Nastavení příloh'!CK28","v":25},{"$f":"'Nastavení příloh'!CL28","v":42},{"$f":"'Nastavení příloh'!CM28","v":46},{"$f":"'Nastavení příloh'!CN28","v":49},{"$f":"'Nastavení příloh'!CO28","v":37},{"$f":"'Nastavení příloh'!CP28","v":42},{"$f":"'Nastavení příloh'!CQ28","v":37},{"$f":"'Nastavení příloh'!CR28","v":32}]
[null,null,null,null,null,null,1800,"-",1899,0,0,0,0,0,0,0,0,0,0,{"$f":"'Nastavení příloh'!AN29","v":0},{"$f":"'Nastavení příloh'!AO29","v":0},{"$f":"'Nastavení příloh'!AP29","v":0},{"$f":"'Nastavení příloh'!AQ29","v":0},{"$f":"'Nastavení příloh'!AR29","v":5},{"$f":"'Nastavení příloh'!AS29","v":11},{"$f":"'Nastavení příloh'!AT29","v":16},{"$f":"'Nastavení příloh'!AU29","v":11},{"$f":"'Nastavení příloh'!AV29","v":5},null,1800,"-",1899,{"$f":"'Nastavení příloh'!BB29","v":0},{"$f":"'Nastavení příloh'!BC29","v":0},{"$f":"'Nastavení příloh'!BD29","v":0},{"$f":"'Nastavení příloh'!BE29","v":0},{"$f":"'Nastavení příloh'!BF29","v":0},{"$f":"'Nastavení příloh'!BG29","v":0},{"$f":"'Nastavení příloh'!BH29","v":0},{"$f":"'Nastavení příloh'!BI29","v":0},{"$f":"'Nastavení příloh'!BJ29","v":0},{"$f":"'Nastavení příloh'!BK29","v":0},{"$f":"'Nastavení příloh'!BL29","v":0},{"$f":"'Nastavení příloh'!BM29","v":0},{"$f":"'Nastavení příloh'!BN29","v":0},{"$f":"'Nastavení příloh'!BO29","v":0},{"$f":"'Nastavení příloh'!BP29","v":0},{"$f":"'Nastavení příloh'!BQ29","v":0},{"$f":"'Nastavení příloh'!BR29","v":0},{"$f":"'Nastavení příloh'!BS29","v":0},{"$f":"'Nastavení příloh'!BT29","v":0},null,1800,"-",1899,{"$f":"'Nastavení příloh'!BZ29","v":0},{"$f":"'Nastavení příloh'!CA29","v":0},{"$f":"'Nastavení příloh'!CB29","v":0},{"$f":"'Nastavení příloh'!CC29","v":0},{"$f":"'Nastavení příloh'!CD29","v":0},{"$f":"'Nastavení příloh'!CE29","v":4},{"$f":"'Nastavení příloh'!CF29","v":10},{"$f":"'Nastavení příloh'!CG29","v":15},{"$f":"'Nastavení příloh'!CH29","v":22},{"$f":"'Nastavení příloh'!CI29","v":25},{"$f":"'Nastavení příloh'!CJ29","v":25},{"$f":"'Nastavení příloh'!CK29","v":25},{"$f":"'Nastavení příloh'!CL29","v":25},{"$f":"'Nastavení příloh'!CM29","v":25},{"$f":"'Nastavení příloh'!CN29","v":30},{"$f":"'Nastavení příloh'!CO29","v":36},{"$f":"'Nastavení příloh'!CP29","v":41},{"$f":"'Nastavení příloh'!CQ29","v":36},{"$f":"'Nastavení příloh'!CR29","v":30}]
[null,null,null,null,null,null,1900,"-",1999,0,0,0,0,0,0,0,0,0,0,{"$f":"'Nastavení příloh'!AN30","v":0},{"$f":"'Nastavení příloh'!AO30","v":0},{"$f":"'Nastavení příloh'!AP30","v":0},{"$f":"'Nastavení příloh'!AQ30","v":0},{"$f":"'Nastavení příloh'!AR30","v":4},{"$f":"'Nastavení příloh'!AS30","v":9},{"$f":"'Nastavení příloh'!AT30","v":15},{"$f":"'Nastavení příloh'!AU30","v":9},{"$f":"'Nastavení příloh'!AV30","v":4},null,1900,"-",1999,{"$f":"'Nastavení příloh'!BB30","v":0},{"$f":"'Nastavení příloh'!BC30","v":0},{"$f":"'Nastavení příloh'!BD30","v":0},{"$f":"'Nastavení příloh'!BE30","v":0},{"$f":"'Nastavení příloh'!BF30","v":0},{"$f":"'Nastavení příloh'!BG30","v":0},{"$f":"'Nastavení příloh'!BH30","v":0},{"$f":"'Nastavení příloh'!BI30","v":0},{"$f":"'Nastavení příloh'!BJ30","v":0},{"$f":"'Nastavení příloh'!BK30","v":0},{"$f":"'Nastavení příloh'!BL30","v":0},{"$f":"'Nastavení příloh'!BM30","v":0},{"$f":"'Nastavení příloh'!BN30","v":0},{"$f":"'Nastavení příloh'!BO30","v":0},{"$f":"'Nastavení příloh'!BP30","v":0},{"$f":"'Nastavení příloh'!BQ30","v":0},{"$f":"'Nastavení příloh'!BR30","v":0},{"$f":"'Nastavení příloh'!BS30","v":0},{"$f":"'Nastavení příloh'!BT30","v":0},null,1900,"-",1999,{"$f":"'Nastavení příloh'!BZ30","v":0},{"$f":"'Nastavení příloh'!CA30","v":0},{"$f":"'Nastavení příloh'!CB30","v":0},{"$f":"'Nastavení příloh'!CC30","v":0},{"$f":"'Nastavení příloh'!CD30","v":0},{"$f":"'Nastavení příloh'!CE30","v":3},{"$f":"'Nastavení příloh'!CF30","v":9},{"$f":"'Nastavení příloh'!CG30","v":15},{"$f":"'Nastavení příloh'!CH30","v":20},{"$f":"'Nastavení příloh'!CI30","v":23},{"$f":"'Nastavení příloh'!CJ30","v":25},{"$f":"'Nastavení příloh'!CK30","v":25},{"$f":"'Nastavení příloh'!CL30","v":25},{"$f":"'Nastavení příloh'!CM30","v":25},{"$f":"'Nastavení příloh'!CN30","v":29},{"$f":"'Nastavení příloh'!CO30","v":34},{"$f":"'Nastavení příloh'!CP30","v":40},{"$f":"'Nastavení příloh'!CQ30","v":34},{"$f":"'Nastavení příloh'!CR30","v":29}]
[null,null,null,null,null,null,2000,"-",2099,0,0,0,0,0,0,0,0,0,0,0,0,{"$f":"'Nastavení příloh'!AP31","v":0},{"$f":"'Nastavení příloh'!AQ31","v":0},{"$f":"'Nastavení příloh'!AR31","v":2},{"$f":"'Nastavení příloh'!AS31","v":8},{"$f":"'Nastavení příloh'!AT31","v":13},{"$f":"'Nastavení příloh'!AU31","v":8},{"$f":"'Nastavení příloh'!AV31","v":2},null,2000,"-",2099,{"$f":"'Nastavení příloh'!BB31","v":0},{"$f":"'Nastavení příloh'!BC31","v":0},{"$f":"'Nastavení příloh'!BD31","v":0},{"$f":"'Nastavení příloh'!BE31","v":0},{"$f":"'Nastavení příloh'!BF31","v":0},{"$f":"'Nastavení příloh'!BG31","v":0},{"$f":"'Nastavení příloh'!BH31","v":0},{"$f":"'Nastavení příloh'!BI31","v":0},{"$f":"'Nastavení příloh'!BJ31","v":0},{"$f":"'Nastavení příloh'!BK31","v":0},{"$f":"'Nastavení příloh'!BL31","v":0},{"$f":"'Nastavení příloh'!BM31","v":0},{"$f":"'Nastavení příloh'!BN31","v":0},{"$f":"'Nastavení příloh'!BO31","v":0},{"$f":"'Nastavení příloh'!BP31","v":0},{"$f":"'Nastavení příloh'!BQ31","v":0},{"$f":"'Nastavení příloh'!BR31","v":0},{"$f":"'Nastavení příloh'!BS31","v":0},{"$f":"'Nastavení příloh'!BT31","v":0},null,2000,"-",2099,{"$f":"'Nastavení příloh'!BZ31","v":0},{"$f":"'Nastavení příloh'!CA31","v":0},{"$f":"'Nastavení příloh'!CB31","v":0},{"$f":"'Nastavení příloh'!CC31","v":0},{"$f":"'Nastavení příloh'!CD31","v":0},{"$f":"'Nastavení příloh'!CE31","v":4},{"$f":"'Nastavení příloh'!CF31","v":8},{"$f":"'Nastavení příloh'!CG31","v":15},{"$f":"'Nastavení příloh'!CH31","v":18},{"$f":"'Nastavení příloh'!CI31","v":21},{"$f":"'Nastavení příloh'!CJ31","v":24},{"$f":"'Nastavení příloh'!CK31","v":25},{"$f":"'Nastavení příloh'!CL31","v":25},{"$f":"'Nastavení příloh'!CM31","v":25},{"$f":"'Nastavení příloh'!CN31","v":27},{"$f":"'Nastavení příloh'!CO31","v":33},{"$f":"'Nastavení příloh'!CP31","v":38},{"$f":"'Nastavení příloh'!CQ31","v":33},{"$f":"'Nastavení příloh'!CR31","v":27}]
[null,null,null,null,null,null,2100,"-",2199,0,0,0,0,0,0,0,0,0,0,0,0,{"$f":"'Nastavení příloh'!AP32","v":0},{"$f":"'Nastavení příloh'!AQ32","v":0},{"$f":"'Nastavení příloh'!AR32","v":0},{"$f":"'Nastavení příloh'!AS32","v":6},{"$f":"'Nastavení příloh'!AT32","v":12},{"$f":"'Nastavení příloh'!AU32","v":6},{"$f":"'Nastavení příloh'!AV32","v":0},null,2100,"-",2199,{"$f":"'Nastavení příloh'!BB32","v":0},{"$f":"'Nastavení příloh'!BC32","v":0},{"$f":"'Nastavení příloh'!BD32","v":0},{"$f":"'Nastavení příloh'!BE32","v":0},{"$f":"'Nastavení příloh'!BF32","v":0},{"$f":"'Nastavení příloh'!BG32","v":0},{"$f":"'Nastavení příloh'!BH32","v":0},{"$f":"'Nastavení příloh'!BI32","v":0},{"$f":"'Nastavení příloh'!BJ32","v":0},{"$f":"'Nastavení příloh'!BK32","v":0},{"$f":"'Nastavení příloh'!BL32","v":0},{"$f":"'Nastavení příloh'!BM32","v":0},{"$f":"'Nastavení příloh'!BN32","v":0},{"$f":"'Nastavení příloh'!BO32","v":0},{"$f":"'Nastavení příloh'!BP32","v":0},{"$f":"'Nastavení příloh'!BQ32","v":0},{"$f":"'Nastavení příloh'!BR32","v":0},{"$f":"'Nastavení příloh'!BS32","v":0},{"$f":"'Nastavení příloh'!BT32","v":0},null,2100,"-",2199,{"$f":"'Nastavení příloh'!BZ32","v":0},{"$f":"'Nastavení příloh'!CA32","v":0},{"$f":"'Nastavení příloh'!CB32","v":0},{"$f":"'Nastavení příloh'!CC32","v":0},{"$f":"'Nastavení příloh'!CD32","v":1},{"$f":"'Nastavení příloh'!CE32","v":4},{"$f":"'Nastavení příloh'!CF32","v":8},{"$f":"'Nastavení příloh'!CG32","v":14},{"$f":"'Nastavení příloh'!CH32","v":17},{"$f":"'Nastavení příloh'!CI32","v":20},{"$f":"'Nastavení příloh'!CJ32","v":23},{"$f":"'Nastavení příloh'!CK32","v":25},{"$f":"'Nastavení příloh'!CL32","v":25},{"$f":"'Nastavení příloh'!CM32","v":25},{"$f":"'Nastavení příloh'!CN32","v":25},{"$f":"'Nastavení příloh'!CO32","v":31},{"$f":"'Nastavení příloh'!CP32","v":37},{"$f":"'Nastavení příloh'!CQ32","v":31},{"$f":"'Nastavení příloh'!CR32","v":25}]
[null,null,null,null,null,null,2200,"-",2299,0,0,0,0,0,0,0,0,0,0,0,0,{"$f":"'Nastavení příloh'!AP33","v":0},{"$f":"'Nastavení příloh'!AQ33","v":0},{"$f":"'Nastavení příloh'!AR33","v":0},{"$f":"'Nastavení příloh'!AS33","v":5},{"$f":"'Nastavení příloh'!AT33","v":11},{"$f":"'Nastavení příloh'!AU33","v":5},{"$f":"'Nastavení příloh'!AV33","v":0},null,2200,"-",2299,{"$f":"'Nastavení příloh'!BB33","v":0},{"$f":"'Nastavení příloh'!BC33","v":0},{"$f":"'Nastavení příloh'!BD33","v":0},{"$f":"'Nastavení příloh'!BE33","v":0},{"$f":"'Nastavení příloh'!BF33","v":0},{"$f":"'Nastavení příloh'!BG33","v":0},{"$f":"'Nastavení příloh'!BH33","v":0},{"$f":"'Nastavení příloh'!BI33","v":0},{"$f":"'Nastavení příloh'!BJ33","v":0},{"$f":"'Nastavení příloh'!BK33","v":0},{"$f":"'Nastavení příloh'!BL33","v":0},{"$f":"'Nastavení příloh'!BM33","v":0},{"$f":"'Nastavení příloh'!BN33","v":0},{"$f":"'Nastavení příloh'!BO33","v":0},{"$f":"'Nastavení příloh'!BP33","v":0},{"$f":"'Nastavení příloh'!BQ33","v":0},{"$f":"'Nastavení příloh'!BR33","v":0},{"$f":"'Nastavení příloh'!BS33","v":0},{"$f":"'Nastavení příloh'!BT33","v":0},null,2200,"-",2299,{"$f":"'Nastavení příloh'!BZ33","v":0},{"$f":"'Nastavení příloh'!CA33","v":0},{"$f":"'Nastavení příloh'!CB33","v":0},{"$f":"'Nastavení příloh'!CC33","v":0},{"$f":"'Nastavení příloh'!CD33","v":1},{"$f":"'Nastavení příloh'!CE33","v":5},{"$f":"'Nastavení příloh'!CF33","v":9},{"$f":"'Nastavení příloh'!CG33","v":12},{"$f":"'Nastavení příloh'!CH33","v":15},{"$f":"'Nastavení příloh'!CI33","v":18},{"$f":"'Nastavení příloh'!CJ33","v":21},{"$f":"'Nastavení příloh'!CK33","v":25},{"$f":"'Nastavení příloh'!CL33","v":25},{"$f":"'Nastavení příloh'!CM33","v":25},{"$f":"'Nastavení příloh'!CN33","v":25},{"$f":"'Nastavení příloh'!CO33","v":30},{"$f":"'Nastavení příloh'!CP33","v":36},{"$f":"'Nastavení příloh'!CQ33","v":30},{"$f":"'Nastavení příloh'!CR33","v":25}]
[null,null,null,null,null,null,2300,"-",2399,0,0,0,0,0,0,0,0,0,0,0,0,{"$f":"'Nastavení příloh'!AP34","v":0},{"$f":"'Nastavení příloh'!AQ34","v":0},{"$f":"'Nastavení příloh'!AR34","v":0},{"$f":"'Nastavení příloh'!AS34","v":3},{"$f":"'Nastavení příloh'!AT34","v":10},{"$f":"'Nastavení příloh'!AU34","v":3},{"$f":"'Nastavení příloh'!AV34","v":0},null,2300,"-",2399,{"$f":"'Nastavení příloh'!BB34","v":0},{"$f":"'Nastavení příloh'!BC34","v":0},{"$f":"'Nastavení příloh'!BD34","v":0},{"$f":"'Nastavení příloh'!BE34","v":0},{"$f":"'Nastavení příloh'!BF34","v":0},{"$f":"'Nastavení příloh'!BG34","v":0},{"$f":"'Nastavení příloh'!BH34","v":0},{"$f":"'Nastavení příloh'!BI34","v":0},{"$f":"'Nastavení příloh'!BJ34","v":0},{"$f":"'Nastavení příloh'!BK34","v":0},{"$f":"'Nastavení příloh'!BL34","v":0},{"$f":"'Nastavení příloh'!BM34","v":0},{"$f":"'Nastavení příloh'!BN34","v":0},{"$f":"'Nastavení příloh'!BO34","v":0},{"$f":"'Nastavení příloh'!BP34","v":0},{"$f":"'Nastavení příloh'!BQ34","v":0},{"$f":"'Nastavení příloh'!BR34","v":0},{"$f":"'Nastavení příloh'!BS34","v":0},{"$f":"'Nastavení příloh'!BT34","v":0},null,2300,"-",2399,{"$f":"'Nastavení příloh'!BZ34","v":0},{"$f":"'Nastavení příloh'!CA34","v":0},{"$f":"'Nastavení příloh'!CB34","v":0},{"$f":"'Nastavení příloh'!CC34","v":0},{"$f":"'Nastavení příloh'!CD34","v":2},{"$f":"'Nastavení příloh'!CE34","v":6},{"$f":"'Nastavení příloh'!CF34","v":10},{"$f":"'Nastavení příloh'!CG34","v":12},{"$f":"'Nastavení příloh'!CH34","v":13},{"$f":"'Nastavení příloh'!CI34","v":17},{"$f":"'Nastavení příloh'!CJ34","v":20},{"$f":"'Nastavení příloh'!CK34","v":23},{"$f":"'Nastavení příloh'!CL34","v":25},{"$f":"'Nastavení příloh'!CM34","v":25},{"$f":"'Nastavení příloh'!CN34","v":25},{"$f":"'Nastavení příloh'!CO34","v":28},{"$f":"'Nastavení příloh'!CP34","v":35},{"$f":"'Nastavení příloh'!CQ34","v":28},{"$f":"'Nastavení příloh'!CR34","v":25}]
[null,null,null,null,null,null,2400,"-",2499,0,0,0,0,0,0,0,0,0,0,0,0,{"$f":"'Nastavení příloh'!AP35","v":0},{"$f":"'Nastavení příloh'!AQ35","v":0},{"$f":"'Nastavení příloh'!AR35","v":0},{"$f":"'Nastavení příloh'!AS35","v":2},{"$f":"'Nastavení příloh'!AT35","v":8},{"$f":"'Nastavení příloh'!AU35","v":2},{"$f":"'Nastavení příloh'!AV35","v":0},null,2400,"-",2499,{"$f":"'Nastavení příloh'!BB35","v":0},{"$f":"'Nastavení příloh'!BC35","v":0},{"$f":"'Nastavení příloh'!BD35","v":0},{"$f":"'Nastavení příloh'!BE35","v":0},{"$f":"'Nastavení příloh'!BF35","v":0},{"$f":"'Nastavení příloh'!BG35","v":0},{"$f":"'Nastavení příloh'!BH35","v":0},{"$f":"'Nastavení příloh'!BI35","v":0},{"$f":"'Nastavení příloh'!BJ35","v":0},{"$f":"'Nastavení příloh'!BK35","v":0},{"$f":"'Nastavení příloh'!BL35","v":0},{"$f":"'Nastavení příloh'!BM35","v":0},{"$f":"'Nastavení příloh'!BN35","v":0},{"$f":"'Nastavení příloh'!BO35","v":0},{"$f":"'Nastavení příloh'!BP35","v":0},{"$f":"'Nastavení příloh'!BQ35","v":0},{"$f":"'Nastavení příloh'!BR35","v":0},{"$f":"'Nastavení příloh'!BS35","v":0},{"$f":"'Nastavení příloh'!BT35","v":0},null,2400,"-",2499,{"$f":"'Nastavení příloh'!BZ35","v":0},{"$f":"'Nastavení příloh'!CA35","v":0},{"$f":"'Nastavení příloh'!CB35","v":0},{"$f":"'Nastavení příloh'!CC35","v":0},{"$f":"'Nastavení příloh'!CD35","v":2},{"$f":"'Nastavení příloh'!CE35","v":7},{"$f":"'Nastavení příloh'!CF35","v":11},{"$f":"'Nastavení příloh'!CG35","v":12},{"$f":"'Nastavení příloh'!CH35","v":12},{"$f":"'Nastavení příloh'!CI35","v":15},{"$f":"'Nastavení příloh'!CJ35","v":18},{"$f":"'Nastavení příloh'!CK35","v":22},{"$f":"'Nastavení příloh'!CL35","v":25},{"$f":"'Nastavení příloh'!CM35","v":25},{"$f":"'Nastavení příloh'!CN35","v":25},{"$f":"'Nastavení příloh'!CO35","v":27},{"$f":"'Nastavení příloh'!CP35","v":33},{"$f":"'Nastavení příloh'!CQ35","v":27},{"$f":"'Nastavení příloh'!CR35","v":25}]
[null,null,null,null,null,null,2500,"-",2599,0,0,0,0,0,0,0,0,0,0,0,0,0,{"$f":"'Nastavení příloh'!AQ36","v":0},{"$f":"'Nastavení příloh'!AR36","v":0},{"$f":"'Nastavení příloh'!AS36","v":0},{"$f":"'Nastavení příloh'!AT36","v":7},{"$f":"'Nastavení příloh'!AU36","v":0},{"$f":"'Nastavení příloh'!AV36","v":0},null,2500,"-",2599,{"$f":"'Nastavení příloh'!BB36","v":0},{"$f":"'Nastavení příloh'!BC36","v":0},{"$f":"'Nastavení příloh'!BD36","v":0},{"$f":"'Nastavení příloh'!BE36","v":0},{"$f":"'Nastavení příloh'!BF36","v":0},{"$f":"'Nastavení příloh'!BG36","v":0},{"$f":"'Nastavení příloh'!BH36","v":0},{"$f":"'Nastavení příloh'!BI36","v":0},{"$f":"'Nastavení příloh'!BJ36","v":0},{"$f":"'Nastavení příloh'!BK36","v":0},{"$f":"'Nastavení příloh'!BL36","v":0},{"$f":"'Nastavení příloh'!BM36","v":0},{"$f":"'Nastavení příloh'!BN36","v":0},{"$f":"'Nastavení příloh'!BO36","v":0},{"$f":"'Nastavení příloh'!BP36","v":0},{"$f":"'Nastavení příloh'!BQ36","v":0},{"$f":"'Nastavení příloh'!BR36","v":0},{"$f":"'Nastavení příloh'!BS36","v":0},{"$f":"'Nastavení příloh'!BT36","v":0},null,2500,"-",2599,{"$f":"'Nastavení příloh'!BZ36","v":0},{"$f":"'Nastavení příloh'!CA36","v":0},{"$f":"'Nastavení příloh'!CB36","v":0},{"$f":"'Nastavení příloh'!CC36","v":0},{"$f":"'Nastavení příloh'!CD36","v":3},{"$f":"'Nastavení příloh'!CE36","v":8},{"$f":"'Nastavení příloh'!CF36","v":12},{"$f":"'Nastavení příloh'!CG36","v":12},{"$f":"'Nastavení příloh'!CH36","v":12},{"$f":"'Nastavení příloh'!CI36","v":13},{"$f":"'Nastavení příloh'!CJ36","v":17},{"$f":"'Nastavení příloh'!CK36","v":21},{"$f":"'Nastavení příloh'!CL36","v":24},{"$f":"'Nastavení příloh'!CM36","v":25},{"$f":"'Nastavení příloh'!CN36","v":25},{"$f":"'Nastavení příloh'!CO36","v":25},{"$f":"'Nastavení příloh'!CP36","v":32},{"$f":"'Nastavení příloh'!CQ36","v":25},{"$f":"'Nastavení příloh'!CR36","v":25}]
[null,null,null,null,null,null,2600,"-",2699,0,0,0,0,0,0,0,0,0,0,0,0,0,{"$f":"'Nastavení příloh'!AQ37","v":0},{"$f":"'Nastavení příloh'!AR37","v":0},{"$f":"'Nastavení příloh'!AS37","v":0},{"$f":"'Nastavení příloh'!AT37","v":6},{"$f":"'Nastavení příloh'!AU37","v":0},{"$f":"'Nastavení příloh'!AV37","v":0},null,2600,"-",2699,{"$f":"'Nastavení příloh'!BB37","v":0},{"$f":"'Nastavení příloh'!BC37","v":0},{"$f":"'Nastavení příloh'!BD37","v":0},{"$f":"'Nastavení příloh'!BE37","v":0},{"$f":"'Nastavení příloh'!BF37","v":0},{"$f":"'Nastavení příloh'!BG37","v":0},{"$f":"'Nastavení příloh'!BH37","v":0},{"$f":"'Nastavení příloh'!BI37","v":0},{"$f":"'Nastavení příloh'!BJ37","v":0},{"$f":"'Nastavení příloh'!BK37","v":0},{"$f":"'Nastavení příloh'!BL37","v":0},{"$f":"'Nastavení příloh'!BM37","v":0},{"$f":"'Nastavení příloh'!BN37","v":0},{"$f":"'Nastavení příloh'!BO37","v":0},{"$f":"'Nastavení příloh'!BP37","v":0},{"$f":"'Nastavení příloh'!BQ37","v":0},{"$f":"'Nastavení příloh'!BR37","v":0},{"$f":"'Nastavení příloh'!BS37","v":0},{"$f":"'Nastavení příloh'!BT37","v":0},null,2600,"-",2699,{"$f":"'Nastavení příloh'!BZ37","v":0},{"$f":"'Nastavení příloh'!CA37","v":0},{"$f":"'Nastavení příloh'!CB37","v":0},{"$f":"'Nastavení příloh'!CC37","v":0},{"$f":"'Nastavení příloh'!CD37","v":4},{"$f":"'Nastavení příloh'!CE37","v":8},{"$f":"'Nastavení příloh'!CF37","v":12},{"$f":"'Nastavení příloh'!CG37","v":12},{"$f":"'Nastavení příloh'!CH37","v":12},{"$f":"'Nastavení příloh'!CI37","v":12},{"$f":"'Nastavení příloh'!CJ37","v":15},{"$f":"'Nastavení příloh'!CK37","v":19},{"$f":"'Nastavení příloh'!CL37","v":23},{"$f":"'Nastavení příloh'!CM37","v":25},{"$f":"'Nastavení příloh'!CN37","v":25},{"$f":"'Nastavení příloh'!CO37","v":25},{"$f":"'Nastavení příloh'!CP37","v":31},{"$f":"'Nastavení příloh'!CQ37","v":25},{"$f":"'Nastavení příloh'!CR37","v":25}]
[null,null,null,null,null,null,2700,"-",2799,0,0,0,0,0,0,0,0,0,0,0,0,0,{"$f":"'Nastavení příloh'!AQ38","v":0},{"$f":"'Nastavení příloh'!AR38","v":0},{"$f":"'Nastavení příloh'!AS38","v":0},{"$f":"'Nastavení příloh'!AT38","v":5},{"$f":"'Nastavení příloh'!AU38","v":0},{"$f":"'Nastavení příloh'!AV38","v":0},null,2700,"-",2799,{"$f":"'Nastavení příloh'!BB38","v":0},{"$f":"'Nastavení příloh'!BC38","v":0},{"$f":"'Nastavení příloh'!BD38","v":0},{"$f":"'Nastavení příloh'!BE38","v":0},{"$f":"'Nastavení příloh'!BF38","v":0},{"$f":"'Nastavení příloh'!BG38","v":0},{"$f":"'Nastavení příloh'!BH38","v":0},{"$f":"'Nastavení příloh'!BI38","v":0},{"$f":"'Nastavení příloh'!BJ38","v":0},{"$f":"'Nastavení příloh'!BK38","v":0},{"$f":"'Nastavení příloh'!BL38","v":0},{"$f":"'Nastavení příloh'!BM38","v":0},{"$f":"'Nastavení příloh'!BN38","v":0},{"$f":"'Nastavení příloh'!BO38","v":0},{"$f":"'Nastavení příloh'!BP38","v":0},{"$f":"'Nastavení příloh'!BQ38","v":0},{"$f":"'Nastavení příloh'!BR38","v":0},{"$f":"'Nastavení příloh'!BS38","v":0},{"$f":"'Nastavení příloh'!BT38","v":0},null,2700,"-",2799,{"$f":"'Nastavení příloh'!BZ38","v":0},{"$f":"'Nastavení příloh'!CA38","v":0},{"$f":"'Nastavení příloh'!CB38","v":0},{"$f":"'Nastavení příloh'!CC38","v":0},{"$f":"'Nastavení příloh'!CD38","v":4},{"$f":"'Nastavení příloh'!CE38","v":9},{"$f":"'Nastavení příloh'!CF38","v":12},{"$f":"'Nastavení příloh'!CG38","v":12},{"$f":"'Nastavení příloh'!CH38","v":12},{"$f":"'Nastavení příloh'!CI38","v":12},{"$f":"'Nastavení příloh'!CJ38","v":14},{"$f":"'Nastavení příloh'!CK38","v":18},{"$f":"'Nastavení příloh'!CL38","v":22},{"$f":"'Nastavení příloh'!CM38","v":25},{"$f":"'Nastavení příloh'!CN38","v":25},{"$f":"'Nastavení příloh'!CO38","v":25},{"$f":"'Nastavení příloh'!CP38","v":30},{"$f":"'Nastavení příloh'!CQ38","v":25},{"$f":"'Nastavení příloh'!CR38","v":25}]
[null,null,null,null,null,null,2800,"-",2899,0,0,0,0,0,0,0,0,0,0,0,0,0,{"$f":"'Nastavení příloh'!AQ39","v":0},{"$f":"'Nastavení příloh'!AR39","v":0},{"$f":"'Nastavení příloh'!AS39","v":0},{"$f":"'Nastavení příloh'!AT39","v":0},{"$f":"'Nastavení příloh'!AU39","v":0},{"$f":"'Nastavení příloh'!AV39","v":0},null,2800,"-",2899,{"$f":"'Nastavení příloh'!BB39","v":0},{"$f":"'Nastavení příloh'!BC39","v":0},{"$f":"'Nastavení příloh'!BD39","v":0},{"$f":"'Nastavení příloh'!BE39","v":0},{"$f":"'Nastavení příloh'!BF39","v":0},{"$f":"'Nastavení příloh'!BG39","v":0},{"$f":"'Nastavení příloh'!BH39","v":0},{"$f":"'Nastavení příloh'!BI39","v":0},{"$f":"'Nastavení příloh'!BJ39","v":0},{"$f":"'Nastavení příloh'!BK39","v":0},{"$f":"'Nastavení příloh'!BL39","v":0},{"$f":"'Nastavení příloh'!BM39","v":0},{"$f":"'Nastavení příloh'!BN39","v":0},{"$f":"'Nastavení příloh'!BO39","v":0},{"$f":"'Nastavení příloh'!BP39","v":0},{"$f":"'Nastavení příloh'!BQ39","v":0},{"$f":"'Nastavení příloh'!BR39","v":0},{"$f":"'Nastavení příloh'!BS39","v":0},{"$f":"'Nastavení příloh'!BT39","v":0},null,2800,"-",2899,{"$f":"'Nastavení příloh'!BZ39","v":0},{"$f":"'Nastavení příloh'!CA39","v":0},{"$f":"'Nastavení příloh'!CB39","v":0},{"$f":"'Nastavení příloh'!CC39","v":0},{"$f":"'Nastavení příloh'!CD39","v":5},{"$f":"'Nastavení příloh'!CE39","v":10},{"$f":"'Nastavení příloh'!CF39","v":12},{"$f":"'Nastavení příloh'!CG39","v":12},{"$f":"'Nastavení příloh'!CH39","v":12},{"$f":"'Nastavení příloh'!CI39","v":12},{"$f":"'Nastavení příloh'!CJ39","v":13},{"$f":"'Nastavení příloh'!CK39","v":17},{"$f":"'Nastavení příloh'!CL39","v":21},{"$f":"'Nastavení příloh'!CM39","v":25},{"$f":"'Nastavení příloh'!CN39","v":25},{"$f":"'Nastavení příloh'!CO39","v":25},{"$f":"'Nastavení příloh'!CP39","v":25},{"$f":"'Nastavení příloh'!CQ39","v":25},{"$f":"'Nastavení příloh'!CR39","v":25}]
[null,null,null,null,null,null,2900,"-",2999,0,0,0,0,0,0,0,0,0,0,0,0,0,0,{"$f":"'Nastavení příloh'!AR40","v":0},{"$f":"'Nastavení příloh'!AS40","v":0},{"$f":"'Nastavení příloh'!AT40","v":0},{"$f":"'Nastavení příloh'!AU40","v":0},{"$f":"'Nastavení příloh'!AV40","v":0},null,2900,"-",2999,{"$f":"'Nastavení příloh'!BB40","v":0},{"$f":"'Nastavení příloh'!BC40","v":0},{"$f":"'Nastavení příloh'!BD40","v":0},{"$f":"'Nastavení příloh'!BE40","v":0},{"$f":"'Nastavení příloh'!BF40","v":0},{"$f":"'Nastavení příloh'!BG40","v":0},{"$f":"'Nastavení příloh'!BH40","v":0},{"$f":"'Nastavení příloh'!BI40","v":0},{"$f":"'Nastavení příloh'!BJ40","v":0},{"$f":"'Nastavení příloh'!BK40","v":0},{"$f":"'Nastavení příloh'!BL40","v":0},{"$f":"'Nastavení příloh'!BM40","v":0},{"$f":"'Nastavení příloh'!BN40","v":0},{"$f":"'Nastavení příloh'!BO40","v":0},{"$f":"'Nastavení příloh'!BP40","v":0},{"$f":"'Nastavení příloh'!BQ40","v":0},{"$f":"'Nastavení příloh'!BR40","v":0},{"$f":"'Nastavení příloh'!BS40","v":0},{"$f":"'Nastavení příloh'!BT40","v":0},null,2900,"-",2999,{"$f":"'Nastavení příloh'!BZ40","v":0},{"$f":"'Nastavení příloh'!CA40","v":0},{"$f":"'Nastavení příloh'!CB40","v":0},{"$f":"'Nastavení příloh'!CC40","v":0},{"$f":"'Nastavení příloh'!CD40","v":6},{"$f":"'Nastavení příloh'!CE40","v":11},{"$f":"'Nastavení příloh'!CF40","v":12},{"$f":"'Nastavení příloh'!CG40","v":12},{"$f":"'Nastavení příloh'!CH40","v":12},{"$f":"'Nastavení příloh'!CI40","v":12},{"$f":"'Nastavení příloh'!CJ40","v":12},{"$f":"'Nastavení příloh'!CK40","v":15},{"$f":"'Nastavení příloh'!CL40","v":19},{"$f":"'Nastavení příloh'!CM40","v":24},{"$f":"'Nastavení příloh'!CN40","v":25},{"$f":"'Nastavení příloh'!CO40","v":25},{"$f":"'Nastavení příloh'!CP40","v":25},{"$f":"'Nastavení příloh'!CQ40","v":25},{"$f":"'Nastavení příloh'!CR40","v":25}]
[null,null,null,null,null,null,3000,"-",3099,0,0,0,0,0,0,0,0,0,0,0,0,0,0,{"$f":"'Nastavení příloh'!AR41","v":0},{"$f":"'Nastavení příloh'!AS41","v":0},{"$f":"'Nastavení příloh'!AT41","v":0},{"$f":"'Nastavení příloh'!AU41","v":0},{"$f":"'Nastavení příloh'!AV41","v":0},null,3000,"-",3099,{"$f":"'Nastavení příloh'!BB41","v":0},{"$f":"'Nastavení příloh'!BC41","v":0},{"$f":"'Nastavení příloh'!BD41","v":0},{"$f":"'Nastavení příloh'!BE41","v":0},{"$f":"'Nastavení příloh'!BF41","v":0},{"$f":"'Nastavení příloh'!BG41","v":0},{"$f":"'Nastavení příloh'!BH41","v":0},{"$f":"'Nastavení příloh'!BI41","v":0},{"$f":"'Nastavení příloh'!BJ41","v":0},{"$f":"'Nastavení příloh'!BK41","v":0},{"$f":"'Nastavení příloh'!BL41","v":0},{"$f":"'Nastavení příloh'!BM41","v":0},{"$f":"'Nastavení příloh'!BN41","v":0},{"$f":"'Nastavení příloh'!BO41","v":0},{"$f":"'Nastavení příloh'!BP41","v":0},{"$f":"'Nastavení příloh'!BQ41","v":0},{"$f":"'Nastavení příloh'!BR41","v":0},{"$f":"'Nastavení příloh'!BS41","v":0},{"$f":"'Nastavení příloh'!BT41","v":0},null,3000,"-",3099,{"$f":"'Nastavení příloh'!BZ41","v":0},{"$f":"'Nastavení příloh'!CA41","v":0},{"$f":"'Nastavení příloh'!CB41","v":0},{"$f":"'Nastavení příloh'!CC41","v":1},{"$f":"'Nastavení příloh'!CD41","v":6},{"$f":"'Nastavení příloh'!CE41","v":12},{"$f":"'Nastavení příloh'!CF41","v":12},{"$f":"'Nastavení příloh'!CG41","v":12},{"$f":"'Nastavení příloh'!CH41","v":12},{"$f":"'Nastavení příloh'!CI41","v":12},{"$f":"'Nastavení příloh'!CJ41","v":12},{"$f":"'Nastavení příloh'!CK41","v":14},{"$f":"'Nastavení příloh'!CL41","v":18},{"$f":"'Nastavení příloh'!CM41","v":23},{"$f":"'Nastavení příloh'!CN41","v":25},{"$f":"'Nastavení příloh'!CO41","v":25},{"$f":"'Nastavení příloh'!CP41","v":25},{"$f":"'Nastavení příloh'!CQ41","v":25},{"$f":"'Nastavení příloh'!CR41","v":25}]
[null,null,null,null,null,null,3100,"-",3199,0,0,0,0,0,0,0,0,0,0,0,0,0,0,{"$f":"'Nastavení příloh'!AR42","v":0},{"$f":"'Nastavení příloh'!AS42","v":0},{"$f":"'Nastavení příloh'!AT42","v":0},{"$f":"'Nastavení příloh'!AU42","v":0},{"$f":"'Nastavení příloh'!AV42","v":0},null,3100,"-",3199,{"$f":"'Nastavení příloh'!BB42","v":0},{"$f":"'Nastavení příloh'!BC42","v":0},{"$f":"'Nastavení příloh'!BD42","v":0},{"$f":"'Nastavení příloh'!BE42","v":0},{"$f":"'Nastavení příloh'!BF42","v":0},{"$f":"'Nastavení příloh'!BG42","v":0},{"$f":"'Nastavení příloh'!BH42","v":0},{"$f":"'Nastavení příloh'!BI42","v":0},{"$f":"'Nastavení příloh'!BJ42","v":0},{"$f":"'Nastavení příloh'!BK42","v":0},{"$f":"'Nastavení příloh'!BL42","v":0},{"$f":"'Nastavení příloh'!BM42","v":0},{"$f":"'Nastavení příloh'!BN42","v":0},{"$f":"'Nastavení příloh'!BO42","v":0},{"$f":"'Nastavení příloh'!BP42","v":0},{"$f":"'Nastavení příloh'!BQ42","v":0},{"$f":"'Nastavení příloh'!BR42","v":0},{"$f":"'Nastavení příloh'!BS42","v":0},{"$f":"'Nastavení příloh'!BT42","v":0},null,3100,"-",3199,{"$f":"'Nastavení příloh'!BZ42","v":0},{"$f":"'Nastavení příloh'!CA42","v":0},{"$f":"'Nastavení příloh'!CB42","v":0},{"$f":"'Nastavení příloh'!CC42","v":1},{"$f":"'Nastavení příloh'!CD42","v":7},{"$f":"'Nastavení příloh'!CE42","v":12},{"$f":"'Nastavení příloh'!CF42","v":12},{"$f":"'Nastavení příloh'!CG42","v":12},{"$f":"'Nastavení příloh'!CH42","v":12},{"$f":"'Nastavení příloh'!CI42","v":12},{"$f":"'Nastavení příloh'!CJ42","v":12},{"$f":"'Nastavení příloh'!CK42","v":13},{"$f":"'Nastavení příloh'!CL42","v":17},{"$f":"'Nastavení příloh'!CM42","v":21},{"$f":"'Nastavení příloh'!CN42","v":25},{"$f":"'Nastavení příloh'!CO42","v":25},{"$f":"'Nastavení příloh'!CP42","v":25},{"$f":"'Nastavení příloh'!CQ42","v":25},{"$f":"'Nastavení příloh'!CR42","v":25}]
[null,null,null,null,null,null,3200,"-",3299,0,0,0,0,0,0,0,0,0,0,0,0,0,0,0,{"$f":"'Nastavení příloh'!AS43","v":0},{"$f":"'Nastavení příloh'!AT43","v":0},{"$f":"'Nastavení příloh'!AU43","v":0},{"$f":"'Nastavení příloh'!AV43","v":0},null,3200,"-",3299,{"$f":"'Nastavení příloh'!BB43","v":0},{"$f":"'Nastavení příloh'!BC43","v":0},{"$f":"'Nastavení příloh'!BD43","v":0},{"$f":"'Nastavení příloh'!BE43","v":0},{"$f":"'Nastavení příloh'!BF43","v":0},{"$f":"'Nastavení příloh'!BG43","v":0},{"$f":"'Nastavení příloh'!BH43","v":0},{"$f":"'Nastavení příloh'!BI43","v":0},{"$f":"'Nastavení příloh'!BJ43","v":0},{"$f":"'Nastavení příloh'!BK43","v":0},{"$f":"'Nastavení příloh'!BL43","v":0},{"$f":"'Nastavení příloh'!BM43","v":0},{"$f":"'Nastavení příloh'!BN43","v":0},{"$f":"'Nastavení příloh'!BO43","v":0},{"$f":"'Nastavení příloh'!BP43","v":0},{"$f":"'Nastavení příloh'!BQ43","v":0},{"$f":"'Nastavení příloh'!BR43","v":0},{"$f":"'Nastavení příloh'!BS43","v":0},{"$f":"'Nastavení příloh'!BT43","v":0},null,3200,"-",3299,{"$f":"'Nastavení příloh'!BZ43","v":0},{"$f":"'Nastavení příloh'!CA43","v":0},{"$f":"'Nastavení příloh'!CB43","v":0},{"$f":"'Nastavení příloh'!CC43","v":2},{"$f":"'Nastavení příloh'!CD43","v":7},{"$f":"'Nastavení příloh'!CE43","v":12},{"$f":"'Nastavení příloh'!CF43","v":12},{"$f":"'Nastavení příloh'!CG43","v":12},{"$f":"'Nastavení příloh'!CH43","v":12},{"$f":"'Nastavení příloh'!CI43","v":12},{"$f":"'Nastavení příloh'!CJ43","v":12},{"$f":"'Nastavení příloh'!CK43","v":12},{"$f":"'Nastavení příloh'!CL43","v":16},{"$f":"'Nastavení příloh'!CM43","v":20},{"$f":"'Nastavení příloh'!CN43","v":25},{"$f":"'Nastavení příloh'!CO43","v":25},{"$f":"'Nastavení příloh'!CP43","v":25},{"$f":"'Nastavení příloh'!CQ43","v":25},{"$f":"'Nastavení příloh'!CR43","v":25}]
[null,null,null,null,null,null,3300,"-",3399,0,0,0,0,0,0,0,0,0,0,0,0,0,0,0,{"$f":"'Nastavení příloh'!AS44","v":0},{"$f":"'Nastavení příloh'!AT44","v":0},{"$f":"'Nastavení příloh'!AU44","v":0},{"$f":"'Nastavení příloh'!AV44","v":0},null,3300,"-",3399,{"$f":"'Nastavení příloh'!BB44","v":0},{"$f":"'Nastavení příloh'!BC44","v":0},{"$f":"'Nastavení příloh'!BD44","v":0},{"$f":"'Nastavení příloh'!BE44","v":0},{"$f":"'Nastavení příloh'!BF44","v":0},{"$f":"'Nastavení příloh'!BG44","v":0},{"$f":"'Nastavení příloh'!BH44","v":0},{"$f":"'Nastavení příloh'!BI44","v":0},{"$f":"'Nastavení příloh'!BJ44","v":0},{"$f":"'Nastavení příloh'!BK44","v":0},{"$f":"'Nastavení příloh'!BL44","v":0},{"$f":"'Nastavení příloh'!BM44","v":0},{"$f":"'Nastavení příloh'!BN44","v":0},{"$f":"'Nastavení příloh'!BO44","v":0},{"$f":"'Nastavení příloh'!BP44","v":0},{"$f":"'Nastavení příloh'!BQ44","v":0},{"$f":"'Nastavení příloh'!BR44","v":0},{"$f":"'Nastavení příloh'!BS44","v":0},{"$f":"'Nastavení příloh'!BT44","v":0},null,3300,"-",3399,{"$f":"'Nastavení příloh'!BZ44","v":0},{"$f":"'Nastavení příloh'!CA44","v":0},{"$f":"'Nastavení příloh'!CB44","v":0},{"$f":"'Nastavení příloh'!CC44","v":2},{"$f":"'Nastavení příloh'!CD44","v":8},{"$f":"'Nastavení příloh'!CE44","v":12},{"$f":"'Nastavení příloh'!CF44","v":12},{"$f":"'Nastavení příloh'!CG44","v":12},{"$f":"'Nastavení příloh'!CH44","v":12},{"$f":"'Nastavení příloh'!CI44","v":12},{"$f":"'Nastavení příloh'!CJ44","v":12},{"$f":"'Nastavení příloh'!CK44","v":12},{"$f":"'Nastavení příloh'!CL44","v":15},{"$f":"'Nastavení příloh'!CM44","v":19},{"$f":"'Nastavení příloh'!CN44","v":24},{"$f":"'Nastavení příloh'!CO44","v":25},{"$f":"'Nastavení příloh'!CP44","v":25},{"$f":"'Nastavení příloh'!CQ44","v":25},{"$f":"'Nastavení příloh'!CR44","v":25}]
[null,null,null,null,null,null,"   více jak 3400",null,null,0,0,0,0,0,0,0,0,0,0,0,0,0,0,0,{"$f":"'Nastavení příloh'!AS45","v":0},{"$f":"'Nastavení příloh'!AT45","v":0},{"$f":"'Nastavení příloh'!AU45","v":0},{"$f":"'Nastavení příloh'!AV45","v":0},null,"   více jak 3400",null,null,{"$f":"'Nastavení příloh'!BB45","v":0},{"$f":"'Nastavení příloh'!BC45","v":0},{"$f":"'Nastavení příloh'!BD45","v":0},{"$f":"'Nastavení příloh'!BE45","v":0},{"$f":"'Nastavení příloh'!BF45","v":0},{"$f":"'Nastavení příloh'!BG45","v":0},{"$f":"'Nastavení příloh'!BH45","v":0},{"$f":"'Nastavení příloh'!BI45","v":0},{"$f":"'Nastavení příloh'!BJ45","v":0},{"$f":"'Nastavení příloh'!BK45","v":0},{"$f":"'Nastavení příloh'!BL45","v":0},{"$f":"'Nastavení příloh'!BM45","v":0},{"$f":"'Nastavení příloh'!BN45","v":0},{"$f":"'Nastavení příloh'!BO45","v":0},{"$f":"'Nastavení příloh'!BP45","v":0},{"$f":"'Nastavení příloh'!BQ45","v":0},{"$f":"'Nastavení příloh'!BR45","v":0},{"$f":"'Nastavení příloh'!BS45","v":0},{"$f":"'Nastavení příloh'!BT45","v":0},null,3400,"-",3499,{"$f":"'Nastavení příloh'!BZ45","v":0},{"$f":"'Nastavení příloh'!CA45","v":0},{"$f":"'Nastavení příloh'!CB45","v":0},{"$f":"'Nastavení příloh'!CC45","v":3},{"$f":"'Nastavení příloh'!CD45","v":9},{"$f":"'Nastavení příloh'!CE45","v":12},{"$f":"'Nastavení příloh'!CF45","v":12},{"$f":"'Nastavení příloh'!CG45","v":12},{"$f":"'Nastavení příloh'!CH45","v":12},{"$f":"'Nastavení příloh'!CI45","v":12},{"$f":"'Nastavení příloh'!CJ45","v":12},{"$f":"'Nastavení příloh'!CK45","v":12},{"$f":"'Nastavení příloh'!CL45","v":13},{"$f":"'Nastavení příloh'!CM45","v":18},{"$f":"'Nastavení příloh'!CN45","v":23},{"$f":"'Nastavení příloh'!CO45","v":25},{"$f":"'Nastavení příloh'!CP45","v":25},{"$f":"'Nastavení příloh'!CQ45","v":25},{"$f":"'Nastavení příloh'!CR45","v":25}]

{"sheet":"Eko body","index":13,"n_rows":108,"n_cols":92,"rows_kept":108,"cut":false,"hidden":false,"merged":[[1,0,1,22],[1,23,1,45],[1,46,1,68],[1,69,1,91],[3,0,5,3],[3,4,3,22],[3,23,5,26],[3,27,3,45],[3,46,5,49],[3,50,3,68],[3,69,5,72],[3,73,3,91],[5,4,5,22],[5,27,5,45],[5,50,5,68],[5,73,5,91],[6,0,35,0],[6,23,35,23],[6,46,35,46],[6,69,35,69],[37,0,37,22],[37,23,37,45],[37,69,37,91],[39,0,41,3],[39,23,41,26],[39,27,39,45],[39,69,41,72],[39,73,39,91],[41,4,41,22],[41,27,41,45],[41,73,41,91],[39,4,39,22],[75,73,75,91],[77,4,77,22],[77,27,77,45],[77,73,77,91],[42,0,71,0],[42,23,71,23],[42,69,71,69],[73,0,73,22],[73,23,73,45],[73,69,73,91],[78,0,107,0],[78,23,107,23],[78,69,107,69],[75,0,77,3],[75,4,75,22],[75,23,77,26],[75,27,75,45],[75,69,77,72]]}
[null,null,null,null,null,null,null,null,null,null,null,null,null,null,null,null,null,null,null,"Příloha č.4",null,null,null,null,null,null,null,null,null,null,null,null,null,null,null,null,null,null,null,null,null,null,"Příloha č. 5",null,null,null,null,null,null,null,null,null,null,null,null,null,null,null,null,null,null,null,null,null,null,null,"Příloha č. 6"]
["Maximální roční počet eko bodů za třídění odpadů (BT)",null,null,null,null,null,null,null,null,null,null,null,null,null,null,null,null,null,null,null,null,null,null,"Maximální roční počet eko bodů za efektivní využívání nádob (BV)",null,null,null,null,null,null,null,null,null,null,null,null,null,null,null,null,null,null,null,null,null,null,"Maximální roční počet eko bodů za snižování produkce odpadů (BS)",null,null,null,null,null,null,null,null,null,null,null,null,null,null,null,null,null,null,null,null,null,null,"Součet maximálních ročních eko bodů (BT + BV + BS)"]
[]
["Eko body za třídění odpadů jsou uděleny do výše 21% za plast, 20% za papír, 30% za bioodpad, 13% za sklo, 8% za textil, 2% za plechovky, 2% za nápojový karton, 2% za jedlý olej a tuk a 2% za drobné elektrozařízení z maximálního počtu eko bodů uvedeného v  této tabulce.",null,null,null,"Procentuální zastoupení objemu obsloužených pytlů/nádob na plast a na papír v celkovém objemu obsloužených pytlů/nádob",null,null,null,null,null,null,null,null,null,null,null,null,null,null,null,null,null,null,"Eko body za efektivní využívání sběrných nádob jsou uděleny do výše 100% z maximálního počtu eko bodů uvedeného v této tabulce.",null,null,null,"Procentuální zastoupení objemu obsloužených pytlů/nádob na plast a na papír v celkovém objemu obsloužených pytlů/nádob",null,null,null,null,null,null,null,null,null,null,null,null,null,null,null,null,null,null,"Eko body za snižování produkce odpadů jsou uděleny do výše 20% za každý způsob snižování produkce odpadů uvedený v odpadovém dotazníku z maximálního počtu eko bodů uvedeného v této tabulce.",null,null,null,"Procentuální zastoupení objemu obsloužených pytlů/nádob na plast a na papír v celkovém objemu obsloužených pytlů/nádob",null,null,null,null,null,null,null,null,null,null,null,null,null,null,null,null,null,null,"Záporná hodnota součtu eko bodů (BT + BV + BS) je nahrazena nulou.",null,null,null,"Procentuální zastoupení objemu obsloužených pytlů/nádob na plast a na papír v celkovém objemu obsloužených pytlů/nádob"]
[null,null,null,null,"0 %","1-5 %","6-10 %","11-15 %","16-20 %","21-25 %","26-30 %","31-35 %","36-40 %","41-45 %","46-50 %","51-55 %","56-60 %","61-65 %","66-70 %","71-75 %","76-80 %","81-85 %","více jak 85 %",null,null,null,null,"0 %","1-5 %","6-10 %","11-15 %","16-20 %","21-25 %","26-30 %","31-35 %","36-40 %","41-45 %","46-50 %","51-55 %","56-60 %","61-65 %","66-70 %","71-75 %","76-80 %","81-85 %","více jak 85 %",null,null,null,null,"0 %","1-5 %","6-10 %","11-15 %","16-20 %","21-25 %","26-30 %","31-35 %","36-40 %","41-45 %","46-50 %","51-55 %","56-60 %","61-65 %","66-70 %","71-75 %","76-80 %","81-85 %","více jak 85 %",null,null,null,null,"0 %","1-5 %","6-10 %","11-15 %","16-20 %","21-25 %","26-30 %","31-35 %","36-40 %","41-45 %","46-50 %","51-55 %","56-60 %","61-65 %","66-70 %","71-75 %","76-80 %","81-85 %","více jak 85 %"]
[null,null,null,null,"\"Třídí málo\"                                                                                                                                   \"Třídí hodně\"",null,null,null,null,null,null,null,null,null,null,null,null,null,null,null,null,null,null,null,null,null,null,"\"Třídí málo\"                                                                                                                                   \"Třídí hodně\"",null,null,null,null,null,null,null,null,null,null,null,null,null,null,null,null,null,null,null,null,null,null,"\"Třídí málo\"                                                                                                                                   \"Třídí hodně\"",null,null,null,null,null,null,null,null,null,null,null,null,null,null,null,null,null,null,null,null,null,null,"\"Třídí málo\"                                                                                                                                   \"Třídí hodně\""]
["Roční celkový objem obsloužených pytlů/nádob přepočtený na jednoho účastníka \nsystému užívajícího dané pytle/nádoby (litry/účastník systému/rok)",0,"-",599,{"$f":"'Nastavení příloh'!F16","v":0},{"$f":"'Nastavení příloh'!G16","v":1},{"$f":"'Nastavení příloh'!H16","v":2},{"$f":"'Nastavení příloh'!I16","v":3},{"$f":"'Nastavení příloh'!J16","v":3},{"$f":"'Nastavení příloh'!K16","v":4},{"$f":"'Nastavení příloh'!L16","v":5},{"$f":"'Nastavení příloh'!M16","v":6},{"$f":"'Nastavení příloh'!N16","v":7},{"$f":"'Nastavení příloh'!O16","v":8},{"$f":"'Nastavení příloh'!P16","v":9},{"$f":"'Nastavení příloh'!Q16","v":10},{"$f":"'Nastavení příloh'!R16","v":11},{"$f":"'Nastavení příloh'!S16","v":12},{"$f":"'Nastavení příloh'!T16","v":13},{"$f":"'Nastavení příloh'!U16","v":14},{"$f":"'Nastavení příloh'!V16","v":15},{"$f":"'Nastavení příloh'!W16","v":16},{"$f":"'Nastavení příloh'!X16","v":17},"Roční celkový objem obsloužených pytlů/nádob přepočtený na jednoho účastníka \nsystému užívajícího dané pytle/nádoby (litry/účastník systému/rok)",0,"-",599,{"$f":"'Nastavení příloh'!AD16","v":0},{"$f":"'Nastavení příloh'!AE16","v":9},{"$f":"'Nastavení příloh'!AF16","v":10},{"$f":"'Nastavení příloh'!AG16","v":12},{"$f":"'Nastavení příloh'!AH16","v":13},{"$f":"'Nastavení příloh'!AI16","v":15},{"$f":"'Nastavení příloh'!AJ16","v":17},{"$f":"'Nastavení příloh'!AK16","v":18},{"$f":"'Nastavení příloh'!AL16","v":20},{"$f":"'Nastavení příloh'!AM16","v":21},{"$f":"'Nastavení příloh'!AN16","v":23},{"$f":"'Nastavení příloh'!AO16","v":24},{"$f":"'Nastavení příloh'!AP16","v":25},{"$f":"'Nastavení příloh'!AQ16","v":25},{"$f":"'Nastavení příloh'!AR16","v":25},{"$f":"'Nastavení příloh'!AS16","v":25},{"$f":"'Nastavení příloh'!AT16","v":25},{"$f":"'Nastavení příloh'!AU16","v":25},{"$f":"'Nastavení příloh'!AV16","v":25},"Roční celkový objem obsloužených pytlů/nádob přepočtený na jednoho účastníka \nsystému užívajícího dané pytle/nádoby (litry/účastník systému/rok)",0,"-",599,{"$f":"'Nastavení příloh'!BB16","v":0},{"$f":"'Nastavení příloh'!BC16","v":0},{"$f":"'Nastavení příloh'!BD16","v":0},{"$f":"'Nastavení příloh'!BE16","v":0},{"$f":"'Nastavení příloh'!BF16","v":0},{"$f":"'Nastavení příloh'!BG16","v":0},{"$f":"'Nastavení příloh'!BH16","v":0},{"$f":"'Nastavení příloh'!BI16","v":0},{"$f":"'Nastavení příloh'!BJ16","v":20},{"$f":"'Nastavení příloh'!BK16","v":20},{"$f":"'Nastavení příloh'!BL16","v":20},{"$f":"'Nastavení příloh'!BM16","v":20},{"$f":"'Nastavení příloh'!BN16","v":20},{"$f":"'Nastavení příloh'!BO16","v":20},{"$f":"'Nastavení příloh'!BP16","v":20},{"$f":"'Nastavení příloh'!BQ16","v":20},{"$f":"'Nastavení příloh'!BR16","v":20},{"$f":"'Nastavení příloh'!BS16","v":20},{"$f":"'Nastavení příloh'!BT16","v":0},"Roční celkový objem obsloužených pytlů/nádob přepočtený na jednoho účastníka \nsystému užívajícího dané pytle/nádoby (litry/účastník systému/rok)",0,"-",599,{"$f":"'Nastavení příloh'!BZ16","v":0},{"$f":"'Nastavení příloh'!CA16","v":10},{"$f":"'Nastavení příloh'!CB16","v":12},{"$f":"'Nastavení příloh'!CC16","v":15},{"$f":"'Nastavení příloh'!CD16","v":16},{"$f":"'Nastavení příloh'!CE16","v":19},{"$f":"'Nastavení příloh'!CF16","v":22},{"$f":"'Nastavení příloh'!CG16","v":24},{"$f":"'Nastavení příloh'!CH16","v":47},{"$f":"'Nastavení příloh'!CI16","v":49},{"$f":"'Nastavení příloh'!CJ16","v":52},{"$f":"'Nastavení příloh'!CK16","v":54},{"$f":"'Nastavení příloh'!CL16","v":56},{"$f":"'Nastavení příloh'!CM16","v":57},{"$f":"'Nastavení příloh'!CN16","v":58},{"$f":"'Nastavení příloh'!CO16","v":59},{"$f":"'Nastavení příloh'!CP16","v":60},{"$f":"'Nastavení příloh'!CQ16","v":61},{"$f":"'Nastavení příloh'!CR16","v":42}]
[null,600,"-",699,{"$f":"'Nastavení příloh'!F17","v":0},{"$f":"'Nastavení příloh'!G17","v":1},{"$f":"'Nastavení příloh'!H17","v":2},{"$f":"'Nastavení příloh'!I17","v":3},{"$f":"'Nastavení příloh'!J17","v":4},{"$f":"'Nastavení příloh'!K17","v":5},{"$f":"'Nastavení příloh'!L17","v":6},{"$f":"'Nastavení příloh'!M17","v":8},{"$f":"'Nastavení příloh'!N17","v":9},{"$f":"'Nastavení příloh'!O17","v":10},{"$f":"'Nastavení příloh'!P17","v":11},{"$f":"'Nastavení příloh'!Q17","v":12},{"$f":"'Nastavení příloh'!R17","v":13},{"$f":"'Nastavení příloh'!S17","v":14},{"$f":"'Nastavení příloh'!T17","v":15},{"$f":"'Nastavení příloh'!U17","v":17},{"$f":"'Nastavení příloh'!V17","v":18},{"$f":"'Nastavení příloh'!W17","v":19},{"$f":"'Nastavení příloh'!X17","v":20},null,600,"-",699,{"$f":"'Nastavení příloh'!AD17","v":0},{"$f":"'Nastavení příloh'!AE17","v":3},{"$f":"'Nastavení příloh'!AF17","v":5},{"$f":"'Nastavení příloh'!AG17","v":7},{"$f":"'Nastavení příloh'!AH17","v":9},{"$f":"'Nastavení příloh'!AI17","v":11},{"$f":"'Nastavení příloh'!AJ17","v":12},{"$f":"'Nastavení příloh'!AK17","v":14},{"$f":"'Nastavení příloh'!AL17","v":16},{"$f":"'Nastavení příloh'!AM17","v":18},{"$f":"'Nastavení příloh'!AN17","v":20},{"$f":"'Nastavení příloh'!AO17","v":22},{"$f":"'Nastavení příloh'!AP17","v":24},{"$f":"'Nastavení příloh'!AQ17","v":25},{"$f":"'Nastavení příloh'!AR17","v":25},{"$f":"'Nastavení příloh'!AS17","v":25},{"$f":"'Nastavení příloh'!AT17","v":25},{"$f":"'Nastavení příloh'!AU17","v":25},{"$f":"'Nastavení příloh'!AV17","v":25},null,600,"-",699,{"$f":"'Nastavení příloh'!BB17","v":0},{"$f":"'Nastavení příloh'!BC17","v":0},{"$f":"'Nastavení příloh'!BD17","v":0},{"$f":"'Nastavení příloh'!BE17","v":0},{"$f":"'Nastavení příloh'!BF17","v":0},{"$f":"'Nastavení příloh'!BG17","v":0},{"$f":"'Nastavení příloh'!BH17","v":0},{"$f":"'Nastavení příloh'!BI17","v":0},{"$f":"'Nastavení příloh'!BJ17","v":20},{"$f":"'Nastavení příloh'!BK17","v":20},{"$f":"'Nastavení příloh'!BL17","v":20},{"$f":"'Nastavení příloh'!BM17","v":20},{"$f":"'Nastavení příloh'!BN17","v":20},{"$f":"'Nastavení příloh'!BO17","v":20},{"$f":"'Nastavení příloh'!BP17","v":20},{"$f":"'Nastavení příloh'!BQ17","v":20},{"$f":"'Nastavení příloh'!BR17","v":20},{"$f":"'Nastavení příloh'!BS17","v":20},{"$f":"'Nastavení příloh'!BT17","v":0},null,600,"-",699,{"$f":"'Nastavení příloh'!BZ17","v":0},{"$f":"'Nastavení příloh'!CA17","v":4},{"$f":"'Nastavení příloh'!CB17","v":7},{"$f":"'Nastavení příloh'!CC17","v":10},{"$f":"'Nastavení příloh'!CD17","v":13},{"$f":"'Nastavení příloh'!CE17","v":16},{"$f":"'Nastavení příloh'!CF17","v":18},{"$f":"'Nastavení příloh'!CG17","v":22},{"$f":"'Nastavení příloh'!CH17","v":45},{"$f":"'Nastavení příloh'!CI17","v":48},{"$f":"'Nastavení příloh'!CJ17","v":51},{"$f":"'Nastavení příloh'!CK17","v":54},{"$f":"'Nastavení příloh'!CL17","v":57},{"$f":"'Nastavení příloh'!CM17","v":59},{"$f":"'Nastavení příloh'!CN17","v":60},{"$f":"'Nastavení příloh'!CO17","v":62},{"$f":"'Nastavení příloh'!CP17","v":63},{"$f":"'Nastavení příloh'!CQ17","v":64},{"$f":"'Nastavení příloh'!CR17","v":45}]
[null,700,"-",799,{"$f":"'Nastavení příloh'!F18","v":0},{"$f":"'Nastavení příloh'!G18","v":1},{"$f":"'Nastavení příloh'!H18","v":2},{"$f":"'Nastavení příloh'!I18","v":3},{"$f":"'Nastavení příloh'!J18","v":5},{"$f":"'Nastavení příloh'!K18","v":6},{"$f":"'Nastavení příloh'!L18","v":7},{"$f":"'Nastavení příloh'!M18","v":9},{"$f":"'Nastavení příloh'!N18","v":10},{"$f":"'Nastavení příloh'!O18","v":11},{"$f":"'Nastavení příloh'!P18","v":13},{"$f":"'Nastavení příloh'!Q18","v":14},{"$f":"'Nastavení příloh'!R18","v":15},{"$f":"'Nastavení příloh'!S18","v":17},{"$f":"'Nastavení příloh'!T18","v":18},{"$f":"'Nastavení příloh'!U18","v":19},{"$f":"'Nastavení příloh'!V18","v":20},{"$f":"'Nastavení příloh'!W18","v":22},{"$f":"'Nastavení příloh'!X18","v":23},null,700,"-",799,{"$f":"'Nastavení příloh'!AD18","v":0},{"$f":"'Nastavení příloh'!AE18","v":0},{"$f":"'Nastavení příloh'!AF18","v":0},{"$f":"'Nastavení příloh'!AG18","v":2},{"$f":"'Nastavení příloh'!AH18","v":4},{"$f":"'Nastavení příloh'!AI18","v":6},{"$f":"'Nastavení příloh'!AJ18","v":8},{"$f":"'Nastavení příloh'!AK18","v":11},{"$f":"'Nastavení příloh'!AL18","v":13},{"$f":"'Nastavení příloh'!AM18","v":15},{"$f":"'Nastavení příloh'!AN18","v":17},{"$f":"'Nastavení příloh'!AO18","v":19},{"$f":"'Nastavení příloh'!AP18","v":21},{"$f":"'Nastavení příloh'!AQ18","v":23},{"$f":"'Nastavení příloh'!AR18","v":25},{"$f":"'Nastavení příloh'!AS18","v":25},{"$f":"'Nastavení příloh'!AT18","v":25},{"$f":"'Nastavení příloh'!AU18","v":25},{"$f":"'Nastavení příloh'!AV18","v":25},null,700,"-",799,{"$f":"'Nastavení příloh'!BB18","v":0},{"$f":"'Nastavení příloh'!BC18","v":0},{"$f":"'Nastavení příloh'!BD18","v":0},{"$f":"'Nastavení příloh'!BE18","v":0},{"$f":"'Nastavení příloh'!BF18","v":0},{"$f":"'Nastavení příloh'!BG18","v":0},{"$f":"'Nastavení příloh'!BH18","v":0},{"$f":"'Nastavení příloh'!BI18","v":0},{"$f":"'Nastavení příloh'!BJ18","v":20},{"$f":"'Nastavení příloh'!BK18","v":20},{"$f":"'Nastavení příloh'!BL18","v":20},{"$f":"'Nastavení příloh'!BM18","v":20},{"$f":"'Nastavení příloh'!BN18","v":20},{"$f":"'Nastavení příloh'!BO18","v":20},{"$f":"'Nastavení příloh'!BP18","v":20},{"$f":"'Nastavení příloh'!BQ18","v":20},{"$f":"'Nastavení příloh'!BR18","v":20},{"$f":"'Nastavení příloh'!BS18","v":20},{"$f":"'Nastavení příloh'!BT18","v":0},null,700,"-",799,{"$f":"'Nastavení příloh'!BZ18","v":0},{"$f":"'Nastavení příloh'!CA18","v":1},{"$f":"'Nastavení příloh'!CB18","v":2},{"$f":"'Nastavení příloh'!CC18","v":5},{"$f":"'Nastavení příloh'!CD18","v":9},{"$f":"'Nastavení příloh'!CE18","v":12},{"$f":"'Nastavení příloh'!CF18","v":15},{"$f":"'Nastavení příloh'!CG18","v":20},{"$f":"'Nastavení příloh'!CH18","v":43},{"$f":"'Nastavení příloh'!CI18","v":46},{"$f":"'Nastavení příloh'!CJ18","v":50},{"$f":"'Nastavení příloh'!CK18","v":53},{"$f":"'Nastavení příloh'!CL18","v":56},{"$f":"'Nastavení příloh'!CM18","v":60},{"$f":"'Nastavení příloh'!CN18","v":63},{"$f":"'Nastavení příloh'!CO18","v":64},{"$f":"'Nastavení příloh'!CP18","v":65},{"$f":"'Nastavení příloh'!CQ18","v":67},{"$f":"'Nastavení příloh'!CR18","v":48}]
[null,800,"-",899,{"$f":"'Nastavení příloh'!F19","v":0},{"$f":"'Nastavení příloh'!G19","v":1},{"$f":"'Nastavení příloh'!H19","v":2},{"$f":"'Nastavení příloh'!I19","v":4},{"$f":"'Nastavení příloh'!J19","v":5},{"$f":"'Nastavení příloh'!K19","v":7},{"$f":"'Nastavení příloh'!L19","v":8},{"$f":"'Nastavení příloh'!M19","v":10},{"$f":"'Nastavení příloh'!N19","v":11},{"$f":"'Nastavení příloh'!O19","v":13},{"$f":"'Nastavení příloh'!P19","v":14},{"$f":"'Nastavení příloh'!Q19","v":16},{"$f":"'Nastavení příloh'!R19","v":17},{"$f":"'Nastavení příloh'!S19","v":19},{"$f":"'Nastavení příloh'!T19","v":20},{"$f":"'Nastavení příloh'!U19","v":22},{"$f":"'Nastavení příloh'!V19","v":23},{"$f":"'Nastavení příloh'!W19","v":25},{"$f":"'Nastavení příloh'!X19","v":25},null,800,"-",899,{"$f":"'Nastavení příloh'!AD19","v":0},{"$f":"'Nastavení příloh'!AE19","v":0},{"$f":"'Nastavení příloh'!AF19","v":0},{"$f":"'Nastavení příloh'!AG19","v":0},{"$f":"'Nastavení příloh'!AH19","v":0},{"$f":"'Nastavení příloh'!AI19","v":2},{"$f":"'Nastavení příloh'!AJ19","v":4},{"$f":"'Nastavení příloh'!AK19","v":7},{"$f":"'Nastavení příloh'!AL19","v":9},{"$f":"'Nastavení příloh'!AM19","v":12},{"$f":"'Nastavení příloh'!AN19","v":14},{"$f":"'Nastavení příloh'!AO19","v":16},{"$f":"'Nastavení příloh'!AP19","v":19},{"$f":"'Nastavení příloh'!AQ19","v":21},{"$f":"'Nastavení příloh'!AR19","v":24},{"$f":"'Nastavení příloh'!AS19","v":25},{"$f":"'Nastavení příloh'!AT19","v":25},{"$f":"'Nastavení příloh'!AU19","v":25},{"$f":"'Nastavení příloh'!AV19","v":24},null,800,"-",899,{"$f":"'Nastavení příloh'!BB19","v":0},{"$f":"'Nastavení příloh'!BC19","v":0},{"$f":"'Nastavení příloh'!BD19","v":0},{"$f":"'Nastavení příloh'!BE19","v":0},{"$f":"'Nastavení příloh'!BF19","v":0},{"$f":"'Nastavení příloh'!BG19","v":0},{"$f":"'Nastavení příloh'!BH19","v":0},{"$f":"'Nastavení příloh'!BI19","v":0},{"$f":"'Nastavení příloh'!BJ19","v":20},{"$f":"'Nastavení příloh'!BK19","v":20},{"$f":"'Nastavení příloh'!BL19","v":20},{"$f":"'Nastavení příloh'!BM19","v":20},{"$f":"'Nastavení příloh'!BN19","v":20},{"$f":"'Nastavení příloh'!BO19","v":20},{"$f":"'Nastavení příloh'!BP19","v":20},{"$f":"'Nastavení příloh'!BQ19","v":20},{"$f":"'Nastavení příloh'!BR19","v":20},{"$f":"'Nastavení příloh'!BS19","v":20},{"$f":"'Nastavení příloh'!BT19","v":0},null,800,"-",899,{"$f":"'Nastavení příloh'!BZ19","v":0},{"$f":"'Nastavení příloh'!CA19","v":1},{"$f":"'Nastavení příloh'!CB19","v":2},{"$f":"'Nastavení příloh'!CC19","v":4},{"$f":"'Nastavení příloh'!CD19","v":5},{"$f":"'Nastavení příloh'!CE19","v":9},{"$f":"'Nastavení příloh'!CF19","v":12},{"$f":"'Nastavení příloh'!CG19","v":17},{"$f":"'Nastavení příloh'!CH19","v":40},{"$f":"'Nastavení příloh'!CI19","v":45},{"$f":"'Nastavení příloh'!CJ19","v":48},{"$f":"'Nastavení příloh'!CK19","v":52},{"$f":"'Nastavení příloh'!CL19","v":56},{"$f":"'Nastavení příloh'!CM19","v":60},{"$f":"'Nastavení příloh'!CN19","v":64},{"$f":"'Nastavení příloh'!CO19","v":67},{"$f":"'Nastavení příloh'!CP19","v":68},{"$f":"'Nastavení příloh'!CQ19","v":70},{"$f":"'Nastavení příloh'!CR19","v":49}]
[null,900,"-",999,{"$f":"'Nastavení příloh'!F20","v":0},{"$f":"'Nastavení příloh'!G20","v":1},{"$f":"'Nastavení příloh'!H20","v":3},{"$f":"'Nastavení příloh'!I20","v":4},{"$f":"'Nastavení příloh'!J20","v":6},{"$f":"'Nastavení příloh'!K20","v":8},{"$f":"'Nastavení příloh'!L20","v":9},{"$f":"'Nastavení příloh'!M20","v":11},{"$f":"'Nastavení příloh'!N20","v":13},{"$f":"'Nastavení příloh'!O20","v":14},{"$f":"'Nastavení příloh'!P20","v":16},{"$f":"'Nastavení příloh'!Q20","v":18},{"$f":"'Nastavení příloh'!R20","v":19},{"$f":"'Nastavení příloh'!S20","v":21},{"$f":"'Nastavení příloh'!T20","v":23},{"$f":"'Nastavení příloh'!U20","v":24},{"$f":"'Nastavení příloh'!V20","v":25},{"$f":"'Nastavení příloh'!W20","v":25},{"$f":"'Nastavení příloh'!X20","v":25},null,900,"-",999,{"$f":"'Nastavení příloh'!AD20","v":0},{"$f":"'Nastavení příloh'!AE20","v":0},{"$f":"'Nastavení příloh'!AF20","v":0},{"$f":"'Nastavení příloh'!AG20","v":0},{"$f":"'Nastavení příloh'!AH20","v":0},{"$f":"'Nastavení příloh'!AI20","v":0},{"$f":"'Nastavení příloh'!AJ20","v":0},{"$f":"'Nastavení příloh'!AK20","v":3},{"$f":"'Nastavení příloh'!AL20","v":6},{"$f":"'Nastavení příloh'!AM20","v":8},{"$f":"'Nastavení příloh'!AN20","v":11},{"$f":"'Nastavení příloh'!AO20","v":14},{"$f":"'Nastavení příloh'!AP20","v":16},{"$f":"'Nastavení příloh'!AQ20","v":19},{"$f":"'Nastavení příloh'!AR20","v":22},{"$f":"'Nastavení příloh'!AS20","v":25},{"$f":"'Nastavení příloh'!AT20","v":25},{"$f":"'Nastavení příloh'!AU20","v":24},{"$f":"'Nastavení příloh'!AV20","v":22},null,900,"-",999,{"$f":"'Nastavení příloh'!BB20","v":0},{"$f":"'Nastavení příloh'!BC20","v":0},{"$f":"'Nastavení příloh'!BD20","v":0},{"$f":"'Nastavení příloh'!BE20","v":0},{"$f":"'Nastavení příloh'!BF20","v":0},{"$f":"'Nastavení příloh'!BG20","v":0},{"$f":"'Nastavení příloh'!BH20","v":0},{"$f":"'Nastavení příloh'!BI20","v":0},{"$f":"'Nastavení příloh'!BJ20","v":20},{"$f":"'Nastavení příloh'!BK20","v":20},{"$f":"'Nastavení příloh'!BL20","v":20},{"$f":"'Nastavení příloh'!BM20","v":20},{"$f":"'Nastavení příloh'!BN20","v":20},{"$f":"'Nastavení příloh'!BO20","v":20},{"$f":"'Nastavení příloh'!BP20","v":20},{"$f":"'Nastavení příloh'!BQ20","v":20},{"$f":"'Nastavení příloh'!BR20","v":20},{"$f":"'Nastavení příloh'!BS20","v":20},{"$f":"'Nastavení příloh'!BT20","v":0},null,900,"-",999,{"$f":"'Nastavení příloh'!BZ20","v":0},{"$f":"'Nastavení příloh'!CA20","v":1},{"$f":"'Nastavení příloh'!CB20","v":3},{"$f":"'Nastavení příloh'!CC20","v":4},{"$f":"'Nastavení příloh'!CD20","v":6},{"$f":"'Nastavení příloh'!CE20","v":8},{"$f":"'Nastavení příloh'!CF20","v":9},{"$f":"'Nastavení příloh'!CG20","v":14},{"$f":"'Nastavení příloh'!CH20","v":39},{"$f":"'Nastavení příloh'!CI20","v":42},{"$f":"'Nastavení příloh'!CJ20","v":47},{"$f":"'Nastavení příloh'!CK20","v":52},{"$f":"'Nastavení příloh'!CL20","v":55},{"$f":"'Nastavení příloh'!CM20","v":60},{"$f":"'Nastavení příloh'!CN20","v":65},{"$f":"'Nastavení příloh'!CO20","v":69},{"$f":"'Nastavení příloh'!CP20","v":70},{"$f":"'Nastavení příloh'!CQ20","v":69},{"$f":"'Nastavení příloh'!CR20","v":47}]
[null,1000,"-",1099,{"$f":"'Nastavení příloh'!F21","v":0},{"$f":"'Nastavení příloh'!G21","v":1},{"$f":"'Nastavení příloh'!H21","v":3},{"$f":"'Nastavení příloh'!I21","v":5},{"$f":"'Nastavení příloh'!J21","v":7},{"$f":"'Nastavení příloh'!K21","v":8},{"$f":"'Nastavení příloh'!L21","v":10},{"$f":"'Nastavení příloh'!M21","v":12},{"$f":"'Nastavení příloh'!N21","v":14},{"$f":"'Nastavení příloh'!O21","v":16},{"$f":"'Nastavení příloh'!P21","v":18},{"$f":"'Nastavení příloh'!Q21","v":19},{"$f":"'Nastavení příloh'!R21","v":21},{"$f":"'Nastavení příloh'!S21","v":23},{"$f":"'Nastavení příloh'!T21","v":25},{"$f":"'Nastavení příloh'!U21","v":25},{"$f":"'Nastavení příloh'!V21","v":25},{"$f":"'Nastavení příloh'!W21","v":25},{"$f":"'Nastavení příloh'!X21","v":25},null,1000,"-",1099,{"$f":"'Nastavení příloh'!AD21","v":0},{"$f":"'Nastavení příloh'!AE21","v":0},{"$f":"'Nastavení příloh'!AF21","v":0},{"$f":"'Nastavení příloh'!AG21","v":0},{"$f":"'Nastavení příloh'!AH21","v":0},{"$f":"'Nastavení příloh'!AI21","v":0},{"$f":"'Nastavení příloh'!AJ21","v":0},{"$f":"'Nastavení příloh'!AK21","v":0},{"$f":"'Nastavení příloh'!AL21","v":2},{"$f":"'Nastavení příloh'!AM21","v":5},{"$f":"'Nastavení příloh'!AN21","v":8},{"$f":"'Nastavení příloh'!AO21","v":11},{"$f":"'Nastavení příloh'!AP21","v":14},{"$f":"'Nastavení příloh'!AQ21","v":17},{"$f":"'Nastavení příloh'!AR21","v":20},{"$f":"'Nastavení příloh'!AS21","v":23},{"$f":"'Nastavení příloh'!AT21","v":25},{"$f":"'Nastavení příloh'!AU21","v":23},{"$f":"'Nastavení příloh'!AV21","v":20},null,1000,"-",1099,{"$f":"'Nastavení příloh'!BB21","v":0},{"$f":"'Nastavení příloh'!BC21","v":0},{"$f":"'Nastavení příloh'!BD21","v":0},{"$f":"'Nastavení příloh'!BE21","v":0},{"$f":"'Nastavení příloh'!BF21","v":0},{"$f":"'Nastavení příloh'!BG21","v":0},{"$f":"'Nastavení příloh'!BH21","v":0},{"$f":"'Nastavení příloh'!BI21","v":0},{"$f":"'Nastavení příloh'!BJ21","v":20},{"$f":"'Nastavení příloh'!BK21","v":20},{"$f":"'Nastavení příloh'!BL21","v":20},{"$f":"'Nastavení příloh'!BM21","v":20},{"$f":"'Nastavení příloh'!BN21","v":20},{"$f":"'Nastavení příloh'!BO21","v":20},{"$f":"'Nastavení příloh'!BP21","v":20},{"$f":"'Nastavení příloh'!BQ21","v":20},{"$f":"'Nastavení příloh'!BR21","v":20},{"$f":"'Nastavení příloh'!BS21","v":20},{"$f":"'Nastavení příloh'!BT21","v":0},null,1000,"-",1099,{"$f":"'Nastavení příloh'!BZ21","v":0},{"$f":"'Nastavení příloh'!CA21","v":1},{"$f":"'Nastavení příloh'!CB21","v":3},{"$f":"'Nastavení příloh'!CC21","v":5},{"$f":"'Nastavení příloh'!CD21","v":7},{"$f":"'Nastavení příloh'!CE21","v":8},{"$f":"'Nastavení příloh'!CF21","v":10},{"$f":"'Nastavení příloh'!CG21","v":12},{"$f":"'Nastavení příloh'!CH21","v":36},{"$f":"'Nastavení příloh'!CI21","v":41},{"$f":"'Nastavení příloh'!CJ21","v":46},{"$f":"'Nastavení příloh'!CK21","v":50},{"$f":"'Nastavení příloh'!CL21","v":55},{"$f":"'Nastavení příloh'!CM21","v":60},{"$f":"'Nastavení příloh'!CN21","v":65},{"$f":"'Nastavení příloh'!CO21","v":68},{"$f":"'Nastavení příloh'!CP21","v":70},{"$f":"'Nastavení příloh'!CQ21","v":68},{"$f":"'Nastavení příloh'!CR21","v":45}]
[null,1100,"-",1199,{"$f":"'Nastavení příloh'!F22","v":0},{"$f":"'Nastavení příloh'!G22","v":1},{"$f":"'Nastavení příloh'!H22","v":3},{"$f":"'Nastavení příloh'!I22","v":5},{"$f":"'Nastavení příloh'!J22","v":7},{"$f":"'Nastavení příloh'!K22","v":9},{"$f":"'Nastavení příloh'!L22","v":11},{"$f":"'Nastavení příloh'!M22","v":13},{"$f":"'Nastavení příloh'!N22","v":15},{"$f":"'Nastavení příloh'!O22","v":17},{"$f":"'Nastavení příloh'!P22","v":19},{"$f":"'Nastavení příloh'!Q22","v":21},{"$f":"'Nastavení příloh'!R22","v":23},{"$f":"'Nastavení příloh'!S22","v":25},{"$f":"'Nastavení příloh'!T22","v":25},{"$f":"'Nastavení příloh'!U22","v":25},{"$f":"'Nastavení příloh'!V22","v":25},{"$f":"'Nastavení příloh'!W22","v":25},{"$f":"'Nastavení příloh'!X22","v":25},null,1100,"-",1199,{"$f":"'Nastavení příloh'!AD22","v":-3},{"$f":"'Nastavení příloh'!AE22","v":-2},{"$f":"'Nastavení příloh'!AF22","v":0},{"$f":"'Nastavení příloh'!AG22","v":0},{"$f":"'Nastavení příloh'!AH22","v":0},{"$f":"'Nastavení příloh'!AI22","v":0},{"$f":"'Nastavení příloh'!AJ22","v":0},{"$f":"'Nastavení příloh'!AK22","v":0},{"$f":"'Nastavení příloh'!AL22","v":0},{"$f":"'Nastavení příloh'!AM22","v":2},{"$f":"'Nastavení příloh'!AN22","v":5},{"$f":"'Nastavení příloh'!AO22","v":8},{"$f":"'Nastavení příloh'!AP22","v":12},{"$f":"'Nastavení příloh'!AQ22","v":15},{"$f":"'Nastavení příloh'!AR22","v":18},{"$f":"'Nastavení příloh'!AS22","v":21},{"$f":"'Nastavení příloh'!AT22","v":25},{"$f":"'Nastavení příloh'!AU22","v":21},{"$f":"'Nastavení příloh'!AV22","v":18},null,1100,"-",1199,{"$f":"'Nastavení příloh'!BB22","v":0},{"$f":"'Nastavení příloh'!BC22","v":0},{"$f":"'Nastavení příloh'!BD22","v":0},{"$f":"'Nastavení příloh'!BE22","v":0},{"$f":"'Nastavení příloh'!BF22","v":0},{"$f":"'Nastavení příloh'!BG22","v":0},{"$f":"'Nastavení příloh'!BH22","v":0},{"$f":"'Nastavení příloh'!BI22","v":0},{"$f":"'Nastavení příloh'!BJ22","v":0},{"$f":"'Nastavení příloh'!BK22","v":20},{"$f":"'Nastavení příloh'!BL22","v":20},{"$f":"'Nastavení příloh'!BM22","v":20},{"$f":"'Nastavení příloh'!BN22","v":20},{"$f":"'Nastavení příloh'!BO22","v":20},{"$f":"'Nastavení příloh'!BP22","v":20},{"$f":"'Nastavení příloh'!BQ22","v":20},{"$f":"'Nastavení příloh'!BR22","v":20},{"$f":"'Nastavení příloh'!BS22","v":20},{"$f":"'Nastavení příloh'!BT22","v":0},null,1100,"-",1199,{"$f":"'Nastavení příloh'!BZ22","v":0},{"$f":"'Nastavení příloh'!CA22","v":0},{"$f":"'Nastavení příloh'!CB22","v":3},{"$f":"'Nastavení příloh'!CC22","v":5},{"$f":"'Nastavení příloh'!CD22","v":7},{"$f":"'Nastavení příloh'!CE22","v":9},{"$f":"'Nastavení příloh'!CF22","v":11},{"$f":"'Nastavení příloh'!CG22","v":13},{"$f":"'Nastavení příloh'!CH22","v":15},{"$f":"'Nastavení příloh'!CI22","v":39},{"$f":"'Nastavení příloh'!CJ22","v":44},{"$f":"'Nastavení příloh'!CK22","v":49},{"$f":"'Nastavení příloh'!CL22","v":55},{"$f":"'Nastavení příloh'!CM22","v":60},{"$f":"'Nastavení příloh'!CN22","v":63},{"$f":"'Nastavení příloh'!CO22","v":66},{"$f":"'Nastavení příloh'!CP22","v":70},{"$f":"'Nastavení příloh'!CQ22","v":66},{"$f":"'Nastavení příloh'!CR22","v":43}]
[null,1200,"-",1299,{"$f":"'Nastavení příloh'!F23","v":0},{"$f":"'Nastavení příloh'!G23","v":1},{"$f":"'Nastavení příloh'!H23","v":4},{"$f":"'Nastavení příloh'!I23","v":6},{"$f":"'Nastavení příloh'!J23","v":8},{"$f":"'Nastavení příloh'!K23","v":10},{"$f":"'Nastavení příloh'!L23","v":12},{"$f":"'Nastavení příloh'!M23","v":14},{"$f":"'Nastavení příloh'!N23","v":17},{"$f":"'Nastavení příloh'!O23","v":19},{"$f":"'Nastavení příloh'!P23","v":21},{"$f":"'Nastavení příloh'!Q23","v":23},{"$f":"'Nastavení příloh'!R23","v":25},{"$f":"'Nastavení příloh'!S23","v":25},{"$f":"'Nastavení příloh'!T23","v":25},{"$f":"'Nastavení příloh'!U23","v":25},{"$f":"'Nastavení příloh'!V23","v":25},{"$f":"'Nastavení příloh'!W23","v":25},{"$f":"'Nastavení příloh'!X23","v":25},null,1200,"-",1299,{"$f":"'Nastavení příloh'!AD23","v":-6},{"$f":"'Nastavení příloh'!AE23","v":-5},{"$f":"'Nastavení příloh'!AF23","v":-3},{"$f":"'Nastavení příloh'!AG23","v":-1},{"$f":"'Nastavení příloh'!AH23","v":0},{"$f":"'Nastavení příloh'!AI23","v":0},{"$f":"'Nastavení příloh'!AJ23","v":0},{"$f":"'Nastavení příloh'!AK23","v":0},{"$f":"'Nastavení příloh'!AL23","v":0},{"$f":"'Nastavení příloh'!AM23","v":0},{"$f":"'Nastavení příloh'!AN23","v":2},{"$f":"'Nastavení příloh'!AO23","v":6},{"$f":"'Nastavení příloh'!AP23","v":9},{"$f":"'Nastavení příloh'!AQ23","v":13},{"$f":"'Nastavení příloh'!AR23","v":16},{"$f":"'Nastavení příloh'!AS23","v":20},{"$f":"'Nastavení příloh'!AT23","v":23},{"$f":"'Nastavení příloh'!AU23","v":20},{"$f":"'Nastavení příloh'!AV23","v":16},null,1200,"-",1299,{"$f":"'Nastavení příloh'!BB23","v":0},{"$f":"'Nastavení příloh'!BC23","v":0},{"$f":"'Nastavení příloh'!BD23","v":0},{"$f":"'Nastavení příloh'!BE23","v":0},{"$f":"'Nastavení příloh'!BF23","v":0},{"$f":"'Nastavení příloh'!BG23","v":0},{"$f":"'Nastavení příloh'!BH23","v":0},{"$f":"'Nastavení příloh'!BI23","v":0},{"$f":"'Nastavení příloh'!BJ23","v":0},{"$f":"'Nastavení příloh'!BK23","v":19},{"$f":"'Nastavení příloh'!BL23","v":20},{"$f":"'Nastavení příloh'!BM23","v":20},{"$f":"'Nastavení příloh'!BN23","v":20},{"$f":"'Nastavení příloh'!BO23","v":20},{"$f":"'Nastavení příloh'!BP23","v":20},{"$f":"'Nastavení příloh'!BQ23","v":20},{"$f":"'Nastavení příloh'!BR23","v":20},{"$f":"'Nastavení příloh'!BS23","v":20},{"$f":"'Nastavení příloh'!BT23","v":0},null,1200,"-",1299,{"$f":"'Nastavení příloh'!BZ23","v":0},{"$f":"'Nastavení příloh'!CA23","v":0},{"$f":"'Nastavení příloh'!CB23","v":1},{"$f":"'Nastavení příloh'!CC23","v":5},{"$f":"'Nastavení příloh'!CD23","v":8},{"$f":"'Nastavení příloh'!CE23","v":10},{"$f":"'Nastavení příloh'!CF23","v":12},{"$f":"'Nastavení příloh'!CG23","v":14},{"$f":"'Nastavení příloh'!CH23","v":17},{"$f":"'Nastavení příloh'!CI23","v":38},{"$f":"'Nastavení příloh'!CJ23","v":43},{"$f":"'Nastavení příloh'!CK23","v":49},{"$f":"'Nastavení příloh'!CL23","v":54},{"$f":"'Nastavení příloh'!CM23","v":58},{"$f":"'Nastavení příloh'!CN23","v":61},{"$f":"'Nastavení příloh'!CO23","v":65},{"$f":"'Nastavení příloh'!CP23","v":68},{"$f":"'Nastavení příloh'!CQ23","v":65},{"$f":"'Nastavení příloh'!CR23","v":41}]
[null,1300,"-",1399,{"$f":"'Nastavení příloh'!F24","v":0},{"$f":"'Nastavení příloh'!G24","v":1},{"$f":"'Nastavení příloh'!H24","v":4},{"$f":"'Nastavení příloh'!I24","v":6},{"$f":"'Nastavení příloh'!J24","v":9},{"$f":"'Nastavení příloh'!K24","v":11},{"$f":"'Nastavení příloh'!L24","v":13},{"$f":"'Nastavení příloh'!M24","v":16},{"$f":"'Nastavení příloh'!N24","v":18},{"$f":"'Nastavení příloh'!O24","v":20},{"$f":"'Nastavení příloh'!P24","v":23},{"$f":"'Nastavení příloh'!Q24","v":25},{"$f":"'Nastavení příloh'!R24","v":25},{"$f":"'Nastavení příloh'!S24","v":25},{"$f":"'Nastavení příloh'!T24","v":25},{"$f":"'Nastavení příloh'!U24","v":25},{"$f":"'Nastavení příloh'!V24","v":25},{"$f":"'Nastavení příloh'!W24","v":25},{"$f":"'Nastavení příloh'!X24","v":25},null,1300,"-",1399,{"$f":"'Nastavení příloh'!AD24","v":-9},{"$f":"'Nastavení příloh'!AE24","v":-8},{"$f":"'Nastavení příloh'!AF24","v":-6},{"$f":"'Nastavení příloh'!AG24","v":-4},{"$f":"'Nastavení příloh'!AH24","v":-2},{"$f":"'Nastavení příloh'!AI24","v":0},{"$f":"'Nastavení příloh'!AJ24","v":0},{"$f":"'Nastavení příloh'!AK24","v":0},{"$f":"'Nastavení příloh'!AL24","v":0},{"$f":"'Nastavení příloh'!AM24","v":0},{"$f":"'Nastavení příloh'!AN24","v":0},{"$f":"'Nastavení příloh'!AO24","v":3},{"$f":"'Nastavení příloh'!AP24","v":7},{"$f":"'Nastavení příloh'!AQ24","v":11},{"$f":"'Nastavení příloh'!AR24","v":15},{"$f":"'Nastavení příloh'!AS24","v":18},{"$f":"'Nastavení příloh'!AT24","v":22},{"$f":"'Nastavení příloh'!AU24","v":18},{"$f":"'Nastavení příloh'!AV24","v":15},null,1300,"-",1399,{"$f":"'Nastavení příloh'!BB24","v":0},{"$f":"'Nastavení příloh'!BC24","v":0},{"$f":"'Nastavení příloh'!BD24","v":0},{"$f":"'Nastavení příloh'!BE24","v":0},{"$f":"'Nastavení příloh'!BF24","v":0},{"$f":"'Nastavení příloh'!BG24","v":0},{"$f":"'Nastavení příloh'!BH24","v":0},{"$f":"'Nastavení příloh'!BI24","v":0},{"$f":"'Nastavení příloh'!BJ24","v":0},{"$f":"'Nastavení příloh'!BK24","v":0},{"$f":"'Nastavení příloh'!BL24","v":19},{"$f":"'Nastavení příloh'!BM24","v":20},{"$f":"'Nastavení příloh'!BN24","v":20},{"$f":"'Nastavení příloh'!BO24","v":20},{"$f":"'Nastavení příloh'!BP24","v":20},{"$f":"'Nastavení příloh'!BQ24","v":20},{"$f":"'Nastavení příloh'!BR24","v":20},{"$f":"'Nastavení příloh'!BS24","v":19},{"$f":"'Nastavení příloh'!BT24","v":0},null,1300,"-",1399,{"$f":"'Nastavení příloh'!BZ24","v":0},{"$f":"'Nastavení příloh'!CA24","v":0},{"$f":"'Nastavení příloh'!CB24","v":0},{"$f":"'Nastavení příloh'!CC24","v":2},{"$f":"'Nastavení příloh'!CD24","v":7},{"$f":"'Nastavení příloh'!CE24","v":11},{"$f":"'Nastavení příloh'!CF24","v":13},{"$f":"'Nastavení příloh'!CG24","v":16},{"$f":"'Nastavení příloh'!CH24","v":18},{"$f":"'Nastavení příloh'!CI24","v":20},{"$f":"'Nastavení příloh'!CJ24","v":42},{"$f":"'Nastavení příloh'!CK24","v":48},{"$f":"'Nastavení příloh'!CL24","v":52},{"$f":"'Nastavení příloh'!CM24","v":56},{"$f":"'Nastavení příloh'!CN24","v":60},{"$f":"'Nastavení příloh'!CO24","v":63},{"$f":"'Nastavení příloh'!CP24","v":67},{"$f":"'Nastavení příloh'!CQ24","v":62},{"$f":"'Nastavení příloh'!CR24","v":40}]
[null,1400,"-",1499,{"$f":"'Nastavení příloh'!F25","v":0},{"$f":"'Nastavení příloh'!G25","v":2},{"$f":"'Nastavení příloh'!H25","v":4},{"$f":"'Nastavení příloh'!I25","v":7},{"$f":"'Nastavení příloh'!J25","v":9},{"$f":"'Nastavení příloh'!K25","v":12},{"$f":"'Nastavení příloh'!L25","v":14},{"$f":"'Nastavení příloh'!M25","v":17},{"$f":"'Nastavení příloh'!N25","v":19},{"$f":"'Nastavení příloh'!O25","v":22},{"$f":"'Nastavení příloh'!P25","v":24},{"$f":"'Nastavení příloh'!Q25","v":25},{"$f":"'Nastavení příloh'!R25","v":25},{"$f":"'Nastavení příloh'!S25","v":25},{"$f":"'Nastavení příloh'!T25","v":25},{"$f":"'Nastavení příloh'!U25","v":25},{"$f":"'Nastavení příloh'!V25","v":25},{"$f":"'Nastavení příloh'!W25","v":25},{"$f":"'Nastavení příloh'!X25","v":25},null,1400,"-",1499,{"$f":"'Nastavení příloh'!AD25","v":-12},{"$f":"'Nastavení příloh'!AE25","v":-10},{"$f":"'Nastavení příloh'!AF25","v":-8},{"$f":"'Nastavení příloh'!AG25","v":-6},{"$f":"'Nastavení příloh'!AH25","v":-4},{"$f":"'Nastavení příloh'!AI25","v":-2},{"$f":"'Nastavení příloh'!AJ25","v":0},{"$f":"'Nastavení příloh'!AK25","v":0},{"$f":"'Nastavení příloh'!AL25","v":0},{"$f":"'Nastavení příloh'!AM25","v":0},{"$f":"'Nastavení příloh'!AN25","v":0},{"$f":"'Nastavení příloh'!AO25","v":0},{"$f":"'Nastavení příloh'!AP25","v":4},{"$f":"'Nastavení příloh'!AQ25","v":9},{"$f":"'Nastavení příloh'!AR25","v":13},{"$f":"'Nastavení příloh'!AS25","v":17},{"$f":"'Nastavení příloh'!AT25","v":21},{"$f":"'Nastavení příloh'!AU25","v":17},{"$f":"'Nastavení příloh'!AV25","v":13},null,1400,"-",1499,{"$f":"'Nastavení příloh'!BB25","v":0},{"$f":"'Nastavení příloh'!BC25","v":0},{"$f":"'Nastavení příloh'!BD25","v":0},{"$f":"'Nastavení příloh'!BE25","v":0},{"$f":"'Nastavení příloh'!BF25","v":0},{"$f":"'Nastavení příloh'!BG25","v":0},{"$f":"'Nastavení příloh'!BH25","v":0},{"$f":"'Nastavení příloh'!BI25","v":0},{"$f":"'Nastavení příloh'!BJ25","v":0},{"$f":"'Nastavení příloh'!BK25","v":0},{"$f":"'Nastavení příloh'!BL25","v":16},{"$f":"'Nastavení příloh'!BM25","v":20},{"$f":"'Nastavení příloh'!BN25","v":20},{"$f":"'Nastavení příloh'!BO25","v":20},{"$f":"'Nastavení příloh'!BP25","v":20},{"$f":"'Nastavení příloh'!BQ25","v":20},{"$f":"'Nastavení příloh'!BR25","v":19},{"$f":"'Nastavení příloh'!BS25","v":0},{"$f":"'Nastavení příloh'!BT25","v":0},null,1400,"-",1499,{"$f":"'Nastavení příloh'!BZ25","v":0},{"$f":"'Nastavení příloh'!CA25","v":0},{"$f":"'Nastavení příloh'!CB25","v":0},{"$f":"'Nastavení příloh'!CC25","v":1},{"$f":"'Nastavení příloh'!CD25","v":5},{"$f":"'Nastavení příloh'!CE25","v":10},{"$f":"'Nastavení příloh'!CF25","v":14},{"$f":"'Nastavení příloh'!CG25","v":17},{"$f":"'Nastavení příloh'!CH25","v":19},{"$f":"'Nastavení příloh'!CI25","v":22},{"$f":"'Nastavení příloh'!CJ25","v":40},{"$f":"'Nastavení příloh'!CK25","v":45},{"$f":"'Nastavení příloh'!CL25","v":49},{"$f":"'Nastavení příloh'!CM25","v":54},{"$f":"'Nastavení příloh'!CN25","v":58},{"$f":"'Nastavení příloh'!CO25","v":62},{"$f":"'Nastavení příloh'!CP25","v":65},{"$f":"'Nastavení příloh'!CQ25","v":42},{"$f":"'Nastavení příloh'!CR25","v":38}]
[null,1500,"-",1599,{"$f":"'Nastavení příloh'!F26","v":0},{"$f":"'Nastavení příloh'!G26","v":2},{"$f":"'Nastavení příloh'!H26","v":4},{"$f":"'Nastavení příloh'!I26","v":7},{"$f":"'Nastavení příloh'!J26","v":10},{"$f":"'Nastavení příloh'!K26","v":12},{"$f":"'Nastavení příloh'!L26","v":15},{"$f":"'Nastavení příloh'!M26","v":18},{"$f":"'Nastavení příloh'!N26","v":21},{"$f":"'Nastavení příloh'!O26","v":23},{"$f":"'Nastavení příloh'!P26","v":25},{"$f":"'Nastavení příloh'!Q26","v":25},{"$f":"'Nastavení příloh'!R26","v":25},{"$f":"'Nastavení příloh'!S26","v":25},{"$f":"'Nastavení příloh'!T26","v":25},{"$f":"'Nastavení příloh'!U26","v":25},{"$f":"'Nastavení příloh'!V26","v":25},{"$f":"'Nastavení příloh'!W26","v":25},{"$f":"'Nastavení příloh'!X26","v":25},null,1500,"-",1599,{"$f":"'Nastavení příloh'!AD26","v":-13},{"$f":"'Nastavení příloh'!AE26","v":-13},{"$f":"'Nastavení příloh'!AF26","v":-11},{"$f":"'Nastavení příloh'!AG26","v":-9},{"$f":"'Nastavení příloh'!AH26","v":-7},{"$f":"'Nastavení příloh'!AI26","v":-4},{"$f":"'Nastavení příloh'!AJ26","v":-2},{"$f":"'Nastavení příloh'!AK26","v":0},{"$f":"'Nastavení příloh'!AL26","v":0},{"$f":"'Nastavení příloh'!AM26","v":0},{"$f":"'Nastavení příloh'!AN26","v":0},{"$f":"'Nastavení příloh'!AO26","v":0},{"$f":"'Nastavení příloh'!AP26","v":2},{"$f":"'Nastavení příloh'!AQ26","v":7},{"$f":"'Nastavení příloh'!AR26","v":11},{"$f":"'Nastavení příloh'!AS26","v":15},{"$f":"'Nastavení příloh'!AT26","v":20},{"$f":"'Nastavení příloh'!AU26","v":15},{"$f":"'Nastavení příloh'!AV26","v":11},null,1500,"-",1599,{"$f":"'Nastavení příloh'!BB26","v":0},{"$f":"'Nastavení příloh'!BC26","v":0},{"$f":"'Nastavení příloh'!BD26","v":0},{"$f":"'Nastavení příloh'!BE26","v":0},{"$f":"'Nastavení příloh'!BF26","v":0},{"$f":"'Nastavení příloh'!BG26","v":0},{"$f":"'Nastavení příloh'!BH26","v":0},{"$f":"'Nastavení příloh'!BI26","v":0},{"$f":"'Nastavení příloh'!BJ26","v":0},{"$f":"'Nastavení příloh'!BK26","v":0},{"$f":"'Nastavení příloh'!BL26","v":0},{"$f":"'Nastavení příloh'!BM26","v":18},{"$f":"'Nastavení příloh'!BN26","v":20},{"$f":"'Nastavení příloh'!BO26","v":20},{"$f":"'Nastavení příloh'!BP26","v":20},{"$f":"'Nastavení příloh'!BQ26","v":19},{"$f":"'Nastavení příloh'!BR26","v":17},{"$f":"'Nastavení příloh'!BS26","v":0},{"$f":"'Nastavení příloh'!BT26","v":0},null,1500,"-",1599,{"$f":"'Nastavení příloh'!BZ26","v":0},{"$f":"'Nastavení příloh'!CA26","v":0},{"$f":"'Nastavení příloh'!CB26","v":0},{"$f":"'Nastavení příloh'!CC26","v":0},{"$f":"'Nastavení příloh'!CD26","v":3},{"$f":"'Nastavení příloh'!CE26","v":8},{"$f":"'Nastavení příloh'!CF26","v":13},{"$f":"'Nastavení příloh'!CG26","v":18},{"$f":"'Nastavení příloh'!CH26","v":21},{"$f":"'Nastavení příloh'!CI26","v":23},{"$f":"'Nastavení příloh'!CJ26","v":25},{"$f":"'Nastavení příloh'!CK26","v":43},{"$f":"'Nastavení příloh'!CL26","v":47},{"$f":"'Nastavení příloh'!CM26","v":52},{"$f":"'Nastavení příloh'!CN26","v":56},{"$f":"'Nastavení příloh'!CO26","v":59},{"$f":"'Nastavení příloh'!CP26","v":62},{"$f":"'Nastavení příloh'!CQ26","v":40},{"$f":"'Nastavení příloh'!CR26","v":36}]
[null,1600,"-",1699,{"$f":"'Nastavení příloh'!F27","v":0},{"$f":"'Nastavení příloh'!G27","v":2},{"$f":"'Nastavení příloh'!H27","v":5},{"$f":"'Nastavení příloh'!I27","v":8},{"$f":"'Nastavení příloh'!J27","v":10},{"$f":"'Nastavení příloh'!K27","v":13},{"$f":"'Nastavení příloh'!L27","v":16},{"$f":"'Nastavení příloh'!M27","v":19},{"$f":"'Nastavení příloh'!N27","v":22},{"$f":"'Nastavení příloh'!O27","v":25},{"$f":"'Nastavení příloh'!P27","v":25},{"$f":"'Nastavení příloh'!Q27","v":25},{"$f":"'Nastavení příloh'!R27","v":25},{"$f":"'Nastavení příloh'!S27","v":25},{"$f":"'Nastavení příloh'!T27","v":25},{"$f":"'Nastavení příloh'!U27","v":25},{"$f":"'Nastavení příloh'!V27","v":25},{"$f":"'Nastavení příloh'!W27","v":25},{"$f":"'Nastavení příloh'!X27","v":25},null,1600,"-",1699,{"$f":"'Nastavení příloh'!AD27","v":-13},{"$f":"'Nastavení příloh'!AE27","v":-13},{"$f":"'Nastavení příloh'!AF27","v":-13},{"$f":"'Nastavení příloh'!AG27","v":-11},{"$f":"'Nastavení příloh'!AH27","v":-9},{"$f":"'Nastavení příloh'!AI27","v":-6},{"$f":"'Nastavení příloh'!AJ27","v":-4},{"$f":"'Nastavení příloh'!AK27","v":-2},{"$f":"'Nastavení příloh'!AL27","v":0},{"$f":"'Nastavení příloh'!AM27","v":0},{"$f":"'Nastavení příloh'!AN27","v":0},{"$f":"'Nastavení příloh'!AO27","v":0},{"$f":"'Nastavení příloh'!AP27","v":0},{"$f":"'Nastavení příloh'!AQ27","v":4},{"$f":"'Nastavení příloh'!AR27","v":9},{"$f":"'Nastavení příloh'!AS27","v":14},{"$f":"'Nastavení příloh'!AT27","v":18},{"$f":"'Nastavení příloh'!AU27","v":14},{"$f":"'Nastavení příloh'!AV27","v":9},null,1600,"-",1699,{"$f":"'Nastavení příloh'!BB27","v":0},{"$f":"'Nastavení příloh'!BC27","v":0},{"$f":"'Nastavení příloh'!BD27","v":0},{"$f":"'Nastavení příloh'!BE27","v":0},{"$f":"'Nastavení příloh'!BF27","v":0},{"$f":"'Nastavení příloh'!BG27","v":0},{"$f":"'Nastavení příloh'!BH27","v":0},{"$f":"'Nastavení příloh'!BI27","v":0},{"$f":"'Nastavení příloh'!BJ27","v":0},{"$f":"'Nastavení příloh'!BK27","v":0},{"$f":"'Nastavení příloh'!BL27","v":0},{"$f":"'Nastavení příloh'!BM27","v":15},{"$f":"'Nastavení příloh'!BN27","v":20},{"$f":"'Nastavení příloh'!BO27","v":20},{"$f":"'Nastavení příloh'!BP27","v":19},{"$f":"'Nastavení příloh'!BQ27","v":17},{"$f":"'Nastavení příloh'!BR27","v":0},{"$f":"'Nastavení příloh'!BS27","v":0},{"$f":"'Nastavení příloh'!BT27","v":0},null,1600,"-",1699,{"$f":"'Nastavení příloh'!BZ27","v":0},{"$f":"'Nastavení příloh'!CA27","v":0},{"$f":"'Nastavení příloh'!CB27","v":0},{"$f":"'Nastavení příloh'!CC27","v":0},{"$f":"'Nastavení příloh'!CD27","v":1},{"$f":"'Nastavení příloh'!CE27","v":7},{"$f":"'Nastavení příloh'!CF27","v":12},{"$f":"'Nastavení příloh'!CG27","v":17},{"$f":"'Nastavení příloh'!CH27","v":22},{"$f":"'Nastavení příloh'!CI27","v":25},{"$f":"'Nastavení příloh'!CJ27","v":25},{"$f":"'Nastavení příloh'!CK27","v":40},{"$f":"'Nastavení příloh'!CL27","v":45},{"$f":"'Nastavení příloh'!CM27","v":49},{"$f":"'Nastavení příloh'!CN27","v":53},{"$f":"'Nastavení příloh'!CO27","v":56},{"$f":"'Nastavení příloh'!CP27","v":43},{"$f":"'Nastavení příloh'!CQ27","v":39},{"$f":"'Nastavení příloh'!CR27","v":34}]
[null,1700,"-",1799,{"$f":"'Nastavení příloh'!F28","v":0},{"$f":"'Nastavení příloh'!G28","v":2},{"$f":"'Nastavení příloh'!H28","v":5},{"$f":"'Nastavení příloh'!I28","v":8},{"$f":"'Nastavení příloh'!J28","v":11},{"$f":"'Nastavení příloh'!K28","v":14},{"$f":"'Nastavení příloh'!L28","v":17},{"$f":"'Nastavení příloh'!M28","v":20},{"$f":"'Nastavení příloh'!N28","v":23},{"$f":"'Nastavení příloh'!O28","v":25},{"$f":"'Nastavení příloh'!P28","v":25},{"$f":"'Nastavení příloh'!Q28","v":25},{"$f":"'Nastavení příloh'!R28","v":25},{"$f":"'Nastavení příloh'!S28","v":25},{"$f":"'Nastavení příloh'!T28","v":25},{"$f":"'Nastavení příloh'!U28","v":25},{"$f":"'Nastavení příloh'!V28","v":25},{"$f":"'Nastavení příloh'!W28","v":25},{"$f":"'Nastavení příloh'!X28","v":25},null,1700,"-",1799,{"$f":"'Nastavení příloh'!AD28","v":-13},{"$f":"'Nastavení příloh'!AE28","v":-13},{"$f":"'Nastavení příloh'!AF28","v":-13},{"$f":"'Nastavení příloh'!AG28","v":-13},{"$f":"'Nastavení příloh'!AH28","v":-11},{"$f":"'Nastavení příloh'!AI28","v":-9},{"$f":"'Nastavení příloh'!AJ28","v":-6},{"$f":"'Nastavení příloh'!AK28","v":-4},{"$f":"'Nastavení příloh'!AL28","v":-1},{"$f":"'Nastavení příloh'!AM28","v":0},{"$f":"'Nastavení příloh'!AN28","v":0},{"$f":"'Nastavení příloh'!AO28","v":0},{"$f":"'Nastavení příloh'!AP28","v":0},{"$f":"'Nastavení příloh'!AQ28","v":2},{"$f":"'Nastavení příloh'!AR28","v":7},{"$f":"'Nastavení příloh'!AS28","v":12},{"$f":"'Nastavení příloh'!AT28","v":17},{"$f":"'Nastavení příloh'!AU28","v":12},{"$f":"'Nastavení příloh'!AV28","v":7},null,1700,"-",1799,{"$f":"'Nastavení příloh'!BB28","v":0},{"$f":"'Nastavení příloh'!BC28","v":0},{"$f":"'Nastavení příloh'!BD28","v":0},{"$f":"'Nastavení příloh'!BE28","v":0},{"$f":"'Nastavení příloh'!BF28","v":0},{"$f":"'Nastavení příloh'!BG28","v":0},{"$f":"'Nastavení příloh'!BH28","v":0},{"$f":"'Nastavení příloh'!BI28","v":0},{"$f":"'Nastavení příloh'!BJ28","v":0},{"$f":"'Nastavení příloh'!BK28","v":0},{"$f":"'Nastavení příloh'!BL28","v":0},{"$f":"'Nastavení příloh'!BM28","v":0},{"$f":"'Nastavení příloh'!BN28","v":17},{"$f":"'Nastavení příloh'!BO28","v":19},{"$f":"'Nastavení příloh'!BP28","v":17},{"$f":"'Nastavení příloh'!BQ28","v":0},{"$f":"'Nastavení příloh'!BR28","v":0},{"$f":"'Nastavení příloh'!BS28","v":0},{"$f":"'Nastavení příloh'!BT28","v":0},null,1700,"-",1799,{"$f":"'Nastavení příloh'!BZ28","v":0},{"$f":"'Nastavení příloh'!CA28","v":0},{"$f":"'Nastavení příloh'!CB28","v":0},{"$f":"'Nastavení příloh'!CC28","v":0},{"$f":"'Nastavení příloh'!CD28","v":0},{"$f":"'Nastavení příloh'!CE28","v":5},{"$f":"'Nastavení příloh'!CF28","v":11},{"$f":"'Nastavení příloh'!CG28","v":16},{"$f":"'Nastavení příloh'!CH28","v":22},{"$f":"'Nastavení příloh'!CI28","v":25},{"$f":"'Nastavení příloh'!CJ28","v":25},{"$f":"'Nastavení příloh'!CK28","v":25},{"$f":"'Nastavení příloh'!CL28","v":42},{"$f":"'Nastavení příloh'!CM28","v":46},{"$f":"'Nastavení příloh'!CN28","v":49},{"$f":"'Nastavení příloh'!CO28","v":37},{"$f":"'Nastavení příloh'!CP28","v":42},{"$f":"'Nastavení příloh'!CQ28","v":37},{"$f":"'Nastavení příloh'!CR28","v":32}]
[null,1800,"-",1899,{"$f":"'Nastavení příloh'!F29","v":0},{"$f":"'Nastavení příloh'!G29","v":2},{"$f":"'Nastavení příloh'!H29","v":5},{"$f":"'Nastavení příloh'!I29","v":8},{"$f":"'Nastavení příloh'!J29","v":12},{"$f":"'Nastavení příloh'!K29","v":15},{"$f":"'Nastavení příloh'!L29","v":18},{"$f":"'Nastavení příloh'!M29","v":21},{"$f":"'Nastavení příloh'!N29","v":25},{"$f":"'Nastavení příloh'!O29","v":25},{"$f":"'Nastavení příloh'!P29","v":25},{"$f":"'Nastavení příloh'!Q29","v":25},{"$f":"'Nastavení příloh'!R29","v":25},{"$f":"'Nastavení příloh'!S29","v":25},{"$f":"'Nastavení příloh'!T29","v":25},{"$f":"'Nastavení příloh'!U29","v":25},{"$f":"'Nastavení příloh'!V29","v":25},{"$f":"'Nastavení příloh'!W29","v":25},{"$f":"'Nastavení příloh'!X29","v":25},null,1800,"-",1899,{"$f":"'Nastavení příloh'!AD29","v":-13},{"$f":"'Nastavení příloh'!AE29","v":-13},{"$f":"'Nastavení příloh'!AF29","v":-13},{"$f":"'Nastavení příloh'!AG29","v":-13},{"$f":"'Nastavení příloh'!AH29","v":-13},{"$f":"'Nastavení příloh'!AI29","v":-11},{"$f":"'Nastavení příloh'!AJ29","v":-8},{"$f":"'Nastavení příloh'!AK29","v":-6},{"$f":"'Nastavení příloh'!AL29","v":-3},{"$f":"'Nastavení příloh'!AM29","v":0},{"$f":"'Nastavení příloh'!AN29","v":0},{"$f":"'Nastavení příloh'!AO29","v":0},{"$f":"'Nastavení příloh'!AP29","v":0},{"$f":"'Nastavení příloh'!AQ29","v":0},{"$f":"'Nastavení příloh'!AR29","v":5},{"$f":"'Nastavení příloh'!AS29","v":11},{"$f":"'Nastavení příloh'!AT29","v":16},{"$f":"'Nastavení příloh'!AU29","v":11},{"$f":"'Nastavení příloh'!AV29","v":5},null,1800,"-",1899,{"$f":"'Nastavení příloh'!BB29","v":0},{"$f":"'Nastavení příloh'!BC29","v":0},{"$f":"'Nastavení příloh'!BD29","v":0},{"$f":"'Nastavení příloh'!BE29","v":0},{"$f":"'Nastavení příloh'!BF29","v":0},{"$f":"'Nastavení příloh'!BG29","v":0},{"$f":"'Nastavení příloh'!BH29","v":0},{"$f":"'Nastavení příloh'!BI29","v":0},{"$f":"'Nastavení příloh'!BJ29","v":0},{"$f":"'Nastavení příloh'!BK29","v":0},{"$f":"'Nastavení příloh'!BL29","v":0},{"$f":"'Nastavení příloh'!BM29","v":0},{"$f":"'Nastavení příloh'!BN29","v":0},{"$f":"'Nastavení příloh'!BO29","v":0},{"$f":"'Nastavení příloh'!BP29","v":0},{"$f":"'Nastavení příloh'!BQ29","v":0},{"$f":"'Nastavení příloh'!BR29","v":0},{"$f":"'Nastavení příloh'!BS29","v":0},{"$f":"'Nastavení příloh'!BT29","v":0},null,1800,"-",1899,{"$f":"'Nastavení příloh'!BZ29","v":0},{"$f":"'Nastavení příloh'!CA29","v":0},{"$f":"'Nastavení příloh'!CB29","v":0},{"$f":"'Nastavení příloh'!CC29","v":0},{"$f":"'Nastavení příloh'!CD29","v":0},{"$f":"'Nastavení příloh'!CE29","v":4},{"$f":"'Nastavení příloh'!CF29","v":10},{"$f":"'Nastavení příloh'!CG29","v":15},{"$f":"'Nastavení příloh'!CH29","v":22},{"$f":"'Nastavení příloh'!CI29","v":25},{"$f":"'Nastavení příloh'!CJ29","v":25},{"$f":"'Nastavení příloh'!CK29","v":25},{"$f":"'Nastavení příloh'!CL29","v":25},{"$f":"'Nastavení příloh'!CM29","v":25},{"$f":"'Nastavení příloh'!CN29","v":30},{"$f":"'Nastavení příloh'!CO29","v":36},{"$f":"'Nastavení příloh'!CP29","v":41},{"$f":"'Nastavení příloh'!CQ29","v":36},{"$f":"'Nastavení příloh'!CR29","v":30}]
[null,1900,"-",1999,{"$f":"'Nastavení příloh'!F30","v":0},{"$f":"'Nastavení příloh'!G30","v":2},{"$f":"'Nastavení příloh'!H30","v":5},{"$f":"'Nastavení příloh'!I30","v":9},{"$f":"'Nastavení příloh'!J30","v":12},{"$f":"'Nastavení příloh'!K30","v":16},{"$f":"'Nastavení příloh'!L30","v":19},{"$f":"'Nastavení příloh'!M30","v":23},{"$f":"'Nastavení příloh'!N30","v":25},{"$f":"'Nastavení příloh'!O30","v":25},{"$f":"'Nastavení příloh'!P30","v":25},{"$f":"'Nastavení příloh'!Q30","v":25},{"$f":"'Nastavení příloh'!R30","v":25},{"$f":"'Nastavení příloh'!S30","v":25},{"$f":"'Nastavení příloh'!T30","v":25},{"$f":"'Nastavení příloh'!U30","v":25},{"$f":"'Nastavení příloh'!V30","v":25},{"$f":"'Nastavení příloh'!W30","v":25},{"$f":"'Nastavení příloh'!X30","v":25},null,1900,"-",1999,{"$f":"'Nastavení příloh'!AD30","v":-13},{"$f":"'Nastavení příloh'!AE30","v":-13},{"$f":"'Nastavení příloh'!AF30","v":-13},{"$f":"'Nastavení příloh'!AG30","v":-13},{"$f":"'Nastavení příloh'!AH30","v":-13},{"$f":"'Nastavení příloh'!AI30","v":-13},{"$f":"'Nastavení příloh'!AJ30","v":-10},{"$f":"'Nastavení příloh'!AK30","v":-8},{"$f":"'Nastavení příloh'!AL30","v":-5},{"$f":"'Nastavení příloh'!AM30","v":-2},{"$f":"'Nastavení příloh'!AN30","v":0},{"$f":"'Nastavení příloh'!AO30","v":0},{"$f":"'Nastavení příloh'!AP30","v":0},{"$f":"'Nastavení příloh'!AQ30","v":0},{"$f":"'Nastavení příloh'!AR30","v":4},{"$f":"'Nastavení příloh'!AS30","v":9},{"$f":"'Nastavení příloh'!AT30","v":15},{"$f":"'Nastavení příloh'!AU30","v":9},{"$f":"'Nastavení příloh'!AV30","v":4},null,1900,"-",1999,{"$f":"'Nastavení příloh'!BB30","v":0},{"$f":"'Nastavení příloh'!BC30","v":0},{"$f":"'Nastavení příloh'!BD30","v":0},{"$f":"'Nastavení příloh'!BE30","v":0},{"$f":"'Nastavení příloh'!BF30","v":0},{"$f":"'Nastavení příloh'!BG30","v":0},{"$f":"'Nastavení příloh'!BH30","v":0},{"$f":"'Nastavení příloh'!BI30","v":0},{"$f":"'Nastavení příloh'!BJ30","v":0},{"$f":"'Nastavení příloh'!BK30","v":0},{"$f":"'Nastavení příloh'!BL30","v":0},{"$f":"'Nastavení příloh'!BM30","v":0},{"$f":"'Nastavení příloh'!BN30","v":0},{"$f":"'Nastavení příloh'!BO30","v":0},{"$f":"'Nastavení příloh'!BP30","v":0},{"$f":"'Nastavení příloh'!BQ30","v":0},{"$f":"'Nastavení příloh'!BR30","v":0},{"$f":"'Nastavení příloh'!BS30","v":0},{"$f":"'Nastavení příloh'!BT30","v":0},null,1900,"-",1999,{"$f":"'Nastavení příloh'!BZ30","v":0},{"$f":"'Nastavení příloh'!CA30","v":0},{"$f":"'Nastavení příloh'!CB30","v":0},{"$f":"'Nastavení příloh'!CC30","v":0},{"$f":"'Nastavení příloh'!CD30","v":0},{"$f":"'Nastavení příloh'!CE30","v":3},{"$f":"'Nastavení příloh'!CF30","v":9},{"$f":"'Nastavení příloh'!CG30","v":15},{"$f":"'Nastavení příloh'!CH30","v":20},{"$f":"'Nastavení příloh'!CI30","v":23},{"$f":"'Nastavení příloh'!CJ30","v":25},{"$f":"'Nastavení příloh'!CK30","v":25},{"$f":"'Nastavení příloh'!CL30","v":25},{"$f":"'Nastavení příloh'!CM30","v":25},{"$f":"'Nastavení příloh'!CN30","v":29},{"$f":"'Nastavení příloh'!CO30","v":34},{"$f":"'Nastavení příloh'!CP30","v":40},{"$f":"'Nastavení příloh'!CQ30","v":34},{"$f":"'Nastavení příloh'!CR30","v":29}]
[null,2000,"-",2099,{"$f":"'Nastavení příloh'!F31","v":0},{"$f":"'Nastavení příloh'!G31","v":2},{"$f":"'Nastavení příloh'!H31","v":6},{"$f":"'Nastavení příloh'!I31","v":9},{"$f":"'Nastavení příloh'!J31","v":13},{"$f":"'Nastavení příloh'!K31","v":17},{"$f":"'Nastavení příloh'!L31","v":20},{"$f":"'Nastavení příloh'!M31","v":24},{"$f":"'Nastavení příloh'!N31","v":25},{"$f":"'Nastavení příloh'!O31","v":25},{"$f":"'Nastavení příloh'!P31","v":25},{"$f":"'Nastavení příloh'!Q31","v":25},{"$f":"'Nastavení příloh'!R31","v":25},{"$f":"'Nastavení příloh'!S31","v":25},{"$f":"'Nastavení příloh'!T31","v":25},{"$f":"'Nastavení příloh'!U31","v":25},{"$f":"'Nastavení příloh'!V31","v":25},{"$f":"'Nastavení příloh'!W31","v":25},{"$f":"'Nastavení příloh'!X31","v":25},null,2000,"-",2099,{"$f":"'Nastavení příloh'!AD31","v":-13},{"$f":"'Nastavení příloh'!AE31","v":-13},{"$f":"'Nastavení příloh'!AF31","v":-13},{"$f":"'Nastavení příloh'!AG31","v":-13},{"$f":"'Nastavení příloh'!AH31","v":-13},{"$f":"'Nastavení příloh'!AI31","v":-13},{"$f":"'Nastavení příloh'!AJ31","v":-12},{"$f":"'Nastavení příloh'!AK31","v":-9},{"$f":"'Nastavení příloh'!AL31","v":-7},{"$f":"'Nastavení příloh'!AM31","v":-4},{"$f":"'Nastavení příloh'!AN31","v":-1},{"$f":"'Nastavení příloh'!AO31","v":0},{"$f":"'Nastavení příloh'!AP31","v":0},{"$f":"'Nastavení příloh'!AQ31","v":0},{"$f":"'Nastavení příloh'!AR31","v":2},{"$f":"'Nastavení příloh'!AS31","v":8},{"$f":"'Nastavení příloh'!AT31","v":13},{"$f":"'Nastavení příloh'!AU31","v":8},{"$f":"'Nastavení příloh'!AV31","v":2},null,2000,"-",2099,{"$f":"'Nastavení příloh'!BB31","v":0},{"$f":"'Nastavení příloh'!BC31","v":0},{"$f":"'Nastavení příloh'!BD31","v":0},{"$f":"'Nastavení příloh'!BE31","v":0},{"$f":"'Nastavení příloh'!BF31","v":0},{"$f":"'Nastavení příloh'!BG31","v":0},{"$f":"'Nastavení příloh'!BH31","v":0},{"$f":"'Nastavení příloh'!BI31","v":0},{"$f":"'Nastavení příloh'!BJ31","v":0},{"$f":"'Nastavení příloh'!BK31","v":0},{"$f":"'Nastavení příloh'!BL31","v":0},{"$f":"'Nastavení příloh'!BM31","v":0},{"$f":"'Nastavení příloh'!BN31","v":0},{"$f":"'Nastavení příloh'!BO31","v":0},{"$f":"'Nastavení příloh'!BP31","v":0},{"$f":"'Nastavení příloh'!BQ31","v":0},{"$f":"'Nastavení příloh'!BR31","v":0},{"$f":"'Nastavení příloh'!BS31","v":0},{"$f":"'Nastavení příloh'!BT31","v":0},null,2000,"-",2099,{"$f":"'Nastavení příloh'!BZ31","v":0},{"$f":"'Nastavení příloh'!CA31","v":0},{"$f":"'Nastavení příloh'!CB31","v":0},{"$f":"'Nastavení příloh'!CC31","v":0},{"$f":"'Nastavení příloh'!CD31","v":0},{"$f":"'Nastavení příloh'!CE31","v":4},{"$f":"'Nastavení příloh'!CF31","v":8},{"$f":"'Nastavení příloh'!CG31","v":15},{"$f":"'Nastavení příloh'!CH31","v":18},{"$f":"'Nastavení příloh'!CI31","v":21},{"$f":"'Nastavení příloh'!CJ31","v":24},{"$f":"'Nastavení příloh'!CK31","v":25},{"$f":"'Nastavení příloh'!CL31","v":25},{"$f":"'Nastavení příloh'!CM31","v":25},{"$f":"'Nastavení příloh'!CN31","v":27},{"$f":"'Nastavení příloh'!CO31","v":33},{"$f":"'Nastavení příloh'!CP31","v":38},{"$f":"'Nastavení příloh'!CQ31","v":33},{"$f":"'Nastavení příloh'!CR31","v":27}]
[null,2100,"-",2199,{"$f":"'Nastavení příloh'!F32","v":0},{"$f":"'Nastavení příloh'!G32","v":2},{"$f":"'Nastavení příloh'!H32","v":6},{"$f":"'Nastavení příloh'!I32","v":10},{"$f":"'Nastavení příloh'!J32","v":14},{"$f":"'Nastavení příloh'!K32","v":17},{"$f":"'Nastavení příloh'!L32","v":21},{"$f":"'Nastavení příloh'!M32","v":25},{"$f":"'Nastavení příloh'!N32","v":25},{"$f":"'Nastavení příloh'!O32","v":25},{"$f":"'Nastavení příloh'!P32","v":25},{"$f":"'Nastavení příloh'!Q32","v":25},{"$f":"'Nastavení příloh'!R32","v":25},{"$f":"'Nastavení příloh'!S32","v":25},{"$f":"'Nastavení příloh'!T32","v":25},{"$f":"'Nastavení příloh'!U32","v":25},{"$f":"'Nastavení příloh'!V32","v":25},{"$f":"'Nastavení příloh'!W32","v":25},{"$f":"'Nastavení příloh'!X32","v":25},null,2100,"-",2199,{"$f":"'Nastavení příloh'!AD32","v":-13},{"$f":"'Nastavení příloh'!AE32","v":-13},{"$f":"'Nastavení příloh'!AF32","v":-13},{"$f":"'Nastavení příloh'!AG32","v":-13},{"$f":"'Nastavení příloh'!AH32","v":-13},{"$f":"'Nastavení příloh'!AI32","v":-13},{"$f":"'Nastavení příloh'!AJ32","v":-13},{"$f":"'Nastavení příloh'!AK32","v":-11},{"$f":"'Nastavení příloh'!AL32","v":-8},{"$f":"'Nastavení příloh'!AM32","v":-5},{"$f":"'Nastavení příloh'!AN32","v":-2},{"$f":"'Nastavení příloh'!AO32","v":0},{"$f":"'Nastavení příloh'!AP32","v":0},{"$f":"'Nastavení příloh'!AQ32","v":0},{"$f":"'Nastavení příloh'!AR32","v":0},{"$f":"'Nastavení příloh'!AS32","v":6},{"$f":"'Nastavení příloh'!AT32","v":12},{"$f":"'Nastavení příloh'!AU32","v":6},{"$f":"'Nastavení příloh'!AV32","v":0},null,2100,"-",2199,{"$f":"'Nastavení příloh'!BB32","v":0},{"$f":"'Nastavení příloh'!BC32","v":0},{"$f":"'Nastavení příloh'!BD32","v":0},{"$f":"'Nastavení příloh'!BE32","v":0},{"$f":"'Nastavení příloh'!BF32","v":0},{"$f":"'Nastavení příloh'!BG32","v":0},{"$f":"'Nastavení příloh'!BH32","v":0},{"$f":"'Nastavení příloh'!BI32","v":0},{"$f":"'Nastavení příloh'!BJ32","v":0},{"$f":"'Nastavení příloh'!BK32","v":0},{"$f":"'Nastavení příloh'!BL32","v":0},{"$f":"'Nastavení příloh'!BM32","v":0},{"$f":"'Nastavení příloh'!BN32","v":0},{"$f":"'Nastavení příloh'!BO32","v":0},{"$f":"'Nastavení příloh'!BP32","v":0},{"$f":"'Nastavení příloh'!BQ32","v":0},{"$f":"'Nastavení příloh'!BR32","v":0},{"$f":"'Nastavení příloh'!BS32","v":0},{"$f":"'Nastavení příloh'!BT32","v":0},null,2100,"-",2199,{"$f":"'Nastavení příloh'!BZ32","v":0},{"$f":"'Nastavení příloh'!CA32","v":0},{"$f":"'Nastavení příloh'!CB32","v":0},{"$f":"'Nastavení příloh'!CC32","v":0},{"$f":"'Nastavení příloh'!CD32","v":1},{"$f":"'Nastavení příloh'!CE32","v":4},{"$f":"'Nastavení příloh'!CF32","v":8},{"$f":"'Nastavení příloh'!CG32","v":14},{"$f":"'Nastavení příloh'!CH32","v":17},{"$f":"'Nastavení příloh'!CI32","v":20},{"$f":"'Nastavení příloh'!CJ32","v":23},{"$f":"'Nastavení příloh'!CK32","v":25},{"$f":"'Nastavení příloh'!CL32","v":25},{"$f":"'Nastavení příloh'!CM32","v":25},{"$f":"'Nastavení příloh'!CN32","v":25},{"$f":"'Nastavení příloh'!CO32","v":31},{"$f":"'Nastavení příloh'!CP32","v":37},{"$f":"'Nastavení příloh'!CQ32","v":31},{"$f":"'Nastavení příloh'!CR32","v":25}]
[null,2200,"-",2299,{"$f":"'Nastavení příloh'!F33","v":0},{"$f":"'Nastavení příloh'!G33","v":2},{"$f":"'Nastavení příloh'!H33","v":6},{"$f":"'Nastavení příloh'!I33","v":10},{"$f":"'Nastavení příloh'!J33","v":14},{"$f":"'Nastavení příloh'!K33","v":18},{"$f":"'Nastavení příloh'!L33","v":22},{"$f":"'Nastavení příloh'!M33","v":25},{"$f":"'Nastavení příloh'!N33","v":25},{"$f":"'Nastavení příloh'!O33","v":25},{"$f":"'Nastavení příloh'!P33","v":25},{"$f":"'Nastavení příloh'!Q33","v":25},{"$f":"'Nastavení příloh'!R33","v":25},{"$f":"'Nastavení příloh'!S33","v":25},{"$f":"'Nastavení příloh'!T33","v":25},{"$f":"'Nastavení příloh'!U33","v":25},{"$f":"'Nastavení příloh'!V33","v":25},{"$f":"'Nastavení příloh'!W33","v":25},{"$f":"'Nastavení příloh'!X33","v":25},null,2200,"-",2299,{"$f":"'Nastavení příloh'!AD33","v":-13},{"$f":"'Nastavení příloh'!AE33","v":-13},{"$f":"'Nastavení příloh'!AF33","v":-13},{"$f":"'Nastavení příloh'!AG33","v":-13},{"$f":"'Nastavení příloh'!AH33","v":-13},{"$f":"'Nastavení příloh'!AI33","v":-13},{"$f":"'Nastavení příloh'!AJ33","v":-13},{"$f":"'Nastavení příloh'!AK33","v":-13},{"$f":"'Nastavení příloh'!AL33","v":-10},{"$f":"'Nastavení příloh'!AM33","v":-7},{"$f":"'Nastavení příloh'!AN33","v":-4},{"$f":"'Nastavení příloh'!AO33","v":0},{"$f":"'Nastavení příloh'!AP33","v":0},{"$f":"'Nastavení příloh'!AQ33","v":0},{"$f":"'Nastavení příloh'!AR33","v":0},{"$f":"'Nastavení příloh'!AS33","v":5},{"$f":"'Nastavení příloh'!AT33","v":11},{"$f":"'Nastavení příloh'!AU33","v":5},{"$f":"'Nastavení příloh'!AV33","v":0},null,2200,"-",2299,{"$f":"'Nastavení příloh'!BB33","v":0},{"$f":"'Nastavení příloh'!BC33","v":0},{"$f":"'Nastavení příloh'!BD33","v":0},{"$f":"'Nastavení příloh'!BE33","v":0},{"$f":"'Nastavení příloh'!BF33","v":0},{"$f":"'Nastavení příloh'!BG33","v":0},{"$f":"'Nastavení příloh'!BH33","v":0},{"$f":"'Nastavení příloh'!BI33","v":0},{"$f":"'Nastavení příloh'!BJ33","v":0},{"$f":"'Nastavení příloh'!BK33","v":0},{"$f":"'Nastavení příloh'!BL33","v":0},{"$f":"'Nastavení příloh'!BM33","v":0},{"$f":"'Nastavení příloh'!BN33","v":0},{"$f":"'Nastavení příloh'!BO33","v":0},{"$f":"'Nastavení příloh'!BP33","v":0},{"$f":"'Nastavení příloh'!BQ33","v":0},{"$f":"'Nastavení příloh'!BR33","v":0},{"$f":"'Nastavení příloh'!BS33","v":0},{"$f":"'Nastavení příloh'!BT33","v":0},null,2200,"-",2299,{"$f":"'Nastavení příloh'!BZ33","v":0},{"$f":"'Nastavení příloh'!CA33","v":0},{"$f":"'Nastavení příloh'!CB33","v":0},{"$f":"'Nastavení příloh'!CC33","v":0},{"$f":"'Nastavení příloh'!CD33","v":1},{"$f":"'Nastavení příloh'!CE33","v":5},{"$f":"'Nastavení příloh'!CF33","v":9},{"$f":"'Nastavení příloh'!CG33","v":12},{"$f":"'Nastavení příloh'!CH33","v":15},{"$f":"'Nastavení příloh'!CI33","v":18},{"$f":"'Nastavení příloh'!CJ33","v":21},{"$f":"'Nastavení příloh'!CK33","v":25},{"$f":"'Nastavení příloh'!CL33","v":25},{"$f":"'Nastavení příloh'!CM33","v":25},{"$f":"'Nastavení příloh'!CN33","v":25},{"$f":"'Nastavení příloh'!CO33","v":30},{"$f":"'Nastavení příloh'!CP33","v":36},{"$f":"'Nastavení příloh'!CQ33","v":30},{"$f":"'Nastavení příloh'!CR33","v":25}]
[null,2300,"-",2399,{"$f":"'Nastavení příloh'!F34","v":0},{"$f":"'Nastavení příloh'!G34","v":2},{"$f":"'Nastavení příloh'!H34","v":7},{"$f":"'Nastavení příloh'!I34","v":11},{"$f":"'Nastavení příloh'!J34","v":15},{"$f":"'Nastavení příloh'!K34","v":19},{"$f":"'Nastavení příloh'!L34","v":23},{"$f":"'Nastavení příloh'!M34","v":25},{"$f":"'Nastavení příloh'!N34","v":25},{"$f":"'Nastavení příloh'!O34","v":25},{"$f":"'Nastavení příloh'!P34","v":25},{"$f":"'Nastavení příloh'!Q34","v":25},{"$f":"'Nastavení příloh'!R34","v":25},{"$f":"'Nastavení příloh'!S34","v":25},{"$f":"'Nastavení příloh'!T34","v":25},{"$f":"'Nastavení příloh'!U34","v":25},{"$f":"'Nastavení příloh'!V34","v":25},{"$f":"'Nastavení příloh'!W34","v":25},{"$f":"'Nastavení příloh'!X34","v":25},null,2300,"-",2399,{"$f":"'Nastavení příloh'!AD34","v":-13},{"$f":"'Nastavení příloh'!AE34","v":-13},{"$f":"'Nastavení příloh'!AF34","v":-13},{"$f":"'Nastavení příloh'!AG34","v":-13},{"$f":"'Nastavení příloh'!AH34","v":-13},{"$f":"'Nastavení příloh'!AI34","v":-13},{"$f":"'Nastavení příloh'!AJ34","v":-13},{"$f":"'Nastavení příloh'!AK34","v":-13},{"$f":"'Nastavení příloh'!AL34","v":-12},{"$f":"'Nastavení příloh'!AM34","v":-8},{"$f":"'Nastavení příloh'!AN34","v":-5},{"$f":"'Nastavení příloh'!AO34","v":-2},{"$f":"'Nastavení příloh'!AP34","v":0},{"$f":"'Nastavení příloh'!AQ34","v":0},{"$f":"'Nastavení příloh'!AR34","v":0},{"$f":"'Nastavení příloh'!AS34","v":3},{"$f":"'Nastavení příloh'!AT34","v":10},{"$f":"'Nastavení příloh'!AU34","v":3},{"$f":"'Nastavení příloh'!AV34","v":0},null,2300,"-",2399,{"$f":"'Nastavení příloh'!BB34","v":0},{"$f":"'Nastavení příloh'!BC34","v":0},{"$f":"'Nastavení příloh'!BD34","v":0},{"$f":"'Nastavení příloh'!BE34","v":0},{"$f":"'Nastavení příloh'!BF34","v":0},{"$f":"'Nastavení příloh'!BG34","v":0},{"$f":"'Nastavení příloh'!BH34","v":0},{"$f":"'Nastavení příloh'!BI34","v":0},{"$f":"'Nastavení příloh'!BJ34","v":0},{"$f":"'Nastavení příloh'!BK34","v":0},{"$f":"'Nastavení příloh'!BL34","v":0},{"$f":"'Nastavení příloh'!BM34","v":0},{"$f":"'Nastavení příloh'!BN34","v":0},{"$f":"'Nastavení příloh'!BO34","v":0},{"$f":"'Nastavení příloh'!BP34","v":0},{"$f":"'Nastavení příloh'!BQ34","v":0},{"$f":"'Nastavení příloh'!BR34","v":0},{"$f":"'Nastavení příloh'!BS34","v":0},{"$f":"'Nastavení příloh'!BT34","v":0},null,2300,"-",2399,{"$f":"'Nastavení příloh'!BZ34","v":0},{"$f":"'Nastavení příloh'!CA34","v":0},{"$f":"'Nastavení příloh'!CB34","v":0},{"$f":"'Nastavení příloh'!CC34","v":0},{"$f":"'Nastavení příloh'!CD34","v":2},{"$f":"'Nastavení příloh'!CE34","v":6},{"$f":"'Nastavení příloh'!CF34","v":10},{"$f":"'Nastavení příloh'!CG34","v":12},{"$f":"'Nastavení příloh'!CH34","v":13},{"$f":"'Nastavení příloh'!CI34","v":17},{"$f":"'Nastavení příloh'!CJ34","v":20},{"$f":"'Nastavení příloh'!CK34","v":23},{"$f":"'Nastavení příloh'!CL34","v":25},{"$f":"'Nastavení příloh'!CM34","v":25},{"$f":"'Nastavení příloh'!CN34","v":25},{"$f":"'Nastavení příloh'!CO34","v":28},{"$f":"'Nastavení příloh'!CP34","v":35},{"$f":"'Nastavení příloh'!CQ34","v":28},{"$f":"'Nastavení příloh'!CR34","v":25}]
[null,2400,"-",2499,{"$f":"'Nastavení příloh'!F35","v":0},{"$f":"'Nastavení příloh'!G35","v":3},{"$f":"'Nastavení příloh'!H35","v":7},{"$f":"'Nastavení příloh'!I35","v":11},{"$f":"'Nastavení příloh'!J35","v":15},{"$f":"'Nastavení příloh'!K35","v":20},{"$f":"'Nastavení příloh'!L35","v":24},{"$f":"'Nastavení příloh'!M35","v":25},{"$f":"'Nastavení příloh'!N35","v":25},{"$f":"'Nastavení příloh'!O35","v":25},{"$f":"'Nastavení příloh'!P35","v":25},{"$f":"'Nastavení příloh'!Q35","v":25},{"$f":"'Nastavení příloh'!R35","v":25},{"$f":"'Nastavení příloh'!S35","v":25},{"$f":"'Nastavení příloh'!T35","v":25},{"$f":"'Nastavení příloh'!U35","v":25},{"$f":"'Nastavení příloh'!V35","v":25},{"$f":"'Nastavení příloh'!W35","v":25},{"$f":"'Nastavení příloh'!X35","v":25},null,2400,"-",2499,{"$f":"'Nastavení příloh'!AD35","v":-13},{"$f":"'Nastavení příloh'!AE35","v":-13},{"$f":"'Nastavení příloh'!AF35","v":-13},{"$f":"'Nastavení příloh'!AG35","v":-13},{"$f":"'Nastavení příloh'!AH35","v":-13},{"$f":"'Nastavení příloh'!AI35","v":-13},{"$f":"'Nastavení příloh'!AJ35","v":-13},{"$f":"'Nastavení příloh'!AK35","v":-13},{"$f":"'Nastavení příloh'!AL35","v":-13},{"$f":"'Nastavení příloh'!AM35","v":-10},{"$f":"'Nastavení příloh'!AN35","v":-7},{"$f":"'Nastavení příloh'!AO35","v":-3},{"$f":"'Nastavení příloh'!AP35","v":0},{"$f":"'Nastavení příloh'!AQ35","v":0},{"$f":"'Nastavení příloh'!AR35","v":0},{"$f":"'Nastavení příloh'!AS35","v":2},{"$f":"'Nastavení příloh'!AT35","v":8},{"$f":"'Nastavení příloh'!AU35","v":2},{"$f":"'Nastavení příloh'!AV35","v":0},null,2400,"-",2499,{"$f":"'Nastavení příloh'!BB35","v":0},{"$f":"'Nastavení příloh'!BC35","v":0},{"$f":"'Nastavení příloh'!BD35","v":0},{"$f":"'Nastavení příloh'!BE35","v":0},{"$f":"'Nastavení příloh'!BF35","v":0},{"$f":"'Nastavení příloh'!BG35","v":0},{"$f":"'Nastavení příloh'!BH35","v":0},{"$f":"'Nastavení příloh'!BI35","v":0},{"$f":"'Nastavení příloh'!BJ35","v":0},{"$f":"'Nastavení příloh'!BK35","v":0},{"$f":"'Nastavení příloh'!BL35","v":0},{"$f":"'Nastavení příloh'!BM35","v":0},{"$f":"'Nastavení příloh'!BN35","v":0},{"$f":"'Nastavení příloh'!BO35","v":0},{"$f":"'Nastavení příloh'!BP35","v":0},{"$f":"'Nastavení příloh'!BQ35","v":0},{"$f":"'Nastavení příloh'!BR35","v":0},{"$f":"'Nastavení příloh'!BS35","v":0},{"$f":"'Nastavení příloh'!BT35","v":0},null,2400,"-",2499,{"$f":"'Nastavení příloh'!BZ35","v":0},{"$f":"'Nastavení příloh'!CA35","v":0},{"$f":"'Nastavení příloh'!CB35","v":0},{"$f":"'Nastavení příloh'!CC35","v":0},{"$f":"'Nastavení příloh'!CD35","v":2},{"$f":"'Nastavení příloh'!CE35","v":7},{"$f":"'Nastavení příloh'!CF35","v":11},{"$f":"'Nastavení příloh'!CG35","v":12},{"$f":"'Nastavení příloh'!CH35","v":12},{"$f":"'Nastavení příloh'!CI35","v":15},{"$f":"'Nastavení příloh'!CJ35","v":18},{"$f":"'Nastavení příloh'!CK35","v":22},{"$f":"'Nastavení příloh'!CL35","v":25},{"$f":"'Nastavení příloh'!CM35","v":25},{"$f":"'Nastavení příloh'!CN35","v":25},{"$f":"'Nastavení příloh'!CO35","v":27},{"$f":"'Nastavení příloh'!CP35","v":33},{"$f":"'Nastavení příloh'!CQ35","v":27},{"$f":"'Nastavení příloh'!CR35","v":25}]
[null,2500,"-",2599,{"$f":"'Nastavení příloh'!F36","v":0},{"$f":"'Nastavení příloh'!G36","v":3},{"$f":"'Nastavení příloh'!H36","v":7},{"$f":"'Nastavení příloh'!I36","v":12},{"$f":"'Nastavení příloh'!J36","v":16},{"$f":"'Nastavení příloh'!K36","v":21},{"$f":"'Nastavení příloh'!L36","v":25},{"$f":"'Nastavení příloh'!M36","v":25},{"$f":"'Nastavení příloh'!N36","v":25},{"$f":"'Nastavení příloh'!O36","v":25},{"$f":"'Nastavení příloh'!P36","v":25},{"$f":"'Nastavení příloh'!Q36","v":25},{"$f":"'Nastavení příloh'!R36","v":25},{"$f":"'Nastavení příloh'!S36","v":25},{"$f":"'Nastavení příloh'!T36","v":25},{"$f":"'Nastavení příloh'!U36","v":25},{"$f":"'Nastavení příloh'!V36","v":25},{"$f":"'Nastavení příloh'!W36","v":25},{"$f":"'Nastavení příloh'!X36","v":25},null,2500,"-",2599,{"$f":"'Nastavení příloh'!AD36","v":-13},{"$f":"'Nastavení příloh'!AE36","v":-13},{"$f":"'Nastavení příloh'!AF36","v":-13},{"$f":"'Nastavení příloh'!AG36","v":-13},{"$f":"'Nastavení příloh'!AH36","v":-13},{"$f":"'Nastavení příloh'!AI36","v":-13},{"$f":"'Nastavení příloh'!AJ36","v":-13},{"$f":"'Nastavení příloh'!AK36","v":-13},{"$f":"'Nastavení příloh'!AL36","v":-13},{"$f":"'Nastavení příloh'!AM36","v":-12},{"$f":"'Nastavení příloh'!AN36","v":-8},{"$f":"'Nastavení příloh'!AO36","v":-4},{"$f":"'Nastavení příloh'!AP36","v":-1},{"$f":"'Nastavení příloh'!AQ36","v":0},{"$f":"'Nastavení příloh'!AR36","v":0},{"$f":"'Nastavení příloh'!AS36","v":0},{"$f":"'Nastavení příloh'!AT36","v":7},{"$f":"'Nastavení příloh'!AU36","v":0},{"$f":"'Nastavení příloh'!AV36","v":0},null,2500,"-",2599,{"$f":"'Nastavení příloh'!BB36","v":0},{"$f":"'Nastavení příloh'!BC36","v":0},{"$f":"'Nastavení příloh'!BD36","v":0},{"$f":"'Nastavení příloh'!BE36","v":0},{"$f":"'Nastavení příloh'!BF36","v":0},{"$f":"'Nastavení příloh'!BG36","v":0},{"$f":"'Nastavení příloh'!BH36","v":0},{"$f":"'Nastavení příloh'!BI36","v":0},{"$f":"'Nastavení příloh'!BJ36","v":0},{"$f":"'Nastavení příloh'!BK36","v":0},{"$f":"'Nastavení příloh'!BL36","v":0},{"$f":"'Nastavení příloh'!BM36","v":0},{"$f":"'Nastavení příloh'!BN36","v":0},{"$f":"'Nastavení příloh'!BO36","v":0},{"$f":"'Nastavení příloh'!BP36","v":0},{"$f":"'Nastavení příloh'!BQ36","v":0},{"$f":"'Nastavení příloh'!BR36","v":0},{"$f":"'Nastavení příloh'!BS36","v":0},{"$f":"'Nastavení příloh'!BT36","v":0},null,2500,"-",2599,{"$f":"'Nastavení příloh'!BZ36","v":0},{"$f":"'Nastavení příloh'!CA36","v":0},{"$f":"'Nastavení příloh'!CB36","v":0},{"$f":"'Nastavení příloh'!CC36","v":0},{"$f":"'Nastavení příloh'!CD36","v":3},{"$f":"'Nastavení příloh'!CE36","v":8},{"$f":"'Nastavení příloh'!CF36","v":12},{"$f":"'Nastavení příloh'!CG36","v":12},{"$f":"'Nastavení příloh'!CH36","v":12},{"$f":"'Nastavení příloh'!CI36","v":13},{"$f":"'Nastavení příloh'!CJ36","v":17},{"$f":"'Nastavení příloh'!CK36","v":21},{"$f":"'Nastavení příloh'!CL36","v":24},{"$f":"'Nastavení příloh'!CM36","v":25},{"$f":"'Nastavení příloh'!CN36","v":25},{"$f":"'Nastavení příloh'!CO36","v":25},{"$f":"'Nastavení příloh'!CP36","v":32},{"$f":"'Nastavení příloh'!CQ36","v":25},{"$f":"'Nastavení příloh'!CR36","v":25}]
[null,2600,"-",2699,{"$f":"'Nastavení příloh'!F37","v":0},{"$f":"'Nastavení příloh'!G37","v":3},{"$f":"'Nastavení příloh'!H37","v":7},{"$f":"'Nastavení příloh'!I37","v":12},{"$f":"'Nastavení příloh'!J37","v":17},{"$f":"'Nastavení příloh'!K37","v":21},{"$f":"'Nastavení příloh'!L37","v":25},{"$f":"'Nastavení příloh'!M37","v":25},{"$f":"'Nastavení příloh'!N37","v":25},{"$f":"'Nastavení příloh'!O37","v":25},{"$f":"'Nastavení příloh'!P37","v":25},{"$f":"'Nastavení příloh'!Q37","v":25},{"$f":"'Nastavení příloh'!R37","v":25},{"$f":"'Nastavení příloh'!S37","v":25},{"$f":"'Nastavení příloh'!T37","v":25},{"$f":"'Nastavení příloh'!U37","v":25},{"$f":"'Nastavení příloh'!V37","v":25},{"$f":"'Nastavení příloh'!W37","v":25},{"$f":"'Nastavení příloh'!X37","v":25},null,2600,"-",2699,{"$f":"'Nastavení příloh'!AD37","v":-13},{"$f":"'Nastavení příloh'!AE37","v":-13},{"$f":"'Nastavení příloh'!AF37","v":-13},{"$f":"'Nastavení příloh'!AG37","v":-13},{"$f":"'Nastavení příloh'!AH37","v":-13},{"$f":"'Nastavení příloh'!AI37","v":-13},{"$f":"'Nastavení příloh'!AJ37","v":-13},{"$f":"'Nastavení příloh'!AK37","v":-13},{"$f":"'Nastavení příloh'!AL37","v":-13},{"$f":"'Nastavení příloh'!AM37","v":-13},{"$f":"'Nastavení příloh'!AN37","v":-10},{"$f":"'Nastavení příloh'!AO37","v":-6},{"$f":"'Nastavení příloh'!AP37","v":-2},{"$f":"'Nastavení příloh'!AQ37","v":0},{"$f":"'Nastavení příloh'!AR37","v":0},{"$f":"'Nastavení příloh'!AS37","v":0},{"$f":"'Nastavení příloh'!AT37","v":6},{"$f":"'Nastavení příloh'!AU37","v":0},{"$f":"'Nastavení příloh'!AV37","v":0},null,2600,"-",2699,{"$f":"'Nastavení příloh'!BB37","v":0},{"$f":"'Nastavení příloh'!BC37","v":0},{"$f":"'Nastavení příloh'!BD37","v":0},{"$f":"'Nastavení příloh'!BE37","v":0},{"$f":"'Nastavení příloh'!BF37","v":0},{"$f":"'Nastavení příloh'!BG37","v":0},{"$f":"'Nastavení příloh'!BH37","v":0},{"$f":"'Nastavení příloh'!BI37","v":0},{"$f":"'Nastavení příloh'!BJ37","v":0},{"$f":"'Nastavení příloh'!BK37","v":0},{"$f":"'Nastavení příloh'!BL37","v":0},{"$f":"'Nastavení příloh'!BM37","v":0},{"$f":"'Nastavení příloh'!BN37","v":0},{"$f":"'Nastavení příloh'!BO37","v":0},{"$f":"'Nastavení příloh'!BP37","v":0},{"$f":"'Nastavení příloh'!BQ37","v":0},{"$f":"'Nastavení příloh'!BR37","v":0},{"$f":"'Nastavení příloh'!BS37","v":0},{"$f":"'Nastavení příloh'!BT37","v":0},null,2600,"-",2699,{"$f":"'Nastavení příloh'!BZ37","v":0},{"$f":"'Nastavení příloh'!CA37","v":0},{"$f":"'Nastavení příloh'!CB37","v":0},{"$f":"'Nastavení příloh'!CC37","v":0},{"$f":"'Nastavení příloh'!CD37","v":4},{"$f":"'Nastavení příloh'!CE37","v":8},{"$f":"'Nastavení příloh'!CF37","v":12},{"$f":"'Nastavení příloh'!CG37","v":12},{"$f":"'Nastavení příloh'!CH37","v":12},{"$f":"'Nastavení příloh'!CI37","v":12},{"$f":"'Nastavení příloh'!CJ37","v":15},{"$f":"'Nastavení příloh'!CK37","v":19},{"$f":"'Nastavení příloh'!CL37","v":23},{"$f":"'Nastavení příloh'!CM37","v":25},{"$f":"'Nastavení příloh'!CN37","v":25},{"$f":"'Nastavení příloh'!CO37","v":25},{"$f":"'Nastavení příloh'!CP37","v":31},{"$f":"'Nastavení příloh'!CQ37","v":25},{"$f":"'Nastavení příloh'!CR37","v":25}]
[null,2700,"-",2799,{"$f":"'Nastavení příloh'!F38","v":0},{"$f":"'Nastavení příloh'!G38","v":3},{"$f":"'Nastavení příloh'!H38","v":8},{"$f":"'Nastavení příloh'!I38","v":13},{"$f":"'Nastavení příloh'!J38","v":17},{"$f":"'Nastavení příloh'!K38","v":22},{"$f":"'Nastavení příloh'!L38","v":25},{"$f":"'Nastavení příloh'!M38","v":25},{"$f":"'Nastavení příloh'!N38","v":25},{"$f":"'Nastavení příloh'!O38","v":25},{"$f":"'Nastavení příloh'!P38","v":25},{"$f":"'Nastavení příloh'!Q38","v":25},{"$f":"'Nastavení příloh'!R38","v":25},{"$f":"'Nastavení příloh'!S38","v":25},{"$f":"'Nastavení příloh'!T38","v":25},{"$f":"'Nastavení příloh'!U38","v":25},{"$f":"'Nastavení příloh'!V38","v":25},{"$f":"'Nastavení příloh'!W38","v":25},{"$f":"'Nastavení příloh'!X38","v":25},null,2700,"-",2799,{"$f":"'Nastavení příloh'!AD38","v":-13},{"$f":"'Nastavení příloh'!AE38","v":-13},{"$f":"'Nastavení příloh'!AF38","v":-13},{"$f":"'Nastavení příloh'!AG38","v":-13},{"$f":"'Nastavení příloh'!AH38","v":-13},{"$f":"'Nastavení příloh'!AI38","v":-13},{"$f":"'Nastavení příloh'!AJ38","v":-13},{"$f":"'Nastavení příloh'!AK38","v":-13},{"$f":"'Nastavení příloh'!AL38","v":-13},{"$f":"'Nastavení příloh'!AM38","v":-13},{"$f":"'Nastavení příloh'!AN38","v":-11},{"$f":"'Nastavení příloh'!AO38","v":-7},{"$f":"'Nastavení příloh'!AP38","v":-3},{"$f":"'Nastavení příloh'!AQ38","v":0},{"$f":"'Nastavení příloh'!AR38","v":0},{"$f":"'Nastavení příloh'!AS38","v":0},{"$f":"'Nastavení příloh'!AT38","v":5},{"$f":"'Nastavení příloh'!AU38","v":0},{"$f":"'Nastavení příloh'!AV38","v":0},null,2700,"-",2799,{"$f":"'Nastavení příloh'!BB38","v":0},{"$f":"'Nastavení příloh'!BC38","v":0},{"$f":"'Nastavení příloh'!BD38","v":0},{"$f":"'Nastavení příloh'!BE38","v":0},{"$f":"'Nastavení příloh'!BF38","v":0},{"$f":"'Nastavení příloh'!BG38","v":0},{"$f":"'Nastavení příloh'!BH38","v":0},{"$f":"'Nastavení příloh'!BI38","v":0},{"$f":"'Nastavení příloh'!BJ38","v":0},{"$f":"'Nastavení příloh'!BK38","v":0},{"$f":"'Nastavení příloh'!BL38","v":0},{"$f":"'Nastavení příloh'!BM38","v":0},{"$f":"'Nastavení příloh'!BN38","v":0},{"$f":"'Nastavení příloh'!BO38","v":0},{"$f":"'Nastavení příloh'!BP38","v":0},{"$f":"'Nastavení příloh'!BQ38","v":0},{"$f":"'Nastavení příloh'!BR38","v":0},{"$f":"'Nastavení příloh'!BS38","v":0},{"$f":"'Nastavení příloh'!BT38","v":0},null,2700,"-",2799,{"$f":"'Nastavení příloh'!BZ38","v":0},{"$f":"'Nastavení příloh'!CA38","v":0},{"$f":"'Nastavení příloh'!CB38","v":0},{"$f":"'Nastavení příloh'!CC38","v":0},{"$f":"'Nastavení příloh'!CD38","v":4},{"$f":"'Nastavení příloh'!CE38","v":9},{"$f":"'Nastavení příloh'!CF38","v":12},{"$f":"'Nastavení příloh'!CG38","v":12},{"$f":"'Nastavení příloh'!CH38","v":12},{"$f":"'Nastavení příloh'!CI38","v":12},{"$f":"'Nastavení příloh'!CJ38","v":14},{"$f":"'Nastavení příloh'!CK38","v":18},{"$f":"'Nastavení příloh'!CL38","v":22},{"$f":"'Nastavení příloh'!CM38","v":25},{"$f":"'Nastavení příloh'!CN38","v":25},{"$f":"'Nastavení příloh'!CO38","v":25},{"$f":"'Nastavení příloh'!CP38","v":30},{"$f":"'Nastavení příloh'!CQ38","v":25},{"$f":"'Nastavení příloh'!CR38","v":25}]
[null,2800,"-",2899,{"$f":"'Nastavení příloh'!F39","v":0},{"$f":"'Nastavení příloh'!G39","v":3},{"$f":"'Nastavení příloh'!H39","v":8},{"$f":"'Nastavení příloh'!I39","v":13},{"$f":"'Nastavení příloh'!J39","v":18},{"$f":"'Nastavení příloh'!K39","v":23},{"$f":"'Nastavení příloh'!L39","v":25},{"$f":"'Nastavení příloh'!M39","v":25},{"$f":"'Nastavení příloh'!N39","v":25},{"$f":"'Nastavení příloh'!O39","v":25},{"$f":"'Nastavení příloh'!P39","v":25},{"$f":"'Nastavení příloh'!Q39","v":25},{"$f":"'Nastavení příloh'!R39","v":25},{"$f":"'Nastavení příloh'!S39","v":25},{"$f":"'Nastavení příloh'!T39","v":25},{"$f":"'Nastavení příloh'!U39","v":25},{"$f":"'Nastavení příloh'!V39","v":25},{"$f":"'Nastavení příloh'!W39","v":25},{"$f":"'Nastavení příloh'!X39","v":25},null,2800,"-",2899,{"$f":"'Nastavení příloh'!AD39","v":-13},{"$f":"'Nastavení příloh'!AE39","v":-13},{"$f":"'Nastavení příloh'!AF39","v":-13},{"$f":"'Nastavení příloh'!AG39","v":-13},{"$f":"'Nastavení příloh'!AH39","v":-13},{"$f":"'Nastavení příloh'!AI39","v":-13},{"$f":"'Nastavení příloh'!AJ39","v":-13},{"$f":"'Nastavení příloh'!AK39","v":-13},{"$f":"'Nastavení příloh'!AL39","v":-13},{"$f":"'Nastavení příloh'!AM39","v":-13},{"$f":"'Nastavení příloh'!AN39","v":-12},{"$f":"'Nastavení příloh'!AO39","v":-8},{"$f":"'Nastavení příloh'!AP39","v":-4},{"$f":"'Nastavení příloh'!AQ39","v":0},{"$f":"'Nastavení příloh'!AR39","v":0},{"$f":"'Nastavení příloh'!AS39","v":0},{"$f":"'Nastavení příloh'!AT39","v":0},{"$f":"'Nastavení příloh'!AU39","v":0},{"$f":"'Nastavení příloh'!AV39","v":0},null,2800,"-",2899,{"$f":"'Nastavení příloh'!BB39","v":0},{"$f":"'Nastavení příloh'!BC39","v":0},{"$f":"'Nastavení příloh'!BD39","v":0},{"$f":"'Nastavení příloh'!BE39","v":0},{"$f":"'Nastavení příloh'!BF39","v":0},{"$f":"'Nastavení příloh'!BG39","v":0},{"$f":"'Nastavení příloh'!BH39","v":0},{"$f":"'Nastavení příloh'!BI39","v":0},{"$f":"'Nastavení příloh'!BJ39","v":0},{"$f":"'Nastavení příloh'!BK39","v":0},{"$f":"'Nastavení příloh'!BL39","v":0},{"$f":"'Nastavení příloh'!BM39","v":0},{"$f":"'Nastavení příloh'!BN39","v":0},{"$f":"'Nastavení příloh'!BO39","v":0},{"$f":"'Nastavení příloh'!BP39","v":0},{"$f":"'Nastavení příloh'!BQ39","v":0},{"$f":"'Nastavení příloh'!BR39","v":0},{"$f":"'Nastavení příloh'!BS39","v":0},{"$f":"'Nastavení příloh'!BT39","v":0},null,2800,"-",2899,{"$f":"'Nastavení příloh'!BZ39","v":0},{"$f":"'Nastavení příloh'!CA39","v":0},{"$f":"'Nastavení příloh'!CB39","v":0},{"$f":"'Nastavení příloh'!CC39","v":0},{"$f":"'Nastavení příloh'!CD39","v":5},{"$f":"'Nastavení příloh'!CE39","v":10},{"$f":"'Nastavení příloh'!CF39","v":12},{"$f":"'Nastavení příloh'!CG39","v":12},{"$f":"'Nastavení příloh'!CH39","v":12},{"$f":"'Nastavení příloh'!CI39","v":12},{"$f":"'Nastavení příloh'!CJ39","v":13},{"$f":"'Nastavení příloh'!CK39","v":17},{"$f":"'Nastavení příloh'!CL39","v":21},{"$f":"'Nastavení příloh'!CM39","v":25},{"$f":"'Nastavení příloh'!CN39","v":25},{"$f":"'Nastavení příloh'!CO39","v":25},{"$f":"'Nastavení příloh'!CP39","v":25},{"$f":"'Nastavení příloh'!CQ39","v":25},{"$f":"'Nastavení příloh'!CR39","v":25}]
[null,2900,"-",2999,{"$f":"'Nastavení příloh'!F40","v":0},{"$f":"'Nastavení příloh'!G40","v":3},{"$f":"'Nastavení příloh'!H40","v":8},{"$f":"'Nastavení příloh'!I40","v":13},{"$f":"'Nastavení příloh'!J40","v":19},{"$f":"'Nastavení příloh'!K40","v":24},{"$f":"'Nastavení příloh'!L40","v":25},{"$f":"'Nastavení příloh'!M40","v":25},{"$f":"'Nastavení příloh'!N40","v":25},{"$f":"'Nastavení příloh'!O40","v":25},{"$f":"'Nastavení příloh'!P40","v":25},{"$f":"'Nastavení příloh'!Q40","v":25},{"$f":"'Nastavení příloh'!R40","v":25},{"$f":"'Nastavení příloh'!S40","v":25},{"$f":"'Nastavení příloh'!T40","v":25},{"$f":"'Nastavení příloh'!U40","v":25},{"$f":"'Nastavení příloh'!V40","v":25},{"$f":"'Nastavení příloh'!W40","v":25},{"$f":"'Nastavení příloh'!X40","v":25},null,2900,"-",2999,{"$f":"'Nastavení příloh'!AD40","v":-13},{"$f":"'Nastavení příloh'!AE40","v":-13},{"$f":"'Nastavení příloh'!AF40","v":-13},{"$f":"'Nastavení příloh'!AG40","v":-13},{"$f":"'Nastavení příloh'!AH40","v":-13},{"$f":"'Nastavení příloh'!AI40","v":-13},{"$f":"'Nastavení příloh'!AJ40","v":-13},{"$f":"'Nastavení příloh'!AK40","v":-13},{"$f":"'Nastavení příloh'!AL40","v":-13},{"$f":"'Nastavení příloh'!AM40","v":-13},{"$f":"'Nastavení příloh'!AN40","v":-13},{"$f":"'Nastavení příloh'!AO40","v":-10},{"$f":"'Nastavení příloh'!AP40","v":-6},{"$f":"'Nastavení příloh'!AQ40","v":-1},{"$f":"'Nastavení příloh'!AR40","v":0},{"$f":"'Nastavení příloh'!AS40","v":0},{"$f":"'Nastavení příloh'!AT40","v":0},{"$f":"'Nastavení příloh'!AU40","v":0},{"$f":"'Nastavení příloh'!AV40","v":0},null,2900,"-",2999,{"$f":"'Nastavení příloh'!BB40","v":0},{"$f":"'Nastavení příloh'!BC40","v":0},{"$f":"'Nastavení příloh'!BD40","v":0},{"$f":"'Nastavení příloh'!BE40","v":0},{"$f":"'Nastavení příloh'!BF40","v":0},{"$f":"'Nastavení příloh'!BG40","v":0},{"$f":"'Nastavení příloh'!BH40","v":0},{"$f":"'Nastavení příloh'!BI40","v":0},{"$f":"'Nastavení příloh'!BJ40","v":0},{"$f":"'Nastavení příloh'!BK40","v":0},{"$f":"'Nastavení příloh'!BL40","v":0},{"$f":"'Nastavení příloh'!BM40","v":0},{"$f":"'Nastavení příloh'!BN40","v":0},{"$f":"'Nastavení příloh'!BO40","v":0},{"$f":"'Nastavení příloh'!BP40","v":0},{"$f":"'Nastavení příloh'!BQ40","v":0},{"$f":"'Nastavení příloh'!BR40","v":0},{"$f":"'Nastavení příloh'!BS40","v":0},{"$f":"'Nastavení příloh'!BT40","v":0},null,2900,"-",2999,{"$f":"'Nastavení příloh'!BZ40","v":0},{"$f":"'Nastavení příloh'!CA40","v":0},{"$f":"'Nastavení příloh'!CB40","v":0},{"$f":"'Nastavení příloh'!CC40","v":0},{"$f":"'Nastavení příloh'!CD40","v":6},{"$f":"'Nastavení příloh'!CE40","v":11},{"$f":"'Nastavení příloh'!CF40","v":12},{"$f":"'Nastavení příloh'!CG40","v":12},{"$f":"'Nastavení příloh'!CH40","v":12},{"$f":"'Nastavení příloh'!CI40","v":12},{"$f":"'Nastavení příloh'!CJ40","v":12},{"$f":"'Nastavení příloh'!CK40","v":15},{"$f":"'Nastavení příloh'!CL40","v":19},{"$f":"'Nastavení příloh'!CM40","v":24},{"$f":"'Nastavení příloh'!CN40","v":25},{"$f":"'Nastavení příloh'!CO40","v":25},{"$f":"'Nastavení příloh'!CP40","v":25},{"$f":"'Nastavení příloh'!CQ40","v":25},{"$f":"'Nastavení příloh'!CR40","v":25}]
[null,3000,"-",3099,{"$f":"'Nastavení příloh'!F41","v":0},{"$f":"'Nastavení příloh'!G41","v":3},{"$f":"'Nastavení příloh'!H41","v":9},{"$f":"'Nastavení příloh'!I41","v":14},{"$f":"'Nastavení příloh'!J41","v":19},{"$f":"'Nastavení příloh'!K41","v":25},{"$f":"'Nastavení příloh'!L41","v":25},{"$f":"'Nastavení příloh'!M41","v":25},{"$f":"'Nastavení příloh'!N41","v":25},{"$f":"'Nastavení příloh'!O41","v":25},{"$f":"'Nastavení příloh'!P41","v":25},{"$f":"'Nastavení příloh'!Q41","v":25},{"$f":"'Nastavení příloh'!R41","v":25},{"$f":"'Nastavení příloh'!S41","v":25},{"$f":"'Nastavení příloh'!T41","v":25},{"$f":"'Nastavení příloh'!U41","v":25},{"$f":"'Nastavení příloh'!V41","v":25},{"$f":"'Nastavení příloh'!W41","v":25},{"$f":"'Nastavení příloh'!X41","v":25},null,3000,"-",3099,{"$f":"'Nastavení příloh'!AD41","v":-13},{"$f":"'Nastavení příloh'!AE41","v":-13},{"$f":"'Nastavení příloh'!AF41","v":-13},{"$f":"'Nastavení příloh'!AG41","v":-13},{"$f":"'Nastavení příloh'!AH41","v":-13},{"$f":"'Nastavení příloh'!AI41","v":-13},{"$f":"'Nastavení příloh'!AJ41","v":-13},{"$f":"'Nastavení příloh'!AK41","v":-13},{"$f":"'Nastavení příloh'!AL41","v":-13},{"$f":"'Nastavení příloh'!AM41","v":-13},{"$f":"'Nastavení příloh'!AN41","v":-13},{"$f":"'Nastavení příloh'!AO41","v":-11},{"$f":"'Nastavení příloh'!AP41","v":-7},{"$f":"'Nastavení příloh'!AQ41","v":-2},{"$f":"'Nastavení příloh'!AR41","v":0},{"$f":"'Nastavení příloh'!AS41","v":0},{"$f":"'Nastavení příloh'!AT41","v":0},{"$f":"'Nastavení příloh'!AU41","v":0},{"$f":"'Nastavení příloh'!AV41","v":0},null,3000,"-",3099,{"$f":"'Nastavení příloh'!BB41","v":0},{"$f":"'Nastavení příloh'!BC41","v":0},{"$f":"'Nastavení příloh'!BD41","v":0},{"$f":"'Nastavení příloh'!BE41","v":0},{"$f":"'Nastavení příloh'!BF41","v":0},{"$f":"'Nastavení příloh'!BG41","v":0},{"$f":"'Nastavení příloh'!BH41","v":0},{"$f":"'Nastavení příloh'!BI41","v":0},{"$f":"'Nastavení příloh'!BJ41","v":0},{"$f":"'Nastavení příloh'!BK41","v":0},{"$f":"'Nastavení příloh'!BL41","v":0},{"$f":"'Nastavení příloh'!BM41","v":0},{"$f":"'Nastavení příloh'!BN41","v":0},{"$f":"'Nastavení příloh'!BO41","v":0},{"$f":"'Nastavení příloh'!BP41","v":0},{"$f":"'Nastavení příloh'!BQ41","v":0},{"$f":"'Nastavení příloh'!BR41","v":0},{"$f":"'Nastavení příloh'!BS41","v":0},{"$f":"'Nastavení příloh'!BT41","v":0},null,3000,"-",3099,{"$f":"'Nastavení příloh'!BZ41","v":0},{"$f":"'Nastavení příloh'!CA41","v":0},{"$f":"'Nastavení příloh'!CB41","v":0},{"$f":"'Nastavení příloh'!CC41","v":1},{"$f":"'Nastavení příloh'!CD41","v":6},{"$f":"'Nastavení příloh'!CE41","v":12},{"$f":"'Nastavení příloh'!CF41","v":12},{"$f":"'Nastavení příloh'!CG41","v":12},{"$f":"'Nastavení příloh'!CH41","v":12},{"$f":"'Nastavení příloh'!CI41","v":12},{"$f":"'Nastavení příloh'!CJ41","v":12},{"$f":"'Nastavení příloh'!CK41","v":14},{"$f":"'Nastavení příloh'!CL41","v":18},{"$f":"'Nastavení příloh'!CM41","v":23},{"$f":"'Nastavení příloh'!CN41","v":25},{"$f":"'Nastavení příloh'!CO41","v":25},{"$f":"'Nastavení příloh'!CP41","v":25},{"$f":"'Nastavení příloh'!CQ41","v":25},{"$f":"'Nastavení příloh'!CR41","v":25}]
[null,3100,"-",3199,{"$f":"'Nastavení příloh'!F42","v":0},{"$f":"'Nastavení příloh'!G42","v":3},{"$f":"'Nastavení příloh'!H42","v":9},{"$f":"'Nastavení příloh'!I42","v":14},{"$f":"'Nastavení příloh'!J42","v":20},{"$f":"'Nastavení příloh'!K42","v":25},{"$f":"'Nastavení příloh'!L42","v":25},{"$f":"'Nastavení příloh'!M42","v":25},{"$f":"'Nastavení příloh'!N42","v":25},{"$f":"'Nastavení příloh'!O42","v":25},{"$f":"'Nastavení příloh'!P42","v":25},{"$f":"'Nastavení příloh'!Q42","v":25},{"$f":"'Nastavení příloh'!R42","v":25},{"$f":"'Nastavení příloh'!S42","v":25},{"$f":"'Nastavení příloh'!T42","v":25},{"$f":"'Nastavení příloh'!U42","v":25},{"$f":"'Nastavení příloh'!V42","v":25},{"$f":"'Nastavení příloh'!W42","v":25},{"$f":"'Nastavení příloh'!X42","v":25},null,3100,"-",3199,{"$f":"'Nastavení příloh'!AD42","v":-13},{"$f":"'Nastavení příloh'!AE42","v":-13},{"$f":"'Nastavení příloh'!AF42","v":-13},{"$f":"'Nastavení příloh'!AG42","v":-13},{"$f":"'Nastavení příloh'!AH42","v":-13},{"$f":"'Nastavení příloh'!AI42","v":-13},{"$f":"'Nastavení příloh'!AJ42","v":-13},{"$f":"'Nastavení příloh'!AK42","v":-13},{"$f":"'Nastavení příloh'!AL42","v":-13},{"$f":"'Nastavení příloh'!AM42","v":-13},{"$f":"'Nastavení příloh'!AN42","v":-13},{"$f":"'Nastavení příloh'!AO42","v":-12},{"$f":"'Nastavení příloh'!AP42","v":-8},{"$f":"'Nastavení příloh'!AQ42","v":-4},{"$f":"'Nastavení příloh'!AR42","v":0},{"$f":"'Nastavení příloh'!AS42","v":0},{"$f":"'Nastavení příloh'!AT42","v":0},{"$f":"'Nastavení příloh'!AU42","v":0},{"$f":"'Nastavení příloh'!AV42","v":0},null,3100,"-",3199,{"$f":"'Nastavení příloh'!BB42","v":0},{"$f":"'Nastavení příloh'!BC42","v":0},{"$f":"'Nastavení příloh'!BD42","v":0},{"$f":"'Nastavení příloh'!BE42","v":0},{"$f":"'Nastavení příloh'!BF42","v":0},{"$f":"'Nastavení příloh'!BG42","v":0},{"$f":"'Nastavení příloh'!BH42","v":0},{"$f":"'Nastavení příloh'!BI42","v":0},{"$f":"'Nastavení příloh'!BJ42","v":0},{"$f":"'Nastavení příloh'!BK42","v":0},{"$f":"'Nastavení příloh'!BL42","v":0},{"$f":"'Nastavení příloh'!BM42","v":0},{"$f":"'Nastavení příloh'!BN42","v":0},{"$f":"'Nastavení příloh'!BO42","v":0},{"$f":"'Nastavení příloh'!BP42","v":0},{"$f":"'Nastavení příloh'!BQ42","v":0},{"$f":"'Nastavení příloh'!BR42","v":0},{"$f":"'Nastavení příloh'!BS42","v":0},{"$f":"'Nastavení příloh'!BT42","v":0},null,3100,"-",3199,{"$f":"'Nastavení příloh'!BZ42","v":0},{"$f":"'Nastavení příloh'!CA42","v":0},{"$f":"'Nastavení příloh'!CB42","v":0},{"$f":"'Nastavení příloh'!CC42","v":1},{"$f":"'Nastavení příloh'!CD42","v":7},{"$f":"'Nastavení příloh'!CE42","v":12},{"$f":"'Nastavení příloh'!CF42","v":12},{"$f":"'Nastavení příloh'!CG42","v":12},{"$f":"'Nastavení příloh'!CH42","v":12},{"$f":"'Nastavení příloh'!CI42","v":12},{"$f":"'Nastavení příloh'!CJ42","v":12},{"$f":"'Nastavení příloh'!CK42","v":13},{"$f":"'Nastavení příloh'!CL42","v":17},{"$f":"'Nastavení příloh'!CM42","v":21},{"$f":"'Nastavení příloh'!CN42","v":25},{"$f":"'Nastavení příloh'!CO42","v":25},{"$f":"'Nastavení příloh'!CP42","v":25},{"$f":"'Nastavení příloh'!CQ42","v":25},{"$f":"'Nastavení příloh'!CR42","v":25}]
[null,3200,"-",3299,{"$f":"'Nastavení příloh'!F43","v":0},{"$f":"'Nastavení příloh'!G43","v":3},{"$f":"'Nastavení příloh'!H43","v":9},{"$f":"'Nastavení příloh'!I43","v":15},{"$f":"'Nastavení příloh'!J43","v":20},{"$f":"'Nastavení příloh'!K43","v":25},{"$f":"'Nastavení příloh'!L43","v":25},{"$f":"'Nastavení příloh'!M43","v":25},{"$f":"'Nastavení příloh'!N43","v":25},{"$f":"'Nastavení příloh'!O43","v":25},{"$f":"'Nastavení příloh'!P43","v":25},{"$f":"'Nastavení příloh'!Q43","v":25},{"$f":"'Nastavení příloh'!R43","v":25},{"$f":"'Nastavení příloh'!S43","v":25},{"$f":"'Nastavení příloh'!T43","v":25},{"$f":"'Nastavení příloh'!U43","v":25},{"$f":"'Nastavení příloh'!V43","v":25},{"$f":"'Nastavení příloh'!W43","v":25},{"$f":"'Nastavení příloh'!X43","v":25},null,3200,"-",3299,{"$f":"'Nastavení příloh'!AD43","v":-13},{"$f":"'Nastavení příloh'!AE43","v":-13},{"$f":"'Nastavení příloh'!AF43","v":-13},{"$f":"'Nastavení příloh'!AG43","v":-13},{"$f":"'Nastavení příloh'!AH43","v":-13},{"$f":"'Nastavení příloh'!AI43","v":-13},{"$f":"'Nastavení příloh'!AJ43","v":-13},{"$f":"'Nastavení příloh'!AK43","v":-13},{"$f":"'Nastavení příloh'!AL43","v":-13},{"$f":"'Nastavení příloh'!AM43","v":-13},{"$f":"'Nastavení příloh'!AN43","v":-13},{"$f":"'Nastavení příloh'!AO43","v":-13},{"$f":"'Nastavení příloh'!AP43","v":-9},{"$f":"'Nastavení příloh'!AQ43","v":-5},{"$f":"'Nastavení příloh'!AR43","v":0},{"$f":"'Nastavení příloh'!AS43","v":0},{"$f":"'Nastavení příloh'!AT43","v":0},{"$f":"'Nastavení příloh'!AU43","v":0},{"$f":"'Nastavení příloh'!AV43","v":0},null,3200,"-",3299,{"$f":"'Nastavení příloh'!BB43","v":0},{"$f":"'Nastavení příloh'!BC43","v":0},{"$f":"'Nastavení příloh'!BD43","v":0},{"$f":"'Nastavení příloh'!BE43","v":0},{"$f":"'Nastavení příloh'!BF43","v":0},{"$f":"'Nastavení příloh'!BG43","v":0},{"$f":"'Nastavení příloh'!BH43","v":0},{"$f":"'Nastavení příloh'!BI43","v":0},{"$f":"'Nastavení příloh'!BJ43","v":0},{"$f":"'Nastavení příloh'!BK43","v":0},{"$f":"'Nastavení příloh'!BL43","v":0},{"$f":"'Nastavení příloh'!BM43","v":0},{"$f":"'Nastavení příloh'!BN43","v":0},{"$f":"'Nastavení příloh'!BO43","v":0},{"$f":"'Nastavení příloh'!BP43","v":0},{"$f":"'Nastavení příloh'!BQ43","v":0},{"$f":"'Nastavení příloh'!BR43","v":0},{"$f":"'Nastavení příloh'!BS43","v":0},{"$f":"'Nastavení příloh'!BT43","v":0},null,3200,"-",3299,{"$f":"'Nastavení příloh'!BZ43","v":0},{"$f":"'Nastavení příloh'!CA43","v":0},{"$f":"'Nastavení příloh'!CB43","v":0},{"$f":"'Nastavení příloh'!CC43","v":2},{"$f":"'Nastavení příloh'!CD43","v":7},{"$f":"'Nastavení příloh'!CE43","v":12},{"$f":"'Nastavení příloh'!CF43","v":12},{"$f":"'Nastavení příloh'!CG43","v":12},{"$f":"'Nastavení příloh'!CH43","v":12},{"$f":"'Nastavení příloh'!CI43","v":12},{"$f":"'Nastavení příloh'!CJ43","v":12},{"$f":"'Nastavení příloh'!CK43","v":12},{"$f":"'Nastavení příloh'!CL43","v":16},{"$f":"'Nastavení příloh'!CM43","v":20},{"$f":"'Nastavení příloh'!CN43","v":25},{"$f":"'Nastavení příloh'!CO43","v":25},{"$f":"'Nastavení příloh'!CP43","v":25},{"$f":"'Nastavení příloh'!CQ43","v":25},{"$f":"'Nastavení příloh'!CR43","v":25}]
[null,3300,"-",3399,{"$f":"'Nastavení příloh'!F44","v":0},{"$f":"'Nastavení příloh'!G44","v":4},{"$f":"'Nastavení příloh'!H44","v":9},{"$f":"'Nastavení příloh'!I44","v":15},{"$f":"'Nastavení příloh'!J44","v":21},{"$f":"'Nastavení příloh'!K44","v":25},{"$f":"'Nastavení příloh'!L44","v":25},{"$f":"'Nastavení příloh'!M44","v":25},{"$f":"'Nastavení příloh'!N44","v":25},{"$f":"'Nastavení příloh'!O44","v":25},{"$f":"'Nastavení příloh'!P44","v":25},{"$f":"'Nastavení příloh'!Q44","v":25},{"$f":"'Nastavení příloh'!R44","v":25},{"$f":"'Nastavení příloh'!S44","v":25},{"$f":"'Nastavení příloh'!T44","v":25},{"$f":"'Nastavení příloh'!U44","v":25},{"$f":"'Nastavení příloh'!V44","v":25},{"$f":"'Nastavení příloh'!W44","v":25},{"$f":"'Nastavení příloh'!X44","v":25},null,3300,"-",3399,{"$f":"'Nastavení příloh'!AD44","v":-13},{"$f":"'Nastavení příloh'!AE44","v":-13},{"$f":"'Nastavení příloh'!AF44","v":-13},{"$f":"'Nastavení příloh'!AG44","v":-13},{"$f":"'Nastavení příloh'!AH44","v":-13},{"$f":"'Nastavení příloh'!AI44","v":-13},{"$f":"'Nastavení příloh'!AJ44","v":-13},{"$f":"'Nastavení příloh'!AK44","v":-13},{"$f":"'Nastavení příloh'!AL44","v":-13},{"$f":"'Nastavení příloh'!AM44","v":-13},{"$f":"'Nastavení příloh'!AN44","v":-13},{"$f":"'Nastavení příloh'!AO44","v":-13},{"$f":"'Nastavení příloh'!AP44","v":-10},{"$f":"'Nastavení příloh'!AQ44","v":-6},{"$f":"'Nastavení příloh'!AR44","v":-1},{"$f":"'Nastavení příloh'!AS44","v":0},{"$f":"'Nastavení příloh'!AT44","v":0},{"$f":"'Nastavení příloh'!AU44","v":0},{"$f":"'Nastavení příloh'!AV44","v":0},null,3300,"-",3399,{"$f":"'Nastavení příloh'!BB44","v":0},{"$f":"'Nastavení příloh'!BC44","v":0},{"$f":"'Nastavení příloh'!BD44","v":0},{"$f":"'Nastavení příloh'!BE44","v":0},{"$f":"'Nastavení příloh'!BF44","v":0},{"$f":"'Nastavení příloh'!BG44","v":0},{"$f":"'Nastavení příloh'!BH44","v":0},{"$f":"'Nastavení příloh'!BI44","v":0},{"$f":"'Nastavení příloh'!BJ44","v":0},{"$f":"'Nastavení příloh'!BK44","v":0},{"$f":"'Nastavení příloh'!BL44","v":0},{"$f":"'Nastavení příloh'!BM44","v":0},{"$f":"'Nastavení příloh'!BN44","v":0},{"$f":"'Nastavení příloh'!BO44","v":0},{"$f":"'Nastavení příloh'!BP44","v":0},{"$f":"'Nastavení příloh'!BQ44","v":0},{"$f":"'Nastavení příloh'!BR44","v":0},{"$f":"'Nastavení příloh'!BS44","v":0},{"$f":"'Nastavení příloh'!BT44","v":0},null,3300,"-",3399,{"$f":"'Nastavení příloh'!BZ44","v":0},{"$f":"'Nastavení příloh'!CA44","v":0},{"$f":"'Nastavení příloh'!CB44","v":0},{"$f":"'Nastavení příloh'!CC44","v":2},{"$f":"'Nastavení příloh'!CD44","v":8},{"$f":"'Nastavení příloh'!CE44","v":12},{"$f":"'Nastavení příloh'!CF44","v":12},{"$f":"'Nastavení příloh'!CG44","v":12},{"$f":"'Nastavení příloh'!CH44","v":12},{"$f":"'Nastavení příloh'!CI44","v":12},{"$f":"'Nastavení příloh'!CJ44","v":12},{"$f":"'Nastavení příloh'!CK44","v":12},{"$f":"'Nastavení příloh'!CL44","v":15},{"$f":"'Nastavení příloh'!CM44","v":19},{"$f":"'Nastavení příloh'!CN44","v":24},{"$f":"'Nastavení příloh'!CO44","v":25},{"$f":"'Nastavení příloh'!CP44","v":25},{"$f":"'Nastavení příloh'!CQ44","v":25},{"$f":"'Nastavení příloh'!CR44","v":25}]
[null,3400,"-",3499,{"$f":"'Nastavení příloh'!F45","v":0},{"$f":"'Nastavení příloh'!G45","v":4},{"$f":"'Nastavení příloh'!H45","v":10},{"$f":"'Nastavení příloh'!I45","v":16},{"$f":"'Nastavení příloh'!J45","v":22},{"$f":"'Nastavení příloh'!K45","v":25},{"$f":"'Nastavení příloh'!L45","v":25},{"$f":"'Nastavení příloh'!M45","v":25},{"$f":"'Nastavení příloh'!N45","v":25},{"$f":"'Nastavení příloh'!O45","v":25},{"$f":"'Nastavení příloh'!P45","v":25},{"$f":"'Nastavení příloh'!Q45","v":25},{"$f":"'Nastavení příloh'!R45","v":25},{"$f":"'Nastavení příloh'!S45","v":25},{"$f":"'Nastavení příloh'!T45","v":25},{"$f":"'Nastavení příloh'!U45","v":25},{"$f":"'Nastavení příloh'!V45","v":25},{"$f":"'Nastavení příloh'!W45","v":25},{"$f":"'Nastavení příloh'!X45","v":25},null,3400,"-",3499,{"$f":"'Nastavení příloh'!AD45","v":-13},{"$f":"'Nastavení příloh'!AE45","v":-13},{"$f":"'Nastavení příloh'!AF45","v":-13},{"$f":"'Nastavení příloh'!AG45","v":-13},{"$f":"'Nastavení příloh'!AH45","v":-13},{"$f":"'Nastavení příloh'!AI45","v":-13},{"$f":"'Nastavení příloh'!AJ45","v":-13},{"$f":"'Nastavení příloh'!AK45","v":-13},{"$f":"'Nastavení příloh'!AL45","v":-13},{"$f":"'Nastavení příloh'!AM45","v":-13},{"$f":"'Nastavení příloh'!AN45","v":-13},{"$f":"'Nastavení příloh'!AO45","v":-13},{"$f":"'Nastavení příloh'!AP45","v":-12},{"$f":"'Nastavení příloh'!AQ45","v":-7},{"$f":"'Nastavení příloh'!AR45","v":-2},{"$f":"'Nastavení příloh'!AS45","v":0},{"$f":"'Nastavení příloh'!AT45","v":0},{"$f":"'Nastavení příloh'!AU45","v":0},{"$f":"'Nastavení příloh'!AV45","v":0},null,"   více jak 3400",null,null,{"$f":"'Nastavení příloh'!BB45","v":0},{"$f":"'Nastavení příloh'!BC45","v":0},{"$f":"'Nastavení příloh'!BD45","v":0},{"$f":"'Nastavení příloh'!BE45","v":0},{"$f":"'Nastavení příloh'!BF45","v":0},{"$f":"'Nastavení příloh'!BG45","v":0},{"$f":"'Nastavení příloh'!BH45","v":0},{"$f":"'Nastavení příloh'!BI45","v":0},{"$f":"'Nastavení příloh'!BJ45","v":0},{"$f":"'Nastavení příloh'!BK45","v":0},{"$f":"'Nastavení příloh'!BL45","v":0},{"$f":"'Nastavení příloh'!BM45","v":0},{"$f":"'Nastavení příloh'!BN45","v":0},{"$f":"'Nastavení příloh'!BO45","v":0},{"$f":"'Nastavení příloh'!BP45","v":0},{"$f":"'Nastavení příloh'!BQ45","v":0},{"$f":"'Nastavení příloh'!BR45","v":0},{"$f":"'Nastavení příloh'!BS45","v":0},{"$f":"'Nastavení příloh'!BT45","v":0},null,3400,"-",3499,{"$f":"'Nastavení příloh'!BZ45","v":0},{"$f":"'Nastavení příloh'!CA45","v":0},{"$f":"'Nastavení příloh'!CB45","v":0},{"$f":"'Nastavení příloh'!CC45","v":3},{"$f":"'Nastavení příloh'!CD45","v":9},{"$f":"'Nastavení příloh'!CE45","v":12},{"$f":"'Nastavení příloh'!CF45","v":12},{"$f":"'Nastavení příloh'!CG45","v":12},{"$f":"'Nastavení příloh'!CH45","v":12},{"$f":"'Nastavení příloh'!CI45","v":12},{"$f":"'Nastavení příloh'!CJ45","v":12},{"$f":"'Nastavení příloh'!CK45","v":12},{"$f":"'Nastavení příloh'!CL45","v":13},{"$f":"'Nastavení příloh'!CM45","v":18},{"$f":"'Nastavení příloh'!CN45","v":23},{"$f":"'Nastavení příloh'!CO45","v":25},{"$f":"'Nastavení příloh'!CP45","v":25},{"$f":"'Nastavení příloh'!CQ45","v":25},{"$f":"'Nastavení příloh'!CR45","v":25}]
[null,null,null,null,null,null,null,null,null,null,null,null,null,null,null,null,null,null,null,"Příloha č. 4",null,null,null,null,null,null,null,null,null,null,null,null,null,null,null,null,null,null,null,null,null,null,null,"Příloha č. 5"]
["Maximální roční počet eko bodů za třídění odpadů (BT)",null,null,null,null,null,null,null,null,null,null,null,null,null,null,null,null,null,null,null,null,null,null,"Maximální roční počet eko bodů za efektivní využívání nádob (BV)",null,null,null,null,null,null,null,null,null,null,null,null,null,null,null,null,null,null,null,null,null,null,null,null,null,null,null,null,null,null,null,null,null,null,null,null,null,null,null,null,null,null,null,null,null,"Součet maximálních ročních eko bodů (BT + BV + BS)"]
[]
["Eko body za třídění odpadů jsou uděleny do výše 21% za plast, 20% za papír, 30% za bioodpad, 13% za sklo, 8% za textil, 2% za plechovky, 2% za nápojový karton, 2% za jedlý olej a tuk a 2% za drobné elektrozařízení z maximálního počtu eko bodů uvedeného v  této tabulce.",null,null,null,"Procentuální zastoupení objemu obsloužených pytlů/nádob na plast a na papír v celkovém objemu obsloužených pytlů/nádob",null,null,null,null,null,null,null,null,null,null,null,null,null,null,null,null,null,null,"Eko body za efektivní využívání sběrných nádob jsou uděleny do výše 100% z maximálního počtu eko bodů uvedeného v této tabulce.",null,null,null,"Procentuální zastoupení objemu obsloužených pytlů/nádob na plast a na papír v celkovém objemu obsloužených pytlů/nádob",null,null,null,null,null,null,null,null,null,null,null,null,null,null,null,null,null,null,null,null,null,null,null,null,null,null,null,null,null,null,null,null,null,null,null,null,null,null,null,null,null,"Záporná hodnota součtu eko bodů (BT + BV + BS) je nahrazena nulou.",null,null,null,"Procentuální zastoupení objemu obsloužených pytlů/nádob na plast a na papír v celkovém objemu obsloužených pytlů/nádob"]
[null,null,null,null,"0 %","1-5 %","6-10 %","11-15 %","16-20 %","21-25 %","26-30 %","31-35 %","36-40 %","41-45 %","46-50 %","51-55 %","56-60 %","61-65 %","66-70 %","71-75 %","76-80 %","81-85 %","více jak 85 %",null,null,null,null,"0 %","1-5 %","6-10 %","11-15 %","16-20 %","21-25 %","26-30 %","31-35 %","36-40 %","41-45 %","46-50 %","51-55 %","56-60 %","61-65 %","66-70 %","71-75 %","76-80 %","81-85 %","více jak 85 %",null,null,null,null,null,null,null,null,null,null,null,null,null,null,null,null,null,null,null,null,null,null,null,null,null,null,null,"0 %","1-5 %","6-10 %","11-15 %","16-20 %","21-25 %","26-30 %","31-35 %","36-40 %","41-45 %","46-50 %","51-55 %","56-60 %","61-65 %","66-70 %","71-75 %","76-80 %","81-85 %","více jak 85 %"]
[null,null,null,null,"\"Třídí málo\"                                                                                                                                   \"Třídí hodně\"",null,null,null,null,null,null,null,null,null,null,null,null,null,null,null,null,null,null,null,null,null,null,"\"Třídí málo\"                                                                                                                                   \"Třídí hodně\"",null,null,null,null,null,null,null,null,null,null,null,null,null,null,null,null,null,null,null,null,null,null,null,null,null,null,null,null,null,null,null,null,null,null,null,null,null,null,null,null,null,null,null,null,null,"\"Třídí málo\"                                                                                                                                   \"Třídí hodně\""]
["Roční celkový objem obsloužených pytlů/nádob přepočtený na jednoho účastníka \nsystému užívajícího dané pytle/nádoby (litry/účastník systému/rok)",3500,"-",3599,{"$f":"'Nastavení příloh'!F52","v":0},{"$f":"'Nastavení příloh'!G52","v":4},{"$f":"'Nastavení příloh'!H52","v":10},{"$f":"'Nastavení příloh'!I52","v":16},{"$f":"'Nastavení příloh'!J52","v":22},{"$f":"'Nastavení příloh'!K52","v":25},{"$f":"'Nastavení příloh'!L52","v":25},{"$f":"'Nastavení příloh'!M52","v":25},{"$f":"'Nastavení příloh'!N52","v":25},{"$f":"'Nastavení příloh'!O52","v":25},{"$f":"'Nastavení příloh'!P52","v":25},{"$f":"'Nastavení příloh'!Q52","v":25},{"$f":"'Nastavení příloh'!R52","v":25},{"$f":"'Nastavení příloh'!S52","v":25},{"$f":"'Nastavení příloh'!T52","v":25},{"$f":"'Nastavení příloh'!U52","v":25},{"$f":"'Nastavení příloh'!V52","v":25},{"$f":"'Nastavení příloh'!W52","v":25},{"$f":"'Nastavení příloh'!X52","v":25},"Roční celkový objem obsloužených pytlů/nádob přepočtený na jednoho účastníka \nsystému užívajícího dané pytle/nádoby (litry/účastník systému/rok)",3500,"-",3599,{"$f":"'Nastavení příloh'!AD52","v":-13},{"$f":"'Nastavení příloh'!AE52","v":-13},{"$f":"'Nastavení příloh'!AF52","v":-13},{"$f":"'Nastavení příloh'!AG52","v":-13},{"$f":"'Nastavení příloh'!AH52","v":-13},{"$f":"'Nastavení příloh'!AI52","v":-13},{"$f":"'Nastavení příloh'!AJ52","v":-13},{"$f":"'Nastavení příloh'!AK52","v":-13},{"$f":"'Nastavení příloh'!AL52","v":-13},{"$f":"'Nastavení příloh'!AM52","v":-13},{"$f":"'Nastavení příloh'!AN52","v":-13},{"$f":"'Nastavení příloh'!AO52","v":-13},{"$f":"'Nastavení příloh'!AP52","v":-13},{"$f":"'Nastavení příloh'!AQ52","v":-8},{"$f":"'Nastavení příloh'!AR52","v":-3},{"$f":"'Nastavení příloh'!AS52","v":0},{"$f":"'Nastavení příloh'!AT52","v":0},{"$f":"'Nastavení příloh'!AU52","v":0},{"$f":"'Nastavení příloh'!AV52","v":0},null,null,null,null,null,null,null,null,null,null,null,null,null,null,null,null,null,null,null,null,null,null,null,"Roční celkový objem obsloužených pytlů/nádob přepočtený na jednoho účastníka \nsystému užívajícího dané pytle/nádoby (litry/účastník systému/rok)",3500,"-",3599,{"$f":"'Nastavení příloh'!BZ52","v":0},{"$f":"'Nastavení příloh'!CA52","v":0},{"$f":"'Nastavení příloh'!CB52","v":0},{"$f":"'Nastavení příloh'!CC52","v":3},{"$f":"'Nastavení příloh'!CD52","v":9},{"$f":"'Nastavení příloh'!CE52","v":12},{"$f":"'Nastavení příloh'!CF52","v":12},{"$f":"'Nastavení příloh'!CG52","v":12},{"$f":"'Nastavení příloh'!CH52","v":12},{"$f":"'Nastavení příloh'!CI52","v":12},{"$f":"'Nastavení příloh'!CJ52","v":12},{"$f":"'Nastavení příloh'!CK52","v":12},{"$f":"'Nastavení příloh'!CL52","v":12},{"$f":"'Nastavení příloh'!CM52","v":17},{"$f":"'Nastavení příloh'!CN52","v":22},{"$f":"'Nastavení příloh'!CO52","v":25},{"$f":"'Nastavení příloh'!CP52","v":25},{"$f":"'Nastavení příloh'!CQ52","v":25},{"$f":"'Nastavení příloh'!CR52","v":25}]
[null,3600,"-",3699,{"$f":"'Nastavení příloh'!F53","v":0},{"$f":"'Nastavení příloh'!G53","v":4},{"$f":"'Nastavení příloh'!H53","v":10},{"$f":"'Nastavení příloh'!I53","v":17},{"$f":"'Nastavení příloh'!J53","v":23},{"$f":"'Nastavení příloh'!K53","v":25},{"$f":"'Nastavení příloh'!L53","v":25},{"$f":"'Nastavení příloh'!M53","v":25},{"$f":"'Nastavení příloh'!N53","v":25},{"$f":"'Nastavení příloh'!O53","v":25},{"$f":"'Nastavení příloh'!P53","v":25},{"$f":"'Nastavení příloh'!Q53","v":25},{"$f":"'Nastavení příloh'!R53","v":25},{"$f":"'Nastavení příloh'!S53","v":25},{"$f":"'Nastavení příloh'!T53","v":25},{"$f":"'Nastavení příloh'!U53","v":25},{"$f":"'Nastavení příloh'!V53","v":25},{"$f":"'Nastavení příloh'!W53","v":25},{"$f":"'Nastavení příloh'!X53","v":25},null,3600,"-",3699,{"$f":"'Nastavení příloh'!AD53","v":-13},{"$f":"'Nastavení příloh'!AE53","v":-13},{"$f":"'Nastavení příloh'!AF53","v":-13},{"$f":"'Nastavení příloh'!AG53","v":-13},{"$f":"'Nastavení příloh'!AH53","v":-13},{"$f":"'Nastavení příloh'!AI53","v":-13},{"$f":"'Nastavení příloh'!AJ53","v":-13},{"$f":"'Nastavení příloh'!AK53","v":-13},{"$f":"'Nastavení příloh'!AL53","v":-13},{"$f":"'Nastavení příloh'!AM53","v":-13},{"$f":"'Nastavení příloh'!AN53","v":-13},{"$f":"'Nastavení příloh'!AO53","v":-13},{"$f":"'Nastavení příloh'!AP53","v":-13},{"$f":"'Nastavení příloh'!AQ53","v":-9},{"$f":"'Nastavení příloh'!AR53","v":-4},{"$f":"'Nastavení příloh'!AS53","v":0},{"$f":"'Nastavení příloh'!AT53","v":0},{"$f":"'Nastavení příloh'!AU53","v":0},{"$f":"'Nastavení příloh'!AV53","v":0},null,null,null,null,null,null,null,null,null,null,null,null,null,null,null,null,null,null,null,null,null,null,null,null,3600,"-",3699,{"$f":"'Nastavení příloh'!BZ53","v":0},{"$f":"'Nastavení příloh'!CA53","v":0},{"$f":"'Nastavení příloh'!CB53","v":0},{"$f":"'Nastavení příloh'!CC53","v":4},{"$f":"'Nastavení příloh'!CD53","v":10},{"$f":"'Nastavení příloh'!CE53","v":12},{"$f":"'Nastavení příloh'!CF53","v":12},{"$f":"'Nastavení příloh'!CG53","v":12},{"$f":"'Nastavení příloh'!CH53","v":12},{"$f":"'Nastavení příloh'!CI53","v":12},{"$f":"'Nastavení příloh'!CJ53","v":12},{"$f":"'Nastavení příloh'!CK53","v":12},{"$f":"'Nastavení příloh'!CL53","v":12},{"$f":"'Nastavení příloh'!CM53","v":16},{"$f":"'Nastavení příloh'!CN53","v":21},{"$f":"'Nastavení příloh'!CO53","v":25},{"$f":"'Nastavení příloh'!CP53","v":25},{"$f":"'Nastavení příloh'!CQ53","v":25},{"$f":"'Nastavení příloh'!CR53","v":25}]
[null,3700,"-",3799,{"$f":"'Nastavení příloh'!F54","v":0},{"$f":"'Nastavení příloh'!G54","v":4},{"$f":"'Nastavení příloh'!H54","v":11},{"$f":"'Nastavení příloh'!I54","v":17},{"$f":"'Nastavení příloh'!J54","v":24},{"$f":"'Nastavení příloh'!K54","v":25},{"$f":"'Nastavení příloh'!L54","v":25},{"$f":"'Nastavení příloh'!M54","v":25},{"$f":"'Nastavení příloh'!N54","v":25},{"$f":"'Nastavení příloh'!O54","v":25},{"$f":"'Nastavení příloh'!P54","v":25},{"$f":"'Nastavení příloh'!Q54","v":25},{"$f":"'Nastavení příloh'!R54","v":25},{"$f":"'Nastavení příloh'!S54","v":25},{"$f":"'Nastavení příloh'!T54","v":25},{"$f":"'Nastavení příloh'!U54","v":25},{"$f":"'Nastavení příloh'!V54","v":25},{"$f":"'Nastavení příloh'!W54","v":25},{"$f":"'Nastavení příloh'!X54","v":25},null,3700,"-",3799,{"$f":"'Nastavení příloh'!AD54","v":-13},{"$f":"'Nastavení příloh'!AE54","v":-13},{"$f":"'Nastavení příloh'!AF54","v":-13},{"$f":"'Nastavení příloh'!AG54","v":-13},{"$f":"'Nastavení příloh'!AH54","v":-13},{"$f":"'Nastavení příloh'!AI54","v":-13},{"$f":"'Nastavení příloh'!AJ54","v":-13},{"$f":"'Nastavení příloh'!AK54","v":-13},{"$f":"'Nastavení příloh'!AL54","v":-13},{"$f":"'Nastavení příloh'!AM54","v":-13},{"$f":"'Nastavení příloh'!AN54","v":-13},{"$f":"'Nastavení příloh'!AO54","v":-13},{"$f":"'Nastavení příloh'!AP54","v":-13},{"$f":"'Nastavení příloh'!AQ54","v":-10},{"$f":"'Nastavení příloh'!AR54","v":-5},{"$f":"'Nastavení příloh'!AS54","v":0},{"$f":"'Nastavení příloh'!AT54","v":0},{"$f":"'Nastavení příloh'!AU54","v":0},{"$f":"'Nastavení příloh'!AV54","v":0},null,null,null,null,null,null,null,null,null,null,null,null,null,null,null,null,null,null,null,null,null,null,null,null,3700,"-",3799,{"$f":"'Nastavení příloh'!BZ54","v":0},{"$f":"'Nastavení příloh'!CA54","v":0},{"$f":"'Nastavení příloh'!CB54","v":0},{"$f":"'Nastavení příloh'!CC54","v":4},{"$f":"'Nastavení příloh'!CD54","v":11},{"$f":"'Nastavení příloh'!CE54","v":12},{"$f":"'Nastavení příloh'!CF54","v":12},{"$f":"'Nastavení příloh'!CG54","v":12},{"$f":"'Nastavení příloh'!CH54","v":12},{"$f":"'Nastavení příloh'!CI54","v":12},{"$f":"'Nastavení příloh'!CJ54","v":12},{"$f":"'Nastavení příloh'!CK54","v":12},{"$f":"'Nastavení příloh'!CL54","v":12},{"$f":"'Nastavení příloh'!CM54","v":15},{"$f":"'Nastavení příloh'!CN54","v":20},{"$f":"'Nastavení příloh'!CO54","v":25},{"$f":"'Nastavení příloh'!CP54","v":25},{"$f":"'Nastavení příloh'!CQ54","v":25},{"$f":"'Nastavení příloh'!CR54","v":25}]
[null,3800,"-",3899,{"$f":"'Nastavení příloh'!F55","v":0},{"$f":"'Nastavení příloh'!G55","v":4},{"$f":"'Nastavení příloh'!H55","v":11},{"$f":"'Nastavení příloh'!I55","v":18},{"$f":"'Nastavení příloh'!J55","v":24},{"$f":"'Nastavení příloh'!K55","v":25},{"$f":"'Nastavení příloh'!L55","v":25},{"$f":"'Nastavení příloh'!M55","v":25},{"$f":"'Nastavení příloh'!N55","v":25},{"$f":"'Nastavení příloh'!O55","v":25},{"$f":"'Nastavení příloh'!P55","v":25},{"$f":"'Nastavení příloh'!Q55","v":25},{"$f":"'Nastavení příloh'!R55","v":25},{"$f":"'Nastavení příloh'!S55","v":25},{"$f":"'Nastavení příloh'!T55","v":25},{"$f":"'Nastavení příloh'!U55","v":25},{"$f":"'Nastavení příloh'!V55","v":25},{"$f":"'Nastavení příloh'!W55","v":25},{"$f":"'Nastavení příloh'!X55","v":25},null,3800,"-",3899,{"$f":"'Nastavení příloh'!AD55","v":-13},{"$f":"'Nastavení příloh'!AE55","v":-13},{"$f":"'Nastavení příloh'!AF55","v":-13},{"$f":"'Nastavení příloh'!AG55","v":-13},{"$f":"'Nastavení příloh'!AH55","v":-13},{"$f":"'Nastavení příloh'!AI55","v":-13},{"$f":"'Nastavení příloh'!AJ55","v":-13},{"$f":"'Nastavení příloh'!AK55","v":-13},{"$f":"'Nastavení příloh'!AL55","v":-13},{"$f":"'Nastavení příloh'!AM55","v":-13},{"$f":"'Nastavení příloh'!AN55","v":-13},{"$f":"'Nastavení příloh'!AO55","v":-13},{"$f":"'Nastavení příloh'!AP55","v":-13},{"$f":"'Nastavení příloh'!AQ55","v":-11},{"$f":"'Nastavení příloh'!AR55","v":-5},{"$f":"'Nastavení příloh'!AS55","v":0},{"$f":"'Nastavení příloh'!AT55","v":0},{"$f":"'Nastavení příloh'!AU55","v":0},{"$f":"'Nastavení příloh'!AV55","v":0},null,null,null,null,null,null,null,null,null,null,null,null,null,null,null,null,null,null,null,null,null,null,null,null,3800,"-",3899,{"$f":"'Nastavení příloh'!BZ55","v":0},{"$f":"'Nastavení příloh'!CA55","v":0},{"$f":"'Nastavení příloh'!CB55","v":0},{"$f":"'Nastavení příloh'!CC55","v":5},{"$f":"'Nastavení příloh'!CD55","v":11},{"$f":"'Nastavení příloh'!CE55","v":12},{"$f":"'Nastavení příloh'!CF55","v":12},{"$f":"'Nastavení příloh'!CG55","v":12},{"$f":"'Nastavení příloh'!CH55","v":12},{"$f":"'Nastavení příloh'!CI55","v":12},{"$f":"'Nastavení příloh'!CJ55","v":12},{"$f":"'Nastavení příloh'!CK55","v":12},{"$f":"'Nastavení příloh'!CL55","v":12},{"$f":"'Nastavení příloh'!CM55","v":14},{"$f":"'Nastavení příloh'!CN55","v":20},{"$f":"'Nastavení příloh'!CO55","v":25},{"$f":"'Nastavení příloh'!CP55","v":25},{"$f":"'Nastavení příloh'!CQ55","v":25},{"$f":"'Nastavení příloh'!CR55","v":25}]
[null,3900,"-",3999,{"$f":"'Nastavení příloh'!F56","v":0},{"$f":"'Nastavení příloh'!G56","v":4},{"$f":"'Nastavení příloh'!H56","v":11},{"$f":"'Nastavení příloh'!I56","v":18},{"$f":"'Nastavení příloh'!J56","v":25},{"$f":"'Nastavení příloh'!K56","v":25},{"$f":"'Nastavení příloh'!L56","v":25},{"$f":"'Nastavení příloh'!M56","v":25},{"$f":"'Nastavení příloh'!N56","v":25},{"$f":"'Nastavení příloh'!O56","v":25},{"$f":"'Nastavení příloh'!P56","v":25},{"$f":"'Nastavení příloh'!Q56","v":25},{"$f":"'Nastavení příloh'!R56","v":25},{"$f":"'Nastavení příloh'!S56","v":25},{"$f":"'Nastavení příloh'!T56","v":25},{"$f":"'Nastavení příloh'!U56","v":25},{"$f":"'Nastavení příloh'!V56","v":25},{"$f":"'Nastavení příloh'!W56","v":25},{"$f":"'Nastavení příloh'!X56","v":25},null,3900,"-",3999,{"$f":"'Nastavení příloh'!AD56","v":-13},{"$f":"'Nastavení příloh'!AE56","v":-13},{"$f":"'Nastavení příloh'!AF56","v":-13},{"$f":"'Nastavení příloh'!AG56","v":-13},{"$f":"'Nastavení příloh'!AH56","v":-13},{"$f":"'Nastavení příloh'!AI56","v":-13},{"$f":"'Nastavení příloh'!AJ56","v":-13},{"$f":"'Nastavení příloh'!AK56","v":-13},{"$f":"'Nastavení příloh'!AL56","v":-13},{"$f":"'Nastavení příloh'!AM56","v":-13},{"$f":"'Nastavení příloh'!AN56","v":-13},{"$f":"'Nastavení příloh'!AO56","v":-13},{"$f":"'Nastavení příloh'!AP56","v":-13},{"$f":"'Nastavení příloh'!AQ56","v":-12},{"$f":"'Nastavení příloh'!AR56","v":-6},{"$f":"'Nastavení příloh'!AS56","v":-1},{"$f":"'Nastavení příloh'!AT56","v":0},{"$f":"'Nastavení příloh'!AU56","v":0},{"$f":"'Nastavení příloh'!AV56","v":0},null,null,null,null,null,null,null,null,null,null,null,null,null,null,null,null,null,null,null,null,null,null,null,null,3900,"-",3999,{"$f":"'Nastavení příloh'!BZ56","v":0},{"$f":"'Nastavení příloh'!CA56","v":0},{"$f":"'Nastavení příloh'!CB56","v":0},{"$f":"'Nastavení příloh'!CC56","v":5},{"$f":"'Nastavení příloh'!CD56","v":12},{"$f":"'Nastavení příloh'!CE56","v":12},{"$f":"'Nastavení příloh'!CF56","v":12},{"$f":"'Nastavení příloh'!CG56","v":12},{"$f":"'Nastavení příloh'!CH56","v":12},{"$f":"'Nastavení příloh'!CI56","v":12},{"$f":"'Nastavení příloh'!CJ56","v":12},{"$f":"'Nastavení příloh'!CK56","v":12},{"$f":"'Nastavení příloh'!CL56","v":12},{"$f":"'Nastavení příloh'!CM56","v":13},{"$f":"'Nastavení příloh'!CN56","v":19},{"$f":"'Nastavení příloh'!CO56","v":24},{"$f":"'Nastavení příloh'!CP56","v":25},{"$f":"'Nastavení příloh'!CQ56","v":25},{"$f":"'Nastavení příloh'!CR56","v":25}]
[null,4000,"-",4099,{"$f":"'Nastavení příloh'!F57","v":0},{"$f":"'Nastavení příloh'!G57","v":4},{"$f":"'Nastavení příloh'!H57","v":11},{"$f":"'Nastavení příloh'!I57","v":18},{"$f":"'Nastavení příloh'!J57","v":25},{"$f":"'Nastavení příloh'!K57","v":25},{"$f":"'Nastavení příloh'!L57","v":25},{"$f":"'Nastavení příloh'!M57","v":25},{"$f":"'Nastavení příloh'!N57","v":25},{"$f":"'Nastavení příloh'!O57","v":25},{"$f":"'Nastavení příloh'!P57","v":25},{"$f":"'Nastavení příloh'!Q57","v":25},{"$f":"'Nastavení příloh'!R57","v":25},{"$f":"'Nastavení příloh'!S57","v":25},{"$f":"'Nastavení příloh'!T57","v":25},{"$f":"'Nastavení příloh'!U57","v":25},{"$f":"'Nastavení příloh'!V57","v":25},{"$f":"'Nastavení příloh'!W57","v":25},{"$f":"'Nastavení příloh'!X57","v":25},null,4000,"-",4099,{"$f":"'Nastavení příloh'!AD57","v":-13},{"$f":"'Nastavení příloh'!AE57","v":-13},{"$f":"'Nastavení příloh'!AF57","v":-13},{"$f":"'Nastavení příloh'!AG57","v":-13},{"$f":"'Nastavení příloh'!AH57","v":-13},{"$f":"'Nastavení příloh'!AI57","v":-13},{"$f":"'Nastavení příloh'!AJ57","v":-13},{"$f":"'Nastavení příloh'!AK57","v":-13},{"$f":"'Nastavení příloh'!AL57","v":-13},{"$f":"'Nastavení příloh'!AM57","v":-13},{"$f":"'Nastavení příloh'!AN57","v":-13},{"$f":"'Nastavení příloh'!AO57","v":-13},{"$f":"'Nastavení příloh'!AP57","v":-13},{"$f":"'Nastavení příloh'!AQ57","v":-13},{"$f":"'Nastavení příloh'!AR57","v":-7},{"$f":"'Nastavení příloh'!AS57","v":-1},{"$f":"'Nastavení příloh'!AT57","v":0},{"$f":"'Nastavení příloh'!AU57","v":0},{"$f":"'Nastavení příloh'!AV57","v":0},null,null,null,null,null,null,null,null,null,null,null,null,null,null,null,null,null,null,null,null,null,null,null,null,4000,"-",4099,{"$f":"'Nastavení příloh'!BZ57","v":0},{"$f":"'Nastavení příloh'!CA57","v":0},{"$f":"'Nastavení příloh'!CB57","v":0},{"$f":"'Nastavení příloh'!CC57","v":5},{"$f":"'Nastavení příloh'!CD57","v":12},{"$f":"'Nastavení příloh'!CE57","v":12},{"$f":"'Nastavení příloh'!CF57","v":12},{"$f":"'Nastavení příloh'!CG57","v":12},{"$f":"'Nastavení příloh'!CH57","v":12},{"$f":"'Nastavení příloh'!CI57","v":12},{"$f":"'Nastavení příloh'!CJ57","v":12},{"$f":"'Nastavení příloh'!CK57","v":12},{"$f":"'Nastavení příloh'!CL57","v":12},{"$f":"'Nastavení příloh'!CM57","v":12},{"$f":"'Nastavení příloh'!CN57","v":18},{"$f":"'Nastavení příloh'!CO57","v":24},{"$f":"'Nastavení příloh'!CP57","v":25},{"$f":"'Nastavení příloh'!CQ57","v":25},{"$f":"'Nastavení příloh'!CR57","v":25}]
[null,4100,"-",4199,{"$f":"'Nastavení příloh'!F58","v":0},{"$f":"'Nastavení příloh'!G58","v":4},{"$f":"'Nastavení příloh'!H58","v":12},{"$f":"'Nastavení příloh'!I58","v":19},{"$f":"'Nastavení příloh'!J58","v":25},{"$f":"'Nastavení příloh'!K58","v":25},{"$f":"'Nastavení příloh'!L58","v":25},{"$f":"'Nastavení příloh'!M58","v":25},{"$f":"'Nastavení příloh'!N58","v":25},{"$f":"'Nastavení příloh'!O58","v":25},{"$f":"'Nastavení příloh'!P58","v":25},{"$f":"'Nastavení příloh'!Q58","v":25},{"$f":"'Nastavení příloh'!R58","v":25},{"$f":"'Nastavení příloh'!S58","v":25},{"$f":"'Nastavení příloh'!T58","v":25},{"$f":"'Nastavení příloh'!U58","v":25},{"$f":"'Nastavení příloh'!V58","v":25},{"$f":"'Nastavení příloh'!W58","v":25},{"$f":"'Nastavení příloh'!X58","v":25},null,4100,"-",4199,{"$f":"'Nastavení příloh'!AD58","v":-13},{"$f":"'Nastavení příloh'!AE58","v":-13},{"$f":"'Nastavení příloh'!AF58","v":-13},{"$f":"'Nastavení příloh'!AG58","v":-13},{"$f":"'Nastavení příloh'!AH58","v":-13},{"$f":"'Nastavení příloh'!AI58","v":-13},{"$f":"'Nastavení příloh'!AJ58","v":-13},{"$f":"'Nastavení příloh'!AK58","v":-13},{"$f":"'Nastavení příloh'!AL58","v":-13},{"$f":"'Nastavení příloh'!AM58","v":-13},{"$f":"'Nastavení příloh'!AN58","v":-13},{"$f":"'Nastavení příloh'!AO58","v":-13},{"$f":"'Nastavení příloh'!AP58","v":-13},{"$f":"'Nastavení příloh'!AQ58","v":-13},{"$f":"'Nastavení příloh'!AR58","v":-8},{"$f":"'Nastavení příloh'!AS58","v":-2},{"$f":"'Nastavení příloh'!AT58","v":0},{"$f":"'Nastavení příloh'!AU58","v":0},{"$f":"'Nastavení příloh'!AV58","v":0},null,null,null,null,null,null,null,null,null,null,null,null,null,null,null,null,null,null,null,null,null,null,null,null,4100,"-",4199,{"$f":"'Nastavení příloh'!BZ58","v":0},{"$f":"'Nastavení příloh'!CA58","v":0},{"$f":"'Nastavení příloh'!CB58","v":0},{"$f":"'Nastavení příloh'!CC58","v":6},{"$f":"'Nastavení příloh'!CD58","v":12},{"$f":"'Nastavení příloh'!CE58","v":12},{"$f":"'Nastavení příloh'!CF58","v":12},{"$f":"'Nastavení příloh'!CG58","v":12},{"$f":"'Nastavení příloh'!CH58","v":12},{"$f":"'Nastavení příloh'!CI58","v":12},{"$f":"'Nastavení příloh'!CJ58","v":12},{"$f":"'Nastavení příloh'!CK58","v":12},{"$f":"'Nastavení příloh'!CL58","v":12},{"$f":"'Nastavení příloh'!CM58","v":12},{"$f":"'Nastavení příloh'!CN58","v":17},{"$f":"'Nastavení příloh'!CO58","v":23},{"$f":"'Nastavení příloh'!CP58","v":25},{"$f":"'Nastavení příloh'!CQ58","v":25},{"$f":"'Nastavení příloh'!CR58","v":25}]
[null,4200,"-",4299,{"$f":"'Nastavení příloh'!F59","v":0},{"$f":"'Nastavení příloh'!G59","v":4},{"$f":"'Nastavení příloh'!H59","v":12},{"$f":"'Nastavení příloh'!I59","v":19},{"$f":"'Nastavení příloh'!J59","v":25},{"$f":"'Nastavení příloh'!K59","v":25},{"$f":"'Nastavení příloh'!L59","v":25},{"$f":"'Nastavení příloh'!M59","v":25},{"$f":"'Nastavení příloh'!N59","v":25},{"$f":"'Nastavení příloh'!O59","v":25},{"$f":"'Nastavení příloh'!P59","v":25},{"$f":"'Nastavení příloh'!Q59","v":25},{"$f":"'Nastavení příloh'!R59","v":25},{"$f":"'Nastavení příloh'!S59","v":25},{"$f":"'Nastavení příloh'!T59","v":25},{"$f":"'Nastavení příloh'!U59","v":25},{"$f":"'Nastavení příloh'!V59","v":25},{"$f":"'Nastavení příloh'!W59","v":25},{"$f":"'Nastavení příloh'!X59","v":25},null,4200,"-",4299,{"$f":"'Nastavení příloh'!AD59","v":-13},{"$f":"'Nastavení příloh'!AE59","v":-13},{"$f":"'Nastavení příloh'!AF59","v":-13},{"$f":"'Nastavení příloh'!AG59","v":-13},{"$f":"'Nastavení příloh'!AH59","v":-13},{"$f":"'Nastavení příloh'!AI59","v":-13},{"$f":"'Nastavení příloh'!AJ59","v":-13},{"$f":"'Nastavení příloh'!AK59","v":-13},{"$f":"'Nastavení příloh'!AL59","v":-13},{"$f":"'Nastavení příloh'!AM59","v":-13},{"$f":"'Nastavení příloh'!AN59","v":-13},{"$f":"'Nastavení příloh'!AO59","v":-13},{"$f":"'Nastavení příloh'!AP59","v":-13},{"$f":"'Nastavení příloh'!AQ59","v":-13},{"$f":"'Nastavení příloh'!AR59","v":-9},{"$f":"'Nastavení příloh'!AS59","v":-3},{"$f":"'Nastavení příloh'!AT59","v":0},{"$f":"'Nastavení příloh'!AU59","v":0},{"$f":"'Nastavení příloh'!AV59","v":0},null,null,null,null,null,null,null,null,null,null,null,null,null,null,null,null,null,null,null,null,null,null,null,null,4200,"-",4299,{"$f":"'Nastavení příloh'!BZ59","v":0},{"$f":"'Nastavení příloh'!CA59","v":0},{"$f":"'Nastavení příloh'!CB59","v":0},{"$f":"'Nastavení příloh'!CC59","v":6},{"$f":"'Nastavení příloh'!CD59","v":12},{"$f":"'Nastavení příloh'!CE59","v":12},{"$f":"'Nastavení příloh'!CF59","v":12},{"$f":"'Nastavení příloh'!CG59","v":12},{"$f":"'Nastavení příloh'!CH59","v":12},{"$f":"'Nastavení příloh'!CI59","v":12},{"$f":"'Nastavení příloh'!CJ59","v":12},{"$f":"'Nastavení příloh'!CK59","v":12},{"$f":"'Nastavení příloh'!CL59","v":12},{"$f":"'Nastavení příloh'!CM59","v":12},{"$f":"'Nastavení příloh'!CN59","v":16},{"$f":"'Nastavení příloh'!CO59","v":22},{"$f":"'Nastavení příloh'!CP59","v":25},{"$f":"'Nastavení příloh'!CQ59","v":25},{"$f":"'Nastavení příloh'!CR59","v":25}]
[null,4300,"-",4399,{"$f":"'Nastavení příloh'!F60","v":0},{"$f":"'Nastavení příloh'!G60","v":5},{"$f":"'Nastavení příloh'!H60","v":12},{"$f":"'Nastavení příloh'!I60","v":20},{"$f":"'Nastavení příloh'!J60","v":25},{"$f":"'Nastavení příloh'!K60","v":25},{"$f":"'Nastavení příloh'!L60","v":25},{"$f":"'Nastavení příloh'!M60","v":25},{"$f":"'Nastavení příloh'!N60","v":25},{"$f":"'Nastavení příloh'!O60","v":25},{"$f":"'Nastavení příloh'!P60","v":25},{"$f":"'Nastavení příloh'!Q60","v":25},{"$f":"'Nastavení příloh'!R60","v":25},{"$f":"'Nastavení příloh'!S60","v":25},{"$f":"'Nastavení příloh'!T60","v":25},{"$f":"'Nastavení příloh'!U60","v":25},{"$f":"'Nastavení příloh'!V60","v":25},{"$f":"'Nastavení příloh'!W60","v":25},{"$f":"'Nastavení příloh'!X60","v":25},null,4300,"-",4399,{"$f":"'Nastavení příloh'!AD60","v":-13},{"$f":"'Nastavení příloh'!AE60","v":-13},{"$f":"'Nastavení příloh'!AF60","v":-13},{"$f":"'Nastavení příloh'!AG60","v":-13},{"$f":"'Nastavení příloh'!AH60","v":-13},{"$f":"'Nastavení příloh'!AI60","v":-13},{"$f":"'Nastavení příloh'!AJ60","v":-13},{"$f":"'Nastavení příloh'!AK60","v":-13},{"$f":"'Nastavení příloh'!AL60","v":-13},{"$f":"'Nastavení příloh'!AM60","v":-13},{"$f":"'Nastavení příloh'!AN60","v":-13},{"$f":"'Nastavení příloh'!AO60","v":-13},{"$f":"'Nastavení příloh'!AP60","v":-13},{"$f":"'Nastavení příloh'!AQ60","v":-13},{"$f":"'Nastavení příloh'!AR60","v":-10},{"$f":"'Nastavení příloh'!AS60","v":-4},{"$f":"'Nastavení příloh'!AT60","v":0},{"$f":"'Nastavení příloh'!AU60","v":0},{"$f":"'Nastavení příloh'!AV60","v":0},null,null,null,null,null,null,null,null,null,null,null,null,null,null,null,null,null,null,null,null,null,null,null,null,4300,"-",4399,{"$f":"'Nastavení příloh'!BZ60","v":0},{"$f":"'Nastavení příloh'!CA60","v":0},{"$f":"'Nastavení příloh'!CB60","v":0},{"$f":"'Nastavení příloh'!CC60","v":7},{"$f":"'Nastavení příloh'!CD60","v":12},{"$f":"'Nastavení příloh'!CE60","v":12},{"$f":"'Nastavení příloh'!CF60","v":12},{"$f":"'Nastavení příloh'!CG60","v":12},{"$f":"'Nastavení příloh'!CH60","v":12},{"$f":"'Nastavení příloh'!CI60","v":12},{"$f":"'Nastavení příloh'!CJ60","v":12},{"$f":"'Nastavení příloh'!CK60","v":12},{"$f":"'Nastavení příloh'!CL60","v":12},{"$f":"'Nastavení příloh'!CM60","v":12},{"$f":"'Nastavení příloh'!CN60","v":15},{"$f":"'Nastavení příloh'!CO60","v":21},{"$f":"'Nastavení příloh'!CP60","v":25},{"$f":"'Nastavení příloh'!CQ60","v":25},{"$f":"'Nastavení příloh'!CR60","v":25}]
[null,4400,"-",4499,{"$f":"'Nastavení příloh'!F61","v":0},{"$f":"'Nastavení příloh'!G61","v":5},{"$f":"'Nastavení příloh'!H61","v":12},{"$f":"'Nastavení příloh'!I61","v":20},{"$f":"'Nastavení příloh'!J61","v":25},{"$f":"'Nastavení příloh'!K61","v":25},{"$f":"'Nastavení příloh'!L61","v":25},{"$f":"'Nastavení příloh'!M61","v":25},{"$f":"'Nastavení příloh'!N61","v":25},{"$f":"'Nastavení příloh'!O61","v":25},{"$f":"'Nastavení příloh'!P61","v":25},{"$f":"'Nastavení příloh'!Q61","v":25},{"$f":"'Nastavení příloh'!R61","v":25},{"$f":"'Nastavení příloh'!S61","v":25},{"$f":"'Nastavení příloh'!T61","v":25},{"$f":"'Nastavení příloh'!U61","v":25},{"$f":"'Nastavení příloh'!V61","v":25},{"$f":"'Nastavení příloh'!W61","v":25},{"$f":"'Nastavení příloh'!X61","v":25},null,4400,"-",4499,{"$f":"'Nastavení příloh'!AD61","v":-13},{"$f":"'Nastavení příloh'!AE61","v":-13},{"$f":"'Nastavení příloh'!AF61","v":-13},{"$f":"'Nastavení příloh'!AG61","v":-13},{"$f":"'Nastavení příloh'!AH61","v":-13},{"$f":"'Nastavení příloh'!AI61","v":-13},{"$f":"'Nastavení příloh'!AJ61","v":-13},{"$f":"'Nastavení příloh'!AK61","v":-13},{"$f":"'Nastavení příloh'!AL61","v":-13},{"$f":"'Nastavení příloh'!AM61","v":-13},{"$f":"'Nastavení příloh'!AN61","v":-13},{"$f":"'Nastavení příloh'!AO61","v":-13},{"$f":"'Nastavení příloh'!AP61","v":-13},{"$f":"'Nastavení příloh'!AQ61","v":-13},{"$f":"'Nastavení příloh'!AR61","v":-11},{"$f":"'Nastavení příloh'!AS61","v":-5},{"$f":"'Nastavení příloh'!AT61","v":0},{"$f":"'Nastavení příloh'!AU61","v":0},{"$f":"'Nastavení příloh'!AV61","v":0},null,null,null,null,null,null,null,null,null,null,null,null,null,null,null,null,null,null,null,null,null,null,null,null,4400,"-",4499,{"$f":"'Nastavení příloh'!BZ61","v":0},{"$f":"'Nastavení příloh'!CA61","v":0},{"$f":"'Nastavení příloh'!CB61","v":0},{"$f":"'Nastavení příloh'!CC61","v":7},{"$f":"'Nastavení příloh'!CD61","v":12},{"$f":"'Nastavení příloh'!CE61","v":12},{"$f":"'Nastavení příloh'!CF61","v":12},{"$f":"'Nastavení příloh'!CG61","v":12},{"$f":"'Nastavení příloh'!CH61","v":12},{"$f":"'Nastavení příloh'!CI61","v":12},{"$f":"'Nastavení příloh'!CJ61","v":12},{"$f":"'Nastavení příloh'!CK61","v":12},{"$f":"'Nastavení příloh'!CL61","v":12},{"$f":"'Nastavení příloh'!CM61","v":12},{"$f":"'Nastavení příloh'!CN61","v":14},{"$f":"'Nastavení příloh'!CO61","v":20},{"$f":"'Nastavení příloh'!CP61","v":25},{"$f":"'Nastavení příloh'!CQ61","v":25},{"$f":"'Nastavení příloh'!CR61","v":25}]
[null,4500,"-",4599,{"$f":"'Nastavení příloh'!F62","v":0},{"$f":"'Nastavení příloh'!G62","v":5},{"$f":"'Nastavení příloh'!H62","v":13},{"$f":"'Nastavení příloh'!I62","v":21},{"$f":"'Nastavení příloh'!J62","v":25},{"$f":"'Nastavení příloh'!K62","v":25},{"$f":"'Nastavení příloh'!L62","v":25},{"$f":"'Nastavení příloh'!M62","v":25},{"$f":"'Nastavení příloh'!N62","v":25},{"$f":"'Nastavení příloh'!O62","v":25},{"$f":"'Nastavení příloh'!P62","v":25},{"$f":"'Nastavení příloh'!Q62","v":25},{"$f":"'Nastavení příloh'!R62","v":25},{"$f":"'Nastavení příloh'!S62","v":25},{"$f":"'Nastavení příloh'!T62","v":25},{"$f":"'Nastavení příloh'!U62","v":25},{"$f":"'Nastavení příloh'!V62","v":25},{"$f":"'Nastavení příloh'!W62","v":25},{"$f":"'Nastavení příloh'!X62","v":25},null,4500,"-",4599,{"$f":"'Nastavení příloh'!AD62","v":-13},{"$f":"'Nastavení příloh'!AE62","v":-13},{"$f":"'Nastavení příloh'!AF62","v":-13},{"$f":"'Nastavení příloh'!AG62","v":-13},{"$f":"'Nastavení příloh'!AH62","v":-13},{"$f":"'Nastavení příloh'!AI62","v":-13},{"$f":"'Nastavení příloh'!AJ62","v":-13},{"$f":"'Nastavení příloh'!AK62","v":-13},{"$f":"'Nastavení příloh'!AL62","v":-13},{"$f":"'Nastavení příloh'!AM62","v":-13},{"$f":"'Nastavení příloh'!AN62","v":-13},{"$f":"'Nastavení příloh'!AO62","v":-13},{"$f":"'Nastavení příloh'!AP62","v":-13},{"$f":"'Nastavení příloh'!AQ62","v":-13},{"$f":"'Nastavení příloh'!AR62","v":-12},{"$f":"'Nastavení příloh'!AS62","v":-5},{"$f":"'Nastavení příloh'!AT62","v":0},{"$f":"'Nastavení příloh'!AU62","v":0},{"$f":"'Nastavení příloh'!AV62","v":0},null,null,null,null,null,null,null,null,null,null,null,null,null,null,null,null,null,null,null,null,null,null,null,null,4500,"-",4599,{"$f":"'Nastavení příloh'!BZ62","v":0},{"$f":"'Nastavení příloh'!CA62","v":0},{"$f":"'Nastavení příloh'!CB62","v":0},{"$f":"'Nastavení příloh'!CC62","v":8},{"$f":"'Nastavení příloh'!CD62","v":12},{"$f":"'Nastavení příloh'!CE62","v":12},{"$f":"'Nastavení příloh'!CF62","v":12},{"$f":"'Nastavení příloh'!CG62","v":12},{"$f":"'Nastavení příloh'!CH62","v":12},{"$f":"'Nastavení příloh'!CI62","v":12},{"$f":"'Nastavení příloh'!CJ62","v":12},{"$f":"'Nastavení příloh'!CK62","v":12},{"$f":"'Nastavení příloh'!CL62","v":12},{"$f":"'Nastavení příloh'!CM62","v":12},{"$f":"'Nastavení příloh'!CN62","v":13},{"$f":"'Nastavení příloh'!CO62","v":20},{"$f":"'Nastavení příloh'!CP62","v":25},{"$f":"'Nastavení příloh'!CQ62","v":25},{"$f":"'Nastavení příloh'!CR62","v":25}]
[null,4600,"-",4699,{"$f":"'Nastavení příloh'!F63","v":0},{"$f":"'Nastavení příloh'!G63","v":5},{"$f":"'Nastavení příloh'!H63","v":13},{"$f":"'Nastavení příloh'!I63","v":21},{"$f":"'Nastavení příloh'!J63","v":25},{"$f":"'Nastavení příloh'!K63","v":25},{"$f":"'Nastavení příloh'!L63","v":25},{"$f":"'Nastavení příloh'!M63","v":25},{"$f":"'Nastavení příloh'!N63","v":25},{"$f":"'Nastavení příloh'!O63","v":25},{"$f":"'Nastavení příloh'!P63","v":25},{"$f":"'Nastavení příloh'!Q63","v":25},{"$f":"'Nastavení příloh'!R63","v":25},{"$f":"'Nastavení příloh'!S63","v":25},{"$f":"'Nastavení příloh'!T63","v":25},{"$f":"'Nastavení příloh'!U63","v":25},{"$f":"'Nastavení příloh'!V63","v":25},{"$f":"'Nastavení příloh'!W63","v":25},{"$f":"'Nastavení příloh'!X63","v":25},null,4600,"-",4699,{"$f":"'Nastavení příloh'!AD63","v":-13},{"$f":"'Nastavení příloh'!AE63","v":-13},{"$f":"'Nastavení příloh'!AF63","v":-13},{"$f":"'Nastavení příloh'!AG63","v":-13},{"$f":"'Nastavení příloh'!AH63","v":-13},{"$f":"'Nastavení příloh'!AI63","v":-13},{"$f":"'Nastavení příloh'!AJ63","v":-13},{"$f":"'Nastavení příloh'!AK63","v":-13},{"$f":"'Nastavení příloh'!AL63","v":-13},{"$f":"'Nastavení příloh'!AM63","v":-13},{"$f":"'Nastavení příloh'!AN63","v":-13},{"$f":"'Nastavení příloh'!AO63","v":-13},{"$f":"'Nastavení příloh'!AP63","v":-13},{"$f":"'Nastavení příloh'!AQ63","v":-13},{"$f":"'Nastavení příloh'!AR63","v":-13},{"$f":"'Nastavení příloh'!AS63","v":-6},{"$f":"'Nastavení příloh'!AT63","v":0},{"$f":"'Nastavení příloh'!AU63","v":0},{"$f":"'Nastavení příloh'!AV63","v":0},null,null,null,null,null,null,null,null,null,null,null,null,null,null,null,null,null,null,null,null,null,null,null,null,4600,"-",4699,{"$f":"'Nastavení příloh'!BZ63","v":0},{"$f":"'Nastavení příloh'!CA63","v":0},{"$f":"'Nastavení příloh'!CB63","v":0},{"$f":"'Nastavení příloh'!CC63","v":8},{"$f":"'Nastavení příloh'!CD63","v":12},{"$f":"'Nastavení příloh'!CE63","v":12},{"$f":"'Nastavení příloh'!CF63","v":12},{"$f":"'Nastavení příloh'!CG63","v":12},{"$f":"'Nastavení příloh'!CH63","v":12},{"$f":"'Nastavení příloh'!CI63","v":12},{"$f":"'Nastavení příloh'!CJ63","v":12},{"$f":"'Nastavení příloh'!CK63","v":12},{"$f":"'Nastavení příloh'!CL63","v":12},{"$f":"'Nastavení příloh'!CM63","v":12},{"$f":"'Nastavení příloh'!CN63","v":12},{"$f":"'Nastavení příloh'!CO63","v":19},{"$f":"'Nastavení příloh'!CP63","v":25},{"$f":"'Nastavení příloh'!CQ63","v":25},{"$f":"'Nastavení příloh'!CR63","v":25}]
[null,4700,"-",4799,{"$f":"'Nastavení příloh'!F64","v":0},{"$f":"'Nastavení příloh'!G64","v":5},{"$f":"'Nastavení příloh'!H64","v":13},{"$f":"'Nastavení příloh'!I64","v":22},{"$f":"'Nastavení příloh'!J64","v":25},{"$f":"'Nastavení příloh'!K64","v":25},{"$f":"'Nastavení příloh'!L64","v":25},{"$f":"'Nastavení příloh'!M64","v":25},{"$f":"'Nastavení příloh'!N64","v":25},{"$f":"'Nastavení příloh'!O64","v":25},{"$f":"'Nastavení příloh'!P64","v":25},{"$f":"'Nastavení příloh'!Q64","v":25},{"$f":"'Nastavení příloh'!R64","v":25},{"$f":"'Nastavení příloh'!S64","v":25},{"$f":"'Nastavení příloh'!T64","v":25},{"$f":"'Nastavení příloh'!U64","v":25},{"$f":"'Nastavení příloh'!V64","v":25},{"$f":"'Nastavení příloh'!W64","v":25},{"$f":"'Nastavení příloh'!X64","v":25},null,4700,"-",4799,{"$f":"'Nastavení příloh'!AD64","v":-13},{"$f":"'Nastavení příloh'!AE64","v":-13},{"$f":"'Nastavení příloh'!AF64","v":-13},{"$f":"'Nastavení příloh'!AG64","v":-13},{"$f":"'Nastavení příloh'!AH64","v":-13},{"$f":"'Nastavení příloh'!AI64","v":-13},{"$f":"'Nastavení příloh'!AJ64","v":-13},{"$f":"'Nastavení příloh'!AK64","v":-13},{"$f":"'Nastavení příloh'!AL64","v":-13},{"$f":"'Nastavení příloh'!AM64","v":-13},{"$f":"'Nastavení příloh'!AN64","v":-13},{"$f":"'Nastavení příloh'!AO64","v":-13},{"$f":"'Nastavení příloh'!AP64","v":-13},{"$f":"'Nastavení příloh'!AQ64","v":-13},{"$f":"'Nastavení příloh'!AR64","v":-13},{"$f":"'Nastavení příloh'!AS64","v":-7},{"$f":"'Nastavení příloh'!AT64","v":0},{"$f":"'Nastavení příloh'!AU64","v":0},{"$f":"'Nastavení příloh'!AV64","v":0},null,null,null,null,null,null,null,null,null,null,null,null,null,null,null,null,null,null,null,null,null,null,null,null,4700,"-",4799,{"$f":"'Nastavení příloh'!BZ64","v":0},{"$f":"'Nastavení příloh'!CA64","v":0},{"$f":"'Nastavení příloh'!CB64","v":0},{"$f":"'Nastavení příloh'!CC64","v":9},{"$f":"'Nastavení příloh'!CD64","v":12},{"$f":"'Nastavení příloh'!CE64","v":12},{"$f":"'Nastavení příloh'!CF64","v":12},{"$f":"'Nastavení příloh'!CG64","v":12},{"$f":"'Nastavení příloh'!CH64","v":12},{"$f":"'Nastavení příloh'!CI64","v":12},{"$f":"'Nastavení příloh'!CJ64","v":12},{"$f":"'Nastavení příloh'!CK64","v":12},{"$f":"'Nastavení příloh'!CL64","v":12},{"$f":"'Nastavení příloh'!CM64","v":12},{"$f":"'Nastavení příloh'!CN64","v":12},{"$f":"'Nastavení příloh'!CO64","v":18},{"$f":"'Nastavení příloh'!CP64","v":25},{"$f":"'Nastavení příloh'!CQ64","v":25},{"$f":"'Nastavení příloh'!CR64","v":25}]
[null,4800,"-",4899,{"$f":"'Nastavení příloh'!F65","v":0},{"$f":"'Nastavení příloh'!G65","v":5},{"$f":"'Nastavení příloh'!H65","v":14},{"$f":"'Nastavení příloh'!I65","v":22},{"$f":"'Nastavení příloh'!J65","v":25},{"$f":"'Nastavení příloh'!K65","v":25},{"$f":"'Nastavení příloh'!L65","v":25},{"$f":"'Nastavení příloh'!M65","v":25},{"$f":"'Nastavení příloh'!N65","v":25},{"$f":"'Nastavení příloh'!O65","v":25},{"$f":"'Nastavení příloh'!P65","v":25},{"$f":"'Nastavení příloh'!Q65","v":25},{"$f":"'Nastavení příloh'!R65","v":25},{"$f":"'Nastavení příloh'!S65","v":25},{"$f":"'Nastavení příloh'!T65","v":25},{"$f":"'Nastavení příloh'!U65","v":25},{"$f":"'Nastavení příloh'!V65","v":25},{"$f":"'Nastavení příloh'!W65","v":25},{"$f":"'Nastavení příloh'!X65","v":25},null,4800,"-",4899,{"$f":"'Nastavení příloh'!AD65","v":-13},{"$f":"'Nastavení příloh'!AE65","v":-13},{"$f":"'Nastavení příloh'!AF65","v":-13},{"$f":"'Nastavení příloh'!AG65","v":-13},{"$f":"'Nastavení příloh'!AH65","v":-13},{"$f":"'Nastavení příloh'!AI65","v":-13},{"$f":"'Nastavení příloh'!AJ65","v":-13},{"$f":"'Nastavení příloh'!AK65","v":-13},{"$f":"'Nastavení příloh'!AL65","v":-13},{"$f":"'Nastavení příloh'!AM65","v":-13},{"$f":"'Nastavení příloh'!AN65","v":-13},{"$f":"'Nastavení příloh'!AO65","v":-13},{"$f":"'Nastavení příloh'!AP65","v":-13},{"$f":"'Nastavení příloh'!AQ65","v":-13},{"$f":"'Nastavení příloh'!AR65","v":-13},{"$f":"'Nastavení příloh'!AS65","v":-8},{"$f":"'Nastavení příloh'!AT65","v":-1},{"$f":"'Nastavení příloh'!AU65","v":0},{"$f":"'Nastavení příloh'!AV65","v":0},null,null,null,null,null,null,null,null,null,null,null,null,null,null,null,null,null,null,null,null,null,null,null,null,4800,"-",4899,{"$f":"'Nastavení příloh'!BZ65","v":0},{"$f":"'Nastavení příloh'!CA65","v":0},{"$f":"'Nastavení příloh'!CB65","v":1},{"$f":"'Nastavení příloh'!CC65","v":9},{"$f":"'Nastavení příloh'!CD65","v":12},{"$f":"'Nastavení příloh'!CE65","v":12},{"$f":"'Nastavení příloh'!CF65","v":12},{"$f":"'Nastavení příloh'!CG65","v":12},{"$f":"'Nastavení příloh'!CH65","v":12},{"$f":"'Nastavení příloh'!CI65","v":12},{"$f":"'Nastavení příloh'!CJ65","v":12},{"$f":"'Nastavení příloh'!CK65","v":12},{"$f":"'Nastavení příloh'!CL65","v":12},{"$f":"'Nastavení příloh'!CM65","v":12},{"$f":"'Nastavení příloh'!CN65","v":12},{"$f":"'Nastavení příloh'!CO65","v":17},{"$f":"'Nastavení příloh'!CP65","v":24},{"$f":"'Nastavení příloh'!CQ65","v":25},{"$f":"'Nastavení příloh'!CR65","v":25}]
[null,4900,"-",4999,{"$f":"'Nastavení příloh'!F66","v":0},{"$f":"'Nastavení příloh'!G66","v":5},{"$f":"'Nastavení příloh'!H66","v":14},{"$f":"'Nastavení příloh'!I66","v":23},{"$f":"'Nastavení příloh'!J66","v":25},{"$f":"'Nastavení příloh'!K66","v":25},{"$f":"'Nastavení příloh'!L66","v":25},{"$f":"'Nastavení příloh'!M66","v":25},{"$f":"'Nastavení příloh'!N66","v":25},{"$f":"'Nastavení příloh'!O66","v":25},{"$f":"'Nastavení příloh'!P66","v":25},{"$f":"'Nastavení příloh'!Q66","v":25},{"$f":"'Nastavení příloh'!R66","v":25},{"$f":"'Nastavení příloh'!S66","v":25},{"$f":"'Nastavení příloh'!T66","v":25},{"$f":"'Nastavení příloh'!U66","v":25},{"$f":"'Nastavení příloh'!V66","v":25},{"$f":"'Nastavení příloh'!W66","v":25},{"$f":"'Nastavení příloh'!X66","v":25},null,4900,"-",4999,{"$f":"'Nastavení příloh'!AD66","v":-13},{"$f":"'Nastavení příloh'!AE66","v":-13},{"$f":"'Nastavení příloh'!AF66","v":-13},{"$f":"'Nastavení příloh'!AG66","v":-13},{"$f":"'Nastavení příloh'!AH66","v":-13},{"$f":"'Nastavení příloh'!AI66","v":-13},{"$f":"'Nastavení příloh'!AJ66","v":-13},{"$f":"'Nastavení příloh'!AK66","v":-13},{"$f":"'Nastavení příloh'!AL66","v":-13},{"$f":"'Nastavení příloh'!AM66","v":-13},{"$f":"'Nastavení příloh'!AN66","v":-13},{"$f":"'Nastavení příloh'!AO66","v":-13},{"$f":"'Nastavení příloh'!AP66","v":-13},{"$f":"'Nastavení příloh'!AQ66","v":-13},{"$f":"'Nastavení příloh'!AR66","v":-13},{"$f":"'Nastavení příloh'!AS66","v":-8},{"$f":"'Nastavení příloh'!AT66","v":-1},{"$f":"'Nastavení příloh'!AU66","v":0},{"$f":"'Nastavení příloh'!AV66","v":0},null,null,null,null,null,null,null,null,null,null,null,null,null,null,null,null,null,null,null,null,null,null,null,null,4900,"-",4999,{"$f":"'Nastavení příloh'!BZ66","v":0},{"$f":"'Nastavení příloh'!CA66","v":0},{"$f":"'Nastavení příloh'!CB66","v":1},{"$f":"'Nastavení příloh'!CC66","v":10},{"$f":"'Nastavení příloh'!CD66","v":12},{"$f":"'Nastavení příloh'!CE66","v":12},{"$f":"'Nastavení příloh'!CF66","v":12},{"$f":"'Nastavení příloh'!CG66","v":12},{"$f":"'Nastavení příloh'!CH66","v":12},{"$f":"'Nastavení příloh'!CI66","v":12},{"$f":"'Nastavení příloh'!CJ66","v":12},{"$f":"'Nastavení příloh'!CK66","v":12},{"$f":"'Nastavení příloh'!CL66","v":12},{"$f":"'Nastavení příloh'!CM66","v":12},{"$f":"'Nastavení příloh'!CN66","v":12},{"$f":"'Nastavení příloh'!CO66","v":17},{"$f":"'Nastavení příloh'!CP66","v":24},{"$f":"'Nastavení příloh'!CQ66","v":25},{"$f":"'Nastavení příloh'!CR66","v":25}]
[null,5000,"-",5099,{"$f":"'Nastavení příloh'!F67","v":0},{"$f":"'Nastavení příloh'!G67","v":5},{"$f":"'Nastavení příloh'!H67","v":14},{"$f":"'Nastavení příloh'!I67","v":23},{"$f":"'Nastavení příloh'!J67","v":25},{"$f":"'Nastavení příloh'!K67","v":25},{"$f":"'Nastavení příloh'!L67","v":25},{"$f":"'Nastavení příloh'!M67","v":25},{"$f":"'Nastavení příloh'!N67","v":25},{"$f":"'Nastavení příloh'!O67","v":25},{"$f":"'Nastavení příloh'!P67","v":25},{"$f":"'Nastavení příloh'!Q67","v":25},{"$f":"'Nastavení příloh'!R67","v":25},{"$f":"'Nastavení příloh'!S67","v":25},{"$f":"'Nastavení příloh'!T67","v":25},{"$f":"'Nastavení příloh'!U67","v":25},{"$f":"'Nastavení příloh'!V67","v":25},{"$f":"'Nastavení příloh'!W67","v":25},{"$f":"'Nastavení příloh'!X67","v":25},null,5000,"-",5099,{"$f":"'Nastavení příloh'!AD67","v":-13},{"$f":"'Nastavení příloh'!AE67","v":-13},{"$f":"'Nastavení příloh'!AF67","v":-13},{"$f":"'Nastavení příloh'!AG67","v":-13},{"$f":"'Nastavení příloh'!AH67","v":-13},{"$f":"'Nastavení příloh'!AI67","v":-13},{"$f":"'Nastavení příloh'!AJ67","v":-13},{"$f":"'Nastavení příloh'!AK67","v":-13},{"$f":"'Nastavení příloh'!AL67","v":-13},{"$f":"'Nastavení příloh'!AM67","v":-13},{"$f":"'Nastavení příloh'!AN67","v":-13},{"$f":"'Nastavení příloh'!AO67","v":-13},{"$f":"'Nastavení příloh'!AP67","v":-13},{"$f":"'Nastavení příloh'!AQ67","v":-13},{"$f":"'Nastavení příloh'!AR67","v":-13},{"$f":"'Nastavení příloh'!AS67","v":-9},{"$f":"'Nastavení příloh'!AT67","v":-2},{"$f":"'Nastavení příloh'!AU67","v":0},{"$f":"'Nastavení příloh'!AV67","v":0},null,null,null,null,null,null,null,null,null,null,null,null,null,null,null,null,null,null,null,null,null,null,null,null,5000,"-",5099,{"$f":"'Nastavení příloh'!BZ67","v":0},{"$f":"'Nastavení příloh'!CA67","v":0},{"$f":"'Nastavení příloh'!CB67","v":1},{"$f":"'Nastavení příloh'!CC67","v":10},{"$f":"'Nastavení příloh'!CD67","v":12},{"$f":"'Nastavení příloh'!CE67","v":12},{"$f":"'Nastavení příloh'!CF67","v":12},{"$f":"'Nastavení příloh'!CG67","v":12},{"$f":"'Nastavení příloh'!CH67","v":12},{"$f":"'Nastavení příloh'!CI67","v":12},{"$f":"'Nastavení příloh'!CJ67","v":12},{"$f":"'Nastavení příloh'!CK67","v":12},{"$f":"'Nastavení příloh'!CL67","v":12},{"$f":"'Nastavení příloh'!CM67","v":12},{"$f":"'Nastavení příloh'!CN67","v":12},{"$f":"'Nastavení příloh'!CO67","v":16},{"$f":"'Nastavení příloh'!CP67","v":23},{"$f":"'Nastavení příloh'!CQ67","v":25},{"$f":"'Nastavení příloh'!CR67","v":25}]
[null,5100,"-",5199,{"$f":"'Nastavení příloh'!F68","v":0},{"$f":"'Nastavení příloh'!G68","v":5},{"$f":"'Nastavení příloh'!H68","v":14},{"$f":"'Nastavení příloh'!I68","v":23},{"$f":"'Nastavení příloh'!J68","v":25},{"$f":"'Nastavení příloh'!K68","v":25},{"$f":"'Nastavení příloh'!L68","v":25},{"$f":"'Nastavení příloh'!M68","v":25},{"$f":"'Nastavení příloh'!N68","v":25},{"$f":"'Nastavení příloh'!O68","v":25},{"$f":"'Nastavení příloh'!P68","v":25},{"$f":"'Nastavení příloh'!Q68","v":25},{"$f":"'Nastavení příloh'!R68","v":25},{"$f":"'Nastavení příloh'!S68","v":25},{"$f":"'Nastavení příloh'!T68","v":25},{"$f":"'Nastavení příloh'!U68","v":25},{"$f":"'Nastavení příloh'!V68","v":25},{"$f":"'Nastavení příloh'!W68","v":25},{"$f":"'Nastavení příloh'!X68","v":25},null,5100,"-",5199,{"$f":"'Nastavení příloh'!AD68","v":-13},{"$f":"'Nastavení příloh'!AE68","v":-13},{"$f":"'Nastavení příloh'!AF68","v":-13},{"$f":"'Nastavení příloh'!AG68","v":-13},{"$f":"'Nastavení příloh'!AH68","v":-13},{"$f":"'Nastavení příloh'!AI68","v":-13},{"$f":"'Nastavení příloh'!AJ68","v":-13},{"$f":"'Nastavení příloh'!AK68","v":-13},{"$f":"'Nastavení příloh'!AL68","v":-13},{"$f":"'Nastavení příloh'!AM68","v":-13},{"$f":"'Nastavení příloh'!AN68","v":-13},{"$f":"'Nastavení příloh'!AO68","v":-13},{"$f":"'Nastavení příloh'!AP68","v":-13},{"$f":"'Nastavení příloh'!AQ68","v":-13},{"$f":"'Nastavení příloh'!AR68","v":-13},{"$f":"'Nastavení příloh'!AS68","v":-10},{"$f":"'Nastavení příloh'!AT68","v":-3},{"$f":"'Nastavení příloh'!AU68","v":0},{"$f":"'Nastavení příloh'!AV68","v":0},null,null,null,null,null,null,null,null,null,null,null,null,null,null,null,null,null,null,null,null,null,null,null,null,5100,"-",5199,{"$f":"'Nastavení příloh'!BZ68","v":0},{"$f":"'Nastavení příloh'!CA68","v":0},{"$f":"'Nastavení příloh'!CB68","v":1},{"$f":"'Nastavení příloh'!CC68","v":10},{"$f":"'Nastavení příloh'!CD68","v":12},{"$f":"'Nastavení příloh'!CE68","v":12},{"$f":"'Nastavení příloh'!CF68","v":12},{"$f":"'Nastavení příloh'!CG68","v":12},{"$f":"'Nastavení příloh'!CH68","v":12},{"$f":"'Nastavení příloh'!CI68","v":12},{"$f":"'Nastavení příloh'!CJ68","v":12},{"$f":"'Nastavení příloh'!CK68","v":12},{"$f":"'Nastavení příloh'!CL68","v":12},{"$f":"'Nastavení příloh'!CM68","v":12},{"$f":"'Nastavení příloh'!CN68","v":12},{"$f":"'Nastavení příloh'!CO68","v":15},{"$f":"'Nastavení příloh'!CP68","v":22},{"$f":"'Nastavení příloh'!CQ68","v":25},{"$f":"'Nastavení příloh'!CR68","v":25}]
[null,5200,"-",5299,{"$f":"'Nastavení příloh'!F69","v":0},{"$f":"'Nastavení příloh'!G69","v":6},{"$f":"'Nastavení příloh'!H69","v":15},{"$f":"'Nastavení příloh'!I69","v":24},{"$f":"'Nastavení příloh'!J69","v":25},{"$f":"'Nastavení příloh'!K69","v":25},{"$f":"'Nastavení příloh'!L69","v":25},{"$f":"'Nastavení příloh'!M69","v":25},{"$f":"'Nastavení příloh'!N69","v":25},{"$f":"'Nastavení příloh'!O69","v":25},{"$f":"'Nastavení příloh'!P69","v":25},{"$f":"'Nastavení příloh'!Q69","v":25},{"$f":"'Nastavení příloh'!R69","v":25},{"$f":"'Nastavení příloh'!S69","v":25},{"$f":"'Nastavení příloh'!T69","v":25},{"$f":"'Nastavení příloh'!U69","v":25},{"$f":"'Nastavení příloh'!V69","v":25},{"$f":"'Nastavení příloh'!W69","v":25},{"$f":"'Nastavení příloh'!X69","v":25},null,5200,"-",5299,{"$f":"'Nastavení příloh'!AD69","v":-13},{"$f":"'Nastavení příloh'!AE69","v":-13},{"$f":"'Nastavení příloh'!AF69","v":-13},{"$f":"'Nastavení příloh'!AG69","v":-13},{"$f":"'Nastavení příloh'!AH69","v":-13},{"$f":"'Nastavení příloh'!AI69","v":-13},{"$f":"'Nastavení příloh'!AJ69","v":-13},{"$f":"'Nastavení příloh'!AK69","v":-13},{"$f":"'Nastavení příloh'!AL69","v":-13},{"$f":"'Nastavení příloh'!AM69","v":-13},{"$f":"'Nastavení příloh'!AN69","v":-13},{"$f":"'Nastavení příloh'!AO69","v":-13},{"$f":"'Nastavení příloh'!AP69","v":-13},{"$f":"'Nastavení příloh'!AQ69","v":-13},{"$f":"'Nastavení příloh'!AR69","v":-13},{"$f":"'Nastavení příloh'!AS69","v":-11},{"$f":"'Nastavení příloh'!AT69","v":-3},{"$f":"'Nastavení příloh'!AU69","v":0},{"$f":"'Nastavení příloh'!AV69","v":0},null,null,null,null,null,null,null,null,null,null,null,null,null,null,null,null,null,null,null,null,null,null,null,null,5200,"-",5299,{"$f":"'Nastavení příloh'!BZ69","v":0},{"$f":"'Nastavení příloh'!CA69","v":0},{"$f":"'Nastavení příloh'!CB69","v":2},{"$f":"'Nastavení příloh'!CC69","v":11},{"$f":"'Nastavení příloh'!CD69","v":12},{"$f":"'Nastavení příloh'!CE69","v":12},{"$f":"'Nastavení příloh'!CF69","v":12},{"$f":"'Nastavení příloh'!CG69","v":12},{"$f":"'Nastavení příloh'!CH69","v":12},{"$f":"'Nastavení příloh'!CI69","v":12},{"$f":"'Nastavení příloh'!CJ69","v":12},{"$f":"'Nastavení příloh'!CK69","v":12},{"$f":"'Nastavení příloh'!CL69","v":12},{"$f":"'Nastavení příloh'!CM69","v":12},{"$f":"'Nastavení příloh'!CN69","v":12},{"$f":"'Nastavení příloh'!CO69","v":14},{"$f":"'Nastavení příloh'!CP69","v":22},{"$f":"'Nastavení příloh'!CQ69","v":25},{"$f":"'Nastavení příloh'!CR69","v":25}]
[null,5300,"-",5399,{"$f":"'Nastavení příloh'!F70","v":0},{"$f":"'Nastavení příloh'!G70","v":6},{"$f":"'Nastavení příloh'!H70","v":15},{"$f":"'Nastavení příloh'!I70","v":24},{"$f":"'Nastavení příloh'!J70","v":25},{"$f":"'Nastavení příloh'!K70","v":25},{"$f":"'Nastavení příloh'!L70","v":25},{"$f":"'Nastavení příloh'!M70","v":25},{"$f":"'Nastavení příloh'!N70","v":25},{"$f":"'Nastavení příloh'!O70","v":25},{"$f":"'Nastavení příloh'!P70","v":25},{"$f":"'Nastavení příloh'!Q70","v":25},{"$f":"'Nastavení příloh'!R70","v":25},{"$f":"'Nastavení příloh'!S70","v":25},{"$f":"'Nastavení příloh'!T70","v":25},{"$f":"'Nastavení příloh'!U70","v":25},{"$f":"'Nastavení příloh'!V70","v":25},{"$f":"'Nastavení příloh'!W70","v":25},{"$f":"'Nastavení příloh'!X70","v":25},null,5300,"-",5399,{"$f":"'Nastavení příloh'!AD70","v":-13},{"$f":"'Nastavení příloh'!AE70","v":-13},{"$f":"'Nastavení příloh'!AF70","v":-13},{"$f":"'Nastavení příloh'!AG70","v":-13},{"$f":"'Nastavení příloh'!AH70","v":-13},{"$f":"'Nastavení příloh'!AI70","v":-13},{"$f":"'Nastavení příloh'!AJ70","v":-13},{"$f":"'Nastavení příloh'!AK70","v":-13},{"$f":"'Nastavení příloh'!AL70","v":-13},{"$f":"'Nastavení příloh'!AM70","v":-13},{"$f":"'Nastavení příloh'!AN70","v":-13},{"$f":"'Nastavení příloh'!AO70","v":-13},{"$f":"'Nastavení příloh'!AP70","v":-13},{"$f":"'Nastavení příloh'!AQ70","v":-13},{"$f":"'Nastavení příloh'!AR70","v":-13},{"$f":"'Nastavení příloh'!AS70","v":-11},{"$f":"'Nastavení příloh'!AT70","v":-4},{"$f":"'Nastavení příloh'!AU70","v":0},{"$f":"'Nastavení příloh'!AV70","v":0},null,null,null,null,null,null,null,null,null,null,null,null,null,null,null,null,null,null,null,null,null,null,null,null,5300,"-",5399,{"$f":"'Nastavení příloh'!BZ70","v":0},{"$f":"'Nastavení příloh'!CA70","v":0},{"$f":"'Nastavení příloh'!CB70","v":2},{"$f":"'Nastavení příloh'!CC70","v":11},{"$f":"'Nastavení příloh'!CD70","v":12},{"$f":"'Nastavení příloh'!CE70","v":12},{"$f":"'Nastavení příloh'!CF70","v":12},{"$f":"'Nastavení příloh'!CG70","v":12},{"$f":"'Nastavení příloh'!CH70","v":12},{"$f":"'Nastavení příloh'!CI70","v":12},{"$f":"'Nastavení příloh'!CJ70","v":12},{"$f":"'Nastavení příloh'!CK70","v":12},{"$f":"'Nastavení příloh'!CL70","v":12},{"$f":"'Nastavení příloh'!CM70","v":12},{"$f":"'Nastavení příloh'!CN70","v":12},{"$f":"'Nastavení příloh'!CO70","v":14},{"$f":"'Nastavení příloh'!CP70","v":21},{"$f":"'Nastavení příloh'!CQ70","v":25},{"$f":"'Nastavení příloh'!CR70","v":25}]
[null,5400,"-",5499,{"$f":"'Nastavení příloh'!F71","v":0},{"$f":"'Nastavení příloh'!G71","v":6},{"$f":"'Nastavení příloh'!H71","v":15},{"$f":"'Nastavení příloh'!I71","v":25},{"$f":"'Nastavení příloh'!J71","v":25},{"$f":"'Nastavení příloh'!K71","v":25},{"$f":"'Nastavení příloh'!L71","v":25},{"$f":"'Nastavení příloh'!M71","v":25},{"$f":"'Nastavení příloh'!N71","v":25},{"$f":"'Nastavení příloh'!O71","v":25},{"$f":"'Nastavení příloh'!P71","v":25},{"$f":"'Nastavení příloh'!Q71","v":25},{"$f":"'Nastavení příloh'!R71","v":25},{"$f":"'Nastavení příloh'!S71","v":25},{"$f":"'Nastavení příloh'!T71","v":25},{"$f":"'Nastavení příloh'!U71","v":25},{"$f":"'Nastavení příloh'!V71","v":25},{"$f":"'Nastavení příloh'!W71","v":25},{"$f":"'Nastavení příloh'!X71","v":25},null,5400,"-",5499,{"$f":"'Nastavení příloh'!AD71","v":-13},{"$f":"'Nastavení příloh'!AE71","v":-13},{"$f":"'Nastavení příloh'!AF71","v":-13},{"$f":"'Nastavení příloh'!AG71","v":-13},{"$f":"'Nastavení příloh'!AH71","v":-13},{"$f":"'Nastavení příloh'!AI71","v":-13},{"$f":"'Nastavení příloh'!AJ71","v":-13},{"$f":"'Nastavení příloh'!AK71","v":-13},{"$f":"'Nastavení příloh'!AL71","v":-13},{"$f":"'Nastavení příloh'!AM71","v":-13},{"$f":"'Nastavení příloh'!AN71","v":-13},{"$f":"'Nastavení příloh'!AO71","v":-13},{"$f":"'Nastavení příloh'!AP71","v":-13},{"$f":"'Nastavení příloh'!AQ71","v":-13},{"$f":"'Nastavení příloh'!AR71","v":-13},{"$f":"'Nastavení příloh'!AS71","v":-12},{"$f":"'Nastavení příloh'!AT71","v":-4},{"$f":"'Nastavení příloh'!AU71","v":0},{"$f":"'Nastavení příloh'!AV71","v":0},null,null,null,null,null,null,null,null,null,null,null,null,null,null,null,null,null,null,null,null,null,null,null,null,5400,"-",5499,{"$f":"'Nastavení příloh'!BZ71","v":0},{"$f":"'Nastavení příloh'!CA71","v":0},{"$f":"'Nastavení příloh'!CB71","v":2},{"$f":"'Nastavení příloh'!CC71","v":12},{"$f":"'Nastavení příloh'!CD71","v":12},{"$f":"'Nastavení příloh'!CE71","v":12},{"$f":"'Nastavení příloh'!CF71","v":12},{"$f":"'Nastavení příloh'!CG71","v":12},{"$f":"'Nastavení příloh'!CH71","v":12},{"$f":"'Nastavení příloh'!CI71","v":12},{"$f":"'Nastavení příloh'!CJ71","v":12},{"$f":"'Nastavení příloh'!CK71","v":12},{"$f":"'Nastavení příloh'!CL71","v":12},{"$f":"'Nastavení příloh'!CM71","v":12},{"$f":"'Nastavení příloh'!CN71","v":12},{"$f":"'Nastavení příloh'!CO71","v":13},{"$f":"'Nastavení příloh'!CP71","v":21},{"$f":"'Nastavení příloh'!CQ71","v":25},{"$f":"'Nastavení příloh'!CR71","v":25}]
[null,5500,"-",5599,{"$f":"'Nastavení příloh'!F72","v":0},{"$f":"'Nastavení příloh'!G72","v":6},{"$f":"'Nastavení příloh'!H72","v":16},{"$f":"'Nastavení příloh'!I72","v":25},{"$f":"'Nastavení příloh'!J72","v":25},{"$f":"'Nastavení příloh'!K72","v":25},{"$f":"'Nastavení příloh'!L72","v":25},{"$f":"'Nastavení příloh'!M72","v":25},{"$f":"'Nastavení příloh'!N72","v":25},{"$f":"'Nastavení příloh'!O72","v":25},{"$f":"'Nastavení příloh'!P72","v":25},{"$f":"'Nastavení příloh'!Q72","v":25},{"$f":"'Nastavení příloh'!R72","v":25},{"$f":"'Nastavení příloh'!S72","v":25},{"$f":"'Nastavení příloh'!T72","v":25},{"$f":"'Nastavení příloh'!U72","v":25},{"$f":"'Nastavení příloh'!V72","v":25},{"$f":"'Nastavení příloh'!W72","v":25},{"$f":"'Nastavení příloh'!X72","v":25},null,5500,"-",5599,{"$f":"'Nastavení příloh'!AD72","v":-13},{"$f":"'Nastavení příloh'!AE72","v":-13},{"$f":"'Nastavení příloh'!AF72","v":-13},{"$f":"'Nastavení příloh'!AG72","v":-13},{"$f":"'Nastavení příloh'!AH72","v":-13},{"$f":"'Nastavení příloh'!AI72","v":-13},{"$f":"'Nastavení příloh'!AJ72","v":-13},{"$f":"'Nastavení příloh'!AK72","v":-13},{"$f":"'Nastavení příloh'!AL72","v":-13},{"$f":"'Nastavení příloh'!AM72","v":-13},{"$f":"'Nastavení příloh'!AN72","v":-13},{"$f":"'Nastavení příloh'!AO72","v":-13},{"$f":"'Nastavení příloh'!AP72","v":-13},{"$f":"'Nastavení příloh'!AQ72","v":-13},{"$f":"'Nastavení příloh'!AR72","v":-13},{"$f":"'Nastavení příloh'!AS72","v":-13},{"$f":"'Nastavení příloh'!AT72","v":-5},{"$f":"'Nastavení příloh'!AU72","v":0},{"$f":"'Nastavení příloh'!AV72","v":0},null,null,null,null,null,null,null,null,null,null,null,null,null,null,null,null,null,null,null,null,null,null,null,null,5500,"-",5599,{"$f":"'Nastavení příloh'!BZ72","v":0},{"$f":"'Nastavení příloh'!CA72","v":0},{"$f":"'Nastavení příloh'!CB72","v":3},{"$f":"'Nastavení příloh'!CC72","v":12},{"$f":"'Nastavení příloh'!CD72","v":12},{"$f":"'Nastavení příloh'!CE72","v":12},{"$f":"'Nastavení příloh'!CF72","v":12},{"$f":"'Nastavení příloh'!CG72","v":12},{"$f":"'Nastavení příloh'!CH72","v":12},{"$f":"'Nastavení příloh'!CI72","v":12},{"$f":"'Nastavení příloh'!CJ72","v":12},{"$f":"'Nastavení příloh'!CK72","v":12},{"$f":"'Nastavení příloh'!CL72","v":12},{"$f":"'Nastavení příloh'!CM72","v":12},{"$f":"'Nastavení příloh'!CN72","v":12},{"$f":"'Nastavení příloh'!CO72","v":12},{"$f":"'Nastavení příloh'!CP72","v":20},{"$f":"'Nastavení příloh'!CQ72","v":25},{"$f":"'Nastavení příloh'!CR72","v":25}]
[null,5600,"-",5699,{"$f":"'Nastavení příloh'!F73","v":0},{"$f":"'Nastavení příloh'!G73","v":6},{"$f":"'Nastavení příloh'!H73","v":16},{"$f":"'Nastavení příloh'!I73","v":25},{"$f":"'Nastavení příloh'!J73","v":25},{"$f":"'Nastavení příloh'!K73","v":25},{"$f":"'Nastavení příloh'!L73","v":25},{"$f":"'Nastavení příloh'!M73","v":25},{"$f":"'Nastavení příloh'!N73","v":25},{"$f":"'Nastavení příloh'!O73","v":25},{"$f":"'Nastavení příloh'!P73","v":25},{"$f":"'Nastavení příloh'!Q73","v":25},{"$f":"'Nastavení příloh'!R73","v":25},{"$f":"'Nastavení příloh'!S73","v":25},{"$f":"'Nastavení příloh'!T73","v":25},{"$f":"'Nastavení příloh'!U73","v":25},{"$f":"'Nastavení příloh'!V73","v":25},{"$f":"'Nastavení příloh'!W73","v":25},{"$f":"'Nastavení příloh'!X73","v":25},null,5600,"-",5699,{"$f":"'Nastavení příloh'!AD73","v":-13},{"$f":"'Nastavení příloh'!AE73","v":-13},{"$f":"'Nastavení příloh'!AF73","v":-13},{"$f":"'Nastavení příloh'!AG73","v":-13},{"$f":"'Nastavení příloh'!AH73","v":-13},{"$f":"'Nastavení příloh'!AI73","v":-13},{"$f":"'Nastavení příloh'!AJ73","v":-13},{"$f":"'Nastavení příloh'!AK73","v":-13},{"$f":"'Nastavení příloh'!AL73","v":-13},{"$f":"'Nastavení příloh'!AM73","v":-13},{"$f":"'Nastavení příloh'!AN73","v":-13},{"$f":"'Nastavení příloh'!AO73","v":-13},{"$f":"'Nastavení příloh'!AP73","v":-13},{"$f":"'Nastavení příloh'!AQ73","v":-13},{"$f":"'Nastavení příloh'!AR73","v":-13},{"$f":"'Nastavení příloh'!AS73","v":-13},{"$f":"'Nastavení příloh'!AT73","v":-6},{"$f":"'Nastavení příloh'!AU73","v":0},{"$f":"'Nastavení příloh'!AV73","v":0},null,null,null,null,null,null,null,null,null,null,null,null,null,null,null,null,null,null,null,null,null,null,null,null,5600,"-",5699,{"$f":"'Nastavení příloh'!BZ73","v":0},{"$f":"'Nastavení příloh'!CA73","v":0},{"$f":"'Nastavení příloh'!CB73","v":3},{"$f":"'Nastavení příloh'!CC73","v":12},{"$f":"'Nastavení příloh'!CD73","v":12},{"$f":"'Nastavení příloh'!CE73","v":12},{"$f":"'Nastavení příloh'!CF73","v":12},{"$f":"'Nastavení příloh'!CG73","v":12},{"$f":"'Nastavení příloh'!CH73","v":12},{"$f":"'Nastavení příloh'!CI73","v":12},{"$f":"'Nastavení příloh'!CJ73","v":12},{"$f":"'Nastavení příloh'!CK73","v":12},{"$f":"'Nastavení příloh'!CL73","v":12},{"$f":"'Nastavení příloh'!CM73","v":12},{"$f":"'Nastavení příloh'!CN73","v":12},{"$f":"'Nastavení příloh'!CO73","v":12},{"$f":"'Nastavení příloh'!CP73","v":19},{"$f":"'Nastavení příloh'!CQ73","v":25},{"$f":"'Nastavení příloh'!CR73","v":25}]
[null,5700,"-",5799,{"$f":"'Nastavení příloh'!F74","v":0},{"$f":"'Nastavení příloh'!G74","v":6},{"$f":"'Nastavení příloh'!H74","v":16},{"$f":"'Nastavení příloh'!I74","v":25},{"$f":"'Nastavení příloh'!J74","v":25},{"$f":"'Nastavení příloh'!K74","v":25},{"$f":"'Nastavení příloh'!L74","v":25},{"$f":"'Nastavení příloh'!M74","v":25},{"$f":"'Nastavení příloh'!N74","v":25},{"$f":"'Nastavení příloh'!O74","v":25},{"$f":"'Nastavení příloh'!P74","v":25},{"$f":"'Nastavení příloh'!Q74","v":25},{"$f":"'Nastavení příloh'!R74","v":25},{"$f":"'Nastavení příloh'!S74","v":25},{"$f":"'Nastavení příloh'!T74","v":25},{"$f":"'Nastavení příloh'!U74","v":25},{"$f":"'Nastavení příloh'!V74","v":25},{"$f":"'Nastavení příloh'!W74","v":25},{"$f":"'Nastavení příloh'!X74","v":25},null,5700,"-",5799,{"$f":"'Nastavení příloh'!AD74","v":-13},{"$f":"'Nastavení příloh'!AE74","v":-13},{"$f":"'Nastavení příloh'!AF74","v":-13},{"$f":"'Nastavení příloh'!AG74","v":-13},{"$f":"'Nastavení příloh'!AH74","v":-13},{"$f":"'Nastavení příloh'!AI74","v":-13},{"$f":"'Nastavení příloh'!AJ74","v":-13},{"$f":"'Nastavení příloh'!AK74","v":-13},{"$f":"'Nastavení příloh'!AL74","v":-13},{"$f":"'Nastavení příloh'!AM74","v":-13},{"$f":"'Nastavení příloh'!AN74","v":-13},{"$f":"'Nastavení příloh'!AO74","v":-13},{"$f":"'Nastavení příloh'!AP74","v":-13},{"$f":"'Nastavení příloh'!AQ74","v":-13},{"$f":"'Nastavení příloh'!AR74","v":-13},{"$f":"'Nastavení příloh'!AS74","v":-13},{"$f":"'Nastavení příloh'!AT74","v":-6},{"$f":"'Nastavení příloh'!AU74","v":0},{"$f":"'Nastavení příloh'!AV74","v":0},null,null,null,null,null,null,null,null,null,null,null,null,null,null,null,null,null,null,null,null,null,null,null,null,5700,"-",5799,{"$f":"'Nastavení příloh'!BZ74","v":0},{"$f":"'Nastavení příloh'!CA74","v":0},{"$f":"'Nastavení příloh'!CB74","v":3},{"$f":"'Nastavení příloh'!CC74","v":12},{"$f":"'Nastavení příloh'!CD74","v":12},{"$f":"'Nastavení příloh'!CE74","v":12},{"$f":"'Nastavení příloh'!CF74","v":12},{"$f":"'Nastavení příloh'!CG74","v":12},{"$f":"'Nastavení příloh'!CH74","v":12},{"$f":"'Nastavení příloh'!CI74","v":12},{"$f":"'Nastavení příloh'!CJ74","v":12},{"$f":"'Nastavení příloh'!CK74","v":12},{"$f":"'Nastavení příloh'!CL74","v":12},{"$f":"'Nastavení příloh'!CM74","v":12},{"$f":"'Nastavení příloh'!CN74","v":12},{"$f":"'Nastavení příloh'!CO74","v":12},{"$f":"'Nastavení příloh'!CP74","v":19},{"$f":"'Nastavení příloh'!CQ74","v":25},{"$f":"'Nastavení příloh'!CR74","v":25}]
[null,5800,"-",5899,{"$f":"'Nastavení příloh'!F75","v":0},{"$f":"'Nastavení příloh'!G75","v":6},{"$f":"'Nastavení příloh'!H75","v":16},{"$f":"'Nastavení příloh'!I75","v":25},{"$f":"'Nastavení příloh'!J75","v":25},{"$f":"'Nastavení příloh'!K75","v":25},{"$f":"'Nastavení příloh'!L75","v":25},{"$f":"'Nastavení příloh'!M75","v":25},{"$f":"'Nastavení příloh'!N75","v":25},{"$f":"'Nastavení příloh'!O75","v":25},{"$f":"'Nastavení příloh'!P75","v":25},{"$f":"'Nastavení příloh'!Q75","v":25},{"$f":"'Nastavení příloh'!R75","v":25},{"$f":"'Nastavení příloh'!S75","v":25},{"$f":"'Nastavení příloh'!T75","v":25},{"$f":"'Nastavení příloh'!U75","v":25},{"$f":"'Nastavení příloh'!V75","v":25},{"$f":"'Nastavení příloh'!W75","v":25},{"$f":"'Nastavení příloh'!X75","v":25},null,5800,"-",5899,{"$f":"'Nastavení příloh'!AD75","v":-13},{"$f":"'Nastavení příloh'!AE75","v":-13},{"$f":"'Nastavení příloh'!AF75","v":-13},{"$f":"'Nastavení příloh'!AG75","v":-13},{"$f":"'Nastavení příloh'!AH75","v":-13},{"$f":"'Nastavení příloh'!AI75","v":-13},{"$f":"'Nastavení příloh'!AJ75","v":-13},{"$f":"'Nastavení příloh'!AK75","v":-13},{"$f":"'Nastavení příloh'!AL75","v":-13},{"$f":"'Nastavení příloh'!AM75","v":-13},{"$f":"'Nastavení příloh'!AN75","v":-13},{"$f":"'Nastavení příloh'!AO75","v":-13},{"$f":"'Nastavení příloh'!AP75","v":-13},{"$f":"'Nastavení příloh'!AQ75","v":-13},{"$f":"'Nastavení příloh'!AR75","v":-13},{"$f":"'Nastavení příloh'!AS75","v":-13},{"$f":"'Nastavení příloh'!AT75","v":-7},{"$f":"'Nastavení příloh'!AU75","v":0},{"$f":"'Nastavení příloh'!AV75","v":0},null,null,null,null,null,null,null,null,null,null,null,null,null,null,null,null,null,null,null,null,null,null,null,null,5800,"-",5899,{"$f":"'Nastavení příloh'!BZ75","v":0},{"$f":"'Nastavení příloh'!CA75","v":0},{"$f":"'Nastavení příloh'!CB75","v":3},{"$f":"'Nastavení příloh'!CC75","v":12},{"$f":"'Nastavení příloh'!CD75","v":12},{"$f":"'Nastavení příloh'!CE75","v":12},{"$f":"'Nastavení příloh'!CF75","v":12},{"$f":"'Nastavení příloh'!CG75","v":12},{"$f":"'Nastavení příloh'!CH75","v":12},{"$f":"'Nastavení příloh'!CI75","v":12},{"$f":"'Nastavení příloh'!CJ75","v":12},{"$f":"'Nastavení příloh'!CK75","v":12},{"$f":"'Nastavení příloh'!CL75","v":12},{"$f":"'Nastavení příloh'!CM75","v":12},{"$f":"'Nastavení příloh'!CN75","v":12},{"$f":"'Nastavení příloh'!CO75","v":12},{"$f":"'Nastavení příloh'!CP75","v":18},{"$f":"'Nastavení příloh'!CQ75","v":25},{"$f":"'Nastavení příloh'!CR75","v":25}]
[null,5900,"-",5999,{"$f":"'Nastavení příloh'!F76","v":0},{"$f":"'Nastavení příloh'!G76","v":6},{"$f":"'Nastavení příloh'!H76","v":17},{"$f":"'Nastavení příloh'!I76","v":25},{"$f":"'Nastavení příloh'!J76","v":25},{"$f":"'Nastavení příloh'!K76","v":25},{"$f":"'Nastavení příloh'!L76","v":25},{"$f":"'Nastavení příloh'!M76","v":25},{"$f":"'Nastavení příloh'!N76","v":25},{"$f":"'Nastavení příloh'!O76","v":25},{"$f":"'Nastavení příloh'!P76","v":25},{"$f":"'Nastavení příloh'!Q76","v":25},{"$f":"'Nastavení příloh'!R76","v":25},{"$f":"'Nastavení příloh'!S76","v":25},{"$f":"'Nastavení příloh'!T76","v":25},{"$f":"'Nastavení příloh'!U76","v":25},{"$f":"'Nastavení příloh'!V76","v":25},{"$f":"'Nastavení příloh'!W76","v":25},{"$f":"'Nastavení příloh'!X76","v":25},null,5900,"-",5999,{"$f":"'Nastavení příloh'!AD76","v":-13},{"$f":"'Nastavení příloh'!AE76","v":-13},{"$f":"'Nastavení příloh'!AF76","v":-13},{"$f":"'Nastavení příloh'!AG76","v":-13},{"$f":"'Nastavení příloh'!AH76","v":-13},{"$f":"'Nastavení příloh'!AI76","v":-13},{"$f":"'Nastavení příloh'!AJ76","v":-13},{"$f":"'Nastavení příloh'!AK76","v":-13},{"$f":"'Nastavení příloh'!AL76","v":-13},{"$f":"'Nastavení příloh'!AM76","v":-13},{"$f":"'Nastavení příloh'!AN76","v":-13},{"$f":"'Nastavení příloh'!AO76","v":-13},{"$f":"'Nastavení příloh'!AP76","v":-13},{"$f":"'Nastavení příloh'!AQ76","v":-13},{"$f":"'Nastavení příloh'!AR76","v":-13},{"$f":"'Nastavení příloh'!AS76","v":-13},{"$f":"'Nastavení příloh'!AT76","v":-8},{"$f":"'Nastavení příloh'!AU76","v":0},{"$f":"'Nastavení příloh'!AV76","v":0},null,null,null,null,null,null,null,null,null,null,null,null,null,null,null,null,null,null,null,null,null,null,null,null,5900,"-",5999,{"$f":"'Nastavení příloh'!BZ76","v":0},{"$f":"'Nastavení příloh'!CA76","v":0},{"$f":"'Nastavení příloh'!CB76","v":4},{"$f":"'Nastavení příloh'!CC76","v":12},{"$f":"'Nastavení příloh'!CD76","v":12},{"$f":"'Nastavení příloh'!CE76","v":12},{"$f":"'Nastavení příloh'!CF76","v":12},{"$f":"'Nastavení příloh'!CG76","v":12},{"$f":"'Nastavení příloh'!CH76","v":12},{"$f":"'Nastavení příloh'!CI76","v":12},{"$f":"'Nastavení příloh'!CJ76","v":12},{"$f":"'Nastavení příloh'!CK76","v":12},{"$f":"'Nastavení příloh'!CL76","v":12},{"$f":"'Nastavení příloh'!CM76","v":12},{"$f":"'Nastavení příloh'!CN76","v":12},{"$f":"'Nastavení příloh'!CO76","v":12},{"$f":"'Nastavení příloh'!CP76","v":17},{"$f":"'Nastavení příloh'!CQ76","v":25},{"$f":"'Nastavení příloh'!CR76","v":25}]
[null,6000,"-",6099,{"$f":"'Nastavení příloh'!F77","v":0},{"$f":"'Nastavení příloh'!G77","v":6},{"$f":"'Nastavení příloh'!H77","v":17},{"$f":"'Nastavení příloh'!I77","v":25},{"$f":"'Nastavení příloh'!J77","v":25},{"$f":"'Nastavení příloh'!K77","v":25},{"$f":"'Nastavení příloh'!L77","v":25},{"$f":"'Nastavení příloh'!M77","v":25},{"$f":"'Nastavení příloh'!N77","v":25},{"$f":"'Nastavení příloh'!O77","v":25},{"$f":"'Nastavení příloh'!P77","v":25},{"$f":"'Nastavení příloh'!Q77","v":25},{"$f":"'Nastavení příloh'!R77","v":25},{"$f":"'Nastavení příloh'!S77","v":25},{"$f":"'Nastavení příloh'!T77","v":25},{"$f":"'Nastavení příloh'!U77","v":25},{"$f":"'Nastavení příloh'!V77","v":25},{"$f":"'Nastavení příloh'!W77","v":25},{"$f":"'Nastavení příloh'!X77","v":25},null,6000,"-",6099,{"$f":"'Nastavení příloh'!AD77","v":-13},{"$f":"'Nastavení příloh'!AE77","v":-13},{"$f":"'Nastavení příloh'!AF77","v":-13},{"$f":"'Nastavení příloh'!AG77","v":-13},{"$f":"'Nastavení příloh'!AH77","v":-13},{"$f":"'Nastavení příloh'!AI77","v":-13},{"$f":"'Nastavení příloh'!AJ77","v":-13},{"$f":"'Nastavení příloh'!AK77","v":-13},{"$f":"'Nastavení příloh'!AL77","v":-13},{"$f":"'Nastavení příloh'!AM77","v":-13},{"$f":"'Nastavení příloh'!AN77","v":-13},{"$f":"'Nastavení příloh'!AO77","v":-13},{"$f":"'Nastavení příloh'!AP77","v":-13},{"$f":"'Nastavení příloh'!AQ77","v":-13},{"$f":"'Nastavení příloh'!AR77","v":-13},{"$f":"'Nastavení příloh'!AS77","v":-13},{"$f":"'Nastavení příloh'!AT77","v":-8},{"$f":"'Nastavení příloh'!AU77","v":0},{"$f":"'Nastavení příloh'!AV77","v":0},null,null,null,null,null,null,null,null,null,null,null,null,null,null,null,null,null,null,null,null,null,null,null,null,6000,"-",6099,{"$f":"'Nastavení příloh'!BZ77","v":0},{"$f":"'Nastavení příloh'!CA77","v":0},{"$f":"'Nastavení příloh'!CB77","v":4},{"$f":"'Nastavení příloh'!CC77","v":12},{"$f":"'Nastavení příloh'!CD77","v":12},{"$f":"'Nastavení příloh'!CE77","v":12},{"$f":"'Nastavení příloh'!CF77","v":12},{"$f":"'Nastavení příloh'!CG77","v":12},{"$f":"'Nastavení příloh'!CH77","v":12},{"$f":"'Nastavení příloh'!CI77","v":12},{"$f":"'Nastavení příloh'!CJ77","v":12},{"$f":"'Nastavení příloh'!CK77","v":12},{"$f":"'Nastavení příloh'!CL77","v":12},{"$f":"'Nastavení příloh'!CM77","v":12},{"$f":"'Nastavení příloh'!CN77","v":12},{"$f":"'Nastavení příloh'!CO77","v":12},{"$f":"'Nastavení příloh'!CP77","v":17},{"$f":"'Nastavení příloh'!CQ77","v":25},{"$f":"'Nastavení příloh'!CR77","v":25}]
[null,6100,"-",6199,{"$f":"'Nastavení příloh'!F78","v":0},{"$f":"'Nastavení příloh'!G78","v":6},{"$f":"'Nastavení příloh'!H78","v":17},{"$f":"'Nastavení příloh'!I78","v":25},{"$f":"'Nastavení příloh'!J78","v":25},{"$f":"'Nastavení příloh'!K78","v":25},{"$f":"'Nastavení příloh'!L78","v":25},{"$f":"'Nastavení příloh'!M78","v":25},{"$f":"'Nastavení příloh'!N78","v":25},{"$f":"'Nastavení příloh'!O78","v":25},{"$f":"'Nastavení příloh'!P78","v":25},{"$f":"'Nastavení příloh'!Q78","v":25},{"$f":"'Nastavení příloh'!R78","v":25},{"$f":"'Nastavení příloh'!S78","v":25},{"$f":"'Nastavení příloh'!T78","v":25},{"$f":"'Nastavení příloh'!U78","v":25},{"$f":"'Nastavení příloh'!V78","v":25},{"$f":"'Nastavení příloh'!W78","v":25},{"$f":"'Nastavení příloh'!X78","v":25},null,6100,"-",6199,{"$f":"'Nastavení příloh'!AD78","v":-13},{"$f":"'Nastavení příloh'!AE78","v":-13},{"$f":"'Nastavení příloh'!AF78","v":-13},{"$f":"'Nastavení příloh'!AG78","v":-13},{"$f":"'Nastavení příloh'!AH78","v":-13},{"$f":"'Nastavení příloh'!AI78","v":-13},{"$f":"'Nastavení příloh'!AJ78","v":-13},{"$f":"'Nastavení příloh'!AK78","v":-13},{"$f":"'Nastavení příloh'!AL78","v":-13},{"$f":"'Nastavení příloh'!AM78","v":-13},{"$f":"'Nastavení příloh'!AN78","v":-13},{"$f":"'Nastavení příloh'!AO78","v":-13},{"$f":"'Nastavení příloh'!AP78","v":-13},{"$f":"'Nastavení příloh'!AQ78","v":-13},{"$f":"'Nastavení příloh'!AR78","v":-13},{"$f":"'Nastavení příloh'!AS78","v":-13},{"$f":"'Nastavení příloh'!AT78","v":-9},{"$f":"'Nastavení příloh'!AU78","v":0},{"$f":"'Nastavení příloh'!AV78","v":0},null,null,null,null,null,null,null,null,null,null,null,null,null,null,null,null,null,null,null,null,null,null,null,null,6100,"-",6199,{"$f":"'Nastavení příloh'!BZ78","v":0},{"$f":"'Nastavení příloh'!CA78","v":0},{"$f":"'Nastavení příloh'!CB78","v":4},{"$f":"'Nastavení příloh'!CC78","v":12},{"$f":"'Nastavení příloh'!CD78","v":12},{"$f":"'Nastavení příloh'!CE78","v":12},{"$f":"'Nastavení příloh'!CF78","v":12},{"$f":"'Nastavení příloh'!CG78","v":12},{"$f":"'Nastavení příloh'!CH78","v":12},{"$f":"'Nastavení příloh'!CI78","v":12},{"$f":"'Nastavení příloh'!CJ78","v":12},{"$f":"'Nastavení příloh'!CK78","v":12},{"$f":"'Nastavení příloh'!CL78","v":12},{"$f":"'Nastavení příloh'!CM78","v":12},{"$f":"'Nastavení příloh'!CN78","v":12},{"$f":"'Nastavení příloh'!CO78","v":12},{"$f":"'Nastavení příloh'!CP78","v":16},{"$f":"'Nastavení příloh'!CQ78","v":25},{"$f":"'Nastavení příloh'!CR78","v":25}]
[null,6200,"-",6299,{"$f":"'Nastavení příloh'!F79","v":0},{"$f":"'Nastavení příloh'!G79","v":7},{"$f":"'Nastavení příloh'!H79","v":18},{"$f":"'Nastavení příloh'!I79","v":25},{"$f":"'Nastavení příloh'!J79","v":25},{"$f":"'Nastavení příloh'!K79","v":25},{"$f":"'Nastavení příloh'!L79","v":25},{"$f":"'Nastavení příloh'!M79","v":25},{"$f":"'Nastavení příloh'!N79","v":25},{"$f":"'Nastavení příloh'!O79","v":25},{"$f":"'Nastavení příloh'!P79","v":25},{"$f":"'Nastavení příloh'!Q79","v":25},{"$f":"'Nastavení příloh'!R79","v":25},{"$f":"'Nastavení příloh'!S79","v":25},{"$f":"'Nastavení příloh'!T79","v":25},{"$f":"'Nastavení příloh'!U79","v":25},{"$f":"'Nastavení příloh'!V79","v":25},{"$f":"'Nastavení příloh'!W79","v":25},{"$f":"'Nastavení příloh'!X79","v":25},null,6200,"-",6299,{"$f":"'Nastavení příloh'!AD79","v":-13},{"$f":"'Nastavení příloh'!AE79","v":-13},{"$f":"'Nastavení příloh'!AF79","v":-13},{"$f":"'Nastavení příloh'!AG79","v":-13},{"$f":"'Nastavení příloh'!AH79","v":-13},{"$f":"'Nastavení příloh'!AI79","v":-13},{"$f":"'Nastavení příloh'!AJ79","v":-13},{"$f":"'Nastavení příloh'!AK79","v":-13},{"$f":"'Nastavení příloh'!AL79","v":-13},{"$f":"'Nastavení příloh'!AM79","v":-13},{"$f":"'Nastavení příloh'!AN79","v":-13},{"$f":"'Nastavení příloh'!AO79","v":-13},{"$f":"'Nastavení příloh'!AP79","v":-13},{"$f":"'Nastavení příloh'!AQ79","v":-13},{"$f":"'Nastavení příloh'!AR79","v":-13},{"$f":"'Nastavení příloh'!AS79","v":-13},{"$f":"'Nastavení příloh'!AT79","v":-9},{"$f":"'Nastavení příloh'!AU79","v":-1},{"$f":"'Nastavení příloh'!AV79","v":0},null,null,null,null,null,null,null,null,null,null,null,null,null,null,null,null,null,null,null,null,null,null,null,null,6200,"-",6299,{"$f":"'Nastavení příloh'!BZ79","v":0},{"$f":"'Nastavení příloh'!CA79","v":0},{"$f":"'Nastavení příloh'!CB79","v":5},{"$f":"'Nastavení příloh'!CC79","v":12},{"$f":"'Nastavení příloh'!CD79","v":12},{"$f":"'Nastavení příloh'!CE79","v":12},{"$f":"'Nastavení příloh'!CF79","v":12},{"$f":"'Nastavení příloh'!CG79","v":12},{"$f":"'Nastavení příloh'!CH79","v":12},{"$f":"'Nastavení příloh'!CI79","v":12},{"$f":"'Nastavení příloh'!CJ79","v":12},{"$f":"'Nastavení příloh'!CK79","v":12},{"$f":"'Nastavení příloh'!CL79","v":12},{"$f":"'Nastavení příloh'!CM79","v":12},{"$f":"'Nastavení příloh'!CN79","v":12},{"$f":"'Nastavení příloh'!CO79","v":12},{"$f":"'Nastavení příloh'!CP79","v":16},{"$f":"'Nastavení příloh'!CQ79","v":24},{"$f":"'Nastavení příloh'!CR79","v":25}]
[null,6300,"-",6399,{"$f":"'Nastavení příloh'!F80","v":0},{"$f":"'Nastavení příloh'!G80","v":7},{"$f":"'Nastavení příloh'!H80","v":18},{"$f":"'Nastavení příloh'!I80","v":25},{"$f":"'Nastavení příloh'!J80","v":25},{"$f":"'Nastavení příloh'!K80","v":25},{"$f":"'Nastavení příloh'!L80","v":25},{"$f":"'Nastavení příloh'!M80","v":25},{"$f":"'Nastavení příloh'!N80","v":25},{"$f":"'Nastavení příloh'!O80","v":25},{"$f":"'Nastavení příloh'!P80","v":25},{"$f":"'Nastavení příloh'!Q80","v":25},{"$f":"'Nastavení příloh'!R80","v":25},{"$f":"'Nastavení příloh'!S80","v":25},{"$f":"'Nastavení příloh'!T80","v":25},{"$f":"'Nastavení příloh'!U80","v":25},{"$f":"'Nastavení příloh'!V80","v":25},{"$f":"'Nastavení příloh'!W80","v":25},{"$f":"'Nastavení příloh'!X80","v":25},null,6300,"-",6399,{"$f":"'Nastavení příloh'!AD80","v":-13},{"$f":"'Nastavení příloh'!AE80","v":-13},{"$f":"'Nastavení příloh'!AF80","v":-13},{"$f":"'Nastavení příloh'!AG80","v":-13},{"$f":"'Nastavení příloh'!AH80","v":-13},{"$f":"'Nastavení příloh'!AI80","v":-13},{"$f":"'Nastavení příloh'!AJ80","v":-13},{"$f":"'Nastavení příloh'!AK80","v":-13},{"$f":"'Nastavení příloh'!AL80","v":-13},{"$f":"'Nastavení příloh'!AM80","v":-13},{"$f":"'Nastavení příloh'!AN80","v":-13},{"$f":"'Nastavení příloh'!AO80","v":-13},{"$f":"'Nastavení příloh'!AP80","v":-13},{"$f":"'Nastavení příloh'!AQ80","v":-13},{"$f":"'Nastavení příloh'!AR80","v":-13},{"$f":"'Nastavení příloh'!AS80","v":-13},{"$f":"'Nastavení příloh'!AT80","v":-10},{"$f":"'Nastavení příloh'!AU80","v":-1},{"$f":"'Nastavení příloh'!AV80","v":0},null,null,null,null,null,null,null,null,null,null,null,null,null,null,null,null,null,null,null,null,null,null,null,null,6300,"-",6399,{"$f":"'Nastavení příloh'!BZ80","v":0},{"$f":"'Nastavení příloh'!CA80","v":0},{"$f":"'Nastavení příloh'!CB80","v":5},{"$f":"'Nastavení příloh'!CC80","v":12},{"$f":"'Nastavení příloh'!CD80","v":12},{"$f":"'Nastavení příloh'!CE80","v":12},{"$f":"'Nastavení příloh'!CF80","v":12},{"$f":"'Nastavení příloh'!CG80","v":12},{"$f":"'Nastavení příloh'!CH80","v":12},{"$f":"'Nastavení příloh'!CI80","v":12},{"$f":"'Nastavení příloh'!CJ80","v":12},{"$f":"'Nastavení příloh'!CK80","v":12},{"$f":"'Nastavení příloh'!CL80","v":12},{"$f":"'Nastavení příloh'!CM80","v":12},{"$f":"'Nastavení příloh'!CN80","v":12},{"$f":"'Nastavení příloh'!CO80","v":12},{"$f":"'Nastavení příloh'!CP80","v":15},{"$f":"'Nastavení příloh'!CQ80","v":24},{"$f":"'Nastavení příloh'!CR80","v":25}]
[null,6400,"-",6499,{"$f":"'Nastavení příloh'!F81","v":0},{"$f":"'Nastavení příloh'!G81","v":7},{"$f":"'Nastavení příloh'!H81","v":18},{"$f":"'Nastavení příloh'!I81","v":25},{"$f":"'Nastavení příloh'!J81","v":25},{"$f":"'Nastavení příloh'!K81","v":25},{"$f":"'Nastavení příloh'!L81","v":25},{"$f":"'Nastavení příloh'!M81","v":25},{"$f":"'Nastavení příloh'!N81","v":25},{"$f":"'Nastavení příloh'!O81","v":25},{"$f":"'Nastavení příloh'!P81","v":25},{"$f":"'Nastavení příloh'!Q81","v":25},{"$f":"'Nastavení příloh'!R81","v":25},{"$f":"'Nastavení příloh'!S81","v":25},{"$f":"'Nastavení příloh'!T81","v":25},{"$f":"'Nastavení příloh'!U81","v":25},{"$f":"'Nastavení příloh'!V81","v":25},{"$f":"'Nastavení příloh'!W81","v":25},{"$f":"'Nastavení příloh'!X81","v":25},null,6400,"-",6499,{"$f":"'Nastavení příloh'!AD81","v":-13},{"$f":"'Nastavení příloh'!AE81","v":-13},{"$f":"'Nastavení příloh'!AF81","v":-13},{"$f":"'Nastavení příloh'!AG81","v":-13},{"$f":"'Nastavení příloh'!AH81","v":-13},{"$f":"'Nastavení příloh'!AI81","v":-13},{"$f":"'Nastavení příloh'!AJ81","v":-13},{"$f":"'Nastavení příloh'!AK81","v":-13},{"$f":"'Nastavení příloh'!AL81","v":-13},{"$f":"'Nastavení příloh'!AM81","v":-13},{"$f":"'Nastavení příloh'!AN81","v":-13},{"$f":"'Nastavení příloh'!AO81","v":-13},{"$f":"'Nastavení příloh'!AP81","v":-13},{"$f":"'Nastavení příloh'!AQ81","v":-13},{"$f":"'Nastavení příloh'!AR81","v":-13},{"$f":"'Nastavení příloh'!AS81","v":-13},{"$f":"'Nastavení příloh'!AT81","v":-11},{"$f":"'Nastavení příloh'!AU81","v":-2},{"$f":"'Nastavení příloh'!AV81","v":0},null,null,null,null,null,null,null,null,null,null,null,null,null,null,null,null,null,null,null,null,null,null,null,null,6400,"-",6499,{"$f":"'Nastavení příloh'!BZ81","v":0},{"$f":"'Nastavení příloh'!CA81","v":0},{"$f":"'Nastavení příloh'!CB81","v":5},{"$f":"'Nastavení příloh'!CC81","v":12},{"$f":"'Nastavení příloh'!CD81","v":12},{"$f":"'Nastavení příloh'!CE81","v":12},{"$f":"'Nastavení příloh'!CF81","v":12},{"$f":"'Nastavení příloh'!CG81","v":12},{"$f":"'Nastavení příloh'!CH81","v":12},{"$f":"'Nastavení příloh'!CI81","v":12},{"$f":"'Nastavení příloh'!CJ81","v":12},{"$f":"'Nastavení příloh'!CK81","v":12},{"$f":"'Nastavení příloh'!CL81","v":12},{"$f":"'Nastavení příloh'!CM81","v":12},{"$f":"'Nastavení příloh'!CN81","v":12},{"$f":"'Nastavení příloh'!CO81","v":12},{"$f":"'Nastavení příloh'!CP81","v":14},{"$f":"'Nastavení příloh'!CQ81","v":23},{"$f":"'Nastavení příloh'!CR81","v":25}]
[null,null,null,null,null,null,null,null,null,null,null,null,null,null,null,null,null,null,null,null,null,null,"Příloha č. 5 k OZV č. …/2015 Hrádek",null,null,null,null,null,null,null,null,null,null,null,null,null,null,null,null,null,null,null,null,null,null,"Příloha č. 6 k OZV č. …/2015 Hrádek"]
["Maximální roční počet eko bodů za třídění odpadů (BT)",null,null,null,null,null,null,null,null,null,null,null,null,null,null,null,null,null,null,null,null,null,null,"Maximální roční počet eko bodů za efektivní využívání nádob (BV)",null,null,null,null,null,null,null,null,null,null,null,null,null,null,null,null,null,null,null,null,null,null,null,null,null,null,null,null,null,null,null,null,null,null,null,null,null,null,null,null,null,null,null,null,null,"Součet maximálních ročních eko bodů (BT + BV + BS)"]
[]
["Eko body za třídění odpadů jsou uděleny do výše 21% za plast, 20% za papír, 30% za bioodpad, 13% za sklo, 8% za textil, 2% za plechovky, 2% za nápojový karton, 2% za jedlý olej a tuk a 2% za drobné elektrozařízení z maximálního počtu eko bodů uvedeného v  této tabulce.",null,null,null,"Procentuální zastoupení objemu obsloužených pytlů/nádob na plast a na papír v celkovém objemu obsloužených pytlů/nádob",null,null,null,null,null,null,null,null,null,null,null,null,null,null,null,null,null,null,"Eko body za efektivní využívání sběrných nádob jsou uděleny do výše 100% z maximálního počtu eko bodů uvedeného v této tabulce.",null,null,null,"Procentuální zastoupení objemu obsloužených pytlů/nádob na plast a na papír v celkovém objemu obsloužených pytlů/nádob",null,null,null,null,null,null,null,null,null,null,null,null,null,null,null,null,null,null,null,null,null,null,null,null,null,null,null,null,null,null,null,null,null,null,null,null,null,null,null,null,null,"Záporná hodnota součtu eko bodů (BT + BV + BS) je nahrazena nulou.",null,null,null,"Procentuální zastoupení objemu obsloužených pytlů/nádob na plast a na papír v celkovém objemu obsloužených pytlů/nádob"]
[null,null,null,null,"0 %","1-5 %","6-10 %","11-15 %","16-20 %","21-25 %","26-30 %","31-35 %","36-40 %","41-45 %","46-50 %","51-55 %","56-60 %","61-65 %","66-70 %","71-75 %","76-80 %","81-85 %","více jak 85 %",null,null,null,null,"0 %","1-5 %","6-10 %","11-15 %","16-20 %","21-25 %","26-30 %","31-35 %","36-40 %","41-45 %","46-50 %","51-55 %","56-60 %","61-65 %","66-70 %","71-75 %","76-80 %","81-85 %","více jak 85 %",null,null,null,null,null,null,null,null,null,null,null,null,null,null,null,null,null,null,null,null,null,null,null,null,null,null,null,"0 %","1-5 %","6-10 %","11-15 %","16-20 %","21-25 %","26-30 %","31-35 %","36-40 %","41-45 %","46-50 %","51-55 %","56-60 %","61-65 %","66-70 %","71-75 %","76-80 %","81-85 %","více jak 85 %"]
[null,null,null,null,"\"Třídí málo\"                                                                                                                                   \"Třídí hodně\"",null,null,null,null,null,null,null,null,null,null,null,null,null,null,null,null,null,null,null,null,null,null,"\"Třídí málo\"                                                                                                                                   \"Třídí hodně\"",null,null,null,null,null,null,null,null,null,null,null,null,null,null,null,null,null,null,null,null,null,null,null,null,null,null,null,null,null,null,null,null,null,null,null,null,null,null,null,null,null,null,null,null,null,"\"Třídí málo\"                                                                                                                                   \"Třídí hodně\""]
["Roční celkový objem obsloužených pytlů/nádob přepočtený na jednoho účastníka \nsystému užívajícího dané pytle/nádoby (litry/účastník systému/rok)",6500,"-",6599,{"$f":"'Nastavení příloh'!F88","v":0},{"$f":"'Nastavení příloh'!G88","v":7},{"$f":"'Nastavení příloh'!H88","v":18},{"$f":"'Nastavení příloh'!I88","v":25},{"$f":"'Nastavení příloh'!J88","v":25},{"$f":"'Nastavení příloh'!K88","v":25},{"$f":"'Nastavení příloh'!L88","v":25},{"$f":"'Nastavení příloh'!M88","v":25},{"$f":"'Nastavení příloh'!N88","v":25},{"$f":"'Nastavení příloh'!O88","v":25},{"$f":"'Nastavení příloh'!P88","v":25},{"$f":"'Nastavení příloh'!Q88","v":25},{"$f":"'Nastavení příloh'!R88","v":25},{"$f":"'Nastavení příloh'!S88","v":25},{"$f":"'Nastavení příloh'!T88","v":25},{"$f":"'Nastavení příloh'!U88","v":25},{"$f":"'Nastavení příloh'!V88","v":25},{"$f":"'Nastavení příloh'!W88","v":25},{"$f":"'Nastavení příloh'!X88","v":25},"Roční celkový objem obsloužených pytlů/nádob přepočtený na jednoho účastníka \nsystému užívajícího dané pytle/nádoby (litry/účastník systému/rok)",6500,"-",6599,{"$f":"'Nastavení příloh'!AD88","v":-13},{"$f":"'Nastavení příloh'!AE88","v":-13},{"$f":"'Nastavení příloh'!AF88","v":-13},{"$f":"'Nastavení příloh'!AG88","v":-13},{"$f":"'Nastavení příloh'!AH88","v":-13},{"$f":"'Nastavení příloh'!AI88","v":-13},{"$f":"'Nastavení příloh'!AJ88","v":-13},{"$f":"'Nastavení příloh'!AK88","v":-13},{"$f":"'Nastavení příloh'!AL88","v":-13},{"$f":"'Nastavení příloh'!AM88","v":-13},{"$f":"'Nastavení příloh'!AN88","v":-13},{"$f":"'Nastavení příloh'!AO88","v":-13},{"$f":"'Nastavení příloh'!AP88","v":-13},{"$f":"'Nastavení příloh'!AQ88","v":-13},{"$f":"'Nastavení příloh'!AR88","v":-13},{"$f":"'Nastavení příloh'!AS88","v":-13},{"$f":"'Nastavení příloh'!AT88","v":-11},{"$f":"'Nastavení příloh'!AU88","v":-2},{"$f":"'Nastavení příloh'!AV88","v":0},null,null,null,null,null,null,null,null,null,null,null,null,null,null,null,null,null,null,null,null,null,null,null,"Roční celkový objem obsloužených pytlů/nádob přepočtený na jednoho účastníka \nsystému užívajícího dané pytle/nádoby (litry/účastník systému/rok)",6500,"-",6599,{"$f":"'Nastavení příloh'!BZ88","v":0},{"$f":"'Nastavení příloh'!CA88","v":0},{"$f":"'Nastavení příloh'!CB88","v":5},{"$f":"'Nastavení příloh'!CC88","v":12},{"$f":"'Nastavení příloh'!CD88","v":12},{"$f":"'Nastavení příloh'!CE88","v":12},{"$f":"'Nastavení příloh'!CF88","v":12},{"$f":"'Nastavení příloh'!CG88","v":12},{"$f":"'Nastavení příloh'!CH88","v":12},{"$f":"'Nastavení příloh'!CI88","v":12},{"$f":"'Nastavení příloh'!CJ88","v":12},{"$f":"'Nastavení příloh'!CK88","v":12},{"$f":"'Nastavení příloh'!CL88","v":12},{"$f":"'Nastavení příloh'!CM88","v":12},{"$f":"'Nastavení příloh'!CN88","v":12},{"$f":"'Nastavení příloh'!CO88","v":12},{"$f":"'Nastavení příloh'!CP88","v":14},{"$f":"'Nastavení příloh'!CQ88","v":23},{"$f":"'Nastavení příloh'!CR88","v":25}]
[null,6600,"-",6699,{"$f":"'Nastavení příloh'!F89","v":0},{"$f":"'Nastavení příloh'!G89","v":7},{"$f":"'Nastavení příloh'!H89","v":19},{"$f":"'Nastavení příloh'!I89","v":25},{"$f":"'Nastavení příloh'!J89","v":25},{"$f":"'Nastavení příloh'!K89","v":25},{"$f":"'Nastavení příloh'!L89","v":25},{"$f":"'Nastavení příloh'!M89","v":25},{"$f":"'Nastavení příloh'!N89","v":25},{"$f":"'Nastavení příloh'!O89","v":25},{"$f":"'Nastavení příloh'!P89","v":25},{"$f":"'Nastavení příloh'!Q89","v":25},{"$f":"'Nastavení příloh'!R89","v":25},{"$f":"'Nastavení příloh'!S89","v":25},{"$f":"'Nastavení příloh'!T89","v":25},{"$f":"'Nastavení příloh'!U89","v":25},{"$f":"'Nastavení příloh'!V89","v":25},{"$f":"'Nastavení příloh'!W89","v":25},{"$f":"'Nastavení příloh'!X89","v":25},null,6600,"-",6699,{"$f":"'Nastavení příloh'!AD89","v":-13},{"$f":"'Nastavení příloh'!AE89","v":-13},{"$f":"'Nastavení příloh'!AF89","v":-13},{"$f":"'Nastavení příloh'!AG89","v":-13},{"$f":"'Nastavení příloh'!AH89","v":-13},{"$f":"'Nastavení příloh'!AI89","v":-13},{"$f":"'Nastavení příloh'!AJ89","v":-13},{"$f":"'Nastavení příloh'!AK89","v":-13},{"$f":"'Nastavení příloh'!AL89","v":-13},{"$f":"'Nastavení příloh'!AM89","v":-13},{"$f":"'Nastavení příloh'!AN89","v":-13},{"$f":"'Nastavení příloh'!AO89","v":-13},{"$f":"'Nastavení příloh'!AP89","v":-13},{"$f":"'Nastavení příloh'!AQ89","v":-13},{"$f":"'Nastavení příloh'!AR89","v":-13},{"$f":"'Nastavení příloh'!AS89","v":-13},{"$f":"'Nastavení příloh'!AT89","v":-12},{"$f":"'Nastavení příloh'!AU89","v":-3},{"$f":"'Nastavení příloh'!AV89","v":0},null,null,null,null,null,null,null,null,null,null,null,null,null,null,null,null,null,null,null,null,null,null,null,null,6600,"-",6699,{"$f":"'Nastavení příloh'!BZ89","v":0},{"$f":"'Nastavení příloh'!CA89","v":0},{"$f":"'Nastavení příloh'!CB89","v":6},{"$f":"'Nastavení příloh'!CC89","v":12},{"$f":"'Nastavení příloh'!CD89","v":12},{"$f":"'Nastavení příloh'!CE89","v":12},{"$f":"'Nastavení příloh'!CF89","v":12},{"$f":"'Nastavení příloh'!CG89","v":12},{"$f":"'Nastavení příloh'!CH89","v":12},{"$f":"'Nastavení příloh'!CI89","v":12},{"$f":"'Nastavení příloh'!CJ89","v":12},{"$f":"'Nastavení příloh'!CK89","v":12},{"$f":"'Nastavení příloh'!CL89","v":12},{"$f":"'Nastavení příloh'!CM89","v":12},{"$f":"'Nastavení příloh'!CN89","v":12},{"$f":"'Nastavení příloh'!CO89","v":12},{"$f":"'Nastavení příloh'!CP89","v":13},{"$f":"'Nastavení příloh'!CQ89","v":22},{"$f":"'Nastavení příloh'!CR89","v":25}]
[null,6700,"-",6799,{"$f":"'Nastavení příloh'!F90","v":0},{"$f":"'Nastavení příloh'!G90","v":7},{"$f":"'Nastavení příloh'!H90","v":19},{"$f":"'Nastavení příloh'!I90","v":25},{"$f":"'Nastavení příloh'!J90","v":25},{"$f":"'Nastavení příloh'!K90","v":25},{"$f":"'Nastavení příloh'!L90","v":25},{"$f":"'Nastavení příloh'!M90","v":25},{"$f":"'Nastavení příloh'!N90","v":25},{"$f":"'Nastavení příloh'!O90","v":25},{"$f":"'Nastavení příloh'!P90","v":25},{"$f":"'Nastavení příloh'!Q90","v":25},{"$f":"'Nastavení příloh'!R90","v":25},{"$f":"'Nastavení příloh'!S90","v":25},{"$f":"'Nastavení příloh'!T90","v":25},{"$f":"'Nastavení příloh'!U90","v":25},{"$f":"'Nastavení příloh'!V90","v":25},{"$f":"'Nastavení příloh'!W90","v":25},{"$f":"'Nastavení příloh'!X90","v":25},null,6700,"-",6799,{"$f":"'Nastavení příloh'!AD90","v":-13},{"$f":"'Nastavení příloh'!AE90","v":-13},{"$f":"'Nastavení příloh'!AF90","v":-13},{"$f":"'Nastavení příloh'!AG90","v":-13},{"$f":"'Nastavení příloh'!AH90","v":-13},{"$f":"'Nastavení příloh'!AI90","v":-13},{"$f":"'Nastavení příloh'!AJ90","v":-13},{"$f":"'Nastavení příloh'!AK90","v":-13},{"$f":"'Nastavení příloh'!AL90","v":-13},{"$f":"'Nastavení příloh'!AM90","v":-13},{"$f":"'Nastavení příloh'!AN90","v":-13},{"$f":"'Nastavení příloh'!AO90","v":-13},{"$f":"'Nastavení příloh'!AP90","v":-13},{"$f":"'Nastavení příloh'!AQ90","v":-13},{"$f":"'Nastavení příloh'!AR90","v":-13},{"$f":"'Nastavení příloh'!AS90","v":-13},{"$f":"'Nastavení příloh'!AT90","v":-13},{"$f":"'Nastavení příloh'!AU90","v":-3},{"$f":"'Nastavení příloh'!AV90","v":0},null,null,null,null,null,null,null,null,null,null,null,null,null,null,null,null,null,null,null,null,null,null,null,null,6700,"-",6799,{"$f":"'Nastavení příloh'!BZ90","v":0},{"$f":"'Nastavení příloh'!CA90","v":0},{"$f":"'Nastavení příloh'!CB90","v":6},{"$f":"'Nastavení příloh'!CC90","v":12},{"$f":"'Nastavení příloh'!CD90","v":12},{"$f":"'Nastavení příloh'!CE90","v":12},{"$f":"'Nastavení příloh'!CF90","v":12},{"$f":"'Nastavení příloh'!CG90","v":12},{"$f":"'Nastavení příloh'!CH90","v":12},{"$f":"'Nastavení příloh'!CI90","v":12},{"$f":"'Nastavení příloh'!CJ90","v":12},{"$f":"'Nastavení příloh'!CK90","v":12},{"$f":"'Nastavení příloh'!CL90","v":12},{"$f":"'Nastavení příloh'!CM90","v":12},{"$f":"'Nastavení příloh'!CN90","v":12},{"$f":"'Nastavení příloh'!CO90","v":12},{"$f":"'Nastavení příloh'!CP90","v":12},{"$f":"'Nastavení příloh'!CQ90","v":22},{"$f":"'Nastavení příloh'!CR90","v":25}]
[null,6800,"-",6899,{"$f":"'Nastavení příloh'!F91","v":0},{"$f":"'Nastavení příloh'!G91","v":7},{"$f":"'Nastavení příloh'!H91","v":19},{"$f":"'Nastavení příloh'!I91","v":25},{"$f":"'Nastavení příloh'!J91","v":25},{"$f":"'Nastavení příloh'!K91","v":25},{"$f":"'Nastavení příloh'!L91","v":25},{"$f":"'Nastavení příloh'!M91","v":25},{"$f":"'Nastavení příloh'!N91","v":25},{"$f":"'Nastavení příloh'!O91","v":25},{"$f":"'Nastavení příloh'!P91","v":25},{"$f":"'Nastavení příloh'!Q91","v":25},{"$f":"'Nastavení příloh'!R91","v":25},{"$f":"'Nastavení příloh'!S91","v":25},{"$f":"'Nastavení příloh'!T91","v":25},{"$f":"'Nastavení příloh'!U91","v":25},{"$f":"'Nastavení příloh'!V91","v":25},{"$f":"'Nastavení příloh'!W91","v":25},{"$f":"'Nastavení příloh'!X91","v":25},null,6800,"-",6899,{"$f":"'Nastavení příloh'!AD91","v":-13},{"$f":"'Nastavení příloh'!AE91","v":-13},{"$f":"'Nastavení příloh'!AF91","v":-13},{"$f":"'Nastavení příloh'!AG91","v":-13},{"$f":"'Nastavení příloh'!AH91","v":-13},{"$f":"'Nastavení příloh'!AI91","v":-13},{"$f":"'Nastavení příloh'!AJ91","v":-13},{"$f":"'Nastavení příloh'!AK91","v":-13},{"$f":"'Nastavení příloh'!AL91","v":-13},{"$f":"'Nastavení příloh'!AM91","v":-13},{"$f":"'Nastavení příloh'!AN91","v":-13},{"$f":"'Nastavení příloh'!AO91","v":-13},{"$f":"'Nastavení příloh'!AP91","v":-13},{"$f":"'Nastavení příloh'!AQ91","v":-13},{"$f":"'Nastavení příloh'!AR91","v":-13},{"$f":"'Nastavení příloh'!AS91","v":-13},{"$f":"'Nastavení příloh'!AT91","v":-13},{"$f":"'Nastavení příloh'!AU91","v":-3},{"$f":"'Nastavení příloh'!AV91","v":0},null,null,null,null,null,null,null,null,null,null,null,null,null,null,null,null,null,null,null,null,null,null,null,null,6800,"-",6899,{"$f":"'Nastavení příloh'!BZ91","v":0},{"$f":"'Nastavení příloh'!CA91","v":0},{"$f":"'Nastavení příloh'!CB91","v":6},{"$f":"'Nastavení příloh'!CC91","v":12},{"$f":"'Nastavení příloh'!CD91","v":12},{"$f":"'Nastavení příloh'!CE91","v":12},{"$f":"'Nastavení příloh'!CF91","v":12},{"$f":"'Nastavení příloh'!CG91","v":12},{"$f":"'Nastavení příloh'!CH91","v":12},{"$f":"'Nastavení příloh'!CI91","v":12},{"$f":"'Nastavení příloh'!CJ91","v":12},{"$f":"'Nastavení příloh'!CK91","v":12},{"$f":"'Nastavení příloh'!CL91","v":12},{"$f":"'Nastavení příloh'!CM91","v":12},{"$f":"'Nastavení příloh'!CN91","v":12},{"$f":"'Nastavení příloh'!CO91","v":12},{"$f":"'Nastavení příloh'!CP91","v":12},{"$f":"'Nastavení příloh'!CQ91","v":22},{"$f":"'Nastavení příloh'!CR91","v":25}]
[null,6900,"-",6999,{"$f":"'Nastavení příloh'!F92","v":0},{"$f":"'Nastavení příloh'!G92","v":7},{"$f":"'Nastavení příloh'!H92","v":19},{"$f":"'Nastavení příloh'!I92","v":25},{"$f":"'Nastavení příloh'!J92","v":25},{"$f":"'Nastavení příloh'!K92","v":25},{"$f":"'Nastavení příloh'!L92","v":25},{"$f":"'Nastavení příloh'!M92","v":25},{"$f":"'Nastavení příloh'!N92","v":25},{"$f":"'Nastavení příloh'!O92","v":25},{"$f":"'Nastavení příloh'!P92","v":25},{"$f":"'Nastavení příloh'!Q92","v":25},{"$f":"'Nastavení příloh'!R92","v":25},{"$f":"'Nastavení příloh'!S92","v":25},{"$f":"'Nastavení příloh'!T92","v":25},{"$f":"'Nastavení příloh'!U92","v":25},{"$f":"'Nastavení příloh'!V92","v":25},{"$f":"'Nastavení příloh'!W92","v":25},{"$f":"'Nastavení příloh'!X92","v":25},null,6900,"-",6999,{"$f":"'Nastavení příloh'!AD92","v":-13},{"$f":"'Nastavení příloh'!AE92","v":-13},{"$f":"'Nastavení příloh'!AF92","v":-13},{"$f":"'Nastavení příloh'!AG92","v":-13},{"$f":"'Nastavení příloh'!AH92","v":-13},{"$f":"'Nastavení příloh'!AI92","v":-13},{"$f":"'Nastavení příloh'!AJ92","v":-13},{"$f":"'Nastavení příloh'!AK92","v":-13},{"$f":"'Nastavení příloh'!AL92","v":-13},{"$f":"'Nastavení příloh'!AM92","v":-13},{"$f":"'Nastavení příloh'!AN92","v":-13},{"$f":"'Nastavení příloh'!AO92","v":-13},{"$f":"'Nastavení příloh'!AP92","v":-13},{"$f":"'Nastavení příloh'!AQ92","v":-13},{"$f":"'Nastavení příloh'!AR92","v":-13},{"$f":"'Nastavení příloh'!AS92","v":-13},{"$f":"'Nastavení příloh'!AT92","v":-13},{"$f":"'Nastavení příloh'!AU92","v":-4},{"$f":"'Nastavení příloh'!AV92","v":0},null,null,null,null,null,null,null,null,null,null,null,null,null,null,null,null,null,null,null,null,null,null,null,null,6900,"-",6999,{"$f":"'Nastavení příloh'!BZ92","v":0},{"$f":"'Nastavení příloh'!CA92","v":0},{"$f":"'Nastavení příloh'!CB92","v":6},{"$f":"'Nastavení příloh'!CC92","v":12},{"$f":"'Nastavení příloh'!CD92","v":12},{"$f":"'Nastavení příloh'!CE92","v":12},{"$f":"'Nastavení příloh'!CF92","v":12},{"$f":"'Nastavení příloh'!CG92","v":12},{"$f":"'Nastavení příloh'!CH92","v":12},{"$f":"'Nastavení příloh'!CI92","v":12},{"$f":"'Nastavení příloh'!CJ92","v":12},{"$f":"'Nastavení příloh'!CK92","v":12},{"$f":"'Nastavení příloh'!CL92","v":12},{"$f":"'Nastavení příloh'!CM92","v":12},{"$f":"'Nastavení příloh'!CN92","v":12},{"$f":"'Nastavení příloh'!CO92","v":12},{"$f":"'Nastavení příloh'!CP92","v":12},{"$f":"'Nastavení příloh'!CQ92","v":21},{"$f":"'Nastavení příloh'!CR92","v":25}]
[null,7000,"-",7099,{"$f":"'Nastavení příloh'!F93","v":0},{"$f":"'Nastavení příloh'!G93","v":7},{"$f":"'Nastavení příloh'!H93","v":20},{"$f":"'Nastavení příloh'!I93","v":25},{"$f":"'Nastavení příloh'!J93","v":25},{"$f":"'Nastavení příloh'!K93","v":25},{"$f":"'Nastavení příloh'!L93","v":25},{"$f":"'Nastavení příloh'!M93","v":25},{"$f":"'Nastavení příloh'!N93","v":25},{"$f":"'Nastavení příloh'!O93","v":25},{"$f":"'Nastavení příloh'!P93","v":25},{"$f":"'Nastavení příloh'!Q93","v":25},{"$f":"'Nastavení příloh'!R93","v":25},{"$f":"'Nastavení příloh'!S93","v":25},{"$f":"'Nastavení příloh'!T93","v":25},{"$f":"'Nastavení příloh'!U93","v":25},{"$f":"'Nastavení příloh'!V93","v":25},{"$f":"'Nastavení příloh'!W93","v":25},{"$f":"'Nastavení příloh'!X93","v":25},null,7000,"-",7099,{"$f":"'Nastavení příloh'!AD93","v":-13},{"$f":"'Nastavení příloh'!AE93","v":-13},{"$f":"'Nastavení příloh'!AF93","v":-13},{"$f":"'Nastavení příloh'!AG93","v":-13},{"$f":"'Nastavení příloh'!AH93","v":-13},{"$f":"'Nastavení příloh'!AI93","v":-13},{"$f":"'Nastavení příloh'!AJ93","v":-13},{"$f":"'Nastavení příloh'!AK93","v":-13},{"$f":"'Nastavení příloh'!AL93","v":-13},{"$f":"'Nastavení příloh'!AM93","v":-13},{"$f":"'Nastavení příloh'!AN93","v":-13},{"$f":"'Nastavení příloh'!AO93","v":-13},{"$f":"'Nastavení příloh'!AP93","v":-13},{"$f":"'Nastavení příloh'!AQ93","v":-13},{"$f":"'Nastavení příloh'!AR93","v":-13},{"$f":"'Nastavení příloh'!AS93","v":-13},{"$f":"'Nastavení příloh'!AT93","v":-13},{"$f":"'Nastavení příloh'!AU93","v":-4},{"$f":"'Nastavení příloh'!AV93","v":0},null,null,null,null,null,null,null,null,null,null,null,null,null,null,null,null,null,null,null,null,null,null,null,null,7000,"-",7099,{"$f":"'Nastavení příloh'!BZ93","v":0},{"$f":"'Nastavení příloh'!CA93","v":0},{"$f":"'Nastavení příloh'!CB93","v":7},{"$f":"'Nastavení příloh'!CC93","v":12},{"$f":"'Nastavení příloh'!CD93","v":12},{"$f":"'Nastavení příloh'!CE93","v":12},{"$f":"'Nastavení příloh'!CF93","v":12},{"$f":"'Nastavení příloh'!CG93","v":12},{"$f":"'Nastavení příloh'!CH93","v":12},{"$f":"'Nastavení příloh'!CI93","v":12},{"$f":"'Nastavení příloh'!CJ93","v":12},{"$f":"'Nastavení příloh'!CK93","v":12},{"$f":"'Nastavení příloh'!CL93","v":12},{"$f":"'Nastavení příloh'!CM93","v":12},{"$f":"'Nastavení příloh'!CN93","v":12},{"$f":"'Nastavení příloh'!CO93","v":12},{"$f":"'Nastavení příloh'!CP93","v":12},{"$f":"'Nastavení příloh'!CQ93","v":21},{"$f":"'Nastavení příloh'!CR93","v":25}]
[null,7100,"-",7199,{"$f":"'Nastavení příloh'!F94","v":0},{"$f":"'Nastavení příloh'!G94","v":8},{"$f":"'Nastavení příloh'!H94","v":20},{"$f":"'Nastavení příloh'!I94","v":25},{"$f":"'Nastavení příloh'!J94","v":25},{"$f":"'Nastavení příloh'!K94","v":25},{"$f":"'Nastavení příloh'!L94","v":25},{"$f":"'Nastavení příloh'!M94","v":25},{"$f":"'Nastavení příloh'!N94","v":25},{"$f":"'Nastavení příloh'!O94","v":25},{"$f":"'Nastavení příloh'!P94","v":25},{"$f":"'Nastavení příloh'!Q94","v":25},{"$f":"'Nastavení příloh'!R94","v":25},{"$f":"'Nastavení příloh'!S94","v":25},{"$f":"'Nastavení příloh'!T94","v":25},{"$f":"'Nastavení příloh'!U94","v":25},{"$f":"'Nastavení příloh'!V94","v":25},{"$f":"'Nastavení příloh'!W94","v":25},{"$f":"'Nastavení příloh'!X94","v":25},null,7100,"-",7199,{"$f":"'Nastavení příloh'!AD94","v":-13},{"$f":"'Nastavení příloh'!AE94","v":-13},{"$f":"'Nastavení příloh'!AF94","v":-13},{"$f":"'Nastavení příloh'!AG94","v":-13},{"$f":"'Nastavení příloh'!AH94","v":-13},{"$f":"'Nastavení příloh'!AI94","v":-13},{"$f":"'Nastavení příloh'!AJ94","v":-13},{"$f":"'Nastavení příloh'!AK94","v":-13},{"$f":"'Nastavení příloh'!AL94","v":-13},{"$f":"'Nastavení příloh'!AM94","v":-13},{"$f":"'Nastavení příloh'!AN94","v":-13},{"$f":"'Nastavení příloh'!AO94","v":-13},{"$f":"'Nastavení příloh'!AP94","v":-13},{"$f":"'Nastavení příloh'!AQ94","v":-13},{"$f":"'Nastavení příloh'!AR94","v":-13},{"$f":"'Nastavení příloh'!AS94","v":-13},{"$f":"'Nastavení příloh'!AT94","v":-13},{"$f":"'Nastavení příloh'!AU94","v":-5},{"$f":"'Nastavení příloh'!AV94","v":0},null,null,null,null,null,null,null,null,null,null,null,null,null,null,null,null,null,null,null,null,null,null,null,null,7100,"-",7199,{"$f":"'Nastavení příloh'!BZ94","v":0},{"$f":"'Nastavení příloh'!CA94","v":0},{"$f":"'Nastavení příloh'!CB94","v":7},{"$f":"'Nastavení příloh'!CC94","v":12},{"$f":"'Nastavení příloh'!CD94","v":12},{"$f":"'Nastavení příloh'!CE94","v":12},{"$f":"'Nastavení příloh'!CF94","v":12},{"$f":"'Nastavení příloh'!CG94","v":12},{"$f":"'Nastavení příloh'!CH94","v":12},{"$f":"'Nastavení příloh'!CI94","v":12},{"$f":"'Nastavení příloh'!CJ94","v":12},{"$f":"'Nastavení příloh'!CK94","v":12},{"$f":"'Nastavení příloh'!CL94","v":12},{"$f":"'Nastavení příloh'!CM94","v":12},{"$f":"'Nastavení příloh'!CN94","v":12},{"$f":"'Nastavení příloh'!CO94","v":12},{"$f":"'Nastavení příloh'!CP94","v":12},{"$f":"'Nastavení příloh'!CQ94","v":20},{"$f":"'Nastavení příloh'!CR94","v":25}]
[null,7200,"-",7299,{"$f":"'Nastavení příloh'!F95","v":0},{"$f":"'Nastavení příloh'!G95","v":8},{"$f":"'Nastavení příloh'!H95","v":20},{"$f":"'Nastavení příloh'!I95","v":25},{"$f":"'Nastavení příloh'!J95","v":25},{"$f":"'Nastavení příloh'!K95","v":25},{"$f":"'Nastavení příloh'!L95","v":25},{"$f":"'Nastavení příloh'!M95","v":25},{"$f":"'Nastavení příloh'!N95","v":25},{"$f":"'Nastavení příloh'!O95","v":25},{"$f":"'Nastavení příloh'!P95","v":25},{"$f":"'Nastavení příloh'!Q95","v":25},{"$f":"'Nastavení příloh'!R95","v":25},{"$f":"'Nastavení příloh'!S95","v":25},{"$f":"'Nastavení příloh'!T95","v":25},{"$f":"'Nastavení příloh'!U95","v":25},{"$f":"'Nastavení příloh'!V95","v":25},{"$f":"'Nastavení příloh'!W95","v":25},{"$f":"'Nastavení příloh'!X95","v":25},null,7200,"-",7299,{"$f":"'Nastavení příloh'!AD95","v":-13},{"$f":"'Nastavení příloh'!AE95","v":-13},{"$f":"'Nastavení příloh'!AF95","v":-13},{"$f":"'Nastavení příloh'!AG95","v":-13},{"$f":"'Nastavení příloh'!AH95","v":-13},{"$f":"'Nastavení příloh'!AI95","v":-13},{"$f":"'Nastavení příloh'!AJ95","v":-13},{"$f":"'Nastavení příloh'!AK95","v":-13},{"$f":"'Nastavení příloh'!AL95","v":-13},{"$f":"'Nastavení příloh'!AM95","v":-13},{"$f":"'Nastavení příloh'!AN95","v":-13},{"$f":"'Nastavení příloh'!AO95","v":-13},{"$f":"'Nastavení příloh'!AP95","v":-13},{"$f":"'Nastavení příloh'!AQ95","v":-13},{"$f":"'Nastavení příloh'!AR95","v":-13},{"$f":"'Nastavení příloh'!AS95","v":-13},{"$f":"'Nastavení příloh'!AT95","v":-13},{"$f":"'Nastavení příloh'!AU95","v":-5},{"$f":"'Nastavení příloh'!AV95","v":0},null,null,null,null,null,null,null,null,null,null,null,null,null,null,null,null,null,null,null,null,null,null,null,null,7200,"-",7299,{"$f":"'Nastavení příloh'!BZ95","v":0},{"$f":"'Nastavení příloh'!CA95","v":0},{"$f":"'Nastavení příloh'!CB95","v":7},{"$f":"'Nastavení příloh'!CC95","v":12},{"$f":"'Nastavení příloh'!CD95","v":12},{"$f":"'Nastavení příloh'!CE95","v":12},{"$f":"'Nastavení příloh'!CF95","v":12},{"$f":"'Nastavení příloh'!CG95","v":12},{"$f":"'Nastavení příloh'!CH95","v":12},{"$f":"'Nastavení příloh'!CI95","v":12},{"$f":"'Nastavení příloh'!CJ95","v":12},{"$f":"'Nastavení příloh'!CK95","v":12},{"$f":"'Nastavení příloh'!CL95","v":12},{"$f":"'Nastavení příloh'!CM95","v":12},{"$f":"'Nastavení příloh'!CN95","v":12},{"$f":"'Nastavení příloh'!CO95","v":12},{"$f":"'Nastavení příloh'!CP95","v":12},{"$f":"'Nastavení příloh'!CQ95","v":20},{"$f":"'Nastavení příloh'!CR95","v":25}]
[null,7300,"-",7399,{"$f":"'Nastavení příloh'!F96","v":0},{"$f":"'Nastavení příloh'!G96","v":8},{"$f":"'Nastavení příloh'!H96","v":21},{"$f":"'Nastavení příloh'!I96","v":25},{"$f":"'Nastavení příloh'!J96","v":25},{"$f":"'Nastavení příloh'!K96","v":25},{"$f":"'Nastavení příloh'!L96","v":25},{"$f":"'Nastavení příloh'!M96","v":25},{"$f":"'Nastavení příloh'!N96","v":25},{"$f":"'Nastavení příloh'!O96","v":25},{"$f":"'Nastavení příloh'!P96","v":25},{"$f":"'Nastavení příloh'!Q96","v":25},{"$f":"'Nastavení příloh'!R96","v":25},{"$f":"'Nastavení příloh'!S96","v":25},{"$f":"'Nastavení příloh'!T96","v":25},{"$f":"'Nastavení příloh'!U96","v":25},{"$f":"'Nastavení příloh'!V96","v":25},{"$f":"'Nastavení příloh'!W96","v":25},{"$f":"'Nastavení příloh'!X96","v":25},null,7300,"-",7399,{"$f":"'Nastavení příloh'!AD96","v":-13},{"$f":"'Nastavení příloh'!AE96","v":-13},{"$f":"'Nastavení příloh'!AF96","v":-13},{"$f":"'Nastavení příloh'!AG96","v":-13},{"$f":"'Nastavení příloh'!AH96","v":-13},{"$f":"'Nastavení příloh'!AI96","v":-13},{"$f":"'Nastavení příloh'!AJ96","v":-13},{"$f":"'Nastavení příloh'!AK96","v":-13},{"$f":"'Nastavení příloh'!AL96","v":-13},{"$f":"'Nastavení příloh'!AM96","v":-13},{"$f":"'Nastavení příloh'!AN96","v":-13},{"$f":"'Nastavení příloh'!AO96","v":-13},{"$f":"'Nastavení příloh'!AP96","v":-13},{"$f":"'Nastavení příloh'!AQ96","v":-13},{"$f":"'Nastavení příloh'!AR96","v":-13},{"$f":"'Nastavení příloh'!AS96","v":-13},{"$f":"'Nastavení příloh'!AT96","v":-13},{"$f":"'Nastavení příloh'!AU96","v":-6},{"$f":"'Nastavení příloh'!AV96","v":0},null,null,null,null,null,null,null,null,null,null,null,null,null,null,null,null,null,null,null,null,null,null,null,null,7300,"-",7399,{"$f":"'Nastavení příloh'!BZ96","v":0},{"$f":"'Nastavení příloh'!CA96","v":0},{"$f":"'Nastavení příloh'!CB96","v":8},{"$f":"'Nastavení příloh'!CC96","v":12},{"$f":"'Nastavení příloh'!CD96","v":12},{"$f":"'Nastavení příloh'!CE96","v":12},{"$f":"'Nastavení příloh'!CF96","v":12},{"$f":"'Nastavení příloh'!CG96","v":12},{"$f":"'Nastavení příloh'!CH96","v":12},{"$f":"'Nastavení příloh'!CI96","v":12},{"$f":"'Nastavení příloh'!CJ96","v":12},{"$f":"'Nastavení příloh'!CK96","v":12},{"$f":"'Nastavení příloh'!CL96","v":12},{"$f":"'Nastavení příloh'!CM96","v":12},{"$f":"'Nastavení příloh'!CN96","v":12},{"$f":"'Nastavení příloh'!CO96","v":12},{"$f":"'Nastavení příloh'!CP96","v":12},{"$f":"'Nastavení příloh'!CQ96","v":19},{"$f":"'Nastavení příloh'!CR96","v":25}]
[null,7400,"-",7499,{"$f":"'Nastavení příloh'!F97","v":0},{"$f":"'Nastavení příloh'!G97","v":8},{"$f":"'Nastavení příloh'!H97","v":21},{"$f":"'Nastavení příloh'!I97","v":25},{"$f":"'Nastavení příloh'!J97","v":25},{"$f":"'Nastavení příloh'!K97","v":25},{"$f":"'Nastavení příloh'!L97","v":25},{"$f":"'Nastavení příloh'!M97","v":25},{"$f":"'Nastavení příloh'!N97","v":25},{"$f":"'Nastavení příloh'!O97","v":25},{"$f":"'Nastavení příloh'!P97","v":25},{"$f":"'Nastavení příloh'!Q97","v":25},{"$f":"'Nastavení příloh'!R97","v":25},{"$f":"'Nastavení příloh'!S97","v":25},{"$f":"'Nastavení příloh'!T97","v":25},{"$f":"'Nastavení příloh'!U97","v":25},{"$f":"'Nastavení příloh'!V97","v":25},{"$f":"'Nastavení příloh'!W97","v":25},{"$f":"'Nastavení příloh'!X97","v":25},null,7400,"-",7499,{"$f":"'Nastavení příloh'!AD97","v":-13},{"$f":"'Nastavení příloh'!AE97","v":-13},{"$f":"'Nastavení příloh'!AF97","v":-13},{"$f":"'Nastavení příloh'!AG97","v":-13},{"$f":"'Nastavení příloh'!AH97","v":-13},{"$f":"'Nastavení příloh'!AI97","v":-13},{"$f":"'Nastavení příloh'!AJ97","v":-13},{"$f":"'Nastavení příloh'!AK97","v":-13},{"$f":"'Nastavení příloh'!AL97","v":-13},{"$f":"'Nastavení příloh'!AM97","v":-13},{"$f":"'Nastavení příloh'!AN97","v":-13},{"$f":"'Nastavení příloh'!AO97","v":-13},{"$f":"'Nastavení příloh'!AP97","v":-13},{"$f":"'Nastavení příloh'!AQ97","v":-13},{"$f":"'Nastavení příloh'!AR97","v":-13},{"$f":"'Nastavení příloh'!AS97","v":-13},{"$f":"'Nastavení příloh'!AT97","v":-13},{"$f":"'Nastavení příloh'!AU97","v":-6},{"$f":"'Nastavení příloh'!AV97","v":0},null,null,null,null,null,null,null,null,null,null,null,null,null,null,null,null,null,null,null,null,null,null,null,null,7400,"-",7499,{"$f":"'Nastavení příloh'!BZ97","v":0},{"$f":"'Nastavení příloh'!CA97","v":0},{"$f":"'Nastavení příloh'!CB97","v":8},{"$f":"'Nastavení příloh'!CC97","v":12},{"$f":"'Nastavení příloh'!CD97","v":12},{"$f":"'Nastavení příloh'!CE97","v":12},{"$f":"'Nastavení příloh'!CF97","v":12},{"$f":"'Nastavení příloh'!CG97","v":12},{"$f":"'Nastavení příloh'!CH97","v":12},{"$f":"'Nastavení příloh'!CI97","v":12},{"$f":"'Nastavení příloh'!CJ97","v":12},{"$f":"'Nastavení příloh'!CK97","v":12},{"$f":"'Nastavení příloh'!CL97","v":12},{"$f":"'Nastavení příloh'!CM97","v":12},{"$f":"'Nastavení příloh'!CN97","v":12},{"$f":"'Nastavení příloh'!CO97","v":12},{"$f":"'Nastavení příloh'!CP97","v":12},{"$f":"'Nastavení příloh'!CQ97","v":19},{"$f":"'Nastavení příloh'!CR97","v":25}]
[null,7500,"-",7599,{"$f":"'Nastavení příloh'!F98","v":0},{"$f":"'Nastavení příloh'!G98","v":8},{"$f":"'Nastavení příloh'!H98","v":21},{"$f":"'Nastavení příloh'!I98","v":25},{"$f":"'Nastavení příloh'!J98","v":25},{"$f":"'Nastavení příloh'!K98","v":25},{"$f":"'Nastavení příloh'!L98","v":25},{"$f":"'Nastavení příloh'!M98","v":25},{"$f":"'Nastavení příloh'!N98","v":25},{"$f":"'Nastavení příloh'!O98","v":25},{"$f":"'Nastavení příloh'!P98","v":25},{"$f":"'Nastavení příloh'!Q98","v":25},{"$f":"'Nastavení příloh'!R98","v":25},{"$f":"'Nastavení příloh'!S98","v":25},{"$f":"'Nastavení příloh'!T98","v":25},{"$f":"'Nastavení příloh'!U98","v":25},{"$f":"'Nastavení příloh'!V98","v":25},{"$f":"'Nastavení příloh'!W98","v":25},{"$f":"'Nastavení příloh'!X98","v":25},null,7500,"-",7599,{"$f":"'Nastavení příloh'!AD98","v":-13},{"$f":"'Nastavení příloh'!AE98","v":-13},{"$f":"'Nastavení příloh'!AF98","v":-13},{"$f":"'Nastavení příloh'!AG98","v":-13},{"$f":"'Nastavení příloh'!AH98","v":-13},{"$f":"'Nastavení příloh'!AI98","v":-13},{"$f":"'Nastavení příloh'!AJ98","v":-13},{"$f":"'Nastavení příloh'!AK98","v":-13},{"$f":"'Nastavení příloh'!AL98","v":-13},{"$f":"'Nastavení příloh'!AM98","v":-13},{"$f":"'Nastavení příloh'!AN98","v":-13},{"$f":"'Nastavení příloh'!AO98","v":-13},{"$f":"'Nastavení příloh'!AP98","v":-13},{"$f":"'Nastavení příloh'!AQ98","v":-13},{"$f":"'Nastavení příloh'!AR98","v":-13},{"$f":"'Nastavení příloh'!AS98","v":-13},{"$f":"'Nastavení příloh'!AT98","v":-13},{"$f":"'Nastavení příloh'!AU98","v":-7},{"$f":"'Nastavení příloh'!AV98","v":0},null,null,null,null,null,null,null,null,null,null,null,null,null,null,null,null,null,null,null,null,null,null,null,null,7500,"-",7599,{"$f":"'Nastavení příloh'!BZ98","v":0},{"$f":"'Nastavení příloh'!CA98","v":0},{"$f":"'Nastavení příloh'!CB98","v":8},{"$f":"'Nastavení příloh'!CC98","v":12},{"$f":"'Nastavení příloh'!CD98","v":12},{"$f":"'Nastavení příloh'!CE98","v":12},{"$f":"'Nastavení příloh'!CF98","v":12},{"$f":"'Nastavení příloh'!CG98","v":12},{"$f":"'Nastavení příloh'!CH98","v":12},{"$f":"'Nastavení příloh'!CI98","v":12},{"$f":"'Nastavení příloh'!CJ98","v":12},{"$f":"'Nastavení příloh'!CK98","v":12},{"$f":"'Nastavení příloh'!CL98","v":12},{"$f":"'Nastavení příloh'!CM98","v":12},{"$f":"'Nastavení příloh'!CN98","v":12},{"$f":"'Nastavení příloh'!CO98","v":12},{"$f":"'Nastavení příloh'!CP98","v":12},{"$f":"'Nastavení příloh'!CQ98","v":18},{"$f":"'Nastavení příloh'!CR98","v":25}]
[null,7600,"-",7699,{"$f":"'Nastavení příloh'!F99","v":0},{"$f":"'Nastavení příloh'!G99","v":8},{"$f":"'Nastavení příloh'!H99","v":21},{"$f":"'Nastavení příloh'!I99","v":25},{"$f":"'Nastavení příloh'!J99","v":25},{"$f":"'Nastavení příloh'!K99","v":25},{"$f":"'Nastavení příloh'!L99","v":25},{"$f":"'Nastavení příloh'!M99","v":25},{"$f":"'Nastavení příloh'!N99","v":25},{"$f":"'Nastavení příloh'!O99","v":25},{"$f":"'Nastavení příloh'!P99","v":25},{"$f":"'Nastavení příloh'!Q99","v":25},{"$f":"'Nastavení příloh'!R99","v":25},{"$f":"'Nastavení příloh'!S99","v":25},{"$f":"'Nastavení příloh'!T99","v":25},{"$f":"'Nastavení příloh'!U99","v":25},{"$f":"'Nastavení příloh'!V99","v":25},{"$f":"'Nastavení příloh'!W99","v":25},{"$f":"'Nastavení příloh'!X99","v":25},null,7600,"-",7699,{"$f":"'Nastavení příloh'!AD99","v":-13},{"$f":"'Nastavení příloh'!AE99","v":-13},{"$f":"'Nastavení příloh'!AF99","v":-13},{"$f":"'Nastavení příloh'!AG99","v":-13},{"$f":"'Nastavení příloh'!AH99","v":-13},{"$f":"'Nastavení příloh'!AI99","v":-13},{"$f":"'Nastavení příloh'!AJ99","v":-13},{"$f":"'Nastavení příloh'!AK99","v":-13},{"$f":"'Nastavení příloh'!AL99","v":-13},{"$f":"'Nastavení příloh'!AM99","v":-13},{"$f":"'Nastavení příloh'!AN99","v":-13},{"$f":"'Nastavení příloh'!AO99","v":-13},{"$f":"'Nastavení příloh'!AP99","v":-13},{"$f":"'Nastavení příloh'!AQ99","v":-13},{"$f":"'Nastavení příloh'!AR99","v":-13},{"$f":"'Nastavení příloh'!AS99","v":-13},{"$f":"'Nastavení příloh'!AT99","v":-13},{"$f":"'Nastavení příloh'!AU99","v":-7},{"$f":"'Nastavení příloh'!AV99","v":-1},null,null,null,null,null,null,null,null,null,null,null,null,null,null,null,null,null,null,null,null,null,null,null,null,7600,"-",7699,{"$f":"'Nastavení příloh'!BZ99","v":0},{"$f":"'Nastavení příloh'!CA99","v":0},{"$f":"'Nastavení příloh'!CB99","v":8},{"$f":"'Nastavení příloh'!CC99","v":12},{"$f":"'Nastavení příloh'!CD99","v":12},{"$f":"'Nastavení příloh'!CE99","v":12},{"$f":"'Nastavení příloh'!CF99","v":12},{"$f":"'Nastavení příloh'!CG99","v":12},{"$f":"'Nastavení příloh'!CH99","v":12},{"$f":"'Nastavení příloh'!CI99","v":12},{"$f":"'Nastavení příloh'!CJ99","v":12},{"$f":"'Nastavení příloh'!CK99","v":12},{"$f":"'Nastavení příloh'!CL99","v":12},{"$f":"'Nastavení příloh'!CM99","v":12},{"$f":"'Nastavení příloh'!CN99","v":12},{"$f":"'Nastavení příloh'!CO99","v":12},{"$f":"'Nastavení příloh'!CP99","v":12},{"$f":"'Nastavení příloh'!CQ99","v":18},{"$f":"'Nastavení příloh'!CR99","v":24}]
[null,7700,"-",7799,{"$f":"'Nastavení příloh'!F100","v":0},{"$f":"'Nastavení příloh'!G100","v":8},{"$f":"'Nastavení příloh'!H100","v":22},{"$f":"'Nastavení příloh'!I100","v":25},{"$f":"'Nastavení příloh'!J100","v":25},{"$f":"'Nastavení příloh'!K100","v":25},{"$f":"'Nastavení příloh'!L100","v":25},{"$f":"'Nastavení příloh'!M100","v":25},{"$f":"'Nastavení příloh'!N100","v":25},{"$f":"'Nastavení příloh'!O100","v":25},{"$f":"'Nastavení příloh'!P100","v":25},{"$f":"'Nastavení příloh'!Q100","v":25},{"$f":"'Nastavení příloh'!R100","v":25},{"$f":"'Nastavení příloh'!S100","v":25},{"$f":"'Nastavení příloh'!T100","v":25},{"$f":"'Nastavení příloh'!U100","v":25},{"$f":"'Nastavení příloh'!V100","v":25},{"$f":"'Nastavení příloh'!W100","v":25},{"$f":"'Nastavení příloh'!X100","v":25},null,7700,"-",7799,{"$f":"'Nastavení příloh'!AD100","v":-13},{"$f":"'Nastavení příloh'!AE100","v":-13},{"$f":"'Nastavení příloh'!AF100","v":-13},{"$f":"'Nastavení příloh'!AG100","v":-13},{"$f":"'Nastavení příloh'!AH100","v":-13},{"$f":"'Nastavení příloh'!AI100","v":-13},{"$f":"'Nastavení příloh'!AJ100","v":-13},{"$f":"'Nastavení příloh'!AK100","v":-13},{"$f":"'Nastavení příloh'!AL100","v":-13},{"$f":"'Nastavení příloh'!AM100","v":-13},{"$f":"'Nastavení příloh'!AN100","v":-13},{"$f":"'Nastavení příloh'!AO100","v":-13},{"$f":"'Nastavení příloh'!AP100","v":-13},{"$f":"'Nastavení příloh'!AQ100","v":-13},{"$f":"'Nastavení příloh'!AR100","v":-13},{"$f":"'Nastavení příloh'!AS100","v":-13},{"$f":"'Nastavení příloh'!AT100","v":-13},{"$f":"'Nastavení příloh'!AU100","v":-8},{"$f":"'Nastavení příloh'!AV100","v":-1},null,null,null,null,null,null,null,null,null,null,null,null,null,null,null,null,null,null,null,null,null,null,null,null,7700,"-",7799,{"$f":"'Nastavení příloh'!BZ100","v":0},{"$f":"'Nastavení příloh'!CA100","v":0},{"$f":"'Nastavení příloh'!CB100","v":9},{"$f":"'Nastavení příloh'!CC100","v":12},{"$f":"'Nastavení příloh'!CD100","v":12},{"$f":"'Nastavení příloh'!CE100","v":12},{"$f":"'Nastavení příloh'!CF100","v":12},{"$f":"'Nastavení příloh'!CG100","v":12},{"$f":"'Nastavení příloh'!CH100","v":12},{"$f":"'Nastavení příloh'!CI100","v":12},{"$f":"'Nastavení příloh'!CJ100","v":12},{"$f":"'Nastavení příloh'!CK100","v":12},{"$f":"'Nastavení příloh'!CL100","v":12},{"$f":"'Nastavení příloh'!CM100","v":12},{"$f":"'Nastavení příloh'!CN100","v":12},{"$f":"'Nastavení příloh'!CO100","v":12},{"$f":"'Nastavení příloh'!CP100","v":12},{"$f":"'Nastavení příloh'!CQ100","v":17},{"$f":"'Nastavení příloh'!CR100","v":24}]
[null,7800,"-",7899,{"$f":"'Nastavení příloh'!F101","v":0},{"$f":"'Nastavení příloh'!G101","v":8},{"$f":"'Nastavení příloh'!H101","v":22},{"$f":"'Nastavení příloh'!I101","v":25},{"$f":"'Nastavení příloh'!J101","v":25},{"$f":"'Nastavení příloh'!K101","v":25},{"$f":"'Nastavení příloh'!L101","v":25},{"$f":"'Nastavení příloh'!M101","v":25},{"$f":"'Nastavení příloh'!N101","v":25},{"$f":"'Nastavení příloh'!O101","v":25},{"$f":"'Nastavení příloh'!P101","v":25},{"$f":"'Nastavení příloh'!Q101","v":25},{"$f":"'Nastavení příloh'!R101","v":25},{"$f":"'Nastavení příloh'!S101","v":25},{"$f":"'Nastavení příloh'!T101","v":25},{"$f":"'Nastavení příloh'!U101","v":25},{"$f":"'Nastavení příloh'!V101","v":25},{"$f":"'Nastavení příloh'!W101","v":25},{"$f":"'Nastavení příloh'!X101","v":25},null,7800,"-",7899,{"$f":"'Nastavení příloh'!AD101","v":-13},{"$f":"'Nastavení příloh'!AE101","v":-13},{"$f":"'Nastavení příloh'!AF101","v":-13},{"$f":"'Nastavení příloh'!AG101","v":-13},{"$f":"'Nastavení příloh'!AH101","v":-13},{"$f":"'Nastavení příloh'!AI101","v":-13},{"$f":"'Nastavení příloh'!AJ101","v":-13},{"$f":"'Nastavení příloh'!AK101","v":-13},{"$f":"'Nastavení příloh'!AL101","v":-13},{"$f":"'Nastavení příloh'!AM101","v":-13},{"$f":"'Nastavení příloh'!AN101","v":-13},{"$f":"'Nastavení příloh'!AO101","v":-13},{"$f":"'Nastavení příloh'!AP101","v":-13},{"$f":"'Nastavení příloh'!AQ101","v":-13},{"$f":"'Nastavení příloh'!AR101","v":-13},{"$f":"'Nastavení příloh'!AS101","v":-13},{"$f":"'Nastavení příloh'!AT101","v":-13},{"$f":"'Nastavení příloh'!AU101","v":-8},{"$f":"'Nastavení příloh'!AV101","v":-2},null,null,null,null,null,null,null,null,null,null,null,null,null,null,null,null,null,null,null,null,null,null,null,null,7800,"-",7899,{"$f":"'Nastavení příloh'!BZ101","v":0},{"$f":"'Nastavení příloh'!CA101","v":0},{"$f":"'Nastavení příloh'!CB101","v":9},{"$f":"'Nastavení příloh'!CC101","v":12},{"$f":"'Nastavení příloh'!CD101","v":12},{"$f":"'Nastavení příloh'!CE101","v":12},{"$f":"'Nastavení příloh'!CF101","v":12},{"$f":"'Nastavení příloh'!CG101","v":12},{"$f":"'Nastavení příloh'!CH101","v":12},{"$f":"'Nastavení příloh'!CI101","v":12},{"$f":"'Nastavení příloh'!CJ101","v":12},{"$f":"'Nastavení příloh'!CK101","v":12},{"$f":"'Nastavení příloh'!CL101","v":12},{"$f":"'Nastavení příloh'!CM101","v":12},{"$f":"'Nastavení příloh'!CN101","v":12},{"$f":"'Nastavení příloh'!CO101","v":12},{"$f":"'Nastavení příloh'!CP101","v":12},{"$f":"'Nastavení příloh'!CQ101","v":17},{"$f":"'Nastavení příloh'!CR101","v":23}]
[null,7900,"-",7999,{"$f":"'Nastavení příloh'!F102","v":0},{"$f":"'Nastavení příloh'!G102","v":8},{"$f":"'Nastavení příloh'!H102","v":22},{"$f":"'Nastavení příloh'!I102","v":25},{"$f":"'Nastavení příloh'!J102","v":25},{"$f":"'Nastavení příloh'!K102","v":25},{"$f":"'Nastavení příloh'!L102","v":25},{"$f":"'Nastavení příloh'!M102","v":25},{"$f":"'Nastavení příloh'!N102","v":25},{"$f":"'Nastavení příloh'!O102","v":25},{"$f":"'Nastavení příloh'!P102","v":25},{"$f":"'Nastavení příloh'!Q102","v":25},{"$f":"'Nastavení příloh'!R102","v":25},{"$f":"'Nastavení příloh'!S102","v":25},{"$f":"'Nastavení příloh'!T102","v":25},{"$f":"'Nastavení příloh'!U102","v":25},{"$f":"'Nastavení příloh'!V102","v":25},{"$f":"'Nastavení příloh'!W102","v":25},{"$f":"'Nastavení příloh'!X102","v":25},null,7900,"-",7999,{"$f":"'Nastavení příloh'!AD102","v":-13},{"$f":"'Nastavení příloh'!AE102","v":-13},{"$f":"'Nastavení příloh'!AF102","v":-13},{"$f":"'Nastavení příloh'!AG102","v":-13},{"$f":"'Nastavení příloh'!AH102","v":-13},{"$f":"'Nastavení příloh'!AI102","v":-13},{"$f":"'Nastavení příloh'!AJ102","v":-13},{"$f":"'Nastavení příloh'!AK102","v":-13},{"$f":"'Nastavení příloh'!AL102","v":-13},{"$f":"'Nastavení příloh'!AM102","v":-13},{"$f":"'Nastavení příloh'!AN102","v":-13},{"$f":"'Nastavení příloh'!AO102","v":-13},{"$f":"'Nastavení příloh'!AP102","v":-13},{"$f":"'Nastavení příloh'!AQ102","v":-13},{"$f":"'Nastavení příloh'!AR102","v":-13},{"$f":"'Nastavení příloh'!AS102","v":-13},{"$f":"'Nastavení příloh'!AT102","v":-13},{"$f":"'Nastavení příloh'!AU102","v":-9},{"$f":"'Nastavení příloh'!AV102","v":-2},null,null,null,null,null,null,null,null,null,null,null,null,null,null,null,null,null,null,null,null,null,null,null,null,7900,"-",7999,{"$f":"'Nastavení příloh'!BZ102","v":0},{"$f":"'Nastavení příloh'!CA102","v":0},{"$f":"'Nastavení příloh'!CB102","v":9},{"$f":"'Nastavení příloh'!CC102","v":12},{"$f":"'Nastavení příloh'!CD102","v":12},{"$f":"'Nastavení příloh'!CE102","v":12},{"$f":"'Nastavení příloh'!CF102","v":12},{"$f":"'Nastavení příloh'!CG102","v":12},{"$f":"'Nastavení příloh'!CH102","v":12},{"$f":"'Nastavení příloh'!CI102","v":12},{"$f":"'Nastavení příloh'!CJ102","v":12},{"$f":"'Nastavení příloh'!CK102","v":12},{"$f":"'Nastavení příloh'!CL102","v":12},{"$f":"'Nastavení příloh'!CM102","v":12},{"$f":"'Nastavení příloh'!CN102","v":12},{"$f":"'Nastavení příloh'!CO102","v":12},{"$f":"'Nastavení příloh'!CP102","v":12},{"$f":"'Nastavení příloh'!CQ102","v":16},{"$f":"'Nastavení příloh'!CR102","v":23}]
[null,8000,"-",8099,{"$f":"'Nastavení příloh'!F103","v":0},{"$f":"'Nastavení příloh'!G103","v":8},{"$f":"'Nastavení příloh'!H103","v":23},{"$f":"'Nastavení příloh'!I103","v":25},{"$f":"'Nastavení příloh'!J103","v":25},{"$f":"'Nastavení příloh'!K103","v":25},{"$f":"'Nastavení příloh'!L103","v":25},{"$f":"'Nastavení příloh'!M103","v":25},{"$f":"'Nastavení příloh'!N103","v":25},{"$f":"'Nastavení příloh'!O103","v":25},{"$f":"'Nastavení příloh'!P103","v":25},{"$f":"'Nastavení příloh'!Q103","v":25},{"$f":"'Nastavení příloh'!R103","v":25},{"$f":"'Nastavení příloh'!S103","v":25},{"$f":"'Nastavení příloh'!T103","v":25},{"$f":"'Nastavení příloh'!U103","v":25},{"$f":"'Nastavení příloh'!V103","v":25},{"$f":"'Nastavení příloh'!W103","v":25},{"$f":"'Nastavení příloh'!X103","v":25},null,8000,"-",8099,{"$f":"'Nastavení příloh'!AD103","v":-13},{"$f":"'Nastavení příloh'!AE103","v":-13},{"$f":"'Nastavení příloh'!AF103","v":-13},{"$f":"'Nastavení příloh'!AG103","v":-13},{"$f":"'Nastavení příloh'!AH103","v":-13},{"$f":"'Nastavení příloh'!AI103","v":-13},{"$f":"'Nastavení příloh'!AJ103","v":-13},{"$f":"'Nastavení příloh'!AK103","v":-13},{"$f":"'Nastavení příloh'!AL103","v":-13},{"$f":"'Nastavení příloh'!AM103","v":-13},{"$f":"'Nastavení příloh'!AN103","v":-13},{"$f":"'Nastavení příloh'!AO103","v":-13},{"$f":"'Nastavení příloh'!AP103","v":-13},{"$f":"'Nastavení příloh'!AQ103","v":-13},{"$f":"'Nastavení příloh'!AR103","v":-13},{"$f":"'Nastavení příloh'!AS103","v":-13},{"$f":"'Nastavení příloh'!AT103","v":-13},{"$f":"'Nastavení příloh'!AU103","v":-9},{"$f":"'Nastavení příloh'!AV103","v":-2},null,null,null,null,null,null,null,null,null,null,null,null,null,null,null,null,null,null,null,null,null,null,null,null,8000,"-",8099,{"$f":"'Nastavení příloh'!BZ103","v":0},{"$f":"'Nastavení příloh'!CA103","v":0},{"$f":"'Nastavení příloh'!CB103","v":10},{"$f":"'Nastavení příloh'!CC103","v":12},{"$f":"'Nastavení příloh'!CD103","v":12},{"$f":"'Nastavení příloh'!CE103","v":12},{"$f":"'Nastavení příloh'!CF103","v":12},{"$f":"'Nastavení příloh'!CG103","v":12},{"$f":"'Nastavení příloh'!CH103","v":12},{"$f":"'Nastavení příloh'!CI103","v":12},{"$f":"'Nastavení příloh'!CJ103","v":12},{"$f":"'Nastavení příloh'!CK103","v":12},{"$f":"'Nastavení příloh'!CL103","v":12},{"$f":"'Nastavení příloh'!CM103","v":12},{"$f":"'Nastavení příloh'!CN103","v":12},{"$f":"'Nastavení příloh'!CO103","v":12},{"$f":"'Nastavení příloh'!CP103","v":12},{"$f":"'Nastavení příloh'!CQ103","v":16},{"$f":"'Nastavení příloh'!CR103","v":23}]
[null,8100,"-",8199,{"$f":"'Nastavení příloh'!F104","v":0},{"$f":"'Nastavení příloh'!G104","v":9},{"$f":"'Nastavení příloh'!H104","v":23},{"$f":"'Nastavení příloh'!I104","v":25},{"$f":"'Nastavení příloh'!J104","v":25},{"$f":"'Nastavení příloh'!K104","v":25},{"$f":"'Nastavení příloh'!L104","v":25},{"$f":"'Nastavení příloh'!M104","v":25},{"$f":"'Nastavení příloh'!N104","v":25},{"$f":"'Nastavení příloh'!O104","v":25},{"$f":"'Nastavení příloh'!P104","v":25},{"$f":"'Nastavení příloh'!Q104","v":25},{"$f":"'Nastavení příloh'!R104","v":25},{"$f":"'Nastavení příloh'!S104","v":25},{"$f":"'Nastavení příloh'!T104","v":25},{"$f":"'Nastavení příloh'!U104","v":25},{"$f":"'Nastavení příloh'!V104","v":25},{"$f":"'Nastavení příloh'!W104","v":25},{"$f":"'Nastavení příloh'!X104","v":25},null,8100,"-",8199,{"$f":"'Nastavení příloh'!AD104","v":-13},{"$f":"'Nastavení příloh'!AE104","v":-13},{"$f":"'Nastavení příloh'!AF104","v":-13},{"$f":"'Nastavení příloh'!AG104","v":-13},{"$f":"'Nastavení příloh'!AH104","v":-13},{"$f":"'Nastavení příloh'!AI104","v":-13},{"$f":"'Nastavení příloh'!AJ104","v":-13},{"$f":"'Nastavení příloh'!AK104","v":-13},{"$f":"'Nastavení příloh'!AL104","v":-13},{"$f":"'Nastavení příloh'!AM104","v":-13},{"$f":"'Nastavení příloh'!AN104","v":-13},{"$f":"'Nastavení příloh'!AO104","v":-13},{"$f":"'Nastavení příloh'!AP104","v":-13},{"$f":"'Nastavení příloh'!AQ104","v":-13},{"$f":"'Nastavení příloh'!AR104","v":-13},{"$f":"'Nastavení příloh'!AS104","v":-13},{"$f":"'Nastavení příloh'!AT104","v":-13},{"$f":"'Nastavení příloh'!AU104","v":-10},{"$f":"'Nastavení příloh'!AV104","v":-3},null,null,null,null,null,null,null,null,null,null,null,null,null,null,null,null,null,null,null,null,null,null,null,null,8100,"-",8199,{"$f":"'Nastavení příloh'!BZ104","v":0},{"$f":"'Nastavení příloh'!CA104","v":0},{"$f":"'Nastavení příloh'!CB104","v":10},{"$f":"'Nastavení příloh'!CC104","v":12},{"$f":"'Nastavení příloh'!CD104","v":12},{"$f":"'Nastavení příloh'!CE104","v":12},{"$f":"'Nastavení příloh'!CF104","v":12},{"$f":"'Nastavení příloh'!CG104","v":12},{"$f":"'Nastavení příloh'!CH104","v":12},{"$f":"'Nastavení příloh'!CI104","v":12},{"$f":"'Nastavení příloh'!CJ104","v":12},{"$f":"'Nastavení příloh'!CK104","v":12},{"$f":"'Nastavení příloh'!CL104","v":12},{"$f":"'Nastavení příloh'!CM104","v":12},{"$f":"'Nastavení příloh'!CN104","v":12},{"$f":"'Nastavení příloh'!CO104","v":12},{"$f":"'Nastavení příloh'!CP104","v":12},{"$f":"'Nastavení příloh'!CQ104","v":15},{"$f":"'Nastavení příloh'!CR104","v":22}]
[null,8200,"-",8299,{"$f":"'Nastavení příloh'!F105","v":0},{"$f":"'Nastavení příloh'!G105","v":9},{"$f":"'Nastavení příloh'!H105","v":23},{"$f":"'Nastavení příloh'!I105","v":25},{"$f":"'Nastavení příloh'!J105","v":25},{"$f":"'Nastavení příloh'!K105","v":25},{"$f":"'Nastavení příloh'!L105","v":25},{"$f":"'Nastavení příloh'!M105","v":25},{"$f":"'Nastavení příloh'!N105","v":25},{"$f":"'Nastavení příloh'!O105","v":25},{"$f":"'Nastavení příloh'!P105","v":25},{"$f":"'Nastavení příloh'!Q105","v":25},{"$f":"'Nastavení příloh'!R105","v":25},{"$f":"'Nastavení příloh'!S105","v":25},{"$f":"'Nastavení příloh'!T105","v":25},{"$f":"'Nastavení příloh'!U105","v":25},{"$f":"'Nastavení příloh'!V105","v":25},{"$f":"'Nastavení příloh'!W105","v":25},{"$f":"'Nastavení příloh'!X105","v":25},null,8200,"-",8299,{"$f":"'Nastavení příloh'!AD105","v":-13},{"$f":"'Nastavení příloh'!AE105","v":-13},{"$f":"'Nastavení příloh'!AF105","v":-13},{"$f":"'Nastavení příloh'!AG105","v":-13},{"$f":"'Nastavení příloh'!AH105","v":-13},{"$f":"'Nastavení příloh'!AI105","v":-13},{"$f":"'Nastavení příloh'!AJ105","v":-13},{"$f":"'Nastavení příloh'!AK105","v":-13},{"$f":"'Nastavení příloh'!AL105","v":-13},{"$f":"'Nastavení příloh'!AM105","v":-13},{"$f":"'Nastavení příloh'!AN105","v":-13},{"$f":"'Nastavení příloh'!AO105","v":-13},{"$f":"'Nastavení příloh'!AP105","v":-13},{"$f":"'Nastavení příloh'!AQ105","v":-13},{"$f":"'Nastavení příloh'!AR105","v":-13},{"$f":"'Nastavení příloh'!AS105","v":-13},{"$f":"'Nastavení příloh'!AT105","v":-13},{"$f":"'Nastavení příloh'!AU105","v":-10},{"$f":"'Nastavení příloh'!AV105","v":-3},null,null,null,null,null,null,null,null,null,null,null,null,null,null,null,null,null,null,null,null,null,null,null,null,8200,"-",8299,{"$f":"'Nastavení příloh'!BZ105","v":0},{"$f":"'Nastavení příloh'!CA105","v":0},{"$f":"'Nastavení příloh'!CB105","v":10},{"$f":"'Nastavení příloh'!CC105","v":12},{"$f":"'Nastavení příloh'!CD105","v":12},{"$f":"'Nastavení příloh'!CE105","v":12},{"$f":"'Nastavení příloh'!CF105","v":12},{"$f":"'Nastavení příloh'!CG105","v":12},{"$f":"'Nastavení příloh'!CH105","v":12},{"$f":"'Nastavení příloh'!CI105","v":12},{"$f":"'Nastavení příloh'!CJ105","v":12},{"$f":"'Nastavení příloh'!CK105","v":12},{"$f":"'Nastavení příloh'!CL105","v":12},{"$f":"'Nastavení příloh'!CM105","v":12},{"$f":"'Nastavení příloh'!CN105","v":12},{"$f":"'Nastavení příloh'!CO105","v":12},{"$f":"'Nastavení příloh'!CP105","v":12},{"$f":"'Nastavení příloh'!CQ105","v":15},{"$f":"'Nastavení příloh'!CR105","v":22}]
[null,8300,"-",8399,{"$f":"'Nastavení příloh'!F106","v":0},{"$f":"'Nastavení příloh'!G106","v":9},{"$f":"'Nastavení příloh'!H106","v":23},{"$f":"'Nastavení příloh'!I106","v":25},{"$f":"'Nastavení příloh'!J106","v":25},{"$f":"'Nastavení příloh'!K106","v":25},{"$f":"'Nastavení příloh'!L106","v":25},{"$f":"'Nastavení příloh'!M106","v":25},{"$f":"'Nastavení příloh'!N106","v":25},{"$f":"'Nastavení příloh'!O106","v":25},{"$f":"'Nastavení příloh'!P106","v":25},{"$f":"'Nastavení příloh'!Q106","v":25},{"$f":"'Nastavení příloh'!R106","v":25},{"$f":"'Nastavení příloh'!S106","v":25},{"$f":"'Nastavení příloh'!T106","v":25},{"$f":"'Nastavení příloh'!U106","v":25},{"$f":"'Nastavení příloh'!V106","v":25},{"$f":"'Nastavení příloh'!W106","v":25},{"$f":"'Nastavení příloh'!X106","v":25},null,8300,"-",8399,{"$f":"'Nastavení příloh'!AD106","v":-13},{"$f":"'Nastavení příloh'!AE106","v":-13},{"$f":"'Nastavení příloh'!AF106","v":-13},{"$f":"'Nastavení příloh'!AG106","v":-13},{"$f":"'Nastavení příloh'!AH106","v":-13},{"$f":"'Nastavení příloh'!AI106","v":-13},{"$f":"'Nastavení příloh'!AJ106","v":-13},{"$f":"'Nastavení příloh'!AK106","v":-13},{"$f":"'Nastavení příloh'!AL106","v":-13},{"$f":"'Nastavení příloh'!AM106","v":-13},{"$f":"'Nastavení příloh'!AN106","v":-13},{"$f":"'Nastavení příloh'!AO106","v":-13},{"$f":"'Nastavení příloh'!AP106","v":-13},{"$f":"'Nastavení příloh'!AQ106","v":-13},{"$f":"'Nastavení příloh'!AR106","v":-13},{"$f":"'Nastavení příloh'!AS106","v":-13},{"$f":"'Nastavení příloh'!AT106","v":-13},{"$f":"'Nastavení příloh'!AU106","v":-11},{"$f":"'Nastavení příloh'!AV106","v":-4},null,null,null,null,null,null,null,null,null,null,null,null,null,null,null,null,null,null,null,null,null,null,null,null,8300,"-",8399,{"$f":"'Nastavení příloh'!BZ106","v":0},{"$f":"'Nastavení příloh'!CA106","v":0},{"$f":"'Nastavení příloh'!CB106","v":10},{"$f":"'Nastavení příloh'!CC106","v":12},{"$f":"'Nastavení příloh'!CD106","v":12},{"$f":"'Nastavení příloh'!CE106","v":12},{"$f":"'Nastavení příloh'!CF106","v":12},{"$f":"'Nastavení příloh'!CG106","v":12},{"$f":"'Nastavení příloh'!CH106","v":12},{"$f":"'Nastavení příloh'!CI106","v":12},{"$f":"'Nastavení příloh'!CJ106","v":12},{"$f":"'Nastavení příloh'!CK106","v":12},{"$f":"'Nastavení příloh'!CL106","v":12},{"$f":"'Nastavení příloh'!CM106","v":12},{"$f":"'Nastavení příloh'!CN106","v":12},{"$f":"'Nastavení příloh'!CO106","v":12},{"$f":"'Nastavení příloh'!CP106","v":12},{"$f":"'Nastavení příloh'!CQ106","v":14},{"$f":"'Nastavení příloh'!CR106","v":21}]
[null,8400,"-",8499,{"$f":"'Nastavení příloh'!F107","v":0},{"$f":"'Nastavení příloh'!G107","v":9},{"$f":"'Nastavení příloh'!H107","v":24},{"$f":"'Nastavení příloh'!I107","v":25},{"$f":"'Nastavení příloh'!J107","v":25},{"$f":"'Nastavení příloh'!K107","v":25},{"$f":"'Nastavení příloh'!L107","v":25},{"$f":"'Nastavení příloh'!M107","v":25},{"$f":"'Nastavení příloh'!N107","v":25},{"$f":"'Nastavení příloh'!O107","v":25},{"$f":"'Nastavení příloh'!P107","v":25},{"$f":"'Nastavení příloh'!Q107","v":25},{"$f":"'Nastavení příloh'!R107","v":25},{"$f":"'Nastavení příloh'!S107","v":25},{"$f":"'Nastavení příloh'!T107","v":25},{"$f":"'Nastavení příloh'!U107","v":25},{"$f":"'Nastavení příloh'!V107","v":25},{"$f":"'Nastavení příloh'!W107","v":25},{"$f":"'Nastavení příloh'!X107","v":25},null,8400,"-",8499,{"$f":"'Nastavení příloh'!AD107","v":-13},{"$f":"'Nastavení příloh'!AE107","v":-13},{"$f":"'Nastavení příloh'!AF107","v":-13},{"$f":"'Nastavení příloh'!AG107","v":-13},{"$f":"'Nastavení příloh'!AH107","v":-13},{"$f":"'Nastavení příloh'!AI107","v":-13},{"$f":"'Nastavení příloh'!AJ107","v":-13},{"$f":"'Nastavení příloh'!AK107","v":-13},{"$f":"'Nastavení příloh'!AL107","v":-13},{"$f":"'Nastavení příloh'!AM107","v":-13},{"$f":"'Nastavení příloh'!AN107","v":-13},{"$f":"'Nastavení příloh'!AO107","v":-13},{"$f":"'Nastavení příloh'!AP107","v":-13},{"$f":"'Nastavení příloh'!AQ107","v":-13},{"$f":"'Nastavení příloh'!AR107","v":-13},{"$f":"'Nastavení příloh'!AS107","v":-13},{"$f":"'Nastavení příloh'!AT107","v":-13},{"$f":"'Nastavení příloh'!AU107","v":-11},{"$f":"'Nastavení příloh'!AV107","v":-4},null,null,null,null,null,null,null,null,null,null,null,null,null,null,null,null,null,null,null,null,null,null,null,null,8400,"-",8499,{"$f":"'Nastavení příloh'!BZ107","v":0},{"$f":"'Nastavení příloh'!CA107","v":0},{"$f":"'Nastavení příloh'!CB107","v":11},{"$f":"'Nastavení příloh'!CC107","v":12},{"$f":"'Nastavení příloh'!CD107","v":12},{"$f":"'Nastavení příloh'!CE107","v":12},{"$f":"'Nastavení příloh'!CF107","v":12},{"$f":"'Nastavení příloh'!CG107","v":12},{"$f":"'Nastavení příloh'!CH107","v":12},{"$f":"'Nastavení příloh'!CI107","v":12},{"$f":"'Nastavení příloh'!CJ107","v":12},{"$f":"'Nastavení příloh'!CK107","v":12},{"$f":"'Nastavení příloh'!CL107","v":12},{"$f":"'Nastavení příloh'!CM107","v":12},{"$f":"'Nastavení příloh'!CN107","v":12},{"$f":"'Nastavení příloh'!CO107","v":12},{"$f":"'Nastavení příloh'!CP107","v":12},{"$f":"'Nastavení příloh'!CQ107","v":14},{"$f":"'Nastavení příloh'!CR107","v":21}]
[null,8500,"-",8599,{"$f":"'Nastavení příloh'!F108","v":0},{"$f":"'Nastavení příloh'!G108","v":9},{"$f":"'Nastavení příloh'!H108","v":24},{"$f":"'Nastavení příloh'!I108","v":25},{"$f":"'Nastavení příloh'!J108","v":25},{"$f":"'Nastavení příloh'!K108","v":25},{"$f":"'Nastavení příloh'!L108","v":25},{"$f":"'Nastavení příloh'!M108","v":25},{"$f":"'Nastavení příloh'!N108","v":25},{"$f":"'Nastavení příloh'!O108","v":25},{"$f":"'Nastavení příloh'!P108","v":25},{"$f":"'Nastavení příloh'!Q108","v":25},{"$f":"'Nastavení příloh'!R108","v":25},{"$f":"'Nastavení příloh'!S108","v":25},{"$f":"'Nastavení příloh'!T108","v":25},{"$f":"'Nastavení příloh'!U108","v":25},{"$f":"'Nastavení příloh'!V108","v":25},{"$f":"'Nastavení příloh'!W108","v":25},{"$f":"'Nastavení příloh'!X108","v":25},null,8500,"-",8599,{"$f":"'Nastavení příloh'!AD108","v":-13},{"$f":"'Nastavení příloh'!AE108","v":-13},{"$f":"'Nastavení příloh'!AF108","v":-13},{"$f":"'Nastavení příloh'!AG108","v":-13},{"$f":"'Nastavení příloh'!AH108","v":-13},{"$f":"'Nastavení příloh'!AI108","v":-13},{"$f":"'Nastavení příloh'!AJ108","v":-13},{"$f":"'Nastavení příloh'!AK108","v":-13},{"$f":"'Nastavení příloh'!AL108","v":-13},{"$f":"'Nastavení příloh'!AM108","v":-13},{"$f":"'Nastavení příloh'!AN108","v":-13},{"$f":"'Nastavení příloh'!AO108","v":-13},{"$f":"'Nastavení příloh'!AP108","v":-13},{"$f":"'Nastavení příloh'!AQ108","v":-13},{"$f":"'Nastavení příloh'!AR108","v":-13},{"$f":"'Nastavení příloh'!AS108","v":-13},{"$f":"'Nastavení příloh'!AT108","v":-13},{"$f":"'Nastavení příloh'!AU108","v":-12},{"$f":"'Nastavení příloh'!AV108","v":-4},null,null,null,null,null,null,null,null,null,null,null,null,null,null,null,null,null,null,null,null,null,null,null,null,8500,"-",8599,{"$f":"'Nastavení příloh'!BZ108","v":0},{"$f":"'Nastavení příloh'!CA108","v":0},{"$f":"'Nastavení příloh'!CB108","v":11},{"$f":"'Nastavení příloh'!CC108","v":12},{"$f":"'Nastavení příloh'!CD108","v":12},{"$f":"'Nastavení příloh'!CE108","v":12},{"$f":"'Nastavení příloh'!CF108","v":12},{"$f":"'Nastavení příloh'!CG108","v":12},{"$f":"'Nastavení příloh'!CH108","v":12},{"$f":"'Nastavení příloh'!CI108","v":12},{"$f":"'Nastavení příloh'!CJ108","v":12},{"$f":"'Nastavení příloh'!CK108","v":12},{"$f":"'Nastavení příloh'!CL108","v":12},{"$f":"'Nastavení příloh'!CM108","v":12},{"$f":"'Nastavení příloh'!CN108","v":12},{"$f":"'Nastavení příloh'!CO108","v":12},{"$f":"'Nastavení příloh'!CP108","v":12},{"$f":"'Nastavení příloh'!CQ108","v":13},{"$f":"'Nastavení příloh'!CR108","v":21}]
[null,8600,"-",8699,{"$f":"'Nastavení příloh'!F109","v":0},{"$f":"'Nastavení příloh'!G109","v":9},{"$f":"'Nastavení příloh'!H109","v":24},{"$f":"'Nastavení příloh'!I109","v":25},{"$f":"'Nastavení příloh'!J109","v":25},{"$f":"'Nastavení příloh'!K109","v":25},{"$f":"'Nastavení příloh'!L109","v":25},{"$f":"'Nastavení příloh'!M109","v":25},{"$f":"'Nastavení příloh'!N109","v":25},{"$f":"'Nastavení příloh'!O109","v":25},{"$f":"'Nastavení příloh'!P109","v":25},{"$f":"'Nastavení příloh'!Q109","v":25},{"$f":"'Nastavení příloh'!R109","v":25},{"$f":"'Nastavení příloh'!S109","v":25},{"$f":"'Nastavení příloh'!T109","v":25},{"$f":"'Nastavení příloh'!U109","v":25},{"$f":"'Nastavení příloh'!V109","v":25},{"$f":"'Nastavení příloh'!W109","v":25},{"$f":"'Nastavení příloh'!X109","v":25},null,8600,"-",8699,{"$f":"'Nastavení příloh'!AD109","v":-13},{"$f":"'Nastavení příloh'!AE109","v":-13},{"$f":"'Nastavení příloh'!AF109","v":-13},{"$f":"'Nastavení příloh'!AG109","v":-13},{"$f":"'Nastavení příloh'!AH109","v":-13},{"$f":"'Nastavení příloh'!AI109","v":-13},{"$f":"'Nastavení příloh'!AJ109","v":-13},{"$f":"'Nastavení příloh'!AK109","v":-13},{"$f":"'Nastavení příloh'!AL109","v":-13},{"$f":"'Nastavení příloh'!AM109","v":-13},{"$f":"'Nastavení příloh'!AN109","v":-13},{"$f":"'Nastavení příloh'!AO109","v":-13},{"$f":"'Nastavení příloh'!AP109","v":-13},{"$f":"'Nastavení příloh'!AQ109","v":-13},{"$f":"'Nastavení příloh'!AR109","v":-13},{"$f":"'Nastavení příloh'!AS109","v":-13},{"$f":"'Nastavení příloh'!AT109","v":-13},{"$f":"'Nastavení příloh'!AU109","v":-12},{"$f":"'Nastavení příloh'!AV109","v":-5},null,null,null,null,null,null,null,null,null,null,null,null,null,null,null,null,null,null,null,null,null,null,null,null,8600,"-",8699,{"$f":"'Nastavení příloh'!BZ109","v":0},{"$f":"'Nastavení příloh'!CA109","v":0},{"$f":"'Nastavení příloh'!CB109","v":11},{"$f":"'Nastavení příloh'!CC109","v":12},{"$f":"'Nastavení příloh'!CD109","v":12},{"$f":"'Nastavení příloh'!CE109","v":12},{"$f":"'Nastavení příloh'!CF109","v":12},{"$f":"'Nastavení příloh'!CG109","v":12},{"$f":"'Nastavení příloh'!CH109","v":12},{"$f":"'Nastavení příloh'!CI109","v":12},{"$f":"'Nastavení příloh'!CJ109","v":12},{"$f":"'Nastavení příloh'!CK109","v":12},{"$f":"'Nastavení příloh'!CL109","v":12},{"$f":"'Nastavení příloh'!CM109","v":12},{"$f":"'Nastavení příloh'!CN109","v":12},{"$f":"'Nastavení příloh'!CO109","v":12},{"$f":"'Nastavení příloh'!CP109","v":12},{"$f":"'Nastavení příloh'!CQ109","v":13},{"$f":"'Nastavení příloh'!CR109","v":20}]
[null,8700,"-",8799,{"$f":"'Nastavení příloh'!F110","v":0},{"$f":"'Nastavení příloh'!G110","v":9},{"$f":"'Nastavení příloh'!H110","v":25},{"$f":"'Nastavení příloh'!I110","v":25},{"$f":"'Nastavení příloh'!J110","v":25},{"$f":"'Nastavení příloh'!K110","v":25},{"$f":"'Nastavení příloh'!L110","v":25},{"$f":"'Nastavení příloh'!M110","v":25},{"$f":"'Nastavení příloh'!N110","v":25},{"$f":"'Nastavení příloh'!O110","v":25},{"$f":"'Nastavení příloh'!P110","v":25},{"$f":"'Nastavení příloh'!Q110","v":25},{"$f":"'Nastavení příloh'!R110","v":25},{"$f":"'Nastavení příloh'!S110","v":25},{"$f":"'Nastavení příloh'!T110","v":25},{"$f":"'Nastavení příloh'!U110","v":25},{"$f":"'Nastavení příloh'!V110","v":25},{"$f":"'Nastavení příloh'!W110","v":25},{"$f":"'Nastavení příloh'!X110","v":25},null,8700,"-",8799,{"$f":"'Nastavení příloh'!AD110","v":-13},{"$f":"'Nastavení příloh'!AE110","v":-13},{"$f":"'Nastavení příloh'!AF110","v":-13},{"$f":"'Nastavení příloh'!AG110","v":-13},{"$f":"'Nastavení příloh'!AH110","v":-13},{"$f":"'Nastavení příloh'!AI110","v":-13},{"$f":"'Nastavení příloh'!AJ110","v":-13},{"$f":"'Nastavení příloh'!AK110","v":-13},{"$f":"'Nastavení příloh'!AL110","v":-13},{"$f":"'Nastavení příloh'!AM110","v":-13},{"$f":"'Nastavení příloh'!AN110","v":-13},{"$f":"'Nastavení příloh'!AO110","v":-13},{"$f":"'Nastavení příloh'!AP110","v":-13},{"$f":"'Nastavení příloh'!AQ110","v":-13},{"$f":"'Nastavení příloh'!AR110","v":-13},{"$f":"'Nastavení příloh'!AS110","v":-13},{"$f":"'Nastavení příloh'!AT110","v":-13},{"$f":"'Nastavení příloh'!AU110","v":-13},{"$f":"'Nastavení příloh'!AV110","v":-5},null,null,null,null,null,null,null,null,null,null,null,null,null,null,null,null,null,null,null,null,null,null,null,null,8700,"-",8799,{"$f":"'Nastavení příloh'!BZ110","v":0},{"$f":"'Nastavení příloh'!CA110","v":0},{"$f":"'Nastavení příloh'!CB110","v":12},{"$f":"'Nastavení příloh'!CC110","v":12},{"$f":"'Nastavení příloh'!CD110","v":12},{"$f":"'Nastavení příloh'!CE110","v":12},{"$f":"'Nastavení příloh'!CF110","v":12},{"$f":"'Nastavení příloh'!CG110","v":12},{"$f":"'Nastavení příloh'!CH110","v":12},{"$f":"'Nastavení příloh'!CI110","v":12},{"$f":"'Nastavení příloh'!CJ110","v":12},{"$f":"'Nastavení příloh'!CK110","v":12},{"$f":"'Nastavení příloh'!CL110","v":12},{"$f":"'Nastavení příloh'!CM110","v":12},{"$f":"'Nastavení příloh'!CN110","v":12},{"$f":"'Nastavení příloh'!CO110","v":12},{"$f":"'Nastavení příloh'!CP110","v":12},{"$f":"'Nastavení příloh'!CQ110","v":12},{"$f":"'Nastavení příloh'!CR110","v":20}]
[null,8800,"-",8899,{"$f":"'Nastavení příloh'!F111","v":0},{"$f":"'Nastavení příloh'!G111","v":9},{"$f":"'Nastavení příloh'!H111","v":25},{"$f":"'Nastavení příloh'!I111","v":25},{"$f":"'Nastavení příloh'!J111","v":25},{"$f":"'Nastavení příloh'!K111","v":25},{"$f":"'Nastavení příloh'!L111","v":25},{"$f":"'Nastavení příloh'!M111","v":25},{"$f":"'Nastavení příloh'!N111","v":25},{"$f":"'Nastavení příloh'!O111","v":25},{"$f":"'Nastavení příloh'!P111","v":25},{"$f":"'Nastavení příloh'!Q111","v":25},{"$f":"'Nastavení příloh'!R111","v":25},{"$f":"'Nastavení příloh'!S111","v":25},{"$f":"'Nastavení příloh'!T111","v":25},{"$f":"'Nastavení příloh'!U111","v":25},{"$f":"'Nastavení příloh'!V111","v":25},{"$f":"'Nastavení příloh'!W111","v":25},{"$f":"'Nastavení příloh'!X111","v":25},null,8800,"-",8899,{"$f":"'Nastavení příloh'!AD111","v":-13},{"$f":"'Nastavení příloh'!AE111","v":-13},{"$f":"'Nastavení příloh'!AF111","v":-13},{"$f":"'Nastavení příloh'!AG111","v":-13},{"$f":"'Nastavení příloh'!AH111","v":-13},{"$f":"'Nastavení příloh'!AI111","v":-13},{"$f":"'Nastavení příloh'!AJ111","v":-13},{"$f":"'Nastavení příloh'!AK111","v":-13},{"$f":"'Nastavení příloh'!AL111","v":-13},{"$f":"'Nastavení příloh'!AM111","v":-13},{"$f":"'Nastavení příloh'!AN111","v":-13},{"$f":"'Nastavení příloh'!AO111","v":-13},{"$f":"'Nastavení příloh'!AP111","v":-13},{"$f":"'Nastavení příloh'!AQ111","v":-13},{"$f":"'Nastavení příloh'!AR111","v":-13},{"$f":"'Nastavení příloh'!AS111","v":-13},{"$f":"'Nastavení příloh'!AT111","v":-13},{"$f":"'Nastavení příloh'!AU111","v":-13},{"$f":"'Nastavení příloh'!AV111","v":-6},null,null,null,null,null,null,null,null,null,null,null,null,null,null,null,null,null,null,null,null,null,null,null,null,8800,"-",8899,{"$f":"'Nastavení příloh'!BZ111","v":0},{"$f":"'Nastavení příloh'!CA111","v":0},{"$f":"'Nastavení příloh'!CB111","v":12},{"$f":"'Nastavení příloh'!CC111","v":12},{"$f":"'Nastavení příloh'!CD111","v":12},{"$f":"'Nastavení příloh'!CE111","v":12},{"$f":"'Nastavení příloh'!CF111","v":12},{"$f":"'Nastavení příloh'!CG111","v":12},{"$f":"'Nastavení příloh'!CH111","v":12},{"$f":"'Nastavení příloh'!CI111","v":12},{"$f":"'Nastavení příloh'!CJ111","v":12},{"$f":"'Nastavení příloh'!CK111","v":12},{"$f":"'Nastavení příloh'!CL111","v":12},{"$f":"'Nastavení příloh'!CM111","v":12},{"$f":"'Nastavení příloh'!CN111","v":12},{"$f":"'Nastavení příloh'!CO111","v":12},{"$f":"'Nastavení příloh'!CP111","v":12},{"$f":"'Nastavení příloh'!CQ111","v":12},{"$f":"'Nastavení příloh'!CR111","v":19}]
[null,8900,"-",8999,{"$f":"'Nastavení příloh'!F112","v":0},{"$f":"'Nastavení příloh'!G112","v":9},{"$f":"'Nastavení příloh'!H112","v":25},{"$f":"'Nastavení příloh'!I112","v":25},{"$f":"'Nastavení příloh'!J112","v":25},{"$f":"'Nastavení příloh'!K112","v":25},{"$f":"'Nastavení příloh'!L112","v":25},{"$f":"'Nastavení příloh'!M112","v":25},{"$f":"'Nastavení příloh'!N112","v":25},{"$f":"'Nastavení příloh'!O112","v":25},{"$f":"'Nastavení příloh'!P112","v":25},{"$f":"'Nastavení příloh'!Q112","v":25},{"$f":"'Nastavení příloh'!R112","v":25},{"$f":"'Nastavení příloh'!S112","v":25},{"$f":"'Nastavení příloh'!T112","v":25},{"$f":"'Nastavení příloh'!U112","v":25},{"$f":"'Nastavení příloh'!V112","v":25},{"$f":"'Nastavení příloh'!W112","v":25},{"$f":"'Nastavení příloh'!X112","v":25},null,8900,"-",8999,{"$f":"'Nastavení příloh'!AD112","v":-13},{"$f":"'Nastavení příloh'!AE112","v":-13},{"$f":"'Nastavení příloh'!AF112","v":-13},{"$f":"'Nastavení příloh'!AG112","v":-13},{"$f":"'Nastavení příloh'!AH112","v":-13},{"$f":"'Nastavení příloh'!AI112","v":-13},{"$f":"'Nastavení příloh'!AJ112","v":-13},{"$f":"'Nastavení příloh'!AK112","v":-13},{"$f":"'Nastavení příloh'!AL112","v":-13},{"$f":"'Nastavení příloh'!AM112","v":-13},{"$f":"'Nastavení příloh'!AN112","v":-13},{"$f":"'Nastavení příloh'!AO112","v":-13},{"$f":"'Nastavení příloh'!AP112","v":-13},{"$f":"'Nastavení příloh'!AQ112","v":-13},{"$f":"'Nastavení příloh'!AR112","v":-13},{"$f":"'Nastavení příloh'!AS112","v":-13},{"$f":"'Nastavení příloh'!AT112","v":-13},{"$f":"'Nastavení příloh'!AU112","v":-13},{"$f":"'Nastavení příloh'!AV112","v":-6},null,null,null,null,null,null,null,null,null,null,null,null,null,null,null,null,null,null,null,null,null,null,null,null,8900,"-",8999,{"$f":"'Nastavení příloh'!BZ112","v":0},{"$f":"'Nastavení příloh'!CA112","v":0},{"$f":"'Nastavení příloh'!CB112","v":12},{"$f":"'Nastavení příloh'!CC112","v":12},{"$f":"'Nastavení příloh'!CD112","v":12},{"$f":"'Nastavení příloh'!CE112","v":12},{"$f":"'Nastavení příloh'!CF112","v":12},{"$f":"'Nastavení příloh'!CG112","v":12},{"$f":"'Nastavení příloh'!CH112","v":12},{"$f":"'Nastavení příloh'!CI112","v":12},{"$f":"'Nastavení příloh'!CJ112","v":12},{"$f":"'Nastavení příloh'!CK112","v":12},{"$f":"'Nastavení příloh'!CL112","v":12},{"$f":"'Nastavení příloh'!CM112","v":12},{"$f":"'Nastavení příloh'!CN112","v":12},{"$f":"'Nastavení příloh'!CO112","v":12},{"$f":"'Nastavení příloh'!CP112","v":12},{"$f":"'Nastavení příloh'!CQ112","v":12},{"$f":"'Nastavení příloh'!CR112","v":19}]
[null,9000,"-",9099,{"$f":"'Nastavení příloh'!F113","v":0},{"$f":"'Nastavení příloh'!G113","v":10},{"$f":"'Nastavení příloh'!H113","v":25},{"$f":"'Nastavení příloh'!I113","v":25},{"$f":"'Nastavení příloh'!J113","v":25},{"$f":"'Nastavení příloh'!K113","v":25},{"$f":"'Nastavení příloh'!L113","v":25},{"$f":"'Nastavení příloh'!M113","v":25},{"$f":"'Nastavení příloh'!N113","v":25},{"$f":"'Nastavení příloh'!O113","v":25},{"$f":"'Nastavení příloh'!P113","v":25},{"$f":"'Nastavení příloh'!Q113","v":25},{"$f":"'Nastavení příloh'!R113","v":25},{"$f":"'Nastavení příloh'!S113","v":25},{"$f":"'Nastavení příloh'!T113","v":25},{"$f":"'Nastavení příloh'!U113","v":25},{"$f":"'Nastavení příloh'!V113","v":25},{"$f":"'Nastavení příloh'!W113","v":25},{"$f":"'Nastavení příloh'!X113","v":25},null,9000,"-",9099,{"$f":"'Nastavení příloh'!AD113","v":-13},{"$f":"'Nastavení příloh'!AE113","v":-13},{"$f":"'Nastavení příloh'!AF113","v":-13},{"$f":"'Nastavení příloh'!AG113","v":-13},{"$f":"'Nastavení příloh'!AH113","v":-13},{"$f":"'Nastavení příloh'!AI113","v":-13},{"$f":"'Nastavení příloh'!AJ113","v":-13},{"$f":"'Nastavení příloh'!AK113","v":-13},{"$f":"'Nastavení příloh'!AL113","v":-13},{"$f":"'Nastavení příloh'!AM113","v":-13},{"$f":"'Nastavení příloh'!AN113","v":-13},{"$f":"'Nastavení příloh'!AO113","v":-13},{"$f":"'Nastavení příloh'!AP113","v":-13},{"$f":"'Nastavení příloh'!AQ113","v":-13},{"$f":"'Nastavení příloh'!AR113","v":-13},{"$f":"'Nastavení příloh'!AS113","v":-13},{"$f":"'Nastavení příloh'!AT113","v":-13},{"$f":"'Nastavení příloh'!AU113","v":-13},{"$f":"'Nastavení příloh'!AV113","v":-6},null,null,null,null,null,null,null,null,null,null,null,null,null,null,null,null,null,null,null,null,null,null,null,null,9000,"-",9099,{"$f":"'Nastavení příloh'!BZ113","v":0},{"$f":"'Nastavení příloh'!CA113","v":0},{"$f":"'Nastavení příloh'!CB113","v":12},{"$f":"'Nastavení příloh'!CC113","v":12},{"$f":"'Nastavení příloh'!CD113","v":12},{"$f":"'Nastavení příloh'!CE113","v":12},{"$f":"'Nastavení příloh'!CF113","v":12},{"$f":"'Nastavení příloh'!CG113","v":12},{"$f":"'Nastavení příloh'!CH113","v":12},{"$f":"'Nastavení příloh'!CI113","v":12},{"$f":"'Nastavení příloh'!CJ113","v":12},{"$f":"'Nastavení příloh'!CK113","v":12},{"$f":"'Nastavení příloh'!CL113","v":12},{"$f":"'Nastavení příloh'!CM113","v":12},{"$f":"'Nastavení příloh'!CN113","v":12},{"$f":"'Nastavení příloh'!CO113","v":12},{"$f":"'Nastavení příloh'!CP113","v":12},{"$f":"'Nastavení příloh'!CQ113","v":12},{"$f":"'Nastavení příloh'!CR113","v":19}]
[null,9100,"-",9199,{"$f":"'Nastavení příloh'!F114","v":0},{"$f":"'Nastavení příloh'!G114","v":10},{"$f":"'Nastavení příloh'!H114","v":25},{"$f":"'Nastavení příloh'!I114","v":25},{"$f":"'Nastavení příloh'!J114","v":25},{"$f":"'Nastavení příloh'!K114","v":25},{"$f":"'Nastavení příloh'!L114","v":25},{"$f":"'Nastavení příloh'!M114","v":25},{"$f":"'Nastavení příloh'!N114","v":25},{"$f":"'Nastavení příloh'!O114","v":25},{"$f":"'Nastavení příloh'!P114","v":25},{"$f":"'Nastavení příloh'!Q114","v":25},{"$f":"'Nastavení příloh'!R114","v":25},{"$f":"'Nastavení příloh'!S114","v":25},{"$f":"'Nastavení příloh'!T114","v":25},{"$f":"'Nastavení příloh'!U114","v":25},{"$f":"'Nastavení příloh'!V114","v":25},{"$f":"'Nastavení příloh'!W114","v":25},{"$f":"'Nastavení příloh'!X114","v":25},null,9100,"-",9199,{"$f":"'Nastavení příloh'!AD114","v":-13},{"$f":"'Nastavení příloh'!AE114","v":-13},{"$f":"'Nastavení příloh'!AF114","v":-13},{"$f":"'Nastavení příloh'!AG114","v":-13},{"$f":"'Nastavení příloh'!AH114","v":-13},{"$f":"'Nastavení příloh'!AI114","v":-13},{"$f":"'Nastavení příloh'!AJ114","v":-13},{"$f":"'Nastavení příloh'!AK114","v":-13},{"$f":"'Nastavení příloh'!AL114","v":-13},{"$f":"'Nastavení příloh'!AM114","v":-13},{"$f":"'Nastavení příloh'!AN114","v":-13},{"$f":"'Nastavení příloh'!AO114","v":-13},{"$f":"'Nastavení příloh'!AP114","v":-13},{"$f":"'Nastavení příloh'!AQ114","v":-13},{"$f":"'Nastavení příloh'!AR114","v":-13},{"$f":"'Nastavení příloh'!AS114","v":-13},{"$f":"'Nastavení příloh'!AT114","v":-13},{"$f":"'Nastavení příloh'!AU114","v":-13},{"$f":"'Nastavení příloh'!AV114","v":-7},null,null,null,null,null,null,null,null,null,null,null,null,null,null,null,null,null,null,null,null,null,null,null,null,9100,"-",9199,{"$f":"'Nastavení příloh'!BZ114","v":0},{"$f":"'Nastavení příloh'!CA114","v":0},{"$f":"'Nastavení příloh'!CB114","v":12},{"$f":"'Nastavení příloh'!CC114","v":12},{"$f":"'Nastavení příloh'!CD114","v":12},{"$f":"'Nastavení příloh'!CE114","v":12},{"$f":"'Nastavení příloh'!CF114","v":12},{"$f":"'Nastavení příloh'!CG114","v":12},{"$f":"'Nastavení příloh'!CH114","v":12},{"$f":"'Nastavení příloh'!CI114","v":12},{"$f":"'Nastavení příloh'!CJ114","v":12},{"$f":"'Nastavení příloh'!CK114","v":12},{"$f":"'Nastavení příloh'!CL114","v":12},{"$f":"'Nastavení příloh'!CM114","v":12},{"$f":"'Nastavení příloh'!CN114","v":12},{"$f":"'Nastavení příloh'!CO114","v":12},{"$f":"'Nastavení příloh'!CP114","v":12},{"$f":"'Nastavení příloh'!CQ114","v":12},{"$f":"'Nastavení příloh'!CR114","v":18}]
[null,9200,"-",9299,{"$f":"'Nastavení příloh'!F115","v":0},{"$f":"'Nastavení příloh'!G115","v":10},{"$f":"'Nastavení příloh'!H115","v":25},{"$f":"'Nastavení příloh'!I115","v":25},{"$f":"'Nastavení příloh'!J115","v":25},{"$f":"'Nastavení příloh'!K115","v":25},{"$f":"'Nastavení příloh'!L115","v":25},{"$f":"'Nastavení příloh'!M115","v":25},{"$f":"'Nastavení příloh'!N115","v":25},{"$f":"'Nastavení příloh'!O115","v":25},{"$f":"'Nastavení příloh'!P115","v":25},{"$f":"'Nastavení příloh'!Q115","v":25},{"$f":"'Nastavení příloh'!R115","v":25},{"$f":"'Nastavení příloh'!S115","v":25},{"$f":"'Nastavení příloh'!T115","v":25},{"$f":"'Nastavení příloh'!U115","v":25},{"$f":"'Nastavení příloh'!V115","v":25},{"$f":"'Nastavení příloh'!W115","v":25},{"$f":"'Nastavení příloh'!X115","v":25},null,9200,"-",9299,{"$f":"'Nastavení příloh'!AD115","v":-13},{"$f":"'Nastavení příloh'!AE115","v":-13},{"$f":"'Nastavení příloh'!AF115","v":-13},{"$f":"'Nastavení příloh'!AG115","v":-13},{"$f":"'Nastavení příloh'!AH115","v":-13},{"$f":"'Nastavení příloh'!AI115","v":-13},{"$f":"'Nastavení příloh'!AJ115","v":-13},{"$f":"'Nastavení příloh'!AK115","v":-13},{"$f":"'Nastavení příloh'!AL115","v":-13},{"$f":"'Nastavení příloh'!AM115","v":-13},{"$f":"'Nastavení příloh'!AN115","v":-13},{"$f":"'Nastavení příloh'!AO115","v":-13},{"$f":"'Nastavení příloh'!AP115","v":-13},{"$f":"'Nastavení příloh'!AQ115","v":-13},{"$f":"'Nastavení příloh'!AR115","v":-13},{"$f":"'Nastavení příloh'!AS115","v":-13},{"$f":"'Nastavení příloh'!AT115","v":-13},{"$f":"'Nastavení příloh'!AU115","v":-13},{"$f":"'Nastavení příloh'!AV115","v":-7},null,null,null,null,null,null,null,null,null,null,null,null,null,null,null,null,null,null,null,null,null,null,null,null,9200,"-",9299,{"$f":"'Nastavení příloh'!BZ115","v":0},{"$f":"'Nastavení příloh'!CA115","v":0},{"$f":"'Nastavení příloh'!CB115","v":12},{"$f":"'Nastavení příloh'!CC115","v":12},{"$f":"'Nastavení příloh'!CD115","v":12},{"$f":"'Nastavení příloh'!CE115","v":12},{"$f":"'Nastavení příloh'!CF115","v":12},{"$f":"'Nastavení příloh'!CG115","v":12},{"$f":"'Nastavení příloh'!CH115","v":12},{"$f":"'Nastavení příloh'!CI115","v":12},{"$f":"'Nastavení příloh'!CJ115","v":12},{"$f":"'Nastavení příloh'!CK115","v":12},{"$f":"'Nastavení příloh'!CL115","v":12},{"$f":"'Nastavení příloh'!CM115","v":12},{"$f":"'Nastavení příloh'!CN115","v":12},{"$f":"'Nastavení příloh'!CO115","v":12},{"$f":"'Nastavení příloh'!CP115","v":12},{"$f":"'Nastavení příloh'!CQ115","v":12},{"$f":"'Nastavení příloh'!CR115","v":18}]
[null,9300,"-",9399,{"$f":"'Nastavení příloh'!F116","v":0},{"$f":"'Nastavení příloh'!G116","v":10},{"$f":"'Nastavení příloh'!H116","v":25},{"$f":"'Nastavení příloh'!I116","v":25},{"$f":"'Nastavení příloh'!J116","v":25},{"$f":"'Nastavení příloh'!K116","v":25},{"$f":"'Nastavení příloh'!L116","v":25},{"$f":"'Nastavení příloh'!M116","v":25},{"$f":"'Nastavení příloh'!N116","v":25},{"$f":"'Nastavení příloh'!O116","v":25},{"$f":"'Nastavení příloh'!P116","v":25},{"$f":"'Nastavení příloh'!Q116","v":25},{"$f":"'Nastavení příloh'!R116","v":25},{"$f":"'Nastavení příloh'!S116","v":25},{"$f":"'Nastavení příloh'!T116","v":25},{"$f":"'Nastavení příloh'!U116","v":25},{"$f":"'Nastavení příloh'!V116","v":25},{"$f":"'Nastavení příloh'!W116","v":25},{"$f":"'Nastavení příloh'!X116","v":25},null,9300,"-",9399,{"$f":"'Nastavení příloh'!AD116","v":-13},{"$f":"'Nastavení příloh'!AE116","v":-13},{"$f":"'Nastavení příloh'!AF116","v":-13},{"$f":"'Nastavení příloh'!AG116","v":-13},{"$f":"'Nastavení příloh'!AH116","v":-13},{"$f":"'Nastavení příloh'!AI116","v":-13},{"$f":"'Nastavení příloh'!AJ116","v":-13},{"$f":"'Nastavení příloh'!AK116","v":-13},{"$f":"'Nastavení příloh'!AL116","v":-13},{"$f":"'Nastavení příloh'!AM116","v":-13},{"$f":"'Nastavení příloh'!AN116","v":-13},{"$f":"'Nastavení příloh'!AO116","v":-13},{"$f":"'Nastavení příloh'!AP116","v":-13},{"$f":"'Nastavení příloh'!AQ116","v":-13},{"$f":"'Nastavení příloh'!AR116","v":-13},{"$f":"'Nastavení příloh'!AS116","v":-13},{"$f":"'Nastavení příloh'!AT116","v":-13},{"$f":"'Nastavení příloh'!AU116","v":-13},{"$f":"'Nastavení příloh'!AV116","v":-8},null,null,null,null,null,null,null,null,null,null,null,null,null,null,null,null,null,null,null,null,null,null,null,null,9300,"-",9399,{"$f":"'Nastavení příloh'!BZ116","v":0},{"$f":"'Nastavení příloh'!CA116","v":0},{"$f":"'Nastavení příloh'!CB116","v":12},{"$f":"'Nastavení příloh'!CC116","v":12},{"$f":"'Nastavení příloh'!CD116","v":12},{"$f":"'Nastavení příloh'!CE116","v":12},{"$f":"'Nastavení příloh'!CF116","v":12},{"$f":"'Nastavení příloh'!CG116","v":12},{"$f":"'Nastavení příloh'!CH116","v":12},{"$f":"'Nastavení příloh'!CI116","v":12},{"$f":"'Nastavení příloh'!CJ116","v":12},{"$f":"'Nastavení příloh'!CK116","v":12},{"$f":"'Nastavení příloh'!CL116","v":12},{"$f":"'Nastavení příloh'!CM116","v":12},{"$f":"'Nastavení příloh'!CN116","v":12},{"$f":"'Nastavení příloh'!CO116","v":12},{"$f":"'Nastavení příloh'!CP116","v":12},{"$f":"'Nastavení příloh'!CQ116","v":12},{"$f":"'Nastavení příloh'!CR116","v":17}]
[null,"  více jak 9400",null,null,{"$f":"'Nastavení příloh'!F117","v":0},{"$f":"'Nastavení příloh'!G117","v":10},{"$f":"'Nastavení příloh'!H117","v":25},{"$f":"'Nastavení příloh'!I117","v":25},{"$f":"'Nastavení příloh'!J117","v":25},{"$f":"'Nastavení příloh'!K117","v":25},{"$f":"'Nastavení příloh'!L117","v":25},{"$f":"'Nastavení příloh'!M117","v":25},{"$f":"'Nastavení příloh'!N117","v":25},{"$f":"'Nastavení příloh'!O117","v":25},{"$f":"'Nastavení příloh'!P117","v":25},{"$f":"'Nastavení příloh'!Q117","v":25},{"$f":"'Nastavení příloh'!R117","v":25},{"$f":"'Nastavení příloh'!S117","v":25},{"$f":"'Nastavení příloh'!T117","v":25},{"$f":"'Nastavení příloh'!U117","v":25},{"$f":"'Nastavení příloh'!V117","v":25},{"$f":"'Nastavení příloh'!W117","v":25},{"$f":"'Nastavení příloh'!X117","v":25},null,"  více jak 9400",null,null,{"$f":"'Nastavení příloh'!AD117","v":-13},{"$f":"'Nastavení příloh'!AE117","v":-13},{"$f":"'Nastavení příloh'!AF117","v":-13},{"$f":"'Nastavení příloh'!AG117","v":-13},{"$f":"'Nastavení příloh'!AH117","v":-13},{"$f":"'Nastavení příloh'!AI117","v":-13},{"$f":"'Nastavení příloh'!AJ117","v":-13},{"$f":"'Nastavení příloh'!AK117","v":-13},{"$f":"'Nastavení příloh'!AL117","v":-13},{"$f":"'Nastavení příloh'!AM117","v":-13},{"$f":"'Nastavení příloh'!AN117","v":-13},{"$f":"'Nastavení příloh'!AO117","v":-13},{"$f":"'Nastavení příloh'!AP117","v":-13},{"$f":"'Nastavení příloh'!AQ117","v":-13},{"$f":"'Nastavení příloh'!AR117","v":-13},{"$f":"'Nastavení příloh'!AS117","v":-13},{"$f":"'Nastavení příloh'!AT117","v":-13},{"$f":"'Nastavení příloh'!AU117","v":-13},{"$f":"'Nastavení příloh'!AV117","v":-8},null,null,null,null,null,null,null,null,null,null,null,null,null,null,null,null,null,null,null,null,null,null,null,null,"  více jak 9400",null,null,{"$f":"'Nastavení příloh'!BZ117","v":0},{"$f":"'Nastavení příloh'!CA117","v":0},{"$f":"'Nastavení příloh'!CB117","v":12},{"$f":"'Nastavení příloh'!CC117","v":12},{"$f":"'Nastavení příloh'!CD117","v":12},{"$f":"'Nastavení příloh'!CE117","v":12},{"$f":"'Nastavení příloh'!CF117","v":12},{"$f":"'Nastavení příloh'!CG117","v":12},{"$f":"'Nastavení příloh'!CH117","v":12},{"$f":"'Nastavení příloh'!CI117","v":12},{"$f":"'Nastavení příloh'!CJ117","v":12},{"$f":"'Nastavení příloh'!CK117","v":12},{"$f":"'Nastavení příloh'!CL117","v":12},{"$f":"'Nastavení příloh'!CM117","v":12},{"$f":"'Nastavení příloh'!CN117","v":12},{"$f":"'Nastavení příloh'!CO117","v":12},{"$f":"'Nastavení příloh'!CP117","v":12},{"$f":"'Nastavení příloh'!CQ117","v":12},{"$f":"'Nastavení příloh'!CR117","v":17}]